Workbook

Sheet triage des iso
B3: Total number of : | C3: Items
B4: =COUNTIF(materials!L6:L1495,C4) -> 0 | C4: 011F
B5: =COUNTIF(materials!L7:L1496,C5) -> 0 | C5: 011L
B6: =COUNTIF(materials!L8:L1497,C6) -> 0 | C6: 013F
B7: =COUNTIF(materials!L9:L1498,C7) -> 0 | C7: 013L
B8: =COUNTIF(materials!L10:L1499,C8) -> 0 | C8: 025R
B9: =COUNTIF(materials!L11:L1500,C9) -> 0 | C9: 034F
B10: =COUNTIF(materials!L12:L1501,C10) -> 0 | C10: 034L
B11: =COUNTIF(materials!L13:L1502,C11) -> 0 | C11: 034R
B12: =COUNTIF(materials!L14:L1503,C12) -> 0 | C12: 035F
B13: =COUNTIF(materials!L15:L1504,C13) -> 0 | C13: 035L
B14: =COUNTIF(materials!L16:L1505,C14) -> 0 | C14: 074L
B15: =COUNTIF(materials!L17:L1506,C15) -> 0 | C15: 075L
... B92: =COUNTIF(materials!L94:L1583,C92) -> 2 | C92: YST

Sheet materials
J2: =SUM(J6:J14416)/1000 -> 1194.081 | K2: =SUBTOTAL(9,K6:K14407) -> 85791.021
A4: chrono | B4: L n° | C4: Ø | D4: Number ISO | E4: Rev | F4: Class | G4: ND 1 | H4: ND 2 | I4: QTY | J4: mm | K4: Poids | L4: Ident | M4: book | N4: posit | O4: remarque
A6: 40 | B6: 1 | C6: 4" | D6: 4"-ATM-2928-081-B01 | E6: 0 | F6: B01 | G6: 4 | I6: 29179 | J6: 29179 | K6: 563.4 | L6: PIP | O6: erreur de book | P6: =IF(C6>0,ROW(),1) -> 6 | Q6: =INDEX(D:D,P6) -> 4"-ATM-2928-081-B01
B7: 2 | G7: 4 | I7: 7 | L7: 90E | M7: 125404 | N7: spider > 2" | P7: =IF(C7>0,ROW(),MAX(P$6:P6)) -> 6 | Q7: =INDEX(D:D,P7) -> 4"-ATM-2928-081-B01
B8: 3 | G8: 4 | I8: 2 | L8: 45E | M8: 125404 | N8: spider > 2" | P8: =IF(C8>0,ROW(),MAX(P$6:P7)) -> 6 | Q8: =INDEX(D:D,P8) -> 4"-ATM-2928-081-B01
B9: 4 | G9: 4 | I9: 9 | L9: FLG | M9: 125404 | N9: spider > 2" | P9: =IF(C9>0,ROW(),MAX(P$6:P8)) -> 6 | Q9: =INDEX(D:D,P9) -> 4"-ATM-2928-081-B01
B10: 5 | G10: 4 | I10: 5 | L10: GAS | M10: 125404 | N10: spider > 2" | P10: =IF(C10>0,ROW(),MAX(P$6:P9)) -> 6 | Q10: =INDEX(D:D,P10) -> 4"-ATM-2928-081-B01
B11: 6 | G11: 0.625 | I11: 40 | L11: UNSET | M11: 125404 | N11: spider > 2" | P11: =IF(C11>0,ROW(),MAX(P$6:P10)) -> 6 | Q11: =INDEX(D:D,P11) -> 4"-ATM-2928-081-B01
A12: 41 | B12: 1 | C12: 8" | D12: 8"-CW-2909-002-B01-K | E12: 5 | F12: B01 | G12: 8 | I12: 2143 | J12: 2143 | K12: 333.07 | L12: PIP | M12: 125404 | N12: spider > 2" | P12: =IF(C12>0,ROW(),MAX(P$6:P11)) -> 12 | Q12: =INDEX(D:D,P12) -> 8"-CW-2909-002-B01-K
B13: 2 | G13: 0.75 | I13: 150 | J13: 150 | L13: PIP | M13: 125404 | N13: spider > 2" | P13: =IF(C13>0,ROW(),MAX(P$6:P12)) -> 12 | Q13: =INDEX(D:D,P13) -> 8"-CW-2909-002-B01-K
B14: 3 | G14: 8X | H14: 8 | I14: 1 | L14: TEE | M14: 125404 | N14: spider > 2" | P14: =IF(C14>0,ROW(),MAX(P$6:P13)) -> 12 | Q14: =INDEX(D:D,P14) -> 8"-CW-2909-002-B01-K
B15: 4 | G15: 8X | H15: 6 | I15: 1 | L15: RER | M15: 125404 | N15: spider > 2" | P15: =IF(C15>0,ROW(),MAX(P$6:P14)) -> 12 | Q15: =INDEX(D:D,P15) -> 8"-CW-2909-002-B01-K
B16: 5 | G16: 8X | H16: 1 | I16: 2 | L16: SOL | M16: 125404 | N16: spider > 2" | P16: =IF(C16>0,ROW(),MAX(P$6:P15)) -> 12 | Q16: =INDEX(D:D,P16) -> 8"-CW-2909-002-B01-K
B17: 6 | G17: 8X | H17: 0.75 | I17: 1 | L17: SOL | M17: 125404 | N17: spider > 2" | P17: =IF(C17>0,ROW(),MAX(P$6:P16)) -> 12 | Q17: =INDEX(D:D,P17) -> 8"-CW-2909-002-B01-K
B18: 7 | G18: 8 | I18: 3 | L18: 90E | M18: 125404 | N18: spider > 2" | P18: =IF(C18>0,ROW(),MAX(P$6:P17)) -> 12 | Q18: =INDEX(D:D,P18) -> 8"-CW-2909-002-B01-K
B19: 8 | G19: 8 | I19: 1 | L19: F8S | M19: 125404 | N19: spider > 2" | P19: =IF(C19>0,ROW(),MAX(P$6:P18)) -> 12 | Q19: =INDEX(D:D,P19) -> 8"-CW-2909-002-B01-K
B20: 9 | G20: 8 | I20: 1 | L20: 45E | M20: 125404 | N20: spider > 2" | P20: =IF(C20>0,ROW(),MAX(P$6:P19)) -> 12 | Q20: =INDEX(D:D,P20) -> 8"-CW-2909-002-B01-K
B21: 10 | G21: 0.75 | I21: 1 | L21: 90E | M21: 125404 | N21: spider > 2" | P21: =IF(C21>0,ROW(),MAX(P$6:P20)) -> 12 | Q21: =INDEX(D:D,P21) -> 8"-CW-2909-002-B01-K
B22: 11 | G22: 8 | I22: 6 | L22: FLG | M22: 125404 | N22: spider > 2" | P22: =IF(C22>0,ROW(),MAX(P$6:P21)) -> 12 | Q22: =INDEX(D:D,P22) -> 8"-CW-2909-002-B01-K
B23: 12 | G23: 6 | I23: 1 | L23: FLG | M23: 125404 | N23: spider > 2" | P23: =IF(C23>0,ROW(),MAX(P$6:P22)) -> 12 | Q23: =INDEX(D:D,P23) -> 8"-CW-2909-002-B01-K
B24: 13 | G24: 0.75 | I24: 1 | L24: FLG | M24: 125404 | N24: spider > 2" | P24: =IF(C24>0,ROW(),MAX(P$6:P23)) -> 12 | Q24: =INDEX(D:D,P24) -> 8"-CW-2909-002-B01-K
B25: 14 | G25: 0.75 | I25: 1 | L25: BLF | M25: 125404 | N25: spider > 2" | P25: =IF(C25>0,ROW(),MAX(P$6:P24)) -> 12 | Q25: =INDEX(D:D,P25) -> 8"-CW-2909-002-B01-K
B26: 15 | G26: 8 | I26: 6 | L26: GAS | M26: 125404 | N26: spider > 2" | P26: =IF(C26>0,ROW(),MAX(P$6:P25)) -> 12 | Q26: =INDEX(D:D,P26) -> 8"-CW-2909-002-B01-K
B27: 16 | G27: 6 | I27: 1 | L27: GAS | M27: 125404 | N27: spider > 2" | P27: =IF(C27>0,ROW(),MAX(P$6:P26)) -> 12 | Q27: =INDEX(D:D,P27) -> 8"-CW-2909-002-B01-K
B28: 17 | G28: 0.75 | I28: 1 | L28: GAS | M28: 125404 | N28: spider > 2" | P28: =IF(C28>0,ROW(),MAX(P$6:P27)) -> 12 | Q28: =INDEX(D:D,P28) -> 8"-CW-2909-002-B01-K
B29: 18 | G29: 0.75 | I29: 16 | L29: UNSET | M29: 125404 | N29: spider > 2" | P29: =IF(C29>0,ROW(),MAX(P$6:P28)) -> 12 | Q29: =INDEX(D:D,P29) -> 8"-CW-2909-002-B01-K
... B36: 25 | G36: 8 | I36: 1 | L36: 035-F | M36: 125404 | N36: spider > 2" | P36: =IF(C36>0,ROW(),MAX(P$6:P35)) -> 12 | Q36: =INDEX(D:D,P36) -> 8"-CW-2909-002-B01-K
B37: 1 | C37: 8" | D37: 8"-CW-2909-003-B01 | E37: 5 | F37: B01 | G37: 8 | I37: 618 | J37: 618 | K37: 160.79 | L37: PIP | M37: 125404 | N37: spider > 2" | P37: =IF(C37>0,ROW(),MAX(P$6:P36)) -> 37 | Q37: =INDEX(D:D,P37) -> 8"-CW-2909-003-B01
B38: 2 | G38: 8 | I38: 4 | L38: 90E | M38: 125404 | N38: spider > 2" | P38: =IF(C38>0,ROW(),MAX(P$6:P37)) -> 37 | Q38: =INDEX(D:D,P38) -> 8"-CW-2909-003-B01
B39: 3 | G39: 8 | I39: 3 | L39: FLG | M39: 125404 | N39: spider > 2" | P39: =IF(C39>0,ROW(),MAX(P$6:P38)) -> 37 | Q39: =INDEX(D:D,P39) -> 8"-CW-2909-003-B01
B40: 4 | G40: 8 | I40: 3 | L40: GAS | M40: 125404 | N40: spider > 2" | P40: =IF(C40>0,ROW(),MAX(P$6:P39)) -> 37 | Q40: =INDEX(D:D,P40) -> 8"-CW-2909-003-B01
B41: 5 | G41: 0.75 | I41: 16 | L41: UNSET | M41: 125404 | N41: spider > 2" | P41: =IF(C41>0,ROW(),MAX(P$6:P40)) -> 37 | Q41: =INDEX(D:D,P41) -> 8"-CW-2909-003-B01
B42: 6 | G42: 8 | I42: 1 | L42: BUTB01-2 | M42: 125404 | N42: spider > 2" | P42: =IF(C42>0,ROW(),MAX(P$6:P41)) -> 37 | Q42: =INDEX(D:D,P42) -> 8"-CW-2909-003-B01
B43: 7 | G43: 8 | I43: 1 | L43: 025-R | M43: 125404 | N43: spider > 2" | P43: =IF(C43>0,ROW(),MAX(P$6:P42)) -> 37 | Q43: =INDEX(D:D,P43) -> 8"-CW-2909-003-B01
A44: 42 | B44: 1 | C44: 8" | D44: 8"-CW-2909-004-B01-K | E44: 5 | F44: B01 | G44: 8 | I44: 2426 | J44: 2426 | K44: 236.8 | L44: PIP | M44: 125404 | N44: spider > 2" | P44: =IF(C44>0,ROW(),MAX(P$6:P43)) -> 44 | Q44: =INDEX(D:D,P44) -> 8"-CW-2909-004-B01-K
B45: 2 | G45: 0.75 | I45: 150 | J45: 150 | L45: PIP | M45: 125404 | N45: spider > 2" | P45: =IF(C45>0,ROW(),MAX(P$6:P44)) -> 44 | Q45: =INDEX(D:D,P45) -> 8"-CW-2909-004-B01-K
B46: 3 | G46: 8X | H46: 6 | I46: 1 | L46: ERE | M46: 125404 | N46: spider > 2" | P46: =IF(C46>0,ROW(),MAX(P$6:P45)) -> 44 | Q46: =INDEX(D:D,P46) -> 8"-CW-2909-004-B01-K
B47: 4 | G47: 8X | H47: 1 | I47: 2 | L47: SOL | M47: 125404 | N47: spider > 2" | P47: =IF(C47>0,ROW(),MAX(P$6:P46)) -> 44 | Q47: =INDEX(D:D,P47) -> 8"-CW-2909-004-B01-K
B48: 5 | G48: 8X | H48: 0.75 | I48: 1 | L48: SOL | M48: 125404 | N48: spider > 2" | P48: =IF(C48>0,ROW(),MAX(P$6:P47)) -> 44 | Q48: =INDEX(D:D,P48) -> 8"-CW-2909-004-B01-K
B49: 6 | G49: 8 | I49: 2 | L49: 90E | M49: 125404 | N49: spider > 2" | P49: =IF(C49>0,ROW(),MAX(P$6:P48)) -> 44 | Q49: =INDEX(D:D,P49) -> 8"-CW-2909-004-B01-K
B50: 7 | G50: 8 | I50: 1 | L50: F8S | M50: 125404 | N50: spider > 2" | P50: =IF(C50>0,ROW(),MAX(P$6:P49)) -> 44 | Q50: =INDEX(D:D,P50) -> 8"-CW-2909-004-B01-K
B51: 8 | G51: 0.75 | I51: 1 | L51: 90E | M51: 125404 | N51: spider > 2" | P51: =IF(C51>0,ROW(),MAX(P$6:P50)) -> 44 | Q51: =INDEX(D:D,P51) -> 8"-CW-2909-004-B01-K
B52: 9 | G52: 8 | I52: 4 | L52: FLG | M52: 125404 | N52: spider > 2" | P52: =IF(C52>0,ROW(),MAX(P$6:P51)) -> 44 | Q52: =INDEX(D:D,P52) -> 8"-CW-2909-004-B01-K
B53: 10 | G53: 6 | I53: 1 | L53: FLG | M53: 125404 | N53: spider > 2" | P53: =IF(C53>0,ROW(),MAX(P$6:P52)) -> 44 | Q53: =INDEX(D:D,P53) -> 8"-CW-2909-004-B01-K
B54: 12 | G54: 0.75 | I54: 1 | L54: FLG | M54: 125404 | N54: spider > 2" | P54: =IF(C54>0,ROW(),MAX(P$6:P53)) -> 44 | Q54: =INDEX(D:D,P54) -> 8"-CW-2909-004-B01-K
B55: 13 | G55: 0.75 | I55: 1 | L55: BLF | M55: 125404 | N55: spider > 2" | P55: =IF(C55>0,ROW(),MAX(P$6:P54)) -> 44 | Q55: =INDEX(D:D,P55) -> 8"-CW-2909-004-B01-K
B56: 14 | G56: 8 | I56: 1 | L56: BUTB01-2 | M56: 125404 | N56: spider > 2" | P56: =IF(C56>0,ROW(),MAX(P$6:P55)) -> 44 | Q56: =INDEX(D:D,P56) -> 8"-CW-2909-004-B01-K
B57: 15 | G57: 8 | I57: 4 | L57: GAS | M57: 125404 | N57: spider > 2" | P57: =IF(C57>0,ROW(),MAX(P$6:P56)) -> 44 | Q57: =INDEX(D:D,P57) -> 8"-CW-2909-004-B01-K
B58: 16 | G58: 6 | I58: 1 | L58: GAS | M58: 125404 | N58: spider > 2" | P58: =IF(C58>0,ROW(),MAX(P$6:P57)) -> 44 | Q58: =INDEX(D:D,P58) -> 8"-CW-2909-004-B01-K
B59: 17 | G59: 0.75 | I59: 1 | L59: GAS | M59: 125404 | N59: spider > 2" | P59: =IF(C59>0,ROW(),MAX(P$6:P58)) -> 44 | Q59: =INDEX(D:D,P59) -> 8"-CW-2909-004-B01-K
B60: 18 | G60: 0.75 | I60: 8 | L60: UNSET | M60: 125404 | N60: spider > 2" | P60: =IF(C60>0,ROW(),MAX(P$6:P59)) -> 44 | Q60: =INDEX(D:D,P60) -> 8"-CW-2909-004-B01-K
... B65: 23 | G65: 8 | I65: 1 | L65: 035-L | M65: 125404 | N65: spider > 2" | P65: =IF(C65>0,ROW(),MAX(P$6:P64)) -> 44 | Q65: =INDEX(D:D,P65) -> 8"-CW-2909-004-B01-K
A66: 43 | B66: 1 | C66: 8" | D66: 8"-CW-2909-005-B01 | E66: 0 | F66: B01 | G66: 8 | I66: 1126 | J66: 1126 | K66: 191.09 | L66: PIP | M66: 125404 | N66: spider > 2" | P66: =IF(C66>0,ROW(),MAX(P$6:P65)) -> 66 | Q66: =INDEX(D:D,P66) -> 8"-CW-2909-005-B01
B67: 2 | G67: 8 | I67: 1 | L67: F8S | M67: 125404 | N67: spider > 2" | P67: =IF(C67>0,ROW(),MAX(P$6:P66)) -> 66 | Q67: =INDEX(D:D,P67) -> 8"-CW-2909-005-B01
B68: 3 | G68: 8 | I68: 2 | L68: 90E | M68: 125404 | N68: spider > 2" | P68: =IF(C68>0,ROW(),MAX(P$6:P67)) -> 66 | Q68: =INDEX(D:D,P68) -> 8"-CW-2909-005-B01
B69: 4 | G69: 8 | I69: 5 | L69: FLG | M69: 125404 | N69: spider > 2" | P69: =IF(C69>0,ROW(),MAX(P$6:P68)) -> 66 | Q69: =INDEX(D:D,P69) -> 8"-CW-2909-005-B01
B70: 5 | G70: 8 | I70: 3 | L70: GAS | M70: 125404 | N70: spider > 2" | P70: =IF(C70>0,ROW(),MAX(P$6:P69)) -> 66 | Q70: =INDEX(D:D,P70) -> 8"-CW-2909-005-B01
B71: 6 | G71: 0.75 | I71: 8 | L71: UNSET | M71: 125404 | N71: spider > 2" | P71: =IF(C71>0,ROW(),MAX(P$6:P70)) -> 66 | Q71: =INDEX(D:D,P71) -> 8"-CW-2909-005-B01
B72: 7 | G72: 0.75 | I72: 8 | L72: UNSET | M72: 125404 | N72: spider > 2" | P72: =IF(C72>0,ROW(),MAX(P$6:P71)) -> 66 | Q72: =INDEX(D:D,P72) -> 8"-CW-2909-005-B01
B73: 8 | G73: 0.75 | I73: 8 | L73: UNSET | M73: 125404 | N73: spider > 2" | P73: =IF(C73>0,ROW(),MAX(P$6:P72)) -> 66 | Q73: =INDEX(D:D,P73) -> 8"-CW-2909-005-B01
B74: 9 | G74: 8 | I74: 1 | L74: BUTB01-2 | M74: 125404 | N74: spider > 2" | P74: =IF(C74>0,ROW(),MAX(P$6:P73)) -> 66 | Q74: =INDEX(D:D,P74) -> 8"-CW-2909-005-B01
B75: 10 | G75: 8 | I75: 1 | L75: NON INON INSCRIT | M75: 125404 | N75: spider > 2" | O75: NON PURSASABLE ITEM | P75: =IF(C75>0,ROW(),MAX(P$6:P74)) -> 66 | Q75: =INDEX(D:D,P75) -> 8"-CW-2909-005-B01
A76: 44 | B76: 1 | C76: 8" | D76: 8"-CW-2909-006-B01 | E76: 5 | F76: B01 | G76: 8 | I76: 2256 | J76: 2256 | K76: 255.14 | L76: PIP | M76: 125404 | N76: spider > 2" | P76: =IF(C76>0,ROW(),MAX(P$6:P75)) -> 76 | Q76: =INDEX(D:D,P76) -> 8"-CW-2909-006-B01
B77: 2 | G77: 0.75 | I77: 150 | J77: 150 | L77: PIP | M77: 125404 | N77: spider > 2" | P77: =IF(C77>0,ROW(),MAX(P$6:P76)) -> 76 | Q77: =INDEX(D:D,P77) -> 8"-CW-2909-006-B01
B78: 3 | G78: 8X | H78: 8 | I78: 1 | L78: TEE | M78: 125404 | N78: spider > 2" | P78: =IF(C78>0,ROW(),MAX(P$6:P77)) -> 76 | Q78: =INDEX(D:D,P78) -> 8"-CW-2909-006-B01
B79: 4 | G79: 8X | H79: 6 | I79: 1 | L79: ERE | M79: 125404 | N79: spider > 2" | P79: =IF(C79>0,ROW(),MAX(P$6:P78)) -> 76 | Q79: =INDEX(D:D,P79) -> 8"-CW-2909-006-B01
B80: 5 | G80: 8X | H80: 1 | I80: 2 | L80: SOL | M80: 125404 | N80: spider > 2" | P80: =IF(C80>0,ROW(),MAX(P$6:P79)) -> 76 | Q80: =INDEX(D:D,P80) -> 8"-CW-2909-006-B01
B81: 6 | G81: 8X | H81: 0.75 | I81: 1 | L81: SOL | M81: 125404 | N81: spider > 2" | P81: =IF(C81>0,ROW(),MAX(P$6:P80)) -> 76 | Q81: =INDEX(D:D,P81) -> 8"-CW-2909-006-B01
B82: 7 | G82: 8 | I82: 2 | L82: 90E | M82: 125404 | N82: spider > 2" | P82: =IF(C82>0,ROW(),MAX(P$6:P81)) -> 76 | Q82: =INDEX(D:D,P82) -> 8"-CW-2909-006-B01
B83: 8 | G83: 8 | I83: 1 | L83: F8S | M83: 125404 | N83: spider > 2" | P83: =IF(C83>0,ROW(),MAX(P$6:P82)) -> 76 | Q83: =INDEX(D:D,P83) -> 8"-CW-2909-006-B01
B84: 9 | G84: 0.75 | I84: 1 | L84: 90E | M84: 125404 | N84: spider > 2" | P84: =IF(C84>0,ROW(),MAX(P$6:P83)) -> 76 | Q84: =INDEX(D:D,P84) -> 8"-CW-2909-006-B01
B85: 10 | G85: 8 | I85: 4 | L85: FLG | M85: 125404 | N85: spider > 2" | P85: =IF(C85>0,ROW(),MAX(P$6:P84)) -> 76 | Q85: =INDEX(D:D,P85) -> 8"-CW-2909-006-B01
B86: 11 | G86: 6 | I86: 1 | L86: FLG | M86: 125404 | N86: spider > 2" | P86: =IF(C86>0,ROW(),MAX(P$6:P85)) -> 76 | Q86: =INDEX(D:D,P86) -> 8"-CW-2909-006-B01
B87: 12 | G87: 0.75 | I87: 1 | L87: FLG | M87: 125404 | N87: spider > 2" | P87: =IF(C87>0,ROW(),MAX(P$6:P86)) -> 76 | Q87: =INDEX(D:D,P87) -> 8"-CW-2909-006-B01
B88: 13 | G88: 0.75 | I88: 1 | L88: FLB | M88: 125404 | N88: spider > 2" | P88: =IF(C88>0,ROW(),MAX(P$6:P87)) -> 76 | Q88: =INDEX(D:D,P88) -> 8"-CW-2909-006-B01
B89: 14 | G89: 8 | I89: 4 | L89: GAS | M89: 125404 | N89: spider > 2" | P89: =IF(C89>0,ROW(),MAX(P$6:P88)) -> 76 | Q89: =INDEX(D:D,P89) -> 8"-CW-2909-006-B01
B90: 15 | G90: 6 | I90: 1 | L90: GAS | M90: 125404 | N90: spider > 2" | P90: =IF(C90>0,ROW(),MAX(P$6:P89)) -> 76 | Q90: =INDEX(D:D,P90) -> 8"-CW-2909-006-B01
B91: 16 | G91: 0.75 | I91: 1 | L91: GAS | M91: 125404 | N91: spider > 2" | P91: =IF(C91>0,ROW(),MAX(P$6:P90)) -> 76 | Q91: =INDEX(D:D,P91) -> 8"-CW-2909-006-B01
B92: 17 | G92: 0.75 | I92: 8 | L92: UNSET | M92: 125404 | N92: spider > 2" | P92: =IF(C92>0,ROW(),MAX(P$6:P91)) -> 76 | Q92: =INDEX(D:D,P92) -> 8"-CW-2909-006-B01
B93: 18 | G93: 0.75 | I93: 8 | L93: UNSET | M93: 125404 | N93: spider > 2" | P93: =IF(C93>0,ROW(),MAX(P$6:P92)) -> 76 | Q93: =INDEX(D:D,P93) -> 8"-CW-2909-006-B01
... B98: 23 | G98: 8 | I98: 1 | L98: 025-R | M98: 125404 | N98: spider > 2" | P98: =IF(C98>0,ROW(),MAX(P$6:P97)) -> 76 | Q98: =INDEX(D:D,P98) -> 8"-CW-2909-006-B01
B99: 24 | G99: 8 | I99: 1 | L99: NON INON INSCRIT | M99: 125404 | N99: spider > 2" | O99: NON INSCRIT | P99: =IF(C99>0,ROW(),MAX(P$6:P98)) -> 76 | Q99: =INDEX(D:D,P99) -> 8"-CW-2909-006-B01
B100: 1 | C100: 8" | D100: 8"-CW-2909-017-B01 | E100: 5 | F100: B01 | G100: 8 | I100: 798 | J100: 798 | K100: 61.24 | L100: PIP | M100: 125404 | N100: spider > 2" | P100: =IF(C100>0,ROW(),MAX(P$6:P99)) -> 100 | Q100: =INDEX(D:D,P100) -> 8"-CW-2909-017-B01
B101: 2 | G101: 8 | I101: 1 | L101: 90E | M101: 125404 | N101: spider > 2" | P101: =IF(C101>0,ROW(),MAX(P$6:P100)) -> 100 | Q101: =INDEX(D:D,P101) -> 8"-CW-2909-017-B01
B102: 3 | G102: 8 | I102: 1 | L102: FLG | M102: 125404 | N102: spider > 2" | P102: =IF(C102>0,ROW(),MAX(P$6:P101)) -> 100 | Q102: =INDEX(D:D,P102) -> 8"-CW-2909-017-B01
B103: 4 | G103: 8 | I103: 1 | L103: GAS | M103: 125404 | N103: spider > 2" | P103: =IF(C103>0,ROW(),MAX(P$6:P102)) -> 100 | Q103: =INDEX(D:D,P103) -> 8"-CW-2909-017-B01
A104: 45 | B104: 1 | C104: 8" | D104: 8"-CW-2909-099-B01 | E104: 5 | F104: B01 | G104: 8 | I104: 1462 | J104: 1462 | K104: 194.93 | L104: PIP | M104: 125404 | N104: spider > 2" | P104: =IF(C104>0,ROW(),MAX(P$6:P103)) -> 104 | Q104: =INDEX(D:D,P104) -> 8"-CW-2909-099-B01
B105: 2 | G105: 0.75 | I105: 150 | J105: 150 | L105: PIP | M105: 125404 | N105: spider > 2" | P105: =IF(C105>0,ROW(),MAX(P$6:P104)) -> 104 | Q105: =INDEX(D:D,P105) -> 8"-CW-2909-099-B01
B106: 3 | G106: 8X | H106: 6 | I106: 1 | L106: RER | M106: 125404 | N106: spider > 2" | P106: =IF(C106>0,ROW(),MAX(P$6:P105)) -> 104 | Q106: =INDEX(D:D,P106) -> 8"-CW-2909-099-B01
B107: 4 | G107: 8X | H107: 1 | I107: 2 | L107: SOL | M107: 125404 | N107: spider > 2" | P107: =IF(C107>0,ROW(),MAX(P$6:P106)) -> 104 | Q107: =INDEX(D:D,P107) -> 8"-CW-2909-099-B01
B108: 5 | G108: 8X | H108: 0.75 | I108: 1 | L108: SOL | M108: 125404 | N108: spider > 2" | P108: =IF(C108>0,ROW(),MAX(P$6:P107)) -> 104 | Q108: =INDEX(D:D,P108) -> 8"-CW-2909-099-B01
B109: 6 | G109: 8 | I109: 1 | L109: F8S | M109: 125404 | N109: spider > 2" | P109: =IF(C109>0,ROW(),MAX(P$6:P108)) -> 104 | Q109: =INDEX(D:D,P109) -> 8"-CW-2909-099-B01
B110: 7 | G110: 8 | I110: 2 | L110: 90E | M110: 125404 | N110: spider > 2" | P110: =IF(C110>0,ROW(),MAX(P$6:P109)) -> 104 | Q110: =INDEX(D:D,P110) -> 8"-CW-2909-099-B01
B111: 8 | G111: 8 | I111: 1 | L111: 45E | M111: 125404 | N111: spider > 2" | P111: =IF(C111>0,ROW(),MAX(P$6:P110)) -> 104 | Q111: =INDEX(D:D,P111) -> 8"-CW-2909-099-B01
B112: 9 | G112: 0.75 | I112: 1 | L112: 90E | M112: 125404 | N112: spider > 2" | P112: =IF(C112>0,ROW(),MAX(P$6:P111)) -> 104 | Q112: =INDEX(D:D,P112) -> 8"-CW-2909-099-B01
B113: 10 | G113: 8 | I113: 3 | L113: FLG | M113: 125404 | N113: spider > 2" | P113: =IF(C113>0,ROW(),MAX(P$6:P112)) -> 104 | Q113: =INDEX(D:D,P113) -> 8"-CW-2909-099-B01
B114: 11 | G114: 6 | I114: 1 | L114: FLG | M114: 125404 | N114: spider > 2" | P114: =IF(C114>0,ROW(),MAX(P$6:P113)) -> 104 | Q114: =INDEX(D:D,P114) -> 8"-CW-2909-099-B01
B115: 12 | G115: 0.75 | I115: 1 | L115: FLG | M115: 125404 | N115: spider > 2" | P115: =IF(C115>0,ROW(),MAX(P$6:P114)) -> 104 | Q115: =INDEX(D:D,P115) -> 8"-CW-2909-099-B01
B116: 13 | G116: 0.75 | I116: 1 | L116: BLF | M116: 125404 | N116: spider > 2" | P116: =IF(C116>0,ROW(),MAX(P$6:P115)) -> 104 | Q116: =INDEX(D:D,P116) -> 8"-CW-2909-099-B01
B117: 14 | G117: 8 | I117: 3 | L117: GAS | M117: 125404 | N117: spider > 2" | P117: =IF(C117>0,ROW(),MAX(P$6:P116)) -> 104 | Q117: =INDEX(D:D,P117) -> 8"-CW-2909-099-B01
...
