Workbook

Sheet triage des iso
B3: Total number of : | C3: Items
B4: =COUNTIF(materials!L6:L1495,C4) -> 0 | C4: 011F
B5: =COUNTIF(materials!L7:L1496,C5) -> 0 | C5: 011L
B6: =COUNTIF(materials!L8:L1497,C6) -> 0 | C6: 013F
B7: =COUNTIF(materials!L9:L1498,C7) -> 0 | C7: 013L
B8: =COUNTIF(materials!L10:L1499,C8) -> 0 | C8: 025R
B9: =COUNTIF(materials!L11:L1500,C9) -> 0 | C9: 034F
B10: =COUNTIF(materials!L12:L1501,C10) -> 0 | C10: 034L
B11: =COUNTIF(materials!L13:L1502,C11) -> 0 | C11: 034R
B12: =COUNTIF(materials!L14:L1503,C12) -> 0 | C12: 035F
B13: =COUNTIF(materials!L15:L1504,C13) -> 0 | C13: 035L
B14: =COUNTIF(materials!L16:L1505,C14) -> 0 | C14: 074L
B15: =COUNTIF(materials!L17:L1506,C15) -> 0 | C15: 075L
... B92: =COUNTIF(materials!L94:L1583,C92) -> 2 | C92: YST

Sheet materials
J2: =SUM(J6:J14416)/1000 -> 1194.081 | K2: =SUBTOTAL(9,K6:K14407) -> 85791.021
A4: chrono | B4: L n° | C4: Ø | D4: Number ISO | E4: Rev | F4: Class | G4: ND 1 | H4: ND 2 | I4: QTY | J4: mm | K4: Poids | L4: Ident | M4: book | N4: posit | O4: remarque
A6: 40 | B6: 1 | C6: 4" | D6: 4"-ATM-2928-081-B01 | E6: 0 | F6: B01 | G6: 4 | I6: 29179 | J6: 29179 | K6: 563.4 | L6: PIP | O6: erreur de book | P6: =IF(C6>0,ROW(),1) -> 6 | Q6: =INDEX(D:D,P6) -> 4"-ATM-2928-081-B01
B7: 2 | G7: 4 | I7: 7 | L7: 90E | M7: 125404 | N7: spider > 2" | P7: =IF(C7>0,ROW(),MAX(P$6:P6)) -> 6 | Q7: =INDEX(D:D,P7) -> 4"-ATM-2928-081-B01
B8: 3 | G8: 4 | I8: 2 | L8: 45E | M8: 125404 | N8: spider > 2" | P8: =IF(C8>0,ROW(),MAX(P$6:P7)) -> 6 | Q8: =INDEX(D:D,P8) -> 4"-ATM-2928-081-B01
B9: 4 | G9: 4 | I9: 9 | L9: FLG | M9: 125404 | N9: spider > 2" | P9: =IF(C9>0,ROW(),MAX(P$6:P8)) -> 6 | Q9: =INDEX(D:D,P9) -> 4"-ATM-2928-081-B01
B10: 5 | G10: 4 | I10: 5 | L10: GAS | M10: 125404 | N10: spider > 2" | P10: =IF(C10>0,ROW(),MAX(P$6:P9)) -> 6 | Q10: =INDEX(D:D,P10) -> 4"-ATM-2928-081-B01
B11: 6 | G11: 0.625 | I11: 40 | L11: UNSET | M11: 125404 | N11: spider > 2" | P11: =IF(C11>0,ROW(),MAX(P$6:P10)) -> 6 | Q11: =INDEX(D:D,P11) -> 4"-ATM-2928-081-B01
A12: 41 | B12: 1 | C12: 8" | D12: 8"-CW-2909-002-B01-K | E12: 5 | F12: B01 | G12: 8 | I12: 2143 | J12: 2143 | K12: 333.07 | L12: PIP | M12: 125404 | N12: spider > 2" | P12: =IF(C12>0,ROW(),MAX(P$6:P11)) -> 12 | Q12: =INDEX(D:D,P12) -> 8"-CW-2909-002-B01-K
B13: 2 | G13: 0.75 | I13: 150 | J13: 150 | L13: PIP | M13: 125404 | N13: spider > 2" | P13: =IF(C13>0,ROW(),MAX(P$6:P12)) -> 12 | Q13: =INDEX(D:D,P13) -> 8"-CW-2909-002-B01-K
B14: 3 | G14: 8X | H14: 8 | I14: 1 | L14: TEE | M14: 125404 | N14: spider > 2" | P14: =IF(C14>0,ROW(),MAX(P$6:P13)) -> 12 | Q14: =INDEX(D:D,P14) -> 8"-CW-2909-002-B01-K
B15: 4 | G15: 8X | H15: 6 | I15: 1 | L15: RER | M15: 125404 | N15: spider > 2" | P15: =IF(C15>0,ROW(),MAX(P$6:P14)) -> 12 | Q15: =INDEX(D:D,P15) -> 8"-CW-2909-002-B01-K
B16: 5 | G16: 8X | H16: 1 | I16: 2 | L16: SOL | M16: 125404 | N16: spider > 2" | P16: =IF(C16>0,ROW(),MAX(P$6:P15)) -> 12 | Q16: =INDEX(D:D,P16) -> 8"-CW-2909-002-B01-K
B17: 6 | G17: 8X | H17: 0.75 | I17: 1 | L17: SOL | M17: 125404 | N17: spider > 2" | P17: =IF(C17>0,ROW(),MAX(P$6:P16)) -> 12 | Q17: =INDEX(D:D,P17) -> 8"-CW-2909-002-B01-K
B18: 7 | G18: 8 | I18: 3 | L18: 90E | M18: 125404 | N18: spider > 2" | P18: =IF(C18>0,ROW(),MAX(P$6:P17)) -> 12 | Q18: =INDEX(D:D,P18) -> 8"-CW-2909-002-B01-K
B19: 8 | G19: 8 | I19: 1 | L19: F8S | M19: 125404 | N19: spider > 2" | P19: =IF(C19>0,ROW(),MAX(P$6:P18)) -> 12 | Q19: =INDEX(D:D,P19) -> 8"-CW-2909-002-B01-K
B20: 9 | G20: 8 | I20: 1 | L20: 45E | M20: 125404 | N20: spider > 2" | P20: =IF(C20>0,ROW(),MAX(P$6:P19)) -> 12 | Q20: =INDEX(D:D,P20) -> 8"-CW-2909-002-B01-K
B21: 10 | G21: 0.75 | I21: 1 | L21: 90E | M21: 125404 | N21: spider > 2" | P21: =IF(C21>0,ROW(),MAX(P$6:P20)) -> 12 | Q21: =INDEX(D:D,P21) -> 8"-CW-2909-002-B01-K
B22: 11 | G22: 8 | I22: 6 | L22: FLG | M22: 125404 | N22: spider > 2" | P22: =IF(C22>0,ROW(),MAX(P$6:P21)) -> 12 | Q22: =INDEX(D:D,P22) -> 8"-CW-2909-002-B01-K
B23: 12 | G23: 6 | I23: 1 | L23: FLG | M23: 125404 | N23: spider > 2" | P23: =IF(C23>0,ROW(),MAX(P$6:P22)) -> 12 | Q23: =INDEX(D:D,P23) -> 8"-CW-2909-002-B01-K
B24: 13 | G24: 0.75 | I24: 1 | L24: FLG | M24: 125404 | N24: spider > 2" | P24: =IF(C24>0,ROW(),MAX(P$6:P23)) -> 12 | Q24: =INDEX(D:D,P24) -> 8"-CW-2909-002-B01-K
B25: 14 | G25: 0.75 | I25: 1 | L25: BLF | M25: 125404 | N25: spider > 2" | P25: =IF(C25>0,ROW(),MAX(P$6:P24)) -> 12 | Q25: =INDEX(D:D,P25) -> 8"-CW-2909-002-B01-K
B26: 15 | G26: 8 | I26: 6 | L26: GAS | M26: 125404 | N26: spider > 2" | P26: =IF(C26>0,ROW(),MAX(P$6:P25)) -> 12 | Q26: =INDEX(D:D,P26) -> 8"-CW-2909-002-B01-K
B27: 16 | G27: 6 | I27: 1 | L27: GAS | M27: 125404 | N27: spider > 2" | P27: =IF(C27>0,ROW(),MAX(P$6:P26)) -> 12 | Q27: =INDEX(D:D,P27) -> 8"-CW-2909-002-B01-K
B28: 17 | G28: 0.75 | I28: 1 | L28: GAS | M28: 125404 | N28: spider > 2" | P28: =IF(C28>0,ROW(),MAX(P$6:P27)) -> 12 | Q28: =INDEX(D:D,P28) -> 8"-CW-2909-002-B01-K
B29: 18 | G29: 0.75 | I29: 16 | L29: UNSET | M29: 125404 | N29: spider > 2" | P29: =IF(C29>0,ROW(),MAX(P$6:P28)) -> 12 | Q29: =INDEX(D:D,P29) -> 8"-CW-2909-002-B01-K
... B36: 25 | G36: 8 | I36: 1 | L36: 035-F | M36: 125404 | N36: spider > 2" | P36: =IF(C36>0,ROW(),MAX(P$6:P35)) -> 12 | Q36: =INDEX(D:D,P36) -> 8"-CW-2909-002-B01-K
B37: 1 | C37: 8" | D37: 8"-CW-2909-003-B01 | E37: 5 | F37: B01 | G37: 8 | I37: 618 | J37: 618 | K37: 160.79 | L37: PIP | M37: 125404 | N37: spider > 2" | P37: =IF(C37>0,ROW(),MAX(P$6:P36)) -> 37 | Q37: =INDEX(D:D,P37) -> 8"-CW-2909-003-B01
B38: 2 | G38: 8 | I38: 4 | L38: 90E | M38: 125404 | N38: spider > 2" | P38: =IF(C38>0,ROW(),MAX(P$6:P37)) -> 37 | Q38: =INDEX(D:D,P38) -> 8"-CW-2909-003-B01
B39: 3 | G39: 8 | I39: 3 | L39: FLG | M39: 125404 | N39: spider > 2" | P39: =IF(C39>0,ROW(),MAX(P$6:P38)) -> 37 | Q39: =INDEX(D:D,P39) -> 8"-CW-2909-003-B01
B40: 4 | G40: 8 | I40: 3 | L40: GAS | M40: 125404 | N40: spider > 2" | P40: =IF(C40>0,ROW(),MAX(P$6:P39)) -> 37 | Q40: =INDEX(D:D,P40) -> 8"-CW-2909-003-B01
B41: 5 | G41: 0.75 | I41: 16 | L41: UNSET | M41: 125404 | N41: spider > 2" | P41: =IF(C41>0,ROW(),MAX(P$6:P40)) -> 37 | Q41: =INDEX(D:D,P41) -> 8"-CW-2909-003-B01
B42: 6 | G42: 8 | I42: 1 | L42: BUTB01-2 | M42: 125404 | N42: spider > 2" | P42: =IF(C42>0,ROW(),MAX(P$6:P41)) -> 37 | Q42: =INDEX(D:D,P42) -> 8"-CW-2909-003-B01
B43: 7 | G43: 8 | I43: 1 | L43: 025-R | M43: 125404 | N43: spider > 2" | P43: =IF(C43>0,ROW(),MAX(P$6:P42)) -> 37 | Q43: =INDEX(D:D,P43) -> 8"-CW-2909-003-B01
A44: 42 | B44: 1 | C44: 8" | D44: 8"-CW-2909-004-B01-K | E44: 5 | F44: B01 | G44: 8 | I44: 2426 | J44: 2426 | K44: 236.8 | L44: PIP | M44: 125404 | N44: spider > 2" | P44: =IF(C44>0,ROW(),MAX(P$6:P43)) -> 44 | Q44: =INDEX(D:D,P44) -> 8"-CW-2909-004-B01-K
B45: 2 | G45: 0.75 | I45: 150 | J45: 150 | L45: PIP | M45: 125404 | N45: spider > 2" | P45: =IF(C45>0,ROW(),MAX(P$6:P44)) -> 44 | Q45: =INDEX(D:D,P45) -> 8"-CW-2909-004-B01-K
B46: 3 | G46: 8X | H46: 6 | I46: 1 | L46: ERE | M46: 125404 | N46: spider > 2" | P46: =IF(C46>0,ROW(),MAX(P$6:P45)) -> 44 | Q46: =INDEX(D:D,P46) -> 8"-CW-2909-004-B01-K
B47: 4 | G47: 8X | H47: 1 | I47: 2 | L47: SOL | M47: 125404 | N47: spider > 2" | P47: =IF(C47>0,ROW(),MAX(P$6:P46)) -> 44 | Q47: =INDEX(D:D,P47) -> 8"-CW-2909-004-B01-K
B48: 5 | G48: 8X | H48: 0.75 | I48: 1 | L48: SOL | M48: 125404 | N48: spider > 2" | P48: =IF(C48>0,ROW(),MAX(P$6:P47)) -> 44 | Q48: =INDEX(D:D,P48) -> 8"-CW-2909-004-B01-K
B49: 6 | G49: 8 | I49: 2 | L49: 90E | M49: 125404 | N49: spider > 2" | P49: =IF(C49>0,ROW(),MAX(P$6:P48)) -> 44 | Q49: =INDEX(D:D,P49) -> 8"-CW-2909-004-B01-K
...
