Workbook

Sheet TCD

Sheet tableau base de données
B3: Etudiants | C3: sexe | D3: âge | E3: préparation | F3: Lieu prépa | G3: Nbre concours | H3: N° choix Nantes | I3: Financement | J3: Filière | K3: Région
B4: 15 | C4: 1 | D4: 43 | E4: 0 | F4: néant | G4: 1 | H4: 1 | I4: 1 | J4: 1 | K4: Bretagne
B5: 21 | C5: 2 | D5: 40 | E5: 0 | F5: néant | G5: 1 | H5: 1 | I5: 1 | J5: 1 | K5: Bretagne
B6: 41 | C6: 2 | D6: 39 | E6: 0 | F6: Néant | G6: 1 | H6: 1 | I6: 1 | J6: 1 | K6: Autres
B7: 28 | C7: 1 | D7: 39 | E7: 0 | F7: Néant | G7: 1 | H7: 2 | I7: 1 | J7: 1 | K7: Autres
B8: 16 | C8: 2 | D8: 35 | E8: 0 | F8: Néant | G8: 1 | H8: 1 | I8: 1 | J8: 1 | K8: Pays de Loire
B9: 26 | C9: 2 | D9: 38 | E9: 0 | F9: néant | G9: 1 | H9: 1 | I9: 1 | J9: 1 | K9: Pays de Loire
B10: 32 | C10: 2 | D10: 55 | E10: 0 | F10: Néant | G10: 1 | H10: 1 | I10: 1 | J10: 1 | K10: Pays de Loire | N10: =COUNTIF(C:C,1) -> 18
B11: 46 | C11: 2 | D11: 37 | E11: 0 | F11: Néant | G11: 1 | H11: 1 | I11: 1 | J11: 1 | K11: Pays de Loire | N11: =COUNTIF(C:C,2) -> 33
B12: 47 | C12: 2 | D12: 40 | E12: 0 | F12: Néant | G12: 1 | H12: 1 | I12: 1 | J12: 1 | K12: Pays de Loire
B13: 49 | C13: 1 | D13: 40 | E13: 0 | F13: Néant | G13: 1 | H13: 1 | I13: 1 | J13: 1 | K13: Pays de Loire
B14: 24 | C14: 1 | D14: 36 | E14: 1 | F14: Ile de France | G14: 1 | H14: 1 | I14: 1 | J14: 1 | K14: Pays de Loire
B15: 48 | C15: 2 | D15: 35 | E15: 1 | F15: Pays de la Loire | G15: 1 | H15: 1 | I15: 1 | J15: 1 | K15: Pays de Loire
B16: 51 | C16: 2 | D16: 42 | E16: 1 | F16: Bretagne | G16: 1 | H16: 1 | I16: 1 | J16: 1 | K16: Pays de Loire
B17: 17 | C17: 2 | D17: 41 | E17: 1 | F17: Bretagne | G17: 2 | H17: 1 | I17: 1 | J17: 1 | K17: Bretagne
B18: 19 | C18: 2 | D18: 35 | E18: 1 | F18: Bretagne | G18: 2 | H18: 2 | I18: 1 | J18: 1 | K18: Bretagne
B19: 44 | C19: 2 | D19: 40 | E19: 1 | F19: Bretagne | G19: 2 | H19: 2 | I19: 1 | J19: 1 | K19: Bretagne
B20: 45 | C20: 2 | D20: 33 | E20: 1 | F20: Pays de la Loire | G20: 2 | H20: 1 | I20: 3 | J20: 1 | K20: Autres
B21: 33 | C21: 1 | D21: 48 | E21: 0 | F21: Néant | G21: 2 | H21: 1 | I21: 1 | J21: 1 | K21: Pays de Loire
B22: 40 | C22: 1 | D22: 41 | E22: 0 | F22: Néant | G22: 2 | H22: 1 | I22: 1 | J22: 1 | K22: Pays de Loire
B23: 50 | C23: 2 | D23: 39 | E23: 0 | F23: Néant | G23: 2 | H23: 1 | I23: 1 | J23: 1 | K23: Pays de Loire
... B54: 43 | C54: 1 | D54: 35 | E54: 1 | F54: Poitou-charente | G54: 4 | H54: 1 | I54: 1 | J54: 1 | K54: Poitou charente
C57: les modalités d’entrée à l’IFCS

Sheet explication base de données

Sheet Variable Univarié
A2: Analyse de la variable "Sexe"
A5: Sexe | B5: Effectif | C5: Fréquence en %
A6: Homme | B6: =COUNTIF('tableau base de données'!C:C,1) -> 18 | C6: =B6*C8/B8 -> 0.35294118
A7: Femme | B7: =COUNTIF('tableau base de données'!C:C,2) -> 33 | C7: =B7*C8/B8 -> 0.64705882
A8: Total | B8: =SUM(B6:B7) -> 51 | C8: 1
A16: Analyse de la variable Age
A19: Age | B19: Effectif | C19: Fréquence en %
A20: Entre 30 et 35 ans | B20: =COUNTIF('tableau base de données'!D:D,"<36") -> 17 | C20: =B20*100%/B$24 -> 0.33333333
A21: Entre 36 et 40 ans | B21: =COUNTIF('tableau base de données'!D:D,"<41")-B20 -> 16 | C21: =B21*100%/B$24 -> 0.31372549
A22: Entre 41 et 46 ans | B22: =COUNTIF('tableau base de données'!D:D,"<47")-B21-B20 -> 13 | C22: =B22*100%/B$24 -> 0.25490196
A23: Entre 47 ans et plus | B23: =COUNTIF('tableau base de données'!D:D,">46") -> 5 | C23: =B23*100%/B$24 -> 0.098039216
A24: Total | B24: =SUM(B20:B23) -> 51 | C24: =SUM(C20:C23) -> 1
A27: Moyenne d'age | B27: =AVERAGE('tableau base de données'!D4:D54) -> 39.254902 | C27: Ans
A32: Analyse de la variable Préparation
A34: Préparation | B34: Effectif | C34: Fréquence en %
A35: Préparation Effectué | B35: =COUNTIF('tableau base de données'!E:E,1) -> 36 | C35: =B35*C37/B37 -> 0.70588235
A36: Entrée Sans préparation | B36: =COUNTIF('tableau base de données'!E:E,0) -> 15 | C36: =B36*C37/B37 -> 0.29411765
A37: Total | B37: =SUM(B35:B36) -> 51 | C37: 1
A44: Analyse de la variable Lieu Préparation
A46: Lieu Préparation | B46: Effectif | C46: Fréquence en %
A47: Bretagne | B47: =COUNTIF('tableau base de données'!F:F,"Bretagne") -> 21 | C47: 0.59
A48: Ile de France | B48: =COUNTIF('tableau base de données'!F:F,"Ile de France") -> 1 | C48: 0.03
A49: Pays de la Loire | B49: =COUNTIF('tableau base de données'!F:F,"Pays de La Loire") -> 8 | C49: 0.22
A50: Poitou-Charente | B50: =COUNTIF('tableau base de données'!F:F,"Poitou-Charente") -> 3 | C50: 0.08
A51: Autres | B51: =COUNTIF('tableau base de données'!F:F,"CNED")+COUNTIF('tableau base de données'!F:F,"Aquitaine") -> 3 | C51: 0.08
A52: Total | B52: =SUM(B47:B51) -> 36 | C52: =SUM(C47:C51) -> 1
A61: Analyse de la variable "Concours passés"
A64: Nombre de concours | B64: Effectif | C64: Fréquence en %
A65: 1 | B65: =COUNTIF('tableau base de données'!G:G,1) -> 13 | C65: 0.25
A66: 2 | B66: =COUNTIF('tableau base de données'!G:G,2) -> 13 | C66: 0.25
A67: 3 | B67: =COUNTIF('tableau base de données'!G:G,3) -> 19 | C67: 0.38
A68: 4 | B68: =COUNTIF('tableau base de données'!G:G,4) -> 6 | C68: 0.12
A69: Total | B69: =SUM(B65:B68) -> 51 | C69: =SUM(C65:C68) -> 1
A78: Analyse de la variable "Choix IFCS Nantes"
A81: Choix pour L'IFCS | B81: Effectif | C81: Fréquence en %
A82: Premier Choix | B82: =COUNTIF('tableau base de données'!H:H,1) -> 44 | C82: 0.86
A83: Second Choix | B83: =COUNTIF('tableau base de données'!H:H,2) -> 6 | C83: 0.12
A84: Troisème Choix | B84: =COUNTIF('tableau base de données'!H:H,3) -> 1 | C84: 0.02
A85: Total | B85: =SUM(B82:B84) -> 51 | C85: =SUM(C82:C84) -> 1
A94: Analyse de la variable "Financement"
...
