Workbook
Name fériés: fériés!$B$2:$B$12
Name viennoiserie: '16'!$U$7:$U$25,'16'!$U$31:$U$52,'16'!$U$57
Name viennoiserie: '17'!$U$7:$U$25,'17'!$U$31:$U$52,'17'!$U$57
Name viennoiserie: '18'!$U$7:$U$25,'18'!$U$31:$U$52,'18'!$U$57
Name viennoiserie: '19'!$U$7:$U$25,'19'!$U$31:$U$52,'19'!$U$57
Name viennoiserie: '20'!$U$7:$U$25,'20'!$U$31:$U$52,'20'!$U$57
Name viennoiserie: #REF!,#REF!,#REF!

Sheet fériés
B2: 41640 | C2: mercredi | D2: Premier de l'An 2014
B3: 41750 | C3: lundi | D3: Lundi de Pâques 2014
B4: 41760 | C4: jeudi | D4: Fête du travail 2014
B5: 41767 | C5: jeudi | D5: Victoire 1945 2014
B6: 41423 | C6: jeudi | D6: Ascension 2014
B7: 41799 | C7: lundi | D7: Lundi de Pentecôte 2014
B8: 41834 | C8: lundi | D8: Fête Nationale 2014
B9: 41866 | C9: vendredi | D9: Assomption 2014
B10: 41944 | C10: samedi | D10: Toussaint 2014
B11: 41954 | C11: mardi | D11: Armistice de 1918 2014
B12: 41998 | C12: jeudi | D12: Noël 2014

Sheet BDD
A1: NOM Prénom | B1: REGIMES | C1: TAXI
A2: a | B2: NORMAL
A3: b | B3: NORMAL | C3: T
A4: c | B4: NORMAL
A5: d | B5: HYPO
A6: e | B6: SANS PORC | C6: T
A7: f | B7: NORMAL
A8: g | B8: NORMAL
A9: h | B9: HYPO
A10: i | B10: NORMAL
A23: j | B23: NORMAL
A24: k | B24: NORMAL
A25: l | B25: SANS VIANDE
A29: Remplaçant 1 | B29: NORMAL
A40: Remplaçant 2 | B40: NORMAL
A41: Stagiaire1 | B41: NORMAL
A42: Stagiaire2 | B42: NORMAL
A43: Chambre d'accueil | B43: NORMAL

Sheet 16
B2: 2014 | C2: Semaine | AU2: P | AV2: : Présent
C3: =MID(CELL("nomfichier",$AU$2),FIND("]",CELL("nomfichier",$AU$2))+1,50) -> 16 | AU3: A | AV3: : Annulé
C4: =C5 -> 41743 | F4: =F5 -> 41744 | I4: =I5 -> 41745 | L4: =L5 -> 41746 | O4: =O5 -> 41747 | R4: =R5 -> 41748 | U4: =U5 -> 41749 | X4: TAXI | AU4: K | AV4: : Pique-nique
C5: =7*C3+DATE(B2,1,3)-WEEKDAY(DATE(B2,1,3))-5 -> 41743 | F5: =C5+1 -> 41744 | I5: =F5+1 -> 41745 | L5: =I5+1 -> 41746 | O5: =L5+1 -> 41747 | R5: =O5+1 -> 41748 | U5: =R5+1 -> 41749 | AU5: H | AV5: : Hospitalisé
A6: GROUPE | B6: NOM Prénom | C6: mat | D6: mid | E6: soi | F6: mat | G6: mid | H6: soi | I6: mat | J6: mid | K6: soi | L6: mat | M6: mid | N6: soi | O6: mat | P6: mid | Q6: soi | R6: mat | S6: mid | T6: soi | U6: mat | V6: mid | W6: soi | AU6: C | AV6: : Chan. Groupe
A7: FB3 | B7: =BDD!A2 -> a | C7: P | E7: P | F7: P | H7: P | I7: P | K7: P | L7: P | N7: P | O7: P | P7: P | Q7: P | R7: P | S7: P | T7: P | U7: P | V7: P | W7: P | X7: =BDD!C2 -> 0 | Y7: =IF(C7="P",INDEX(BDD!$A$2:$B$43,MATCH('16'!$B7,BDD!$A$2:$A$43,0),2),"") -> NORMAL | Z7: =IF(D7="P",INDEX(BDD!$A$2:$B$43,MATCH('16'!$B7,BDD!$A$2:$A$43,0),2),"") | AA7: =IF(E7="P",INDEX(BDD!$A$2:$B$43,MATCH('16'!$B7,BDD!$A$2:$A$43,0),2),"") -> NORMAL | AB7: =IF(F7="P",INDEX(BDD!$A$2:$B$43,MATCH('16'!$B7,BDD!$A$2:$A$43,0),2),"") -> NORMAL | AC7: =IF(G7="P",INDEX(BDD!$A$2:$B$43,MATCH('16'!$B7,BDD!$A$2:$A$43,0),2),"") | AD7: =IF(H7="P",INDEX(BDD!$A$2:$B$43,MATCH('16'!$B7,BDD!$A$2:$A$43,0),2),"") -> NORMAL | AE7: =IF(I7="P",INDEX(BDD!$A$2:$B$43,MATCH('16'!$B7,BDD!$A$2:$A$43,0),2),"") -> NORMAL | AF7: =IF(J7="P",INDEX(BDD!$A$2:$B$43,MATCH('16'!$B7,BDD!$A$2:$A$43,0),2),"") | ... AS7: =IF(W7="P",INDEX(BDD!$A$2:$B$43,MATCH('16'!$B7,BDD!$A$2:$A$43,0),2),"") -> NORMAL | AU7: E | AV7: : Repas ESAT
B8: =BDD!A3 -> b | C8: P | E8: P | F8: P | H8: P | I8: P | K8: P | L8: P | N8: P | O8: P | X8: =BDD!C3 -> T | Y8: =IF(C8="P",INDEX(BDD!$A$2:$B$43,MATCH('16'!$B8,BDD!$A$2:$A$43,0),2),"") -> NORMAL | Z8: =IF(D8="P",INDEX(BDD!$A$2:$B$43,MATCH('16'!$B8,BDD!$A$2:$A$43,0),2),"") | AA8: =IF(E8="P",INDEX(BDD!$A$2:$B$43,MATCH('16'!$B8,BDD!$A$2:$A$43,0),2),"") -> NORMAL | AB8: =IF(F8="P",INDEX(BDD!$A$2:$B$43,MATCH('16'!$B8,BDD!$A$2:$A$43,0),2),"") -> NORMAL | AC8: =IF(G8="P",INDEX(BDD!$A$2:$B$43,MATCH('16'!$B8,BDD!$A$2:$A$43,0),2),"") | AD8: =IF(H8="P",INDEX(BDD!$A$2:$B$43,MATCH('16'!$B8,BDD!$A$2:$A$43,0),2),"") -> NORMAL | AE8: =IF(I8="P",INDEX(BDD!$A$2:$B$43,MATCH('16'!$B8,BDD!$A$2:$A$43,0),2),"") -> NORMAL | AF8: =IF(J8="P",INDEX(BDD!$A$2:$B$43,MATCH('16'!$B8,BDD!$A$2:$A$43,0),2),"") | ... AS8: =IF(W8="P",INDEX(BDD!$A$2:$B$43,MATCH('16'!$B8,BDD!$A$2:$A$43,0),2),"") | AU8: Fériés et WE
B9: =BDD!A4 -> c | C9: P | E9: P | F9: P | H9: P | I9: P | K9: P | L9: P | N9: P | O9: P | X9: =BDD!C4 -> 0 | Y9: =IF(C9="P",INDEX(BDD!$A$2:$B$43,MATCH('16'!$B9,BDD!$A$2:$A$43,0),2),"") -> NORMAL | Z9: =IF(D9="P",INDEX(BDD!$A$2:$B$43,MATCH('16'!$B9,BDD!$A$2:$A$43,0),2),"") | AA9: =IF(E9="P",INDEX(BDD!$A$2:$B$43,MATCH('16'!$B9,BDD!$A$2:$A$43,0),2),"") -> NORMAL | AB9: =IF(F9="P",INDEX(BDD!$A$2:$B$43,MATCH('16'!$B9,BDD!$A$2:$A$43,0),2),"") -> NORMAL | AC9: =IF(G9="P",INDEX(BDD!$A$2:$B$43,MATCH('16'!$B9,BDD!$A$2:$A$43,0),2),"") | AD9: =IF(H9="P",INDEX(BDD!$A$2:$B$43,MATCH('16'!$B9,BDD!$A$2:$A$43,0),2),"") -> NORMAL | AE9: =IF(I9="P",INDEX(BDD!$A$2:$B$43,MATCH('16'!$B9,BDD!$A$2:$A$43,0),2),"") -> NORMAL | AF9: =IF(J9="P",INDEX(BDD!$A$2:$B$43,MATCH('16'!$B9,BDD!$A$2:$A$43,0),2),"") | ... AS9: =IF(W9="P",INDEX(BDD!$A$2:$B$43,MATCH('16'!$B9,BDD!$A$2:$A$43,0),2),"") | AU9: Absent (cellule vide)
B10: =BDD!A5 -> d | C10: P | D10: P | E10: P | F10: P | G10: P | H10: P | I10: P | J10: P | K10: P | L10: P | M10: P | N10: P | O10: P | P10: P | Q10: P | R10: P | S10: P | T10: P | U10: P | V10: P | W10: P | X10: =BDD!C5 -> 0 | Y10: =IF(C10="P",INDEX(BDD!$A$2:$B$43,MATCH('16'!$B10,BDD!$A$2:$A$43,0),2),"") -> HYPO | Z10: =IF(D10="P",INDEX(BDD!$A$2:$B$43,MATCH('16'!$B10,BDD!$A$2:$A$43,0),2),"") -> HYPO | AA10: =IF(E10="P",INDEX(BDD!$A$2:$B$43,MATCH('16'!$B10,BDD!$A$2:$A$43,0),2),"") -> HYPO | AB10: =IF(F10="P",INDEX(BDD!$A$2:$B$43,MATCH('16'!$B10,BDD!$A$2:$A$43,0),2),"") -> HYPO | AC10: =IF(G10="P",INDEX(BDD!$A$2:$B$43,MATCH('16'!$B10,BDD!$A$2:$A$43,0),2),"") -> HYPO | AD10: =IF(H10="P",INDEX(BDD!$A$2:$B$43,MATCH('16'!$B10,BDD!$A$2:$A$43,0),2),"") -> HYPO | AE10: =IF(I10="P",INDEX(BDD!$A$2:$B$43,MATCH('16'!$B10,BDD!$A$2:$A$43,0),2),"") -> HYPO | AF10: =IF(J10="P",INDEX(BDD!$A$2:$B$43,MATCH('16'!$B10,BDD!$A$2:$A$43,0),2),"") -> HYPO | ... AS10: =IF(W10="P",INDEX(BDD!$A$2:$B$43,MATCH('16'!$B10,BDD!$A$2:$A$43,0),2),"") -> HYPO
B11: =BDD!A6 -> e | C11: P | D11: P | E11: P | F11: P | G11: P | H11: P | I11: P | J11: P | K11: P | L11: P | M11: P | N11: P | O11: P | P11: P | Q11: P | R11: P | V11: P | W11: P | X11: =BDD!C6 -> T | Y11: =IF(C11="P",INDEX(BDD!$A$2:$B$43,MATCH('16'!$B11,BDD!$A$2:$A$43,0),2),"") -> SANS PORC | Z11: =IF(D11="P",INDEX(BDD!$A$2:$B$43,MATCH('16'!$B11,BDD!$A$2:$A$43,0),2),"") -> SANS PORC | AA11: =IF(E11="P",INDEX(BDD!$A$2:$B$43,MATCH('16'!$B11,BDD!$A$2:$A$43,0),2),"") -> SANS PORC | AB11: =IF(F11="P",INDEX(BDD!$A$2:$B$43,MATCH('16'!$B11,BDD!$A$2:$A$43,0),2),"") -> SANS PORC | AC11: =IF(G11="P",INDEX(BDD!$A$2:$B$43,MATCH('16'!$B11,BDD!$A$2:$A$43,0),2),"") -> SANS PORC | AD11: =IF(H11="P",INDEX(BDD!$A$2:$B$43,MATCH('16'!$B11,BDD!$A$2:$A$43,0),2),"") -> SANS PORC | AE11: =IF(I11="P",INDEX(BDD!$A$2:$B$43,MATCH('16'!$B11,BDD!$A$2:$A$43,0),2),"") -> SANS PORC | AF11: =IF(J11="P",INDEX(BDD!$A$2:$B$43,MATCH('16'!$B11,BDD!$A$2:$A$43,0),2),"") -> SANS PORC | ... AS11: =IF(W11="P",INDEX(BDD!$A$2:$B$43,MATCH('16'!$B11,BDD!$A$2:$A$43,0),2),"") -> SANS PORC
B12: =BDD!A7 -> f | E12: P | F12: P | H12: P | I12: P | K12: P | L12: P | N12: P | O12: P | X12: =BDD!C7 -> 0 | Y12: =IF(C12="P",INDEX(BDD!$A$2:$B$43,MATCH('16'!$B12,BDD!$A$2:$A$43,0),2),"") | Z12: =IF(D12="P",INDEX(BDD!$A$2:$B$43,MATCH('16'!$B12,BDD!$A$2:$A$43,0),2),"") | AA12: =IF(E12="P",INDEX(BDD!$A$2:$B$43,MATCH('16'!$B12,BDD!$A$2:$A$43,0),2),"") -> NORMAL | AB12: =IF(F12="P",INDEX(BDD!$A$2:$B$43,MATCH('16'!$B12,BDD!$A$2:$A$43,0),2),"") -> NORMAL | AC12: =IF(G12="P",INDEX(BDD!$A$2:$B$43,MATCH('16'!$B12,BDD!$A$2:$A$43,0),2),"") | AD12: =IF(H12="P",INDEX(BDD!$A$2:$B$43,MATCH('16'!$B12,BDD!$A$2:$A$43,0),2),"") -> NORMAL | AE12: =IF(I12="P",INDEX(BDD!$A$2:$B$43,MATCH('16'!$B12,BDD!$A$2:$A$43,0),2),"") -> NORMAL | AF12: =IF(J12="P",INDEX(BDD!$A$2:$B$43,MATCH('16'!$B12,BDD!$A$2:$A$43,0),2),"") | ... AS12: =IF(W12="P",INDEX(BDD!$A$2:$B$43,MATCH('16'!$B12,BDD!$A$2:$A$43,0),2),"")
B13: =BDD!A8 -> g | E13: P | F13: P | H13: P | I13: P | K13: P | L13: P | N13: P | O13: P | X13: =BDD!C8 -> 0 | Y13: =IF(C13="P",INDEX(BDD!$A$2:$B$43,MATCH('16'!$B13,BDD!$A$2:$A$43,0),2),"") | Z13: =IF(D13="P",INDEX(BDD!$A$2:$B$43,MATCH('16'!$B13,BDD!$A$2:$A$43,0),2),"") | AA13: =IF(E13="P",INDEX(BDD!$A$2:$B$43,MATCH('16'!$B13,BDD!$A$2:$A$43,0),2),"") -> NORMAL | AB13: =IF(F13="P",INDEX(BDD!$A$2:$B$43,MATCH('16'!$B13,BDD!$A$2:$A$43,0),2),"") -> NORMAL | AC13: =IF(G13="P",INDEX(BDD!$A$2:$B$43,MATCH('16'!$B13,BDD!$A$2:$A$43,0),2),"") | AD13: =IF(H13="P",INDEX(BDD!$A$2:$B$43,MATCH('16'!$B13,BDD!$A$2:$A$43,0),2),"") -> NORMAL | AE13: =IF(I13="P",INDEX(BDD!$A$2:$B$43,MATCH('16'!$B13,BDD!$A$2:$A$43,0),2),"") -> NORMAL | AF13: =IF(J13="P",INDEX(BDD!$A$2:$B$43,MATCH('16'!$B13,BDD!$A$2:$A$43,0),2),"") | ... AS13: =IF(W13="P",INDEX(BDD!$A$2:$B$43,MATCH('16'!$B13,BDD!$A$2:$A$43,0),2),"")
B14: =BDD!A9 -> h | C14: P | E14: P | F14: P | H14: P | I14: P | K14: P | L14: P | N14: P | O14: P | Q14: P | R14: P | X14: =BDD!C9 -> 0 | Y14: =IF(C14="P",INDEX(BDD!$A$2:$B$43,MATCH('16'!$B14,BDD!$A$2:$A$43,0),2),"") -> HYPO | Z14: =IF(D14="P",INDEX(BDD!$A$2:$B$43,MATCH('16'!$B14,BDD!$A$2:$A$43,0),2),"") | AA14: =IF(E14="P",INDEX(BDD!$A$2:$B$43,MATCH('16'!$B14,BDD!$A$2:$A$43,0),2),"") -> HYPO | AB14: =IF(F14="P",INDEX(BDD!$A$2:$B$43,MATCH('16'!$B14,BDD!$A$2:$A$43,0),2),"") -> HYPO | AC14: =IF(G14="P",INDEX(BDD!$A$2:$B$43,MATCH('16'!$B14,BDD!$A$2:$A$43,0),2),"") | AD14: =IF(H14="P",INDEX(BDD!$A$2:$B$43,MATCH('16'!$B14,BDD!$A$2:$A$43,0),2),"") -> HYPO | AE14: =IF(I14="P",INDEX(BDD!$A$2:$B$43,MATCH('16'!$B14,BDD!$A$2:$A$43,0),2),"") -> HYPO | AF14: =IF(J14="P",INDEX(BDD!$A$2:$B$43,MATCH('16'!$B14,BDD!$A$2:$A$43,0),2),"") | ... AS14: =IF(W14="P",INDEX(BDD!$A$2:$B$43,MATCH('16'!$B14,BDD!$A$2:$A$43,0),2),"")
B15: =BDD!A10 -> i | C15: P | E15: P | F15: P | H15: P | I15: P | K15: P | L15: P | N15: P | O15: P | X15: =BDD!C10 -> 0 | Y15: =IF(C15="P",INDEX(BDD!$A$2:$B$43,MATCH('16'!$B15,BDD!$A$2:$A$43,0),2),"") -> NORMAL | Z15: =IF(D15="P",INDEX(BDD!$A$2:$B$43,MATCH('16'!$B15,BDD!$A$2:$A$43,0),2),"") | AA15: =IF(E15="P",INDEX(BDD!$A$2:$B$43,MATCH('16'!$B15,BDD!$A$2:$A$43,0),2),"") -> NORMAL | AB15: =IF(F15="P",INDEX(BDD!$A$2:$B$43,MATCH('16'!$B15,BDD!$A$2:$A$43,0),2),"") -> NORMAL | AC15: =IF(G15="P",INDEX(BDD!$A$2:$B$43,MATCH('16'!$B15,BDD!$A$2:$A$43,0),2),"") | AD15: =IF(H15="P",INDEX(BDD!$A$2:$B$43,MATCH('16'!$B15,BDD!$A$2:$A$43,0),2),"") -> NORMAL | AE15: =IF(I15="P",INDEX(BDD!$A$2:$B$43,MATCH('16'!$B15,BDD!$A$2:$A$43,0),2),"") -> NORMAL | AF15: =IF(J15="P",INDEX(BDD!$A$2:$B$43,MATCH('16'!$B15,BDD!$A$2:$A$43,0),2),"") | ... AS15: =IF(W15="P",INDEX(BDD!$A$2:$B$43,MATCH('16'!$B15,BDD!$A$2:$A$43,0),2),"")
B16: =BDD!A11 -> 0 | X16: =BDD!C11 -> 0
B17: =BDD!A12 -> 0 | X17: =BDD!C12 -> 0 | Y17: =IF(C17="P",INDEX(BDD!$A$2:$B$43,MATCH('16'!$B17,BDD!$A$2:$A$43,0),2),"") | Z17: =IF(D17="P",INDEX(BDD!$A$2:$B$43,MATCH('16'!$B17,BDD!$A$2:$A$43,0),2),"") | AA17: =IF(E17="P",INDEX(BDD!$A$2:$B$43,MATCH('16'!$B17,BDD!$A$2:$A$43,0),2),"") | AB17: =IF(F17="P",INDEX(BDD!$A$2:$B$43,MATCH('16'!$B17,BDD!$A$2:$A$43,0),2),"") | AC17: =IF(G17="P",INDEX(BDD!$A$2:$B$43,MATCH('16'!$B17,BDD!$A$2:$A$43,0),2),"") | AD17: =IF(H17="P",INDEX(BDD!$A$2:$B$43,MATCH('16'!$B17,BDD!$A$2:$A$43,0),2),"") | AE17: =IF(I17="P",INDEX(BDD!$A$2:$B$43,MATCH('16'!$B17,BDD!$A$2:$A$43,0),2),"") | AF17: =IF(J17="P",INDEX(BDD!$A$2:$B$43,MATCH('16'!$B17,BDD!$A$2:$A$43,0),2),"") | ... AS17: =IF(W17="P",INDEX(BDD!$A$2:$B$43,MATCH('16'!$B17,BDD!$A$2:$A$43,0),2),"")
B18: =BDD!A23 -> j | X18: =COUNTIF(C18:W18,"P") -> 0 | Y18: =IF(C18="P",INDEX(BDD!$A$2:$B$43,MATCH('16'!$B18,BDD!$A$2:$A$43,0),2),"") | Z18: =IF(D18="P",INDEX(BDD!$A$2:$B$43,MATCH('16'!$B18,BDD!$A$2:$A$43,0),2),"") | AA18: =IF(E18="P",INDEX(BDD!$A$2:$B$43,MATCH('16'!$B18,BDD!$A$2:$A$43,0),2),"") | AB18: =IF(F18="P",INDEX(BDD!$A$2:$B$43,MATCH('16'!$B18,BDD!$A$2:$A$43,0),2),"") | AC18: =IF(G18="P",INDEX(BDD!$A$2:$B$43,MATCH('16'!$B18,BDD!$A$2:$A$43,0),2),"") | AD18: =IF(H18="P",INDEX(BDD!$A$2:$B$43,MATCH('16'!$B18,BDD!$A$2:$A$43,0),2),"") | AE18: =IF(I18="P",INDEX(BDD!$A$2:$B$43,MATCH('16'!$B18,BDD!$A$2:$A$43,0),2),"") | AF18: =IF(J18="P",INDEX(BDD!$A$2:$B$43,MATCH('16'!$B18,BDD!$A$2:$A$43,0),2),"") | ... AS18: =IF(W18="P",INDEX(BDD!$A$2:$B$43,MATCH('16'!$B18,BDD!$A$2:$A$43,0),2),"")
B19: =BDD!A24 -> k | D19: P | H19: P | S19: P | T19: P | V19: P | W19: P | X19: =COUNTIF(C19:W19,"P") -> 6 | Y19: =IF(C19="P",INDEX(BDD!$A$2:$B$43,MATCH('16'!$B19,BDD!$A$2:$A$43,0),2),"") | Z19: =IF(D19="P",INDEX(BDD!$A$2:$B$43,MATCH('16'!$B19,BDD!$A$2:$A$43,0),2),"") -> NORMAL | AA19: =IF(E19="P",INDEX(BDD!$A$2:$B$43,MATCH('16'!$B19,BDD!$A$2:$A$43,0),2),"") | AB19: =IF(F19="P",INDEX(BDD!$A$2:$B$43,MATCH('16'!$B19,BDD!$A$2:$A$43,0),2),"") | AC19: =IF(G19="P",INDEX(BDD!$A$2:$B$43,MATCH('16'!$B19,BDD!$A$2:$A$43,0),2),"") | AD19: =IF(H19="P",INDEX(BDD!$A$2:$B$43,MATCH('16'!$B19,BDD!$A$2:$A$43,0),2),"") -> NORMAL | AE19: =IF(I19="P",INDEX(BDD!$A$2:$B$43,MATCH('16'!$B19,BDD!$A$2:$A$43,0),2),"") | AF19: =IF(J19="P",INDEX(BDD!$A$2:$B$43,MATCH('16'!$B19,BDD!$A$2:$A$43,0),2),"") | ... AS19: =IF(W19="P",INDEX(BDD!$A$2:$B$43,MATCH('16'!$B19,BDD!$A$2:$A$43,0),2),"") -> NORMAL
B20: =BDD!A25 -> l | X20: =COUNTIF(C20:W20,"P") -> 0 | Y20: =IF(C20="P",INDEX(BDD!$A$2:$B$43,MATCH('16'!$B20,BDD!$A$2:$A$43,0),2),"") | Z20: =IF(D20="P",INDEX(BDD!$A$2:$B$43,MATCH('16'!$B20,BDD!$A$2:$A$43,0),2),"") | AA20: =IF(E20="P",INDEX(BDD!$A$2:$B$43,MATCH('16'!$B20,BDD!$A$2:$A$43,0),2),"") | AB20: =IF(F20="P",INDEX(BDD!$A$2:$B$43,MATCH('16'!$B20,BDD!$A$2:$A$43,0),2),"") | AC20: =IF(G20="P",INDEX(BDD!$A$2:$B$43,MATCH('16'!$B20,BDD!$A$2:$A$43,0),2),"") | AD20: =IF(H20="P",INDEX(BDD!$A$2:$B$43,MATCH('16'!$B20,BDD!$A$2:$A$43,0),2),"") | AE20: =IF(I20="P",INDEX(BDD!$A$2:$B$43,MATCH('16'!$B20,BDD!$A$2:$A$43,0),2),"") | AF20: =IF(J20="P",INDEX(BDD!$A$2:$B$43,MATCH('16'!$B20,BDD!$A$2:$A$43,0),2),"") | ... AS20: =IF(W20="P",INDEX(BDD!$A$2:$B$43,MATCH('16'!$B20,BDD!$A$2:$A$43,0),2),"")
B21: =BDD!A26 -> 0 | X21: =COUNTIF(C21:W21,"P") -> 0 | Y21: =IF(C21="P",INDEX(BDD!$A$2:$B$43,MATCH('16'!$B21,BDD!$A$2:$A$43,0),2),"") | Z21: =IF(D21="P",INDEX(BDD!$A$2:$B$43,MATCH('16'!$B21,BDD!$A$2:$A$43,0),2),"") | AA21: =IF(E21="P",INDEX(BDD!$A$2:$B$43,MATCH('16'!$B21,BDD!$A$2:$A$43,0),2),"") | AB21: =IF(F21="P",INDEX(BDD!$A$2:$B$43,MATCH('16'!$B21,BDD!$A$2:$A$43,0),2),"") | AC21: =IF(G21="P",INDEX(BDD!$A$2:$B$43,MATCH('16'!$B21,BDD!$A$2:$A$43,0),2),"") | AD21: =IF(H21="P",INDEX(BDD!$A$2:$B$43,MATCH('16'!$B21,BDD!$A$2:$A$43,0),2),"") | AE21: =IF(I21="P",INDEX(BDD!$A$2:$B$43,MATCH('16'!$B21,BDD!$A$2:$A$43,0),2),"") | AF21: =IF(J21="P",INDEX(BDD!$A$2:$B$43,MATCH('16'!$B21,BDD!$A$2:$A$43,0),2),"") | ... AS21: =IF(W21="P",INDEX(BDD!$A$2:$B$43,MATCH('16'!$B21,BDD!$A$2:$A$43,0),2),"")
B22: =BDD!A27 -> 0 | X22: =COUNTIF(C22:W22,"P") -> 0 | Y22: =IF(C22="P",INDEX(BDD!$A$2:$B$43,MATCH('16'!$B22,BDD!$A$2:$A$43,0),2),"") | Z22: =IF(D22="P",INDEX(BDD!$A$2:$B$43,MATCH('16'!$B22,BDD!$A$2:$A$43,0),2),"") | AA22: =IF(E22="P",INDEX(BDD!$A$2:$B$43,MATCH('16'!$B22,BDD!$A$2:$A$43,0),2),"") | AB22: =IF(F22="P",INDEX(BDD!$A$2:$B$43,MATCH('16'!$B22,BDD!$A$2:$A$43,0),2),"") | AC22: =IF(G22="P",INDEX(BDD!$A$2:$B$43,MATCH('16'!$B22,BDD!$A$2:$A$43,0),2),"") | AD22: =IF(H22="P",INDEX(BDD!$A$2:$B$43,MATCH('16'!$B22,BDD!$A$2:$A$43,0),2),"") | AE22: =IF(I22="P",INDEX(BDD!$A$2:$B$43,MATCH('16'!$B22,BDD!$A$2:$A$43,0),2),"") | AF22: =IF(J22="P",INDEX(BDD!$A$2:$B$43,MATCH('16'!$B22,BDD!$A$2:$A$43,0),2),"") | ... AS22: =IF(W22="P",INDEX(BDD!$A$2:$B$43,MATCH('16'!$B22,BDD!$A$2:$A$43,0),2),"")
B23: =BDD!A28 -> 0 | X23: =COUNTIF(C23:W23,"P") -> 0 | Y23: =IF(C23="P",INDEX(BDD!$A$2:$B$43,MATCH('16'!$B23,BDD!$A$2:$A$43,0),2),"") | Z23: =IF(D23="P",INDEX(BDD!$A$2:$B$43,MATCH('16'!$B23,BDD!$A$2:$A$43,0),2),"") | AA23: =IF(E23="P",INDEX(BDD!$A$2:$B$43,MATCH('16'!$B23,BDD!$A$2:$A$43,0),2),"") | AB23: =IF(F23="P",INDEX(BDD!$A$2:$B$43,MATCH('16'!$B23,BDD!$A$2:$A$43,0),2),"") | AC23: =IF(G23="P",INDEX(BDD!$A$2:$B$43,MATCH('16'!$B23,BDD!$A$2:$A$43,0),2),"") | AD23: =IF(H23="P",INDEX(BDD!$A$2:$B$43,MATCH('16'!$B23,BDD!$A$2:$A$43,0),2),"") | AE23: =IF(I23="P",INDEX(BDD!$A$2:$B$43,MATCH('16'!$B23,BDD!$A$2:$A$43,0),2),"") | AF23: =IF(J23="P",INDEX(BDD!$A$2:$B$43,MATCH('16'!$B23,BDD!$A$2:$A$43,0),2),"") | ... AS23: =IF(W23="P",INDEX(BDD!$A$2:$B$43,MATCH('16'!$B23,BDD!$A$2:$A$43,0),2),"")
B24: =BDD!A29 -> Remplaçant 1 | X24: =COUNTIF(C24:W24,"P") -> 0 | Y24: =IF(C24="P",INDEX(BDD!$A$2:$B$43,MATCH('16'!$B24,BDD!$A$2:$A$43,0),2),"") | Z24: =IF(D24="P",INDEX(BDD!$A$2:$B$43,MATCH('16'!$B24,BDD!$A$2:$A$43,0),2),"") | AA24: =IF(E24="P",INDEX(BDD!$A$2:$B$43,MATCH('16'!$B24,BDD!$A$2:$A$43,0),2),"") | AB24: =IF(F24="P",INDEX(BDD!$A$2:$B$43,MATCH('16'!$B24,BDD!$A$2:$A$43,0),2),"") | AC24: =IF(G24="P",INDEX(BDD!$A$2:$B$43,MATCH('16'!$B24,BDD!$A$2:$A$43,0),2),"") | AD24: =IF(H24="P",INDEX(BDD!$A$2:$B$43,MATCH('16'!$B24,BDD!$A$2:$A$43,0),2),"") | AE24: =IF(I24="P",INDEX(BDD!$A$2:$B$43,MATCH('16'!$B24,BDD!$A$2:$A$43,0),2),"") | AF24: =IF(J24="P",INDEX(BDD!$A$2:$B$43,MATCH('16'!$B24,BDD!$A$2:$A$43,0),2),"") | ... AS24: =IF(W24="P",INDEX(BDD!$A$2:$B$43,MATCH('16'!$B24,BDD!$A$2:$A$43,0),2),"")
B25: =BDD!A41 -> Stagiaire1 | X25: =COUNTIF(C25:W25,"P") -> 0 | Y25: =IF(C25="P",INDEX(BDD!$A$2:$B$43,MATCH('16'!$B25,BDD!$A$2:$A$43,0),2),"") | Z25: =IF(D25="P",INDEX(BDD!$A$2:$B$43,MATCH('16'!$B25,BDD!$A$2:$A$43,0),2),"") | AA25: =IF(E25="P",INDEX(BDD!$A$2:$B$43,MATCH('16'!$B25,BDD!$A$2:$A$43,0),2),"") | AB25: =IF(F25="P",INDEX(BDD!$A$2:$B$43,MATCH('16'!$B25,BDD!$A$2:$A$43,0),2),"") | AC25: =IF(G25="P",INDEX(BDD!$A$2:$B$43,MATCH('16'!$B25,BDD!$A$2:$A$43,0),2),"") | AD25: =IF(H25="P",INDEX(BDD!$A$2:$B$43,MATCH('16'!$B25,BDD!$A$2:$A$43,0),2),"") | AE25: =IF(I25="P",INDEX(BDD!$A$2:$B$43,MATCH('16'!$B25,BDD!$A$2:$A$43,0),2),"") | AF25: =IF(J25="P",INDEX(BDD!$A$2:$B$43,MATCH('16'!$B25,BDD!$A$2:$A$43,0),2),"") | ... AS25: =IF(W25="P",INDEX(BDD!$A$2:$B$43,MATCH('16'!$B25,BDD!$A$2:$A$43,0),2),"")
C26: Semaine | Y26: =IF(C26="P",INDEX(BDD!$A$2:$B$43,MATCH('16'!$B26,BDD!$A$2:$A$43,0),2),"") | Z26: =IF(D26="P",INDEX(BDD!$A$2:$B$43,MATCH('16'!$B26,BDD!$A$2:$A$43,0),2),"") | AA26: =IF(E26="P",INDEX(BDD!$A$2:$B$43,MATCH('16'!$B26,BDD!$A$2:$A$43,0),2),"") | AB26: =IF(F26="P",INDEX(BDD!$A$2:$B$43,MATCH('16'!$B26,BDD!$A$2:$A$43,0),2),"") | AC26: =IF(G26="P",INDEX(BDD!$A$2:$B$43,MATCH('16'!$B26,BDD!$A$2:$A$43,0),2),"") | AD26: =IF(H26="P",INDEX(BDD!$A$2:$B$43,MATCH('16'!$B26,BDD!$A$2:$A$43,0),2),"") | AE26: =IF(I26="P",INDEX(BDD!$A$2:$B$43,MATCH('16'!$B26,BDD!$A$2:$A$43,0),2),"") | AF26: =IF(J26="P",INDEX(BDD!$A$2:$B$43,MATCH('16'!$B26,BDD!$A$2:$A$43,0),2),"") | ... AS26: =IF(W26="P",INDEX(BDD!$A$2:$B$43,MATCH('16'!$B26,BDD!$A$2:$A$43,0),2),"")
C27: =C3 -> 16 | Y27: =IF(C27="P",INDEX(BDD!$A$2:$B$43,MATCH('16'!$B27,BDD!$A$2:$A$43,0),2),"") | Z27: =IF(D27="P",INDEX(BDD!$A$2:$B$43,MATCH('16'!$B27,BDD!$A$2:$A$43,0),2),"") | AA27: =IF(E27="P",INDEX(BDD!$A$2:$B$43,MATCH('16'!$B27,BDD!$A$2:$A$43,0),2),"") | AB27: =IF(F27="P",INDEX(BDD!$A$2:$B$43,MATCH('16'!$B27,BDD!$A$2:$A$43,0),2),"") | AC27: =IF(G27="P",INDEX(BDD!$A$2:$B$43,MATCH('16'!$B27,BDD!$A$2:$A$43,0),2),"") | AD27: =IF(H27="P",INDEX(BDD!$A$2:$B$43,MATCH('16'!$B27,BDD!$A$2:$A$43,0),2),"") | AE27: =IF(I27="P",INDEX(BDD!$A$2:$B$43,MATCH('16'!$B27,BDD!$A$2:$A$43,0),2),"") | AF27: =IF(J27="P",INDEX(BDD!$A$2:$B$43,MATCH('16'!$B27,BDD!$A$2:$A$43,0),2),"") | ... AS27: =IF(W27="P",INDEX(BDD!$A$2:$B$43,MATCH('16'!$B27,BDD!$A$2:$A$43,0),2),"")
C28: =C29 -> 41743 | F28: =F29 -> 41744 | I28: =I29 -> 41745 | L28: =L29 -> 41746 | O28: =O29 -> 41747 | R28: =R29 -> 41748 | U28: =U29 -> 41749 | X28: TAXI | Y28: =IF(C28="P",INDEX(BDD!$A$2:$B$43,MATCH('16'!$B28,BDD!$A$2:$A$43,0),2),"") | Z28: =IF(D28="P",INDEX(BDD!$A$2:$B$43,MATCH('16'!$B28,BDD!$A$2:$A$43,0),2),"") | AA28: =IF(E28="P",INDEX(BDD!$A$2:$B$43,MATCH('16'!$B28,BDD!$A$2:$A$43,0),2),"") | AB28: =IF(F28="P",INDEX(BDD!$A$2:$B$43,MATCH('16'!$B28,BDD!$A$2:$A$43,0),2),"") | AC28: =IF(G28="P",INDEX(BDD!$A$2:$B$43,MATCH('16'!$B28,BDD!$A$2:$A$43,0),2),"") | AD28: =IF(H28="P",INDEX(BDD!$A$2:$B$43,MATCH('16'!$B28,BDD!$A$2:$A$43,0),2),"") | AE28: =IF(I28="P",INDEX(BDD!$A$2:$B$43,MATCH('16'!$B28,BDD!$A$2:$A$43,0),2),"") | AF28: =IF(J28="P",INDEX(BDD!$A$2:$B$43,MATCH('16'!$B28,BDD!$A$2:$A$43,0),2),"") | ... AS28: =IF(W28="P",INDEX(BDD!$A$2:$B$43,MATCH('16'!$B28,BDD!$A$2:$A$43,0),2),"")
C29: =7*C3+DATE(B2,1,3)-WEEKDAY(DATE(B2,1,3))-5 -> 41743 | F29: =C29+1 -> 41744 | I29: =F29+1 -> 41745 | L29: =I29+1 -> 41746 | O29: =L29+1 -> 41747 | R29: =O29+1 -> 41748 | U29: =R29+1 -> 41749 | Y29: =IF(C29="P",INDEX(BDD!$A$2:$B$43,MATCH('16'!$B29,BDD!$A$2:$A$43,0),2),"") | Z29: =IF(D29="P",INDEX(BDD!$A$2:$B$43,MATCH('16'!$B29,BDD!$A$2:$A$43,0),2),"") | AA29: =IF(E29="P",INDEX(BDD!$A$2:$B$43,MATCH('16'!$B29,BDD!$A$2:$A$43,0),2),"") | AB29: =IF(F29="P",INDEX(BDD!$A$2:$B$43,MATCH('16'!$B29,BDD!$A$2:$A$43,0),2),"") | AC29: =IF(G29="P",INDEX(BDD!$A$2:$B$43,MATCH('16'!$B29,BDD!$A$2:$A$43,0),2),"") | AD29: =IF(H29="P",INDEX(BDD!$A$2:$B$43,MATCH('16'!$B29,BDD!$A$2:$A$43,0),2),"") | AE29: =IF(I29="P",INDEX(BDD!$A$2:$B$43,MATCH('16'!$B29,BDD!$A$2:$A$43,0),2),"") | AF29: =IF(J29="P",INDEX(BDD!$A$2:$B$43,MATCH('16'!$B29,BDD!$A$2:$A$43,0),2),"") | ... AS29: =IF(W29="P",INDEX(BDD!$A$2:$B$43,MATCH('16'!$B29,BDD!$A$2:$A$43,0),2),"")
A30: GROUPE | B30: NOM Prénom | C30: mat | D30: mid | E30: soi | F30: mat | G30: mid | H30: soi | I30: mat | J30: mid | K30: soi | L30: mat | M30: mid | N30: soi | O30: mat | P30: mid | Q30: soi | R30: mat | S30: mid | T30: soi | U30: mat | V30: mid | W30: soi | Y30: =IF(C30="P",INDEX(BDD!$A$2:$B$43,MATCH('16'!$B30,BDD!$A$2:$A$43,0),2),"") | Z30: =IF(D30="P",INDEX(BDD!$A$2:$B$43,MATCH('16'!$B30,BDD!$A$2:$A$43,0),2),"") | AA30: =IF(E30="P",INDEX(BDD!$A$2:$B$43,MATCH('16'!$B30,BDD!$A$2:$A$43,0),2),"") | AB30: =IF(F30="P",INDEX(BDD!$A$2:$B$43,MATCH('16'!$B30,BDD!$A$2:$A$43,0),2),"") | AC30: =IF(G30="P",INDEX(BDD!$A$2:$B$43,MATCH('16'!$B30,BDD!$A$2:$A$43,0),2),"") | AD30: =IF(H30="P",INDEX(BDD!$A$2:$B$43,MATCH('16'!$B30,BDD!$A$2:$A$43,0),2),"") | AE30: =IF(I30="P",INDEX(BDD!$A$2:$B$43,MATCH('16'!$B30,BDD!$A$2:$A$43,0),2),"") | AF30: =IF(J30="P",INDEX(BDD!$A$2:$B$43,MATCH('16'!$B30,BDD!$A$2:$A$43,0),2),"") | ... AS30: =IF(W30="P",INDEX(BDD!$A$2:$B$43,MATCH('16'!$B30,BDD!$A$2:$A$43,0),2),"")
B31: =BDD!A13 -> 0 | X31: =BDD!C13 -> 0 | Y31: =IF(C31="P",INDEX(BDD!$A$2:$B$43,MATCH('16'!$B31,BDD!$A$2:$A$43,0),2),"") | Z31: =IF(D31="P",INDEX(BDD!$A$2:$B$43,MATCH('16'!$B31,BDD!$A$2:$A$43,0),2),"") | AA31: =IF(E31="P",INDEX(BDD!$A$2:$B$43,MATCH('16'!$B31,BDD!$A$2:$A$43,0),2),"") | AB31: =IF(F31="P",INDEX(BDD!$A$2:$B$43,MATCH('16'!$B31,BDD!$A$2:$A$43,0),2),"") | AC31: =IF(G31="P",INDEX(BDD!$A$2:$B$43,MATCH('16'!$B31,BDD!$A$2:$A$43,0),2),"") | AD31: =IF(H31="P",INDEX(BDD!$A$2:$B$43,MATCH('16'!$B31,BDD!$A$2:$A$43,0),2),"") | AE31: =IF(I31="P",INDEX(BDD!$A$2:$B$43,MATCH('16'!$B31,BDD!$A$2:$A$43,0),2),"") | AF31: =IF(J31="P",INDEX(BDD!$A$2:$B$43,MATCH('16'!$B31,BDD!$A$2:$A$43,0),2),"") | ... AS31: =IF(W31="P",INDEX(BDD!$A$2:$B$43,MATCH('16'!$B31,BDD!$A$2:$A$43,0),2),"")
B32: =BDD!A14 -> 0 | X32: =BDD!C14 -> 0 | Y32: =IF(C32="P",INDEX(BDD!$A$2:$B$43,MATCH('16'!$B32,BDD!$A$2:$A$43,0),2),"") | Z32: =IF(D32="P",INDEX(BDD!$A$2:$B$43,MATCH('16'!$B32,BDD!$A$2:$A$43,0),2),"") | AA32: =IF(E32="P",INDEX(BDD!$A$2:$B$43,MATCH('16'!$B32,BDD!$A$2:$A$43,0),2),"") | AB32: =IF(F32="P",INDEX(BDD!$A$2:$B$43,MATCH('16'!$B32,BDD!$A$2:$A$43,0),2),"") | AC32: =IF(G32="P",INDEX(BDD!$A$2:$B$43,MATCH('16'!$B32,BDD!$A$2:$A$43,0),2),"") | AD32: =IF(H32="P",INDEX(BDD!$A$2:$B$43,MATCH('16'!$B32,BDD!$A$2:$A$43,0),2),"") | AE32: =IF(I32="P",INDEX(BDD!$A$2:$B$43,MATCH('16'!$B32,BDD!$A$2:$A$43,0),2),"") | AF32: =IF(J32="P",INDEX(BDD!$A$2:$B$43,MATCH('16'!$B32,BDD!$A$2:$A$43,0),2),"") | ... AS32: =IF(W32="P",INDEX(BDD!$A$2:$B$43,MATCH('16'!$B32,BDD!$A$2:$A$43,0),2),"")
B33: =BDD!A15 -> 0 | X33: =BDD!C15 -> 0 | Y33: =IF(C33="P",INDEX(BDD!$A$2:$B$43,MATCH('16'!$B33,BDD!$A$2:$A$43,0),2),"") | Z33: =IF(D33="P",INDEX(BDD!$A$2:$B$43,MATCH('16'!$B33,BDD!$A$2:$A$43,0),2),"") | AA33: =IF(E33="P",INDEX(BDD!$A$2:$B$43,MATCH('16'!$B33,BDD!$A$2:$A$43,0),2),"") | AB33: =IF(F33="P",INDEX(BDD!$A$2:$B$43,MATCH('16'!$B33,BDD!$A$2:$A$43,0),2),"") | AC33: =IF(G33="P",INDEX(BDD!$A$2:$B$43,MATCH('16'!$B33,BDD!$A$2:$A$43,0),2),"") | AD33: =IF(H33="P",INDEX(BDD!$A$2:$B$43,MATCH('16'!$B33,BDD!$A$2:$A$43,0),2),"") | AE33: =IF(I33="P",INDEX(BDD!$A$2:$B$43,MATCH('16'!$B33,BDD!$A$2:$A$43,0),2),"") | AF33: =IF(J33="P",INDEX(BDD!$A$2:$B$43,MATCH('16'!$B33,BDD!$A$2:$A$43,0),2),"") | ... AS33: =IF(W33="P",INDEX(BDD!$A$2:$B$43,MATCH('16'!$B33,BDD!$A$2:$A$43,0),2),"")
B34: =BDD!A16 -> 0 | X34: =BDD!C16 -> 0 | Y34: =IF(C34="P",INDEX(BDD!$A$2:$B$43,MATCH('16'!$B34,BDD!$A$2:$A$43,0),2),"") | Z34: =IF(D34="P",INDEX(BDD!$A$2:$B$43,MATCH('16'!$B34,BDD!$A$2:$A$43,0),2),"") | AA34: =IF(E34="P",INDEX(BDD!$A$2:$B$43,MATCH('16'!$B34,BDD!$A$2:$A$43,0),2),"") | AB34: =IF(F34="P",INDEX(BDD!$A$2:$B$43,MATCH('16'!$B34,BDD!$A$2:$A$43,0),2),"") | AC34: =IF(G34="P",INDEX(BDD!$A$2:$B$43,MATCH('16'!$B34,BDD!$A$2:$A$43,0),2),"") | AD34: =IF(H34="P",INDEX(BDD!$A$2:$B$43,MATCH('16'!$B34,BDD!$A$2:$A$43,0),2),"") | AE34: =IF(I34="P",INDEX(BDD!$A$2:$B$43,MATCH('16'!$B34,BDD!$A$2:$A$43,0),2),"") | AF34: =IF(J34="P",INDEX(BDD!$A$2:$B$43,MATCH('16'!$B34,BDD!$A$2:$A$43,0),2),"") | ... AS34: =IF(W34="P",INDEX(BDD!$A$2:$B$43,MATCH('16'!$B34,BDD!$A$2:$A$43,0),2),"")
B35: =BDD!A17 -> 0 | X35: =BDD!C17 -> 0 | Y35: =IF(C35="P",INDEX(BDD!$A$2:$B$43,MATCH('16'!$B35,BDD!$A$2:$A$43,0),2),"") | Z35: =IF(D35="P",INDEX(BDD!$A$2:$B$43,MATCH('16'!$B35,BDD!$A$2:$A$43,0),2),"") | AA35: =IF(E35="P",INDEX(BDD!$A$2:$B$43,MATCH('16'!$B35,BDD!$A$2:$A$43,0),2),"") | AB35: =IF(F35="P",INDEX(BDD!$A$2:$B$43,MATCH('16'!$B35,BDD!$A$2:$A$43,0),2),"") | AC35: =IF(G35="P",INDEX(BDD!$A$2:$B$43,MATCH('16'!$B35,BDD!$A$2:$A$43,0),2),"") | AD35: =IF(H35="P",INDEX(BDD!$A$2:$B$43,MATCH('16'!$B35,BDD!$A$2:$A$43,0),2),"") | AE35: =IF(I35="P",INDEX(BDD!$A$2:$B$43,MATCH('16'!$B35,BDD!$A$2:$A$43,0),2),"") | AF35: =IF(J35="P",INDEX(BDD!$A$2:$B$43,MATCH('16'!$B35,BDD!$A$2:$A$43,0),2),"") | ... AS35: =IF(W35="P",INDEX(BDD!$A$2:$B$43,MATCH('16'!$B35,BDD!$A$2:$A$43,0),2),"")
B36: =BDD!A18 -> 0 | X36: =BDD!C18 -> 0 | Y36: =IF(C36="P",INDEX(BDD!$A$2:$B$43,MATCH('16'!$B36,BDD!$A$2:$A$43,0),2),"") | Z36: =IF(D36="P",INDEX(BDD!$A$2:$B$43,MATCH('16'!$B36,BDD!$A$2:$A$43,0),2),"") | AA36: =IF(E36="P",INDEX(BDD!$A$2:$B$43,MATCH('16'!$B36,BDD!$A$2:$A$43,0),2),"") | AB36: =IF(F36="P",INDEX(BDD!$A$2:$B$43,MATCH('16'!$B36,BDD!$A$2:$A$43,0),2),"") | AC36: =IF(G36="P",INDEX(BDD!$A$2:$B$43,MATCH('16'!$B36,BDD!$A$2:$A$43,0),2),"") | AD36: =IF(H36="P",INDEX(BDD!$A$2:$B$43,MATCH('16'!$B36,BDD!$A$2:$A$43,0),2),"") | AE36: =IF(I36="P",INDEX(BDD!$A$2:$B$43,MATCH('16'!$B36,BDD!$A$2:$A$43,0),2),"") | AF36: =IF(J36="P",INDEX(BDD!$A$2:$B$43,MATCH('16'!$B36,BDD!$A$2:$A$43,0),2),"") | ... AS36: =IF(W36="P",INDEX(BDD!$A$2:$B$43,MATCH('16'!$B36,BDD!$A$2:$A$43,0),2),"")
B37: =BDD!A19 -> 0 | X37: =BDD!C19 -> 0 | Y37: =IF(C37="P",INDEX(BDD!$A$2:$B$43,MATCH('16'!$B37,BDD!$A$2:$A$43,0),2),"") | Z37: =IF(D37="P",INDEX(BDD!$A$2:$B$43,MATCH('16'!$B37,BDD!$A$2:$A$43,0),2),"") | AA37: =IF(E37="P",INDEX(BDD!$A$2:$B$43,MATCH('16'!$B37,BDD!$A$2:$A$43,0),2),"") | AB37: =IF(F37="P",INDEX(BDD!$A$2:$B$43,MATCH('16'!$B37,BDD!$A$2:$A$43,0),2),"") | AC37: =IF(G37="P",INDEX(BDD!$A$2:$B$43,MATCH('16'!$B37,BDD!$A$2:$A$43,0),2),"") | AD37: =IF(H37="P",INDEX(BDD!$A$2:$B$43,MATCH('16'!$B37,BDD!$A$2:$A$43,0),2),"") | AE37: =IF(I37="P",INDEX(BDD!$A$2:$B$43,MATCH('16'!$B37,BDD!$A$2:$A$43,0),2),"") | AF37: =IF(J37="P",INDEX(BDD!$A$2:$B$43,MATCH('16'!$B37,BDD!$A$2:$A$43,0),2),"") | ... AS37: =IF(W37="P",INDEX(BDD!$A$2:$B$43,MATCH('16'!$B37,BDD!$A$2:$A$43,0),2),"")
B38: =BDD!A20 -> 0 | Y38: =IF(C38="P",INDEX(BDD!$A$2:$B$43,MATCH('16'!$B38,BDD!$A$2:$A$43,0),2),"") | Z38: =IF(D38="P",INDEX(BDD!$A$2:$B$43,MATCH('16'!$B38,BDD!$A$2:$A$43,0),2),"") | AA38: =IF(E38="P",INDEX(BDD!$A$2:$B$43,MATCH('16'!$B38,BDD!$A$2:$A$43,0),2),"") | AB38: =IF(F38="P",INDEX(BDD!$A$2:$B$43,MATCH('16'!$B38,BDD!$A$2:$A$43,0),2),"") | AC38: =IF(G38="P",INDEX(BDD!$A$2:$B$43,MATCH('16'!$B38,BDD!$A$2:$A$43,0),2),"") | AD38: =IF(H38="P",INDEX(BDD!$A$2:$B$43,MATCH('16'!$B38,BDD!$A$2:$A$43,0),2),"") | AE38: =IF(I38="P",INDEX(BDD!$A$2:$B$43,MATCH('16'!$B38,BDD!$A$2:$A$43,0),2),"") | AF38: =IF(J38="P",INDEX(BDD!$A$2:$B$43,MATCH('16'!$B38,BDD!$A$2:$A$43,0),2),"") | ... AS38: =IF(W38="P",INDEX(BDD!$A$2:$B$43,MATCH('16'!$B38,BDD!$A$2:$A$43,0),2),"")
B39: =BDD!A21 -> 0 | Y39: =IF(C39="P",INDEX(BDD!$A$2:$B$43,MATCH('16'!$B39,BDD!$A$2:$A$43,0),2),"") | Z39: =IF(D39="P",INDEX(BDD!$A$2:$B$43,MATCH('16'!$B39,BDD!$A$2:$A$43,0),2),"") | AA39: =IF(E39="P",INDEX(BDD!$A$2:$B$43,MATCH('16'!$B39,BDD!$A$2:$A$43,0),2),"") | AB39: =IF(F39="P",INDEX(BDD!$A$2:$B$43,MATCH('16'!$B39,BDD!$A$2:$A$43,0),2),"") | AC39: =IF(G39="P",INDEX(BDD!$A$2:$B$43,MATCH('16'!$B39,BDD!$A$2:$A$43,0),2),"") | AD39: =IF(H39="P",INDEX(BDD!$A$2:$B$43,MATCH('16'!$B39,BDD!$A$2:$A$43,0),2),"") | AE39: =IF(I39="P",INDEX(BDD!$A$2:$B$43,MATCH('16'!$B39,BDD!$A$2:$A$43,0),2),"") | AF39: =IF(J39="P",INDEX(BDD!$A$2:$B$43,MATCH('16'!$B39,BDD!$A$2:$A$43,0),2),"") | ... AS39: =IF(W39="P",INDEX(BDD!$A$2:$B$43,MATCH('16'!$B39,BDD!$A$2:$A$43,0),2),"")
B40: =BDD!A22 -> 0 | Y40: =IF(C40="P",INDEX(BDD!$A$2:$B$43,MATCH('16'!$B40,BDD!$A$2:$A$43,0),2),"") | Z40: =IF(D40="P",INDEX(BDD!$A$2:$B$43,MATCH('16'!$B40,BDD!$A$2:$A$43,0),2),"") | AA40: =IF(E40="P",INDEX(BDD!$A$2:$B$43,MATCH('16'!$B40,BDD!$A$2:$A$43,0),2),"") | AB40: =IF(F40="P",INDEX(BDD!$A$2:$B$43,MATCH('16'!$B40,BDD!$A$2:$A$43,0),2),"") | AC40: =IF(G40="P",INDEX(BDD!$A$2:$B$43,MATCH('16'!$B40,BDD!$A$2:$A$43,0),2),"") | AD40: =IF(H40="P",INDEX(BDD!$A$2:$B$43,MATCH('16'!$B40,BDD!$A$2:$A$43,0),2),"") | AE40: =IF(I40="P",INDEX(BDD!$A$2:$B$43,MATCH('16'!$B40,BDD!$A$2:$A$43,0),2),"") | AF40: =IF(J40="P",INDEX(BDD!$A$2:$B$43,MATCH('16'!$B40,BDD!$A$2:$A$43,0),2),"") | ... AS40: =IF(W40="P",INDEX(BDD!$A$2:$B$43,MATCH('16'!$B40,BDD!$A$2:$A$43,0),2),"")
B41: =BDD!A30 -> 0 | X41: =COUNTIF(C41:W41,"P") -> 0 | Y41: =IF(C41="P",INDEX(BDD!$A$2:$B$43,MATCH('16'!$B41,BDD!$A$2:$A$43,0),2),"") | Z41: =IF(D41="P",INDEX(BDD!$A$2:$B$43,MATCH('16'!$B41,BDD!$A$2:$A$43,0),2),"") | AA41: =IF(E41="P",INDEX(BDD!$A$2:$B$43,MATCH('16'!$B41,BDD!$A$2:$A$43,0),2),"") | AB41: =IF(F41="P",INDEX(BDD!$A$2:$B$43,MATCH('16'!$B41,BDD!$A$2:$A$43,0),2),"") | AC41: =IF(G41="P",INDEX(BDD!$A$2:$B$43,MATCH('16'!$B41,BDD!$A$2:$A$43,0),2),"") | AD41: =IF(H41="P",INDEX(BDD!$A$2:$B$43,MATCH('16'!$B41,BDD!$A$2:$A$43,0),2),"") | AE41: =IF(I41="P",INDEX(BDD!$A$2:$B$43,MATCH('16'!$B41,BDD!$A$2:$A$43,0),2),"") | AF41: =IF(J41="P",INDEX(BDD!$A$2:$B$43,MATCH('16'!$B41,BDD!$A$2:$A$43,0),2),"") | ... AS41: =IF(W41="P",INDEX(BDD!$A$2:$B$43,MATCH('16'!$B41,BDD!$A$2:$A$43,0),2),"")
...

Sheet 17
B2: 2014 | C2: Semaine | AU2: P | AV2: : Présent
C3: =MID(CELL("nomfichier",$AU$2),FIND("]",CELL("nomfichier",$AU$2))+1,50) -> 17 | AU3: A | AV3: : Annulé
C4: =C5 -> 41750 | F4: =F5 -> 41751 | I4: =I5 -> 41752 | L4: =L5 -> 41753 | O4: =O5 -> 41754 | R4: =R5 -> 41755 | U4: =U5 -> 41756 | X4: TAXI | AU4: K | AV4: : Pique-nique
C5: =7*C3+DATE(B2,1,3)-WEEKDAY(DATE(B2,1,3))-5 -> 41750 | F5: =C5+1 -> 41751 | I5: =F5+1 -> 41752 | L5: =I5+1 -> 41753 | O5: =L5+1 -> 41754 | R5: =O5+1 -> 41755 | U5: =R5+1 -> 41756 | AU5: H | AV5: : Hospitalisé
A6: GROUPE | B6: NOM Prénom | C6: mat | D6: mid | E6: soi | F6: mat | G6: mid | H6: soi | I6: mat | J6: mid | K6: soi | L6: mat | M6: mid | N6: soi | O6: mat | P6: mid | Q6: soi | R6: mat | S6: mid | T6: soi | U6: mat | V6: mid | W6: soi | AU6: C | AV6: : Chan. Groupe
A7: FB3 | B7: =BDD!A2 -> a | C7: P | D7: P | E7: P | F7: P | H7: P | I7: P | K7: P | L7: P | N7: P | O7: P | W7: P | X7: =BDD!C2 -> 0 | Y7: =IF(C7="P",INDEX(BDD!$A$2:$B$43,MATCH('17'!$B7,BDD!$A$2:$A$43,0),2),"") -> NORMAL | Z7: =IF(D7="P",INDEX(BDD!$A$2:$B$43,MATCH('17'!$B7,BDD!$A$2:$A$43,0),2),"") -> NORMAL | AA7: =IF(E7="P",INDEX(BDD!$A$2:$B$43,MATCH('17'!$B7,BDD!$A$2:$A$43,0),2),"") -> NORMAL | AB7: =IF(F7="P",INDEX(BDD!$A$2:$B$43,MATCH('17'!$B7,BDD!$A$2:$A$43,0),2),"") -> NORMAL | AC7: =IF(G7="P",INDEX(BDD!$A$2:$B$43,MATCH('17'!$B7,BDD!$A$2:$A$43,0),2),"") | AD7: =IF(H7="P",INDEX(BDD!$A$2:$B$43,MATCH('17'!$B7,BDD!$A$2:$A$43,0),2),"") -> NORMAL | AE7: =IF(I7="P",INDEX(BDD!$A$2:$B$43,MATCH('17'!$B7,BDD!$A$2:$A$43,0),2),"") -> NORMAL | AF7: =IF(J7="P",INDEX(BDD!$A$2:$B$43,MATCH('17'!$B7,BDD!$A$2:$A$43,0),2),"") | ... AS7: =IF(W7="P",INDEX(BDD!$A$2:$B$43,MATCH('17'!$B7,BDD!$A$2:$A$43,0),2),"") -> NORMAL | AU7: E | AV7: : Repas ESAT
B8: =BDD!A3 -> b | E8: P | F8: P | H8: P | I8: P | K8: P | L8: P | N8: P | O8: P | Q8: P | R8: P | S8: P | T8: P | U8: P | V8: P | W8: P | X8: =BDD!C3 -> T | Y8: =IF(C8="P",INDEX(BDD!$A$2:$B$43,MATCH('17'!$B8,BDD!$A$2:$A$43,0),2),"") | Z8: =IF(D8="P",INDEX(BDD!$A$2:$B$43,MATCH('17'!$B8,BDD!$A$2:$A$43,0),2),"") | AA8: =IF(E8="P",INDEX(BDD!$A$2:$B$43,MATCH('17'!$B8,BDD!$A$2:$A$43,0),2),"") -> NORMAL | AB8: =IF(F8="P",INDEX(BDD!$A$2:$B$43,MATCH('17'!$B8,BDD!$A$2:$A$43,0),2),"") -> NORMAL | AC8: =IF(G8="P",INDEX(BDD!$A$2:$B$43,MATCH('17'!$B8,BDD!$A$2:$A$43,0),2),"") | AD8: =IF(H8="P",INDEX(BDD!$A$2:$B$43,MATCH('17'!$B8,BDD!$A$2:$A$43,0),2),"") -> NORMAL | AE8: =IF(I8="P",INDEX(BDD!$A$2:$B$43,MATCH('17'!$B8,BDD!$A$2:$A$43,0),2),"") -> NORMAL | AF8: =IF(J8="P",INDEX(BDD!$A$2:$B$43,MATCH('17'!$B8,BDD!$A$2:$A$43,0),2),"") | ... AS8: =IF(W8="P",INDEX(BDD!$A$2:$B$43,MATCH('17'!$B8,BDD!$A$2:$A$43,0),2),"") -> NORMAL | AU8: Fériés et WE
B9: =BDD!A4 -> c | H9: P | I9: P | K9: P | L9: P | N9: P | O9: P | Q9: P | R9: P | S9: P | T9: P | U9: P | V9: P | W9: P | X9: =BDD!C4 -> 0 | Y9: =IF(C9="P",INDEX(BDD!$A$2:$B$43,MATCH('17'!$B9,BDD!$A$2:$A$43,0),2),"") | Z9: =IF(D9="P",INDEX(BDD!$A$2:$B$43,MATCH('17'!$B9,BDD!$A$2:$A$43,0),2),"") | AA9: =IF(E9="P",INDEX(BDD!$A$2:$B$43,MATCH('17'!$B9,BDD!$A$2:$A$43,0),2),"") | AB9: =IF(F9="P",INDEX(BDD!$A$2:$B$43,MATCH('17'!$B9,BDD!$A$2:$A$43,0),2),"") | AC9: =IF(G9="P",INDEX(BDD!$A$2:$B$43,MATCH('17'!$B9,BDD!$A$2:$A$43,0),2),"") | AD9: =IF(H9="P",INDEX(BDD!$A$2:$B$43,MATCH('17'!$B9,BDD!$A$2:$A$43,0),2),"") -> NORMAL | AE9: =IF(I9="P",INDEX(BDD!$A$2:$B$43,MATCH('17'!$B9,BDD!$A$2:$A$43,0),2),"") -> NORMAL | AF9: =IF(J9="P",INDEX(BDD!$A$2:$B$43,MATCH('17'!$B9,BDD!$A$2:$A$43,0),2),"") | ... AS9: =IF(W9="P",INDEX(BDD!$A$2:$B$43,MATCH('17'!$B9,BDD!$A$2:$A$43,0),2),"") -> NORMAL | AU9: Absent (cellule vide)
B10: =BDD!A5 -> d | C10: P | D10: P | E10: P | F10: P | G10: P | H10: P | I10: P | J10: P | K10: P | L10: P | M10: P | N10: P | O10: P | P10: P | Q10: P | R10: P | S10: P | T10: P | U10: P | V10: P | W10: P | X10: =BDD!C5 -> 0 | Y10: =IF(C10="P",INDEX(BDD!$A$2:$B$43,MATCH('17'!$B10,BDD!$A$2:$A$43,0),2),"") -> HYPO | Z10: =IF(D10="P",INDEX(BDD!$A$2:$B$43,MATCH('17'!$B10,BDD!$A$2:$A$43,0),2),"") -> HYPO | AA10: =IF(E10="P",INDEX(BDD!$A$2:$B$43,MATCH('17'!$B10,BDD!$A$2:$A$43,0),2),"") -> HYPO | AB10: =IF(F10="P",INDEX(BDD!$A$2:$B$43,MATCH('17'!$B10,BDD!$A$2:$A$43,0),2),"") -> HYPO | AC10: =IF(G10="P",INDEX(BDD!$A$2:$B$43,MATCH('17'!$B10,BDD!$A$2:$A$43,0),2),"") -> HYPO | AD10: =IF(H10="P",INDEX(BDD!$A$2:$B$43,MATCH('17'!$B10,BDD!$A$2:$A$43,0),2),"") -> HYPO | AE10: =IF(I10="P",INDEX(BDD!$A$2:$B$43,MATCH('17'!$B10,BDD!$A$2:$A$43,0),2),"") -> HYPO | AF10: =IF(J10="P",INDEX(BDD!$A$2:$B$43,MATCH('17'!$B10,BDD!$A$2:$A$43,0),2),"") -> HYPO | ... AS10: =IF(W10="P",INDEX(BDD!$A$2:$B$43,MATCH('17'!$B10,BDD!$A$2:$A$43,0),2),"") -> HYPO
B11: =BDD!A6 -> e | C11: P | D11: P | E11: P | F11: P | G11: P | H11: P | I11: P | J11: P | K11: P | L11: P | M11: P | N11: P | O11: P | P11: P | Q11: P | R11: P | S11: P | T11: P | U11: P | V11: P | W11: P | X11: =BDD!C6 -> T | Y11: =IF(C11="P",INDEX(BDD!$A$2:$B$43,MATCH('17'!$B11,BDD!$A$2:$A$43,0),2),"") -> SANS PORC | Z11: =IF(D11="P",INDEX(BDD!$A$2:$B$43,MATCH('17'!$B11,BDD!$A$2:$A$43,0),2),"") -> SANS PORC | AA11: =IF(E11="P",INDEX(BDD!$A$2:$B$43,MATCH('17'!$B11,BDD!$A$2:$A$43,0),2),"") -> SANS PORC | AB11: =IF(F11="P",INDEX(BDD!$A$2:$B$43,MATCH('17'!$B11,BDD!$A$2:$A$43,0),2),"") -> SANS PORC | AC11: =IF(G11="P",INDEX(BDD!$A$2:$B$43,MATCH('17'!$B11,BDD!$A$2:$A$43,0),2),"") -> SANS PORC | AD11: =IF(H11="P",INDEX(BDD!$A$2:$B$43,MATCH('17'!$B11,BDD!$A$2:$A$43,0),2),"") -> SANS PORC | AE11: =IF(I11="P",INDEX(BDD!$A$2:$B$43,MATCH('17'!$B11,BDD!$A$2:$A$43,0),2),"") -> SANS PORC | AF11: =IF(J11="P",INDEX(BDD!$A$2:$B$43,MATCH('17'!$B11,BDD!$A$2:$A$43,0),2),"") -> SANS PORC | ... AS11: =IF(W11="P",INDEX(BDD!$A$2:$B$43,MATCH('17'!$B11,BDD!$A$2:$A$43,0),2),"") -> SANS PORC
B12: =BDD!A7 -> f | H12: P | I12: P | K12: P | L12: P | N12: P | O12: P | Q12: P | R12: P | S12: P | T12: P | U12: P | V12: P | W12: P | X12: =BDD!C7 -> 0 | Y12: =IF(C12="P",INDEX(BDD!$A$2:$B$43,MATCH('17'!$B12,BDD!$A$2:$A$43,0),2),"") | Z12: =IF(D12="P",INDEX(BDD!$A$2:$B$43,MATCH('17'!$B12,BDD!$A$2:$A$43,0),2),"") | AA12: =IF(E12="P",INDEX(BDD!$A$2:$B$43,MATCH('17'!$B12,BDD!$A$2:$A$43,0),2),"") | AB12: =IF(F12="P",INDEX(BDD!$A$2:$B$43,MATCH('17'!$B12,BDD!$A$2:$A$43,0),2),"") | AC12: =IF(G12="P",INDEX(BDD!$A$2:$B$43,MATCH('17'!$B12,BDD!$A$2:$A$43,0),2),"") | AD12: =IF(H12="P",INDEX(BDD!$A$2:$B$43,MATCH('17'!$B12,BDD!$A$2:$A$43,0),2),"") -> NORMAL | AE12: =IF(I12="P",INDEX(BDD!$A$2:$B$43,MATCH('17'!$B12,BDD!$A$2:$A$43,0),2),"") -> NORMAL | AF12: =IF(J12="P",INDEX(BDD!$A$2:$B$43,MATCH('17'!$B12,BDD!$A$2:$A$43,0),2),"") | ... AS12: =IF(W12="P",INDEX(BDD!$A$2:$B$43,MATCH('17'!$B12,BDD!$A$2:$A$43,0),2),"") -> NORMAL
B13: =BDD!A8 -> g | H13: P | I13: P | K13: P | L13: P | N13: P | O13: P | X13: =BDD!C8 -> 0 | Y13: =IF(C13="P",INDEX(BDD!$A$2:$B$43,MATCH('17'!$B13,BDD!$A$2:$A$43,0),2),"") | Z13: =IF(D13="P",INDEX(BDD!$A$2:$B$43,MATCH('17'!$B13,BDD!$A$2:$A$43,0),2),"") | AA13: =IF(E13="P",INDEX(BDD!$A$2:$B$43,MATCH('17'!$B13,BDD!$A$2:$A$43,0),2),"") | AB13: =IF(F13="P",INDEX(BDD!$A$2:$B$43,MATCH('17'!$B13,BDD!$A$2:$A$43,0),2),"") | AC13: =IF(G13="P",INDEX(BDD!$A$2:$B$43,MATCH('17'!$B13,BDD!$A$2:$A$43,0),2),"") | AD13: =IF(H13="P",INDEX(BDD!$A$2:$B$43,MATCH('17'!$B13,BDD!$A$2:$A$43,0),2),"") -> NORMAL | AE13: =IF(I13="P",INDEX(BDD!$A$2:$B$43,MATCH('17'!$B13,BDD!$A$2:$A$43,0),2),"") -> NORMAL | AF13: =IF(J13="P",INDEX(BDD!$A$2:$B$43,MATCH('17'!$B13,BDD!$A$2:$A$43,0),2),"") | ... AS13: =IF(W13="P",INDEX(BDD!$A$2:$B$43,MATCH('17'!$B13,BDD!$A$2:$A$43,0),2),"")
B14: =BDD!A9 -> h | E14: P | F14: P | H14: P | I14: P | K14: P | L14: P | N14: P | O14: P | Q14: P | R14: P | S14: P | T14: P | U14: P | V14: P | W14: P | X14: =BDD!C9 -> 0 | Y14: =IF(C14="P",INDEX(BDD!$A$2:$B$43,MATCH('17'!$B14,BDD!$A$2:$A$43,0),2),"") | Z14: =IF(D14="P",INDEX(BDD!$A$2:$B$43,MATCH('17'!$B14,BDD!$A$2:$A$43,0),2),"") | AA14: =IF(E14="P",INDEX(BDD!$A$2:$B$43,MATCH('17'!$B14,BDD!$A$2:$A$43,0),2),"") -> HYPO | AB14: =IF(F14="P",INDEX(BDD!$A$2:$B$43,MATCH('17'!$B14,BDD!$A$2:$A$43,0),2),"") -> HYPO | AC14: =IF(G14="P",INDEX(BDD!$A$2:$B$43,MATCH('17'!$B14,BDD!$A$2:$A$43,0),2),"") | AD14: =IF(H14="P",INDEX(BDD!$A$2:$B$43,MATCH('17'!$B14,BDD!$A$2:$A$43,0),2),"") -> HYPO | AE14: =IF(I14="P",INDEX(BDD!$A$2:$B$43,MATCH('17'!$B14,BDD!$A$2:$A$43,0),2),"") -> HYPO | AF14: =IF(J14="P",INDEX(BDD!$A$2:$B$43,MATCH('17'!$B14,BDD!$A$2:$A$43,0),2),"") | ... AS14: =IF(W14="P",INDEX(BDD!$A$2:$B$43,MATCH('17'!$B14,BDD!$A$2:$A$43,0),2),"") -> HYPO
B15: =BDD!A10 -> i | H15: P | I15: P | K15: P | L15: P | N15: P | O15: P | Q15: P | R15: P | S15: P | T15: P | U15: P | V15: P | W15: P | X15: =BDD!C10 -> 0 | Y15: =IF(C15="P",INDEX(BDD!$A$2:$B$43,MATCH('17'!$B15,BDD!$A$2:$A$43,0),2),"") | Z15: =IF(D15="P",INDEX(BDD!$A$2:$B$43,MATCH('17'!$B15,BDD!$A$2:$A$43,0),2),"") | AA15: =IF(E15="P",INDEX(BDD!$A$2:$B$43,MATCH('17'!$B15,BDD!$A$2:$A$43,0),2),"") | AB15: =IF(F15="P",INDEX(BDD!$A$2:$B$43,MATCH('17'!$B15,BDD!$A$2:$A$43,0),2),"") | AC15: =IF(G15="P",INDEX(BDD!$A$2:$B$43,MATCH('17'!$B15,BDD!$A$2:$A$43,0),2),"") | AD15: =IF(H15="P",INDEX(BDD!$A$2:$B$43,MATCH('17'!$B15,BDD!$A$2:$A$43,0),2),"") -> NORMAL | AE15: =IF(I15="P",INDEX(BDD!$A$2:$B$43,MATCH('17'!$B15,BDD!$A$2:$A$43,0),2),"") -> NORMAL | AF15: =IF(J15="P",INDEX(BDD!$A$2:$B$43,MATCH('17'!$B15,BDD!$A$2:$A$43,0),2),"") | ... AS15: =IF(W15="P",INDEX(BDD!$A$2:$B$43,MATCH('17'!$B15,BDD!$A$2:$A$43,0),2),"") -> NORMAL
B16: =BDD!A11 -> 0 | X16: =BDD!C11 -> 0
B17: =BDD!A12 -> 0 | X17: =BDD!C12 -> 0 | Y17: =IF(C17="P",INDEX(BDD!$A$2:$B$43,MATCH('17'!$B17,BDD!$A$2:$A$43,0),2),"") | Z17: =IF(D17="P",INDEX(BDD!$A$2:$B$43,MATCH('17'!$B17,BDD!$A$2:$A$43,0),2),"") | AA17: =IF(E17="P",INDEX(BDD!$A$2:$B$43,MATCH('17'!$B17,BDD!$A$2:$A$43,0),2),"") | AB17: =IF(F17="P",INDEX(BDD!$A$2:$B$43,MATCH('17'!$B17,BDD!$A$2:$A$43,0),2),"") | AC17: =IF(G17="P",INDEX(BDD!$A$2:$B$43,MATCH('17'!$B17,BDD!$A$2:$A$43,0),2),"") | AD17: =IF(H17="P",INDEX(BDD!$A$2:$B$43,MATCH('17'!$B17,BDD!$A$2:$A$43,0),2),"") | AE17: =IF(I17="P",INDEX(BDD!$A$2:$B$43,MATCH('17'!$B17,BDD!$A$2:$A$43,0),2),"") | AF17: =IF(J17="P",INDEX(BDD!$A$2:$B$43,MATCH('17'!$B17,BDD!$A$2:$A$43,0),2),"") | ... AS17: =IF(W17="P",INDEX(BDD!$A$2:$B$43,MATCH('17'!$B17,BDD!$A$2:$A$43,0),2),"")
B18: =BDD!A23 -> j | X18: =COUNTIF(C18:W18,"P") -> 0 | Y18: =IF(C18="P",INDEX(BDD!$A$2:$B$43,MATCH('17'!$B18,BDD!$A$2:$A$43,0),2),"") | Z18: =IF(D18="P",INDEX(BDD!$A$2:$B$43,MATCH('17'!$B18,BDD!$A$2:$A$43,0),2),"") | AA18: =IF(E18="P",INDEX(BDD!$A$2:$B$43,MATCH('17'!$B18,BDD!$A$2:$A$43,0),2),"") | AB18: =IF(F18="P",INDEX(BDD!$A$2:$B$43,MATCH('17'!$B18,BDD!$A$2:$A$43,0),2),"") | AC18: =IF(G18="P",INDEX(BDD!$A$2:$B$43,MATCH('17'!$B18,BDD!$A$2:$A$43,0),2),"") | AD18: =IF(H18="P",INDEX(BDD!$A$2:$B$43,MATCH('17'!$B18,BDD!$A$2:$A$43,0),2),"") | AE18: =IF(I18="P",INDEX(BDD!$A$2:$B$43,MATCH('17'!$B18,BDD!$A$2:$A$43,0),2),"") | AF18: =IF(J18="P",INDEX(BDD!$A$2:$B$43,MATCH('17'!$B18,BDD!$A$2:$A$43,0),2),"") | ... AS18: =IF(W18="P",INDEX(BDD!$A$2:$B$43,MATCH('17'!$B18,BDD!$A$2:$A$43,0),2),"")
B19: =BDD!A24 -> k | K19: P | N19: P | Q19: P | X19: =COUNTIF(C19:W19,"P") -> 3 | Y19: =IF(C19="P",INDEX(BDD!$A$2:$B$43,MATCH('17'!$B19,BDD!$A$2:$A$43,0),2),"") | Z19: =IF(D19="P",INDEX(BDD!$A$2:$B$43,MATCH('17'!$B19,BDD!$A$2:$A$43,0),2),"") | AA19: =IF(E19="P",INDEX(BDD!$A$2:$B$43,MATCH('17'!$B19,BDD!$A$2:$A$43,0),2),"") | AB19: =IF(F19="P",INDEX(BDD!$A$2:$B$43,MATCH('17'!$B19,BDD!$A$2:$A$43,0),2),"") | AC19: =IF(G19="P",INDEX(BDD!$A$2:$B$43,MATCH('17'!$B19,BDD!$A$2:$A$43,0),2),"") | AD19: =IF(H19="P",INDEX(BDD!$A$2:$B$43,MATCH('17'!$B19,BDD!$A$2:$A$43,0),2),"") | AE19: =IF(I19="P",INDEX(BDD!$A$2:$B$43,MATCH('17'!$B19,BDD!$A$2:$A$43,0),2),"") | AF19: =IF(J19="P",INDEX(BDD!$A$2:$B$43,MATCH('17'!$B19,BDD!$A$2:$A$43,0),2),"") | ... AS19: =IF(W19="P",INDEX(BDD!$A$2:$B$43,MATCH('17'!$B19,BDD!$A$2:$A$43,0),2),"")
B20: =BDD!A25 -> l | X20: =COUNTIF(C20:W20,"P") -> 0 | Y20: =IF(C20="P",INDEX(BDD!$A$2:$B$43,MATCH('17'!$B20,BDD!$A$2:$A$43,0),2),"") | Z20: =IF(D20="P",INDEX(BDD!$A$2:$B$43,MATCH('17'!$B20,BDD!$A$2:$A$43,0),2),"") | AA20: =IF(E20="P",INDEX(BDD!$A$2:$B$43,MATCH('17'!$B20,BDD!$A$2:$A$43,0),2),"") | AB20: =IF(F20="P",INDEX(BDD!$A$2:$B$43,MATCH('17'!$B20,BDD!$A$2:$A$43,0),2),"") | AC20: =IF(G20="P",INDEX(BDD!$A$2:$B$43,MATCH('17'!$B20,BDD!$A$2:$A$43,0),2),"") | AD20: =IF(H20="P",INDEX(BDD!$A$2:$B$43,MATCH('17'!$B20,BDD!$A$2:$A$43,0),2),"") | AE20: =IF(I20="P",INDEX(BDD!$A$2:$B$43,MATCH('17'!$B20,BDD!$A$2:$A$43,0),2),"") | AF20: =IF(J20="P",INDEX(BDD!$A$2:$B$43,MATCH('17'!$B20,BDD!$A$2:$A$43,0),2),"") | ... AS20: =IF(W20="P",INDEX(BDD!$A$2:$B$43,MATCH('17'!$B20,BDD!$A$2:$A$43,0),2),"")
B21: =BDD!A26 -> 0 | X21: =COUNTIF(C21:W21,"P") -> 0 | Y21: =IF(C21="P",INDEX(BDD!$A$2:$B$43,MATCH('17'!$B21,BDD!$A$2:$A$43,0),2),"") | Z21: =IF(D21="P",INDEX(BDD!$A$2:$B$43,MATCH('17'!$B21,BDD!$A$2:$A$43,0),2),"") | AA21: =IF(E21="P",INDEX(BDD!$A$2:$B$43,MATCH('17'!$B21,BDD!$A$2:$A$43,0),2),"") | AB21: =IF(F21="P",INDEX(BDD!$A$2:$B$43,MATCH('17'!$B21,BDD!$A$2:$A$43,0),2),"") | AC21: =IF(G21="P",INDEX(BDD!$A$2:$B$43,MATCH('17'!$B21,BDD!$A$2:$A$43,0),2),"") | AD21: =IF(H21="P",INDEX(BDD!$A$2:$B$43,MATCH('17'!$B21,BDD!$A$2:$A$43,0),2),"") | AE21: =IF(I21="P",INDEX(BDD!$A$2:$B$43,MATCH('17'!$B21,BDD!$A$2:$A$43,0),2),"") | AF21: =IF(J21="P",INDEX(BDD!$A$2:$B$43,MATCH('17'!$B21,BDD!$A$2:$A$43,0),2),"") | ... AS21: =IF(W21="P",INDEX(BDD!$A$2:$B$43,MATCH('17'!$B21,BDD!$A$2:$A$43,0),2),"")
B22: =BDD!A27 -> 0 | X22: =COUNTIF(C22:W22,"P") -> 0 | Y22: =IF(C22="P",INDEX(BDD!$A$2:$B$43,MATCH('17'!$B22,BDD!$A$2:$A$43,0),2),"") | Z22: =IF(D22="P",INDEX(BDD!$A$2:$B$43,MATCH('17'!$B22,BDD!$A$2:$A$43,0),2),"") | AA22: =IF(E22="P",INDEX(BDD!$A$2:$B$43,MATCH('17'!$B22,BDD!$A$2:$A$43,0),2),"") | AB22: =IF(F22="P",INDEX(BDD!$A$2:$B$43,MATCH('17'!$B22,BDD!$A$2:$A$43,0),2),"") | AC22: =IF(G22="P",INDEX(BDD!$A$2:$B$43,MATCH('17'!$B22,BDD!$A$2:$A$43,0),2),"") | AD22: =IF(H22="P",INDEX(BDD!$A$2:$B$43,MATCH('17'!$B22,BDD!$A$2:$A$43,0),2),"") | AE22: =IF(I22="P",INDEX(BDD!$A$2:$B$43,MATCH('17'!$B22,BDD!$A$2:$A$43,0),2),"") | AF22: =IF(J22="P",INDEX(BDD!$A$2:$B$43,MATCH('17'!$B22,BDD!$A$2:$A$43,0),2),"") | ... AS22: =IF(W22="P",INDEX(BDD!$A$2:$B$43,MATCH('17'!$B22,BDD!$A$2:$A$43,0),2),"")
B23: =BDD!A28 -> 0 | X23: =COUNTIF(C23:W23,"P") -> 0 | Y23: =IF(C23="P",INDEX(BDD!$A$2:$B$43,MATCH('17'!$B23,BDD!$A$2:$A$43,0),2),"") | Z23: =IF(D23="P",INDEX(BDD!$A$2:$B$43,MATCH('17'!$B23,BDD!$A$2:$A$43,0),2),"") | AA23: =IF(E23="P",INDEX(BDD!$A$2:$B$43,MATCH('17'!$B23,BDD!$A$2:$A$43,0),2),"") | AB23: =IF(F23="P",INDEX(BDD!$A$2:$B$43,MATCH('17'!$B23,BDD!$A$2:$A$43,0),2),"") | AC23: =IF(G23="P",INDEX(BDD!$A$2:$B$43,MATCH('17'!$B23,BDD!$A$2:$A$43,0),2),"") | AD23: =IF(H23="P",INDEX(BDD!$A$2:$B$43,MATCH('17'!$B23,BDD!$A$2:$A$43,0),2),"") | AE23: =IF(I23="P",INDEX(BDD!$A$2:$B$43,MATCH('17'!$B23,BDD!$A$2:$A$43,0),2),"") | AF23: =IF(J23="P",INDEX(BDD!$A$2:$B$43,MATCH('17'!$B23,BDD!$A$2:$A$43,0),2),"") | ... AS23: =IF(W23="P",INDEX(BDD!$A$2:$B$43,MATCH('17'!$B23,BDD!$A$2:$A$43,0),2),"")
B24: =BDD!A29 -> Remplaçant 1 | X24: =COUNTIF(C24:W24,"P") -> 0 | Y24: =IF(C24="P",INDEX(BDD!$A$2:$B$43,MATCH('17'!$B24,BDD!$A$2:$A$43,0),2),"") | Z24: =IF(D24="P",INDEX(BDD!$A$2:$B$43,MATCH('17'!$B24,BDD!$A$2:$A$43,0),2),"") | AA24: =IF(E24="P",INDEX(BDD!$A$2:$B$43,MATCH('17'!$B24,BDD!$A$2:$A$43,0),2),"") | AB24: =IF(F24="P",INDEX(BDD!$A$2:$B$43,MATCH('17'!$B24,BDD!$A$2:$A$43,0),2),"") | AC24: =IF(G24="P",INDEX(BDD!$A$2:$B$43,MATCH('17'!$B24,BDD!$A$2:$A$43,0),2),"") | AD24: =IF(H24="P",INDEX(BDD!$A$2:$B$43,MATCH('17'!$B24,BDD!$A$2:$A$43,0),2),"") | AE24: =IF(I24="P",INDEX(BDD!$A$2:$B$43,MATCH('17'!$B24,BDD!$A$2:$A$43,0),2),"") | AF24: =IF(J24="P",INDEX(BDD!$A$2:$B$43,MATCH('17'!$B24,BDD!$A$2:$A$43,0),2),"") | ... AS24: =IF(W24="P",INDEX(BDD!$A$2:$B$43,MATCH('17'!$B24,BDD!$A$2:$A$43,0),2),"")
B25: =BDD!A41 -> Stagiaire1 | X25: =COUNTIF(C25:W25,"P") -> 0 | Y25: =IF(C25="P",INDEX(BDD!$A$2:$B$43,MATCH('17'!$B25,BDD!$A$2:$A$43,0),2),"") | Z25: =IF(D25="P",INDEX(BDD!$A$2:$B$43,MATCH('17'!$B25,BDD!$A$2:$A$43,0),2),"") | AA25: =IF(E25="P",INDEX(BDD!$A$2:$B$43,MATCH('17'!$B25,BDD!$A$2:$A$43,0),2),"") | AB25: =IF(F25="P",INDEX(BDD!$A$2:$B$43,MATCH('17'!$B25,BDD!$A$2:$A$43,0),2),"") | AC25: =IF(G25="P",INDEX(BDD!$A$2:$B$43,MATCH('17'!$B25,BDD!$A$2:$A$43,0),2),"") | AD25: =IF(H25="P",INDEX(BDD!$A$2:$B$43,MATCH('17'!$B25,BDD!$A$2:$A$43,0),2),"") | AE25: =IF(I25="P",INDEX(BDD!$A$2:$B$43,MATCH('17'!$B25,BDD!$A$2:$A$43,0),2),"") | AF25: =IF(J25="P",INDEX(BDD!$A$2:$B$43,MATCH('17'!$B25,BDD!$A$2:$A$43,0),2),"") | ... AS25: =IF(W25="P",INDEX(BDD!$A$2:$B$43,MATCH('17'!$B25,BDD!$A$2:$A$43,0),2),"")
C26: Semaine | Y26: =IF(C26="P",INDEX(BDD!$A$2:$B$43,MATCH('17'!$B26,BDD!$A$2:$A$43,0),2),"") | Z26: =IF(D26="P",INDEX(BDD!$A$2:$B$43,MATCH('17'!$B26,BDD!$A$2:$A$43,0),2),"") | AA26: =IF(E26="P",INDEX(BDD!$A$2:$B$43,MATCH('17'!$B26,BDD!$A$2:$A$43,0),2),"") | AB26: =IF(F26="P",INDEX(BDD!$A$2:$B$43,MATCH('17'!$B26,BDD!$A$2:$A$43,0),2),"") | AC26: =IF(G26="P",INDEX(BDD!$A$2:$B$43,MATCH('17'!$B26,BDD!$A$2:$A$43,0),2),"") | AD26: =IF(H26="P",INDEX(BDD!$A$2:$B$43,MATCH('17'!$B26,BDD!$A$2:$A$43,0),2),"") | AE26: =IF(I26="P",INDEX(BDD!$A$2:$B$43,MATCH('17'!$B26,BDD!$A$2:$A$43,0),2),"") | AF26: =IF(J26="P",INDEX(BDD!$A$2:$B$43,MATCH('17'!$B26,BDD!$A$2:$A$43,0),2),"") | ... AS26: =IF(W26="P",INDEX(BDD!$A$2:$B$43,MATCH('17'!$B26,BDD!$A$2:$A$43,0),2),"")
C27: =C3 -> 17 | Y27: =IF(C27="P",INDEX(BDD!$A$2:$B$43,MATCH('17'!$B27,BDD!$A$2:$A$43,0),2),"") | Z27: =IF(D27="P",INDEX(BDD!$A$2:$B$43,MATCH('17'!$B27,BDD!$A$2:$A$43,0),2),"") | AA27: =IF(E27="P",INDEX(BDD!$A$2:$B$43,MATCH('17'!$B27,BDD!$A$2:$A$43,0),2),"") | AB27: =IF(F27="P",INDEX(BDD!$A$2:$B$43,MATCH('17'!$B27,BDD!$A$2:$A$43,0),2),"") | AC27: =IF(G27="P",INDEX(BDD!$A$2:$B$43,MATCH('17'!$B27,BDD!$A$2:$A$43,0),2),"") | AD27: =IF(H27="P",INDEX(BDD!$A$2:$B$43,MATCH('17'!$B27,BDD!$A$2:$A$43,0),2),"") | AE27: =IF(I27="P",INDEX(BDD!$A$2:$B$43,MATCH('17'!$B27,BDD!$A$2:$A$43,0),2),"") | AF27: =IF(J27="P",INDEX(BDD!$A$2:$B$43,MATCH('17'!$B27,BDD!$A$2:$A$43,0),2),"") | ... AS27: =IF(W27="P",INDEX(BDD!$A$2:$B$43,MATCH('17'!$B27,BDD!$A$2:$A$43,0),2),"")
C28: =C29 -> 41750 | F28: =F29 -> 41751 | I28: =I29 -> 41752 | L28: =L29 -> 41753 | O28: =O29 -> 41754 | R28: =R29 -> 41755 | U28: =U29 -> 41756 | X28: TAXI | Y28: =IF(C28="P",INDEX(BDD!$A$2:$B$43,MATCH('17'!$B28,BDD!$A$2:$A$43,0),2),"") | Z28: =IF(D28="P",INDEX(BDD!$A$2:$B$43,MATCH('17'!$B28,BDD!$A$2:$A$43,0),2),"") | AA28: =IF(E28="P",INDEX(BDD!$A$2:$B$43,MATCH('17'!$B28,BDD!$A$2:$A$43,0),2),"") | AB28: =IF(F28="P",INDEX(BDD!$A$2:$B$43,MATCH('17'!$B28,BDD!$A$2:$A$43,0),2),"") | AC28: =IF(G28="P",INDEX(BDD!$A$2:$B$43,MATCH('17'!$B28,BDD!$A$2:$A$43,0),2),"") | AD28: =IF(H28="P",INDEX(BDD!$A$2:$B$43,MATCH('17'!$B28,BDD!$A$2:$A$43,0),2),"") | AE28: =IF(I28="P",INDEX(BDD!$A$2:$B$43,MATCH('17'!$B28,BDD!$A$2:$A$43,0),2),"") | AF28: =IF(J28="P",INDEX(BDD!$A$2:$B$43,MATCH('17'!$B28,BDD!$A$2:$A$43,0),2),"") | ... AS28: =IF(W28="P",INDEX(BDD!$A$2:$B$43,MATCH('17'!$B28,BDD!$A$2:$A$43,0),2),"")
C29: =7*C3+DATE(B2,1,3)-WEEKDAY(DATE(B2,1,3))-5 -> 41750 | F29: =C29+1 -> 41751 | I29: =F29+1 -> 41752 | L29: =I29+1 -> 41753 | O29: =L29+1 -> 41754 | R29: =O29+1 -> 41755 | U29: =R29+1 -> 41756 | Y29: =IF(C29="P",INDEX(BDD!$A$2:$B$43,MATCH('17'!$B29,BDD!$A$2:$A$43,0),2),"") | Z29: =IF(D29="P",INDEX(BDD!$A$2:$B$43,MATCH('17'!$B29,BDD!$A$2:$A$43,0),2),"") | AA29: =IF(E29="P",INDEX(BDD!$A$2:$B$43,MATCH('17'!$B29,BDD!$A$2:$A$43,0),2),"") | AB29: =IF(F29="P",INDEX(BDD!$A$2:$B$43,MATCH('17'!$B29,BDD!$A$2:$A$43,0),2),"") | AC29: =IF(G29="P",INDEX(BDD!$A$2:$B$43,MATCH('17'!$B29,BDD!$A$2:$A$43,0),2),"") | AD29: =IF(H29="P",INDEX(BDD!$A$2:$B$43,MATCH('17'!$B29,BDD!$A$2:$A$43,0),2),"") | AE29: =IF(I29="P",INDEX(BDD!$A$2:$B$43,MATCH('17'!$B29,BDD!$A$2:$A$43,0),2),"") | AF29: =IF(J29="P",INDEX(BDD!$A$2:$B$43,MATCH('17'!$B29,BDD!$A$2:$A$43,0),2),"") | ... AS29: =IF(W29="P",INDEX(BDD!$A$2:$B$43,MATCH('17'!$B29,BDD!$A$2:$A$43,0),2),"")
A30: GROUPE | B30: NOM Prénom | C30: mat | D30: mid | E30: soi | F30: mat | G30: mid | H30: soi | I30: mat | J30: mid | K30: soi | L30: mat | M30: mid | N30: soi | O30: mat | P30: mid | Q30: soi | R30: mat | S30: mid | T30: soi | U30: mat | V30: mid | W30: soi | Y30: =IF(C30="P",INDEX(BDD!$A$2:$B$43,MATCH('17'!$B30,BDD!$A$2:$A$43,0),2),"") | Z30: =IF(D30="P",INDEX(BDD!$A$2:$B$43,MATCH('17'!$B30,BDD!$A$2:$A$43,0),2),"") | AA30: =IF(E30="P",INDEX(BDD!$A$2:$B$43,MATCH('17'!$B30,BDD!$A$2:$A$43,0),2),"") | AB30: =IF(F30="P",INDEX(BDD!$A$2:$B$43,MATCH('17'!$B30,BDD!$A$2:$A$43,0),2),"") | AC30: =IF(G30="P",INDEX(BDD!$A$2:$B$43,MATCH('17'!$B30,BDD!$A$2:$A$43,0),2),"") | AD30: =IF(H30="P",INDEX(BDD!$A$2:$B$43,MATCH('17'!$B30,BDD!$A$2:$A$43,0),2),"") | AE30: =IF(I30="P",INDEX(BDD!$A$2:$B$43,MATCH('17'!$B30,BDD!$A$2:$A$43,0),2),"") | AF30: =IF(J30="P",INDEX(BDD!$A$2:$B$43,MATCH('17'!$B30,BDD!$A$2:$A$43,0),2),"") | ... AS30: =IF(W30="P",INDEX(BDD!$A$2:$B$43,MATCH('17'!$B30,BDD!$A$2:$A$43,0),2),"")
B31: =BDD!A13 -> 0 | X31: =BDD!C13 -> 0 | Y31: =IF(C31="P",INDEX(BDD!$A$2:$B$43,MATCH('17'!$B31,BDD!$A$2:$A$43,0),2),"") | Z31: =IF(D31="P",INDEX(BDD!$A$2:$B$43,MATCH('17'!$B31,BDD!$A$2:$A$43,0),2),"") | AA31: =IF(E31="P",INDEX(BDD!$A$2:$B$43,MATCH('17'!$B31,BDD!$A$2:$A$43,0),2),"") | AB31: =IF(F31="P",INDEX(BDD!$A$2:$B$43,MATCH('17'!$B31,BDD!$A$2:$A$43,0),2),"") | AC31: =IF(G31="P",INDEX(BDD!$A$2:$B$43,MATCH('17'!$B31,BDD!$A$2:$A$43,0),2),"") | AD31: =IF(H31="P",INDEX(BDD!$A$2:$B$43,MATCH('17'!$B31,BDD!$A$2:$A$43,0),2),"") | AE31: =IF(I31="P",INDEX(BDD!$A$2:$B$43,MATCH('17'!$B31,BDD!$A$2:$A$43,0),2),"") | AF31: =IF(J31="P",INDEX(BDD!$A$2:$B$43,MATCH('17'!$B31,BDD!$A$2:$A$43,0),2),"") | ... AS31: =IF(W31="P",INDEX(BDD!$A$2:$B$43,MATCH('17'!$B31,BDD!$A$2:$A$43,0),2),"")
B32: =BDD!A14 -> 0 | X32: =BDD!C14 -> 0 | Y32: =IF(C32="P",INDEX(BDD!$A$2:$B$43,MATCH('17'!$B32,BDD!$A$2:$A$43,0),2),"") | Z32: =IF(D32="P",INDEX(BDD!$A$2:$B$43,MATCH('17'!$B32,BDD!$A$2:$A$43,0),2),"") | AA32: =IF(E32="P",INDEX(BDD!$A$2:$B$43,MATCH('17'!$B32,BDD!$A$2:$A$43,0),2),"") | AB32: =IF(F32="P",INDEX(BDD!$A$2:$B$43,MATCH('17'!$B32,BDD!$A$2:$A$43,0),2),"") | AC32: =IF(G32="P",INDEX(BDD!$A$2:$B$43,MATCH('17'!$B32,BDD!$A$2:$A$43,0),2),"") | AD32: =IF(H32="P",INDEX(BDD!$A$2:$B$43,MATCH('17'!$B32,BDD!$A$2:$A$43,0),2),"") | AE32: =IF(I32="P",INDEX(BDD!$A$2:$B$43,MATCH('17'!$B32,BDD!$A$2:$A$43,0),2),"") | AF32: =IF(J32="P",INDEX(BDD!$A$2:$B$43,MATCH('17'!$B32,BDD!$A$2:$A$43,0),2),"") | ... AS32: =IF(W32="P",INDEX(BDD!$A$2:$B$43,MATCH('17'!$B32,BDD!$A$2:$A$43,0),2),"")
B33: =BDD!A15 -> 0 | X33: =BDD!C15 -> 0 | Y33: =IF(C33="P",INDEX(BDD!$A$2:$B$43,MATCH('17'!$B33,BDD!$A$2:$A$43,0),2),"") | Z33: =IF(D33="P",INDEX(BDD!$A$2:$B$43,MATCH('17'!$B33,BDD!$A$2:$A$43,0),2),"") | AA33: =IF(E33="P",INDEX(BDD!$A$2:$B$43,MATCH('17'!$B33,BDD!$A$2:$A$43,0),2),"") | AB33: =IF(F33="P",INDEX(BDD!$A$2:$B$43,MATCH('17'!$B33,BDD!$A$2:$A$43,0),2),"") | AC33: =IF(G33="P",INDEX(BDD!$A$2:$B$43,MATCH('17'!$B33,BDD!$A$2:$A$43,0),2),"") | AD33: =IF(H33="P",INDEX(BDD!$A$2:$B$43,MATCH('17'!$B33,BDD!$A$2:$A$43,0),2),"") | AE33: =IF(I33="P",INDEX(BDD!$A$2:$B$43,MATCH('17'!$B33,BDD!$A$2:$A$43,0),2),"") | AF33: =IF(J33="P",INDEX(BDD!$A$2:$B$43,MATCH('17'!$B33,BDD!$A$2:$A$43,0),2),"") | ... AS33: =IF(W33="P",INDEX(BDD!$A$2:$B$43,MATCH('17'!$B33,BDD!$A$2:$A$43,0),2),"")
B34: =BDD!A16 -> 0 | X34: =BDD!C16 -> 0 | Y34: =IF(C34="P",INDEX(BDD!$A$2:$B$43,MATCH('17'!$B34,BDD!$A$2:$A$43,0),2),"") | Z34: =IF(D34="P",INDEX(BDD!$A$2:$B$43,MATCH('17'!$B34,BDD!$A$2:$A$43,0),2),"") | AA34: =IF(E34="P",INDEX(BDD!$A$2:$B$43,MATCH('17'!$B34,BDD!$A$2:$A$43,0),2),"") | AB34: =IF(F34="P",INDEX(BDD!$A$2:$B$43,MATCH('17'!$B34,BDD!$A$2:$A$43,0),2),"") | AC34: =IF(G34="P",INDEX(BDD!$A$2:$B$43,MATCH('17'!$B34,BDD!$A$2:$A$43,0),2),"") | AD34: =IF(H34="P",INDEX(BDD!$A$2:$B$43,MATCH('17'!$B34,BDD!$A$2:$A$43,0),2),"") | AE34: =IF(I34="P",INDEX(BDD!$A$2:$B$43,MATCH('17'!$B34,BDD!$A$2:$A$43,0),2),"") | AF34: =IF(J34="P",INDEX(BDD!$A$2:$B$43,MATCH('17'!$B34,BDD!$A$2:$A$43,0),2),"") | ... AS34: =IF(W34="P",INDEX(BDD!$A$2:$B$43,MATCH('17'!$B34,BDD!$A$2:$A$43,0),2),"")
B35: =BDD!A17 -> 0 | X35: =BDD!C17 -> 0 | Y35: =IF(C35="P",INDEX(BDD!$A$2:$B$43,MATCH('17'!$B35,BDD!$A$2:$A$43,0),2),"") | Z35: =IF(D35="P",INDEX(BDD!$A$2:$B$43,MATCH('17'!$B35,BDD!$A$2:$A$43,0),2),"") | AA35: =IF(E35="P",INDEX(BDD!$A$2:$B$43,MATCH('17'!$B35,BDD!$A$2:$A$43,0),2),"") | AB35: =IF(F35="P",INDEX(BDD!$A$2:$B$43,MATCH('17'!$B35,BDD!$A$2:$A$43,0),2),"") | AC35: =IF(G35="P",INDEX(BDD!$A$2:$B$43,MATCH('17'!$B35,BDD!$A$2:$A$43,0),2),"") | AD35: =IF(H35="P",INDEX(BDD!$A$2:$B$43,MATCH('17'!$B35,BDD!$A$2:$A$43,0),2),"") | AE35: =IF(I35="P",INDEX(BDD!$A$2:$B$43,MATCH('17'!$B35,BDD!$A$2:$A$43,0),2),"") | AF35: =IF(J35="P",INDEX(BDD!$A$2:$B$43,MATCH('17'!$B35,BDD!$A$2:$A$43,0),2),"") | ... AS35: =IF(W35="P",INDEX(BDD!$A$2:$B$43,MATCH('17'!$B35,BDD!$A$2:$A$43,0),2),"")
B36: =BDD!A18 -> 0 | X36: =BDD!C18 -> 0 | Y36: =IF(C36="P",INDEX(BDD!$A$2:$B$43,MATCH('17'!$B36,BDD!$A$2:$A$43,0),2),"") | Z36: =IF(D36="P",INDEX(BDD!$A$2:$B$43,MATCH('17'!$B36,BDD!$A$2:$A$43,0),2),"") | AA36: =IF(E36="P",INDEX(BDD!$A$2:$B$43,MATCH('17'!$B36,BDD!$A$2:$A$43,0),2),"") | AB36: =IF(F36="P",INDEX(BDD!$A$2:$B$43,MATCH('17'!$B36,BDD!$A$2:$A$43,0),2),"") | AC36: =IF(G36="P",INDEX(BDD!$A$2:$B$43,MATCH('17'!$B36,BDD!$A$2:$A$43,0),2),"") | AD36: =IF(H36="P",INDEX(BDD!$A$2:$B$43,MATCH('17'!$B36,BDD!$A$2:$A$43,0),2),"") | AE36: =IF(I36="P",INDEX(BDD!$A$2:$B$43,MATCH('17'!$B36,BDD!$A$2:$A$43,0),2),"") | AF36: =IF(J36="P",INDEX(BDD!$A$2:$B$43,MATCH('17'!$B36,BDD!$A$2:$A$43,0),2),"") | ... AS36: =IF(W36="P",INDEX(BDD!$A$2:$B$43,MATCH('17'!$B36,BDD!$A$2:$A$43,0),2),"")
B37: =BDD!A19 -> 0 | X37: =BDD!C19 -> 0 | Y37: =IF(C37="P",INDEX(BDD!$A$2:$B$43,MATCH('17'!$B37,BDD!$A$2:$A$43,0),2),"") | Z37: =IF(D37="P",INDEX(BDD!$A$2:$B$43,MATCH('17'!$B37,BDD!$A$2:$A$43,0),2),"") | AA37: =IF(E37="P",INDEX(BDD!$A$2:$B$43,MATCH('17'!$B37,BDD!$A$2:$A$43,0),2),"") | AB37: =IF(F37="P",INDEX(BDD!$A$2:$B$43,MATCH('17'!$B37,BDD!$A$2:$A$43,0),2),"") | AC37: =IF(G37="P",INDEX(BDD!$A$2:$B$43,MATCH('17'!$B37,BDD!$A$2:$A$43,0),2),"") | AD37: =IF(H37="P",INDEX(BDD!$A$2:$B$43,MATCH('17'!$B37,BDD!$A$2:$A$43,0),2),"") | AE37: =IF(I37="P",INDEX(BDD!$A$2:$B$43,MATCH('17'!$B37,BDD!$A$2:$A$43,0),2),"") | AF37: =IF(J37="P",INDEX(BDD!$A$2:$B$43,MATCH('17'!$B37,BDD!$A$2:$A$43,0),2),"") | ... AS37: =IF(W37="P",INDEX(BDD!$A$2:$B$43,MATCH('17'!$B37,BDD!$A$2:$A$43,0),2),"")
B38: =BDD!A20 -> 0 | Y38: =IF(C38="P",INDEX(BDD!$A$2:$B$43,MATCH('17'!$B38,BDD!$A$2:$A$43,0),2),"") | Z38: =IF(D38="P",INDEX(BDD!$A$2:$B$43,MATCH('17'!$B38,BDD!$A$2:$A$43,0),2),"") | AA38: =IF(E38="P",INDEX(BDD!$A$2:$B$43,MATCH('17'!$B38,BDD!$A$2:$A$43,0),2),"") | AB38: =IF(F38="P",INDEX(BDD!$A$2:$B$43,MATCH('17'!$B38,BDD!$A$2:$A$43,0),2),"") | AC38: =IF(G38="P",INDEX(BDD!$A$2:$B$43,MATCH('17'!$B38,BDD!$A$2:$A$43,0),2),"") | AD38: =IF(H38="P",INDEX(BDD!$A$2:$B$43,MATCH('17'!$B38,BDD!$A$2:$A$43,0),2),"") | AE38: =IF(I38="P",INDEX(BDD!$A$2:$B$43,MATCH('17'!$B38,BDD!$A$2:$A$43,0),2),"") | AF38: =IF(J38="P",INDEX(BDD!$A$2:$B$43,MATCH('17'!$B38,BDD!$A$2:$A$43,0),2),"") | ... AS38: =IF(W38="P",INDEX(BDD!$A$2:$B$43,MATCH('17'!$B38,BDD!$A$2:$A$43,0),2),"")
B39: =BDD!A21 -> 0 | Y39: =IF(C39="P",INDEX(BDD!$A$2:$B$43,MATCH('17'!$B39,BDD!$A$2:$A$43,0),2),"") | Z39: =IF(D39="P",INDEX(BDD!$A$2:$B$43,MATCH('17'!$B39,BDD!$A$2:$A$43,0),2),"") | AA39: =IF(E39="P",INDEX(BDD!$A$2:$B$43,MATCH('17'!$B39,BDD!$A$2:$A$43,0),2),"") | AB39: =IF(F39="P",INDEX(BDD!$A$2:$B$43,MATCH('17'!$B39,BDD!$A$2:$A$43,0),2),"") | AC39: =IF(G39="P",INDEX(BDD!$A$2:$B$43,MATCH('17'!$B39,BDD!$A$2:$A$43,0),2),"") | AD39: =IF(H39="P",INDEX(BDD!$A$2:$B$43,MATCH('17'!$B39,BDD!$A$2:$A$43,0),2),"") | AE39: =IF(I39="P",INDEX(BDD!$A$2:$B$43,MATCH('17'!$B39,BDD!$A$2:$A$43,0),2),"") | AF39: =IF(J39="P",INDEX(BDD!$A$2:$B$43,MATCH('17'!$B39,BDD!$A$2:$A$43,0),2),"") | ... AS39: =IF(W39="P",INDEX(BDD!$A$2:$B$43,MATCH('17'!$B39,BDD!$A$2:$A$43,0),2),"")
B40: =BDD!A22 -> 0 | Y40: =IF(C40="P",INDEX(BDD!$A$2:$B$43,MATCH('17'!$B40,BDD!$A$2:$A$43,0),2),"") | Z40: =IF(D40="P",INDEX(BDD!$A$2:$B$43,MATCH('17'!$B40,BDD!$A$2:$A$43,0),2),"") | AA40: =IF(E40="P",INDEX(BDD!$A$2:$B$43,MATCH('17'!$B40,BDD!$A$2:$A$43,0),2),"") | AB40: =IF(F40="P",INDEX(BDD!$A$2:$B$43,MATCH('17'!$B40,BDD!$A$2:$A$43,0),2),"") | AC40: =IF(G40="P",INDEX(BDD!$A$2:$B$43,MATCH('17'!$B40,BDD!$A$2:$A$43,0),2),"") | AD40: =IF(H40="P",INDEX(BDD!$A$2:$B$43,MATCH('17'!$B40,BDD!$A$2:$A$43,0),2),"") | AE40: =IF(I40="P",INDEX(BDD!$A$2:$B$43,MATCH('17'!$B40,BDD!$A$2:$A$43,0),2),"") | AF40: =IF(J40="P",INDEX(BDD!$A$2:$B$43,MATCH('17'!$B40,BDD!$A$2:$A$43,0),2),"") | ... AS40: =IF(W40="P",INDEX(BDD!$A$2:$B$43,MATCH('17'!$B40,BDD!$A$2:$A$43,0),2),"")
