Workbook

Sheet TABLEAU DISTRIBITION
A1: name | B1: PREFIXE | C1: CODE VÊTEMENT | D1: code#key TEMPLATE | E1: BRODERIE | F1: FLEX 1C | G1: FLEX QUADRI | H1: TS 1C | I1: TS QUADRI | J1: SERIGRAPHIE | K1: CŒUR | L1: OPPCOEUR | M1: MANCHEGAUCHE | N1: MANCHEDROITE | O1: POITRINE | P1: DOS | Q1: JAMBEGAUCHE | R1: JAMBEDROITE | S1: FRONT | T1: REVERT | U1: LITEAU | V1: AVANT | W1: POCHE TABLIER | X1: ARTICLE
A2: BODYWARMER | B2: TEXTILE | C2: BODYWARMER | D2: =CONCATENATE(B2,"-TMPL-",C2) -> TEXTILE-TMPL-BODYWARMER | E2: x | K2: x | L2: x | P2: x
A3: BODYWARMER-SOFTSHELL | B3: TEXTILE | C3: BODYWARMER-SOFTSHELL | D3: =CONCATENATE(B3,"-TMPL-",C3) -> TEXTILE-TMPL-BODYWARMER-SOFTSHELL | E3: x | F3: x | G3: x | K3: x | L3: x | P3: x
A4: CHEMISES MANCHES COURTES AVEC POCHE | B4: TEXTILE | C4: CHEMISE-MCAP | D4: =CONCATENATE(B4,"-TMPL-",C4) -> TEXTILE-TMPL-CHEMISE-MCAP | E4: x | F4: x | G4: x | H4: x | I4: x | J4: x | K4: x | L4: x | M4: x | N4: x | P4: x
A5: CHEMISES MANCHES COURTES SANS POCHE | B5: TEXTILE | C5: CHEMISE-MCSP | D5: =CONCATENATE(B5,"-TMPL-",C5) -> TEXTILE-TMPL-CHEMISE-MCSP | E5: x | F5: x | G5: x | H5: x | I5: x | J5: x | K5: x | L5: x | M5: x | N5: x | P5: x

Sheet Template de Configuration
A1: name | B1: code#key
A2: =IFERROR(Tableau2[[#This Row],[name]],"") -> BODYWARMER | B2: =IF(ISNA(VLOOKUP(A2,'TABLEAU DISTRIBITION'!A:D,4,FALSE)),"",VLOOKUP(A2,'TABLEAU DISTRIBITION'!A:D,4,FALSE)) -> TEXTILE-TMPL-BODYWARMER
A3: =IFERROR(Tableau2[[#This Row],[name]],"") -> BODYWARMER-SOFTSHELL | B3: =IF(ISNA(VLOOKUP(A3,'TABLEAU DISTRIBITION'!A:D,4,FALSE)),"",VLOOKUP(A3,'TABLEAU DISTRIBITION'!A:D,4,FALSE)) -> TEXTILE-TMPL-BODYWARMER-SOFTSHELL
A4: =IFERROR(Tableau2[[#This Row],[name]],"") -> CHEMISES MANCHES COURTES AVEC POCHE | B4: =IF(ISNA(VLOOKUP(A4,'TABLEAU DISTRIBITION'!A:D,4,FALSE)),"",VLOOKUP(A4,'TABLEAU DISTRIBITION'!A:D,4,FALSE)) -> TEXTILE-TMPL-CHEMISE-MCAP
A5: =IFERROR(Tableau2[[#This Row],[name]],"") -> CHEMISES MANCHES COURTES SANS POCHE | B5: =IF(ISNA(VLOOKUP(A5,'TABLEAU DISTRIBITION'!A:D,4,FALSE)),"",VLOOKUP(A5,'TABLEAU DISTRIBITION'!A:D,4,FALSE)) -> TEXTILE-TMPL-CHEMISE-MCSP
A6: =IFERROR(Tableau2[[#This Row],[name]],"") | B6: =IF(ISNA(VLOOKUP(A6,'TABLEAU DISTRIBITION'!A:D,4,FALSE)),"",VLOOKUP(A6,'TABLEAU DISTRIBITION'!A:D,4,FALSE))
A7: =IFERROR(Tableau2[[#This Row],[name]],"") | B7: =IF(ISNA(VLOOKUP(A7,'TABLEAU DISTRIBITION'!A:D,4,FALSE)),"",VLOOKUP(A7,'TABLEAU DISTRIBITION'!A:D,4,FALSE))
A8: =IFERROR(Tableau2[[#This Row],[name]],"") | B8: =IF(ISNA(VLOOKUP(A8,'TABLEAU DISTRIBITION'!A:D,4,FALSE)),"",VLOOKUP(A8,'TABLEAU DISTRIBITION'!A:D,4,FALSE))
A9: =IFERROR(Tableau2[[#This Row],[name]],"") | B9: =IF(ISNA(VLOOKUP(A9,'TABLEAU DISTRIBITION'!A:D,4,FALSE)),"",VLOOKUP(A9,'TABLEAU DISTRIBITION'!A:D,4,FALSE))
A10: =IFERROR(Tableau2[[#This Row],[name]],"") | B10: =IF(ISNA(VLOOKUP(A10,'TABLEAU DISTRIBITION'!A:D,4,FALSE)),"",VLOOKUP(A10,'TABLEAU DISTRIBITION'!A:D,4,FALSE))
A11: =IFERROR(Tableau2[[#This Row],[name]],"") | B11: =IF(ISNA(VLOOKUP(A11,'TABLEAU DISTRIBITION'!A:D,4,FALSE)),"",VLOOKUP(A11,'TABLEAU DISTRIBITION'!A:D,4,FALSE))
A12: =IFERROR(Tableau2[[#This Row],[name]],"") | B12: =IF(ISNA(VLOOKUP(A12,'TABLEAU DISTRIBITION'!A:D,4,FALSE)),"",VLOOKUP(A12,'TABLEAU DISTRIBITION'!A:D,4,FALSE))
A13: =IFERROR(Tableau2[[#This Row],[name]],"") | B13: =IF(ISNA(VLOOKUP(A13,'TABLEAU DISTRIBITION'!A:D,4,FALSE)),"",VLOOKUP(A13,'TABLEAU DISTRIBITION'!A:D,4,FALSE))
... A215: =IFERROR(Tableau2[[#This Row],[name]],"") | B215: =IF(ISNA(VLOOKUP(A215,'TABLEAU DISTRIBITION'!A:D,4,FALSE)),"",VLOOKUP(A215,'TABLEAU DISTRIBITION'!A:D,4,FALSE))

Sheet ZM + OT
A1: code#key_template | B1: code#key_zone | C1: name | D1: product_id#key|default_code | E1: marking_size
A2: TEXTILE-TMPL-BODYWARMER | B2: BODYWARMER_CŒUR | C2: Cœur | D2: MOR-B-S | E2: 10 x 10 cm maxi
A3: TEXTILE-TMPL-BODYWARMER | B3: BODYWARMER_OPPCŒUR | C3: Opposé cœur | D3: MOR-B-S | E3: 10 x 10 cm maxi
A4: TEXTILE-TMPL-BODYWARMER | B4: BODYWARMER_DOS | C4: Dos | D4: MOR-B-L | E4: 20 x 20 cm maxi
A5: TEXTILE-TMPL-BODYWARMER-SOFTSHELL | B5: BODYWARMER-SOFTSHELL_CŒUR | C5: Cœur | D5: MOR-B-S | E5: 10 x 10 cm maxi
A6: TEXTILE-TMPL-BODYWARMER-SOFTSHELL | B6: BODYWARMER-SOFTSHELL_OPPCŒUR | C6: Opposé cœur | D6: MOR-B-S | E6: 20 x 20 cm maxi
A7: TEXTILE-TMPL-BODYWARMER-SOFTSHELL | B7: BODYWARMER-SOFTSHELL_DOS | C7: Dos | D7: MOR-B-S | E7: 10 x 10 cm maxi
A8: TEXTILE-TMPL-CHEMISE-MCAP | B8: TEXTILE-TMPL-CHEMISE-MCAP_COEUR | C8: Cœur | D8: MOR-B-S | E8: 10 x 10 cm maxi
A9: TEXTILE-TMPL-CHEMISE-MCAP | B9: TEXTILE-TMPL-CHEMISE-MCAP_OPPCOEUR | C9: Opposé cœur | D9: MOR-B-S | E9: 10 x 10 cm maxi
A10: TEXTILE-TMPL-CHEMISE-MCAP | B10: TEXTILE-TMPL-CHEMISE-MCAP_MANCHEGAUCHE | C10: Manche gauche | D10: MOR-B-S | E10: 10 x 10 cm maxi
A11: TEXTILE-TMPL-CHEMISE-MCAP | B11: TEXTILE-TMPL-CHEMISE-MCAP_MANCHEDROITE | C11: Manche droite | D11: MOR-B-S | E11: 10 x 10 cm maxi
A12: etc… | B12: etc… | C12: etc… | D12: etc.. | E12: etc…

Sheet Zone de marquage
A1: code#key | B1: name
A2: BODYWARMER-CŒUR | B2: Cœur
A3: BODYWARMER-OPPCŒUR | B3: Opposé cœur
A4: BODYWARMER-DOS | B4: Dos
A5: etc… | B5: etc…

Sheet Option des Templates
A1: product_conf_tmpl_id#key|code | B1: area_id#key|code | C1: product_id#key|default_code | D1: marking_size
A2: TEXTILE-TMPL-BODYWARMER | B2: BODYWARMER-CŒUR | C2: MOR-B-S | D2: 10 x 10 cm maxi
A3: TEXTILE-TMPL-BODYWARMER | B3: BODYWARMER-OPPCŒUR | C3: MOR-B-S | D3: 10 x 10 cm maxi
A4: TEXTILE-TMPL-BODYWARMER | B4: BODYWARMER-DOS | C4: MOR-B-L | D4: 20 x 20 cm maxi
A5: etc… | B5: etc… | C5: etc… | D5: etc…

Sheet Produits de marquage
A1: Fournisseur | B1: default_code#key | C1: categ_id|name | D1: name | E1: description | F1: nb_color | G1: sale_delay | H1: barcode | I1: manual_sale_min_qty | J1: sale_multiple_qty | K1: included_option_id|default_code | L1: is_option | M1: type
A2: MOREL | B2: MOR-B-S | C2: Broderie | D2: Broderie petite taille | G2: 21 | I2: 5 | K2: MOR-FT-B | L2: TRUE | M2: service
A3: MOREL | B3: MOR-B-M | C3: Broderie | D3: Broderie moyen taille | G3: 21 | I3: 5 | K3: MOR-FT-B | L3: TRUE | M3: service
A4: MOREL | B4: MOR-B-L | C4: Broderie | D4: Broderie grande taille | G4: 21 | I4: 5 | K4: MOR-FT-B | L4: TRUE | M4: service
