Workbook

Sheet Stat
A1: AVP Experts
A2: Audits à réaliser (par an) | B2: Audits à réaliser (par mois) | C2: Audits réalisés | D2: Constats | E2: Actions en cours | F2: Actions réalisées | G2: Avancement Objectif Audit/mois | H2: Avancement Objectif Audit/an | I2: Ratio Réalisé/Constats
A3: 60 | B3: =A3/12 -> 5 | C3: =COUNT(C6:C99) -> 12 | D3: =SUM(D6:D99) -> 40 | E3: =SUM(E6:E99) -> 22 | F3: =SUM(F6:F99) -> 18 | I3: =F3/D3 -> 0.45
A5: Site | B5: Date | C5: Semaine | D5: Constats | E5: Actions en cours | F5: Actions réalisées | J5: Mois | K5: Nb Audits | L5: Objectif Audit/mois
B6: =[1]Feuil1!$H$2 -> 44643 | C6: =_xlfn.ISOWEEKNUM(B6) -> 12 | D6: =SUM([2]Récap!M25) -> 1 | E6: =SUM([2]Récap!N25) -> 1 | F6: =SUM([2]Récap!O25) -> 0 | J6: Janvier | K6: {=SUMPRODUCT(1*(MONTH($B$6:$B$99)=MONTH($J6&1)))} -> 73 | M6: 1
B7: =[3]Feuil1!$I$2 -> 44648 | C7: =_xlfn.ISOWEEKNUM(B7) -> 13 | D7: =SUM([2]Récap!M12:M13) -> 2 | E7: =SUM([2]Récap!N12:N13) -> 2 | F7: =SUM([2]Récap!O12:O13) -> 0 | J7: Février | K7: {=SUMPRODUCT(1*(MONTH($B$6:$B$99)=MONTH($J7&1)))} -> 1 | M7: 2
B8: =[4]Feuil1!$H$2 -> 44648 | C8: =_xlfn.ISOWEEKNUM(B8) -> 13 | D8: =[2]Récap!M39 -> 1 | E8: =[2]Récap!N39 -> 1 | F8: =[2]Récap!O39 -> 0 | J8: Mars | K8: {=SUMPRODUCT(1*(MONTH($B$6:$B$99)=MONTH($J8&1)))} -> 6 | M8: 3
B9: =[5]Feuil1!$H$2 -> 44648 | C9: =_xlfn.ISOWEEKNUM(B9) -> 13 | D9: =[2]Récap!M26+[2]Récap!M27 -> 2 | E9: =[2]Récap!N26+[2]Récap!N27 -> 2 | F9: =[2]Récap!O26+[2]Récap!O27 -> 0 | J9: Avril | K9: {=SUMPRODUCT(1*(MONTH($B$6:$B$99)=MONTH($J9&1)))} -> 6 | M9: 4
B10: =[6]Feuil1!$H$2 -> 44649 | C10: =_xlfn.ISOWEEKNUM(B10) -> 13 | D10: =SUM([2]Récap!M28:M34) -> 7 | E10: =SUM([2]Récap!N28:N34) -> 2 | F10: =SUM([2]Récap!O28:O34) -> 5 | J10: Mai | K10: {=SUMPRODUCT(1*(MONTH($B$6:$B$99)=MONTH($J10&1)))} -> 1 | M10: 5
B11: =[7]Feuil1!$H$2 -> 44649 | C11: =_xlfn.ISOWEEKNUM(B11) -> 13 | D11: =SUM([2]Récap!M4:M6) -> 3 | E11: =SUM([2]Récap!N4:N6) -> 1 | F11: =SUM([2]Récap!O4:O6) -> 2 | J11: Juin | K11: {=SUMPRODUCT(1*(MONTH($B$6:$B$99)=MONTH($J11&1)))} -> 1 | M11: 6
B12: =[8]Feuil1!$H$2 -> 44662 | C12: =_xlfn.ISOWEEKNUM(B12) -> 15 | D12: =SUM([2]Récap!M20:M24) -> 5 | E12: =SUM([2]Récap!N20:N24) -> 3 | F12: =SUM([2]Récap!O20:O24) -> 2 | J12: Juillet | K12: {=SUMPRODUCT(1*(MONTH($B$6:$B$99)=MONTH($J12&1)))} -> 1 | M12: 7
B13: =[9]Feuil1!$I$2 -> 44663 | C13: =_xlfn.ISOWEEKNUM(B13) -> 15 | D13: =SUM([2]Récap!M7:M11) -> 4 | E13: =SUM([2]Récap!N7:N11) -> 3 | F13: =SUM([2]Récap!O7:O11) -> 1 | J13: Août | K13: {=SUMPRODUCT(1*(MONTH($B$6:$B$99)=MONTH($J13&1)))} -> 1 | M13: 8
B14: =[10]Feuil1!$I$2 -> 44671 | C14: =_xlfn.ISOWEEKNUM(B14) -> 16 | D14: =SUM([2]Récap!M14:M19) -> 6 | E14: =SUM([2]Récap!N14:N19) -> 3 | F14: =SUM([2]Récap!O14:O19) -> 3 | J14: Septembre | K14: {=SUMPRODUCT(1*(MONTH($B$6:$B$99)=MONTH($J14&1)))} -> 1 | M14: 9
B15: =[11]Feuil1!$H$2 -> 44671 | C15: =_xlfn.ISOWEEKNUM(B15) -> 16 | D15: =SUM([2]Récap!M35:M38) -> 4 | E15: =SUM([2]Récap!N35:N38) -> 2 | F15: =SUM([2]Récap!O35:O38) -> 2 | J15: Octobre | K15: {=SUMPRODUCT(1*(MONTH($B$6:$B$99)=MONTH($J15&1)))} -> 1 | M15: 10
B16: =[12]Feuil1!$G$2 -> 44678 | C16: =_xlfn.ISOWEEKNUM(B16) -> 17 | D16: =SUM([2]Récap!M40:M42) -> 3 | E16: =SUM([2]Récap!N40:N42) -> 2 | F16: =SUM([2]Récap!O40:O42) -> 1 | J16: Novembre | K16: {=SUMPRODUCT(1*(MONTH($B$6:$B$99)=MONTH($J16&1)))} -> 1 | M16: 11
B17: =[13]Feuil1!$G$2 -> 44678 | C17: =_xlfn.ISOWEEKNUM(B17) -> 17 | D17: =SUM([2]Récap!M43:M44) -> 2 | E17: =SUM([2]Récap!N43:N44) -> 0 | F17: =SUM([2]Récap!O43:O44) -> 2 | J17: Décembre | K17: {=SUMPRODUCT(1*(MONTH($B$6:$B$99)=MONTH($J17&1)))} -> 1 | M17: 12
B18: 44583
B19: 44614
B20: 44703
B21: 44734
B22: 44764
B23: 44795
B24: 44826
B25: 44856
B26: 44887
B27: 44917

Sheet Feuil1
