Workbook
Name modele: OFFSET(Feuil1!$A$1,,,COUNTA(Feuil1!$A:$A)+3)

Sheet Feuil1
M2: Vérif >>>> | N2: =SUM(B5:N124)/2 -> 225.5
B4: Ville1 | C4: Ville2 | D4: Ville3 | E4: Ville4 | F4: Ville5 | G4: Ville6 | H4: Ville7 | I4: Ville8 | J4: Ville9 | K4: Ville10 | L4: Ville11 | M4: Ville12 | N4: Ville13
A5: 80 - TVC 14 = 36 CM | B5: 0 | C5: 4 | D5: 0 | E5: 0 | F5: 2 | G5: 1 | H5: 2 | I5: 0 | J5: 2 | K5: 0 | L5: 0 | M5: 0 | N5: 3
A6: 41000001 - TVC 36CM 1477 BIOLUX | B6: 0 | C6: 0 | D6: 0 | E6: 0 | F6: 0 | G6: 1 | H6: 0 | I6: 0 | J6: 0 | K6: 0 | L6: 0 | M6: 0 | N6: 0
A7: 41000002 - TVC 36CM14T26NFES THOMSON | B7: 0 | C7: 0 | D7: 0 | E7: 0 | F7: 0 | G7: 0 | H7: 0 | I7: 0 | J7: 0 | K7: 0 | L7: 0 | M7: 0 | N7: 0
A8: 41000066 - TVC 36CM MAXWELL MAX JP E7 | B8: 0 | C8: 0 | D8: 0 | E8: 0 | F8: 0 | G8: 0 | H8: 0 | I8: 0 | J8: 0 | K8: 0 | L8: 0 | M8: 0 | N8: 0
A9: 41000072 - TVC 37CM ECRAN CONVEN AS 1419 | B9: 0 | C9: 1 | D9: 0 | E9: 0 | F9: 0 | G9: 0 | H9: 0 | I9: 0 | J9: 0 | K9: 0 | L9: 0 | M9: 0 | N9: 1
A10: 41000084 - TVC 36 CM LEXUS | B10: 0 | C10: 0 | D10: 0 | E10: 0 | F10: 0 | G10: 0 | H10: 0 | I10: 0 | J10: 0 | K10: 0 | L10: 0 | M10: 0 | N10: 0
A11: 41000114 - TVC 36CM 14T26NFES THOMSON | B11: 0 | C11: 3 | D11: 0 | E11: 0 | F11: 0 | G11: 0 | H11: 0 | I11: 0 | J11: 0 | K11: 0 | L11: 0 | M11: 0 | N11: 1
A12: 41000175 - TVC BIOLUX MOD NF-1419 | B12: 0 | C12: 0 | D12: 0 | E12: 0 | F12: 1 | G12: 0 | H12: 2 | I12: 0 | J12: 2 | K12: 0 | L12: 0 | M12: 0 | N12: 1
A13: 41000193 - TVC 36 CM 1420 AUXTAR | B13: 0 | C13: 0 | D13: 0 | E13: 0 | F13: 1 | G13: 0 | H13: 0 | I13: 0 | J13: 0 | K13: 0 | L13: 0 | M13: 0 | N13: 0
A14: 41000201 - TVC 36 CM TC1425UE NEWSTAR | B14: 0 | C14: 0 | D14: 0 | E14: 0 | F14: 0 | G14: 0 | H14: 0 | I14: 0 | J14: 0 | K14: 0 | L14: 0 | M14: 0 | N14: 0
A15: 41000210 - TV 14" FL 1436 FALCON | B15: 0 | C15: 0 | D15: 0 | E15: 0 | F15: 0 | G15: 0 | H15: 0 | I15: 0 | J15: 0 | K15: 0 | L15: 0 | M15: 0 | N15: 0
A16: 81 - TVC 21 = 55 CM | B16: 3 | C16: 6 | D16: 0 | E16: 5 | F16: 9 | G16: 7 | H16: 5 | I16: 6 | J16: 16 | K16: 1 | L16: -1 | M16: 0 | N16: 2
... A79: 41000230 - LECTEUR DVD USB GM19T GMT | B79: 1 | C79: 2 | D79: 0 | E79: 0 | F79: 3 | G79: 4 | H79: 0 | I79: 0 | J79: 0 | K79: 0 | L79: 0 | M79: 0 | N79: 0
A80: 41000231 - LECTEUR DVD USB GM20T GMT | B80: 1 | C80: 2 | D80: 0 | E80: 0 | F80: 1 | G80: 4 | H80: 0 | I80: 0 | J80: 0 | K80: 0 | L80: 0 | M80: 0 | N80: 0 | P80: total nbre de ref
A81: 80 - Réfrigérateurs
A82: nb.si par ville pour verif>>> | B82: =COUNTIF(B6:B15,">0")+COUNTIF(B17:B55,">0")+COUNTIF(B57:B80,">0") -> 9 | C82: =COUNTIF(C6:C15,">0")+COUNTIF(C17:C55,">0")+COUNTIF(C57:C80,">0") -> 12 | D82: =COUNTIF(D6:D15,">0")+COUNTIF(D17:D55,">0")+COUNTIF(D57:D80,">0") -> 0 | E82: =COUNTIF(E6:E15,">0")+COUNTIF(E17:E55,">0")+COUNTIF(E57:E80,">0") -> 6 | F82: =COUNTIF(F6:F15,">0")+COUNTIF(F17:F55,">0")+COUNTIF(F57:F80,">0") -> 12 | G82: =COUNTIF(G6:G15,">0")+COUNTIF(G17:G55,">0")+COUNTIF(G57:G80,">0") -> 14 | H82: =COUNTIF(H6:H15,">0")+COUNTIF(H17:H55,">0")+COUNTIF(H57:H80,">0") -> 9 | I82: =COUNTIF(I6:I15,">0")+COUNTIF(I17:I55,">0")+COUNTIF(I57:I80,">0") -> 10 | ... N82: =COUNTIF(N6:N15,">0")+COUNTIF(N17:N55,">0")+COUNTIF(N57:N80,">0") -> 9 | O82: =SUM(B82:N82) -> 102
B84: =COUNTIF(B57:B80,">0") -> 6 | C84: =COUNTIF(C57:C80,">0") -> 6 | D84: =COUNTIF(D57:D80,">0") -> 0 | E84: =COUNTIF(E57:E80,">0") -> 3 | F84: =COUNTIF(F57:F80,">0") -> 5 | G84: =COUNTIF(G57:G80,">0") -> 6 | H84: =COUNTIF(H57:H80,">0") -> 3
A153: TOTAL REFERENCES | B153: 6 | C153: 6 | D153: 0 | E153: 3 | F153: 5 | G153: 6 | H153: 3 | I153: 5 | J153: 5 | K153: 1 | L153: 3 | M153: 0 | N153: 4
G158: =SUM(B153:N153) -> 47

Sheet Feuil2
B2: Colonne A à masquer | F2: Nombre des Références par Ville
A5: =MATCH(B6,modele,0) -> 5 | C5: Ville1 | D5: Ville2 | E5: Ville3 | F5: Ville4 | G5: Ville5 | H5: Ville6 | I5: Ville7 | J5: Ville8 | K5: Ville9 | L5: Ville10 | M5: Ville11 | N5: Ville12 | O5: Ville13
A6: =IF(ISERROR(MATCH(B7,modele,0)),COUNTA(Feuil1!A:A)+4,MATCH(B7,modele,0)) -> 16 | B6: 80 - TVC 14 = 36 CM | C6: =COUNTIF(OFFSET(Feuil1!$A$1,$A5,COLUMN()-2,$A6-$A5-1),">0") -> 0 | D6: =COUNTIF(OFFSET(Feuil1!$A$1,$A5,COLUMN()-2,$A6-$A5-1),">0") -> 2 | E6: =COUNTIF(OFFSET(Feuil1!$A$1,$A5,COLUMN()-2,$A6-$A5-1),">0") -> 0 | F6: =COUNTIF(OFFSET(Feuil1!$A$1,$A5,COLUMN()-2,$A6-$A5-1),">0") -> 0 | G6: =COUNTIF(OFFSET(Feuil1!$A$1,$A5,COLUMN()-2,$A6-$A5-1),">0") -> 2 | H6: =COUNTIF(OFFSET(Feuil1!$A$1,$A5,COLUMN()-2,$A6-$A5-1),">0") -> 1 | I6: =COUNTIF(OFFSET(Feuil1!$A$1,$A5,COLUMN()-2,$A6-$A5-1),">0") -> 1 | J6: =COUNTIF(OFFSET(Feuil1!$A$1,$A5,COLUMN()-2,$A6-$A5-1),">0") -> 0 | ... O6: =COUNTIF(OFFSET(Feuil1!$A$1,$A5,COLUMN()-2,$A6-$A5-1),">0") -> 3
A7: =IF(ISERROR(MATCH(B8,modele,0)),COUNTA(Feuil1!A:A)+4,MATCH(B8,modele,0)) -> 56 | B7: 81 - TVC 21 = 55 CM | C7: =COUNTIF(OFFSET(Feuil1!$A$1,$A6,COLUMN()-2,$A7-$A6-1),">0") -> 3 | D7: =COUNTIF(OFFSET(Feuil1!$A$1,$A6,COLUMN()-2,$A7-$A6-1),">0") -> 4 | E7: =COUNTIF(OFFSET(Feuil1!$A$1,$A6,COLUMN()-2,$A7-$A6-1),">0") -> 0 | F7: =COUNTIF(OFFSET(Feuil1!$A$1,$A6,COLUMN()-2,$A7-$A6-1),">0") -> 3 | G7: =COUNTIF(OFFSET(Feuil1!$A$1,$A6,COLUMN()-2,$A7-$A6-1),">0") -> 5 | H7: =COUNTIF(OFFSET(Feuil1!$A$1,$A6,COLUMN()-2,$A7-$A6-1),">0") -> 7 | I7: =COUNTIF(OFFSET(Feuil1!$A$1,$A6,COLUMN()-2,$A7-$A6-1),">0") -> 5 | J7: =COUNTIF(OFFSET(Feuil1!$A$1,$A6,COLUMN()-2,$A7-$A6-1),">0") -> 5 | ... O7: =COUNTIF(OFFSET(Feuil1!$A$1,$A6,COLUMN()-2,$A7-$A6-1),">0") -> 2
A8: =IF(ISERROR(MATCH(B9,modele,0)),COUNTA(Feuil1!A:A)+4,MATCH(B9,modele,0)) -> 83 | B8: 81 - LECTEUR DVD | C8: =COUNTIF(OFFSET(Feuil1!$A$1,$A7,COLUMN()-2,$A8-$A7-1),">0") -> 7 | D8: =COUNTIF(OFFSET(Feuil1!$A$1,$A7,COLUMN()-2,$A8-$A7-1),">0") -> 7 | E8: =COUNTIF(OFFSET(Feuil1!$A$1,$A7,COLUMN()-2,$A8-$A7-1),">0") -> 0 | F8: =COUNTIF(OFFSET(Feuil1!$A$1,$A7,COLUMN()-2,$A8-$A7-1),">0") -> 4 | G8: =COUNTIF(OFFSET(Feuil1!$A$1,$A7,COLUMN()-2,$A8-$A7-1),">0") -> 6 | H8: =COUNTIF(OFFSET(Feuil1!$A$1,$A7,COLUMN()-2,$A8-$A7-1),">0") -> 7 | I8: =COUNTIF(OFFSET(Feuil1!$A$1,$A7,COLUMN()-2,$A8-$A7-1),">0") -> 4 | J8: =COUNTIF(OFFSET(Feuil1!$A$1,$A7,COLUMN()-2,$A8-$A7-1),">0") -> 6 | ... O8: =COUNTIF(OFFSET(Feuil1!$A$1,$A7,COLUMN()-2,$A8-$A7-1),">0") -> 5 | P8: Vérif nbre ref>> | Q8: =SUM(C6:O8) -> 113
A9: =IF(ISERROR(MATCH(B10,modele,0)),COUNTA(Feuil1!A:A)+4,MATCH(B10,modele,0)) -> 83
A10: =IF(ISERROR(MATCH(B11,modele,0)),COUNTA(Feuil1!A:A)+4,MATCH(B11,modele,0)) -> 83
A11: =IF(ISERROR(MATCH(B12,modele,0)),COUNTA(Feuil1!A:A)+4,MATCH(B12,modele,0)) -> 83
A12: =IF(ISERROR(MATCH(B13,modele,0)),COUNTA(Feuil1!A:A)+4,MATCH(B13,modele,0)) -> 83
A13: =IF(ISERROR(MATCH(B14,modele,0)),COUNTA(Feuil1!A:A)+4,MATCH(B14,modele,0)) -> 83
A14: =IF(ISERROR(MATCH(B15,modele,0)),COUNTA(Feuil1!A:A)+4,MATCH(B15,modele,0)) -> 83
A15: =IF(ISERROR(MATCH(B16,modele,0)),COUNTA(Feuil1!A:A)+4,MATCH(B16,modele,0)) -> 83
A16: =IF(ISERROR(MATCH(B17,modele,0)),COUNTA(Feuil1!A:A)+4,MATCH(B17,modele,0)) -> 83
A17: =IF(ISERROR(MATCH(B18,modele,0)),COUNTA(Feuil1!A:A)+4,MATCH(B18,modele,0)) -> 83
A18: =IF(ISERROR(MATCH(B19,modele,0)),COUNTA(Feuil1!A:A)+4,MATCH(B19,modele,0)) -> 83
A19: =IF(ISERROR(MATCH(B20,modele,0)),COUNTA(Feuil1!A:A)+4,MATCH(B20,modele,0)) -> 83
B20: N.B: le nombre des références par famille des produits peut augmenter ou diminuer; c'est capital dans la formule qui va servir.
B21: Je pense qu'il faut utiliser (Index & Equiv)

Sheet Feuil3
