Workbook

Sheet Gestion interventions
A1: Intervention | G1: Consommable | I1: Délais
A2: N° intervention | B2: Intervenant | C2: Catégorie | D2: Lieux intervention | E2: Priorité | F2: Compte-rendu intervention | G2: REF Consommable utilisée | H2: Quantité utilisée | I2: Date demande | J2: Date prévu | K2: Date réalisation | L2: Délais | M2: Suivi | N2: Temps intervention | O2: Temps arrêt | P2: Commentaire
L3: {=_xlfn.IFS(NETWORKDAYS(I3,J3,Liste!D2:D67)=0,"",NETWORKDAYS(I3,J3,Liste!D2:D67)<0,"",NETWORKDAYS(I3,J3,Liste!D2:D67)<>0,NETWORKDAYS(I3,J3,Liste!D2:D67))} | M3: {=_xlfn.IFS(I3="","",AND(I3>0,J3="",K3=""),"A planifier",AND(I3>0,J3>0,K3=""),"En cours",AND(I3>0,J3>0,K3>0),"Réalisé")}
L4: {=_xlfn.IFS(NETWORKDAYS(I4,J4,Liste!D3:D68)=0,"",NETWORKDAYS(I4,J4,Liste!D3:D68)<0,"",NETWORKDAYS(I4,J4,Liste!D3:D68)<>0,NETWORKDAYS(I4,J4,Liste!D3:D68))} | M4: {=_xlfn.IFS(I4="","",AND(I4>0,J4="",K4=""),"A planifier",AND(I4>0,J4>0,K4=""),"En cours",AND(I4>0,J4>0,K4>0),"Réalisé")}
L5: {=_xlfn.IFS(NETWORKDAYS(I5,J5,Liste!D4:D69)=0,"",NETWORKDAYS(I5,J5,Liste!D4:D69)<0,"",NETWORKDAYS(I5,J5,Liste!D4:D69)<>0,NETWORKDAYS(I5,J5,Liste!D4:D69))} | M5: {=_xlfn.IFS(I5="","",AND(I5>0,J5="",K5=""),"A planifier",AND(I5>0,J5>0,K5=""),"En cours",AND(I5>0,J5>0,K5>0),"Réalisé")}
L6: {=_xlfn.IFS(NETWORKDAYS(I6,J6,Liste!D5:D70)=0,"",NETWORKDAYS(I6,J6,Liste!D5:D70)<0,"",NETWORKDAYS(I6,J6,Liste!D5:D70)<>0,NETWORKDAYS(I6,J6,Liste!D5:D70))} | M6: {=_xlfn.IFS(I6="","",AND(I6>0,J6="",K6=""),"A planifier",AND(I6>0,J6>0,K6=""),"En cours",AND(I6>0,J6>0,K6>0),"Réalisé")}
L7: {=_xlfn.IFS(NETWORKDAYS(I7,J7,Liste!D6:D71)=0,"",NETWORKDAYS(I7,J7,Liste!D6:D71)<0,"",NETWORKDAYS(I7,J7,Liste!D6:D71)<>0,NETWORKDAYS(I7,J7,Liste!D6:D71))} | M7: {=_xlfn.IFS(I7="","",AND(I7>0,J7="",K7=""),"A planifier",AND(I7>0,J7>0,K7=""),"En cours",AND(I7>0,J7>0,K7>0),"Réalisé")}
L8: {=_xlfn.IFS(NETWORKDAYS(I8,J8,Liste!D7:D72)=0,"",NETWORKDAYS(I8,J8,Liste!D7:D72)<0,"",NETWORKDAYS(I8,J8,Liste!D7:D72)<>0,NETWORKDAYS(I8,J8,Liste!D7:D72))} | M8: {=_xlfn.IFS(I8="","",AND(I8>0,J8="",K8=""),"A planifier",AND(I8>0,J8>0,K8=""),"En cours",AND(I8>0,J8>0,K8>0),"Réalisé")}
L9: {=_xlfn.IFS(NETWORKDAYS(I9,J9,Liste!D8:D73)=0,"",NETWORKDAYS(I9,J9,Liste!D8:D73)<0,"",NETWORKDAYS(I9,J9,Liste!D8:D73)<>0,NETWORKDAYS(I9,J9,Liste!D8:D73))} | M9: {=_xlfn.IFS(I9="","",AND(I9>0,J9="",K9=""),"A planifier",AND(I9>0,J9>0,K9=""),"En cours",AND(I9>0,J9>0,K9>0),"Réalisé")}
L10: {=_xlfn.IFS(NETWORKDAYS(I10,J10,Liste!D9:D74)=0,"",NETWORKDAYS(I10,J10,Liste!D9:D74)<0,"",NETWORKDAYS(I10,J10,Liste!D9:D74)<>0,NETWORKDAYS(I10,J10,Liste!D9:D74))} | M10: {=_xlfn.IFS(I10="","",AND(I10>0,J10="",K10=""),"A planifier",AND(I10>0,J10>0,K10=""),"En cours",AND(I10>0,J10>0,K10>0),"Réalisé")}
L11: {=_xlfn.IFS(NETWORKDAYS(I11,J11,Liste!D10:D75)=0,"",NETWORKDAYS(I11,J11,Liste!D10:D75)<0,"",NETWORKDAYS(I11,J11,Liste!D10:D75)<>0,NETWORKDAYS(I11,J11,Liste!D10:D75))} | M11: {=_xlfn.IFS(I11="","",AND(I11>0,J11="",K11=""),"A planifier",AND(I11>0,J11>0,K11=""),"En cours",AND(I11>0,J11>0,K11>0),"Réalisé")}
L12: {=_xlfn.IFS(NETWORKDAYS(I12,J12,Liste!D11:D76)=0,"",NETWORKDAYS(I12,J12,Liste!D11:D76)<0,"",NETWORKDAYS(I12,J12,Liste!D11:D76)<>0,NETWORKDAYS(I12,J12,Liste!D11:D76))} | M12: {=_xlfn.IFS(I12="","",AND(I12>0,J12="",K12=""),"A planifier",AND(I12>0,J12>0,K12=""),"En cours",AND(I12>0,J12>0,K12>0),"Réalisé")}
L13: {=_xlfn.IFS(NETWORKDAYS(I13,J13,Liste!D12:D77)=0,"",NETWORKDAYS(I13,J13,Liste!D12:D77)<0,"",NETWORKDAYS(I13,J13,Liste!D12:D77)<>0,NETWORKDAYS(I13,J13,Liste!D12:D77))} | M13: {=_xlfn.IFS(I13="","",AND(I13>0,J13="",K13=""),"A planifier",AND(I13>0,J13>0,K13=""),"En cours",AND(I13>0,J13>0,K13>0),"Réalisé")}
L14: {=_xlfn.IFS(NETWORKDAYS(I14,J14,Liste!D13:D78)=0,"",NETWORKDAYS(I14,J14,Liste!D13:D78)<0,"",NETWORKDAYS(I14,J14,Liste!D13:D78)<>0,NETWORKDAYS(I14,J14,Liste!D13:D78))} | M14: {=_xlfn.IFS(I14="","",AND(I14>0,J14="",K14=""),"A planifier",AND(I14>0,J14>0,K14=""),"En cours",AND(I14>0,J14>0,K14>0),"Réalisé")}
... L515: {=_xlfn.IFS(NETWORKDAYS(I515,J515,Liste!D514:D579)=0,"",NETWORKDAYS(I515,J515,Liste!D514:D579)<0,"",NETWORKDAYS(I515,J515,Liste!D514:D579)<>0,NETWORKDAYS(I515,J515,Liste!D514:D579))} | M515: {=_xlfn.IFS(I515="","",AND(I515>0,J515="",K515=""),"A planifier",AND(I515>0,J515>0,K515=""),"En cours",AND(I515>0,J515>0,K515>0),"Réalisé")}
L516: {=_xlfn.IFS(NETWORKDAYS(I516,J516,Liste!D515:D580)=0,"",NETWORKDAYS(I516,J516,Liste!D515:D580)<0,"",NETWORKDAYS(I516,J516,Liste!D515:D580)<>0,NETWORKDAYS(I516,J516,Liste!D515:D580))}
L517: {=_xlfn.IFS(NETWORKDAYS(I517,J517,Liste!D516:D581)=0,"",NETWORKDAYS(I517,J517,Liste!D516:D581)<0,"",NETWORKDAYS(I517,J517,Liste!D516:D581)<>0,NETWORKDAYS(I517,J517,Liste!D516:D581))}
L518: {=_xlfn.IFS(NETWORKDAYS(I518,J518,Liste!D517:D582)=0,"",NETWORKDAYS(I518,J518,Liste!D517:D582)<0,"",NETWORKDAYS(I518,J518,Liste!D517:D582)<>0,NETWORKDAYS(I518,J518,Liste!D517:D582))}
L519: {=_xlfn.IFS(NETWORKDAYS(I519,J519,Liste!D518:D583)=0,"",NETWORKDAYS(I519,J519,Liste!D518:D583)<0,"",NETWORKDAYS(I519,J519,Liste!D518:D583)<>0,NETWORKDAYS(I519,J519,Liste!D518:D583))}
L520: {=_xlfn.IFS(NETWORKDAYS(I520,J520,Liste!D519:D584)=0,"",NETWORKDAYS(I520,J520,Liste!D519:D584)<0,"",NETWORKDAYS(I520,J520,Liste!D519:D584)<>0,NETWORKDAYS(I520,J520,Liste!D519:D584))}
L521: {=_xlfn.IFS(NETWORKDAYS(I521,J521,Liste!D520:D585)=0,"",NETWORKDAYS(I521,J521,Liste!D520:D585)<0,"",NETWORKDAYS(I521,J521,Liste!D520:D585)<>0,NETWORKDAYS(I521,J521,Liste!D520:D585))}
L522: {=_xlfn.IFS(NETWORKDAYS(I522,J522,Liste!D521:D586)=0,"",NETWORKDAYS(I522,J522,Liste!D521:D586)<0,"",NETWORKDAYS(I522,J522,Liste!D521:D586)<>0,NETWORKDAYS(I522,J522,Liste!D521:D586))}
L523: {=_xlfn.IFS(NETWORKDAYS(I523,J523,Liste!D522:D587)=0,"",NETWORKDAYS(I523,J523,Liste!D522:D587)<0,"",NETWORKDAYS(I523,J523,Liste!D522:D587)<>0,NETWORKDAYS(I523,J523,Liste!D522:D587))}
L524: {=_xlfn.IFS(NETWORKDAYS(I524,J524,Liste!D523:D588)=0,"",NETWORKDAYS(I524,J524,Liste!D523:D588)<0,"",NETWORKDAYS(I524,J524,Liste!D523:D588)<>0,NETWORKDAYS(I524,J524,Liste!D523:D588))}
L525: {=_xlfn.IFS(NETWORKDAYS(I525,J525,Liste!D524:D589)=0,"",NETWORKDAYS(I525,J525,Liste!D524:D589)<0,"",NETWORKDAYS(I525,J525,Liste!D524:D589)<>0,NETWORKDAYS(I525,J525,Liste!D524:D589))}
L526: {=_xlfn.IFS(NETWORKDAYS(I526,J526,Liste!D525:D590)=0,"",NETWORKDAYS(I526,J526,Liste!D525:D590)<0,"",NETWORKDAYS(I526,J526,Liste!D525:D590)<>0,NETWORKDAYS(I526,J526,Liste!D525:D590))}
L527: {=_xlfn.IFS(NETWORKDAYS(I527,J527,Liste!D526:D591)=0,"",NETWORKDAYS(I527,J527,Liste!D526:D591)<0,"",NETWORKDAYS(I527,J527,Liste!D526:D591)<>0,NETWORKDAYS(I527,J527,Liste!D526:D591))}
... L977: {=_xlfn.IFS(NETWORKDAYS(I977,J977,Liste!D976:D1041)=0,"",NETWORKDAYS(I977,J977,Liste!D976:D1041)<0,"",NETWORKDAYS(I977,J977,Liste!D976:D1041)<>0,NETWORKDAYS(I977,J977,Liste!D976:D1041))}

Sheet Gestion Stock
A1: Référence | B1: Marque | C1: Nom produit | D1: Quantité en stock | E1: Stock Mini | F1: Etat du stock
A2: 8317584 | B2: A | C2: Supoer | D2: 10 | E2: 3 | F2: {=_xlfn.IFS(D2>E2,"OK",D2<E2,"Stock insuffisant")} -> OK
A3: 7139088 | B3: B | C3: Canooé | D3: 5 | E3: 0 | F3: {=_xlfn.IFS(D3>E3,"OK",D3<E3,"Stock insuffisant")} -> OK
A4: 8310168 | B4: C | C4: Bateau | D4: 1 | E4: 0 | F4: {=_xlfn.IFS(D4>E4,"OK",D4<E4,"Stock insuffisant")} -> OK
A5: 5952301 | B5: E | C5: Dent | D5: 13 | E5: 1 | F5: {=_xlfn.IFS(D5>E5,"OK",D5<E5,"Stock insuffisant")} -> OK
A6: 6438112 | B6: F | C6: Roue | D6: 12 | E6: 5 | F6: {=_xlfn.IFS(D6>E6,"OK",D6<E6,"Stock insuffisant")} -> OK
A7: 7690638 | B7: G | C7: Moteur | D7: 4 | E7: 12 | F7: {=_xlfn.IFS(D7>E7,"OK",D7<E7,"Stock insuffisant")} -> Stock insuffisant
A8: 8523548 | B8: H | C8: Porte | D8: 10 | E8: 8 | F8: {=_xlfn.IFS(D8>E8,"OK",D8<E8,"Stock insuffisant")} -> OK
A9: 7108224 | B9: I | C9: Fenètre | D9: 7 | E9: 5 | F9: {=_xlfn.IFS(D9>E9,"OK",D9<E9,"Stock insuffisant")} -> OK
A10: 6757523 | B10: J | C10: Chaise | D10: 15 | E10: 12 | F10: {=_xlfn.IFS(D10>E10,"OK",D10<E10,"Stock insuffisant")} -> OK
A11: 6427635 | B11: K | C11: Table | D11: 15 | E11: 4 | F11: {=_xlfn.IFS(D11>E11,"OK",D11<E11,"Stock insuffisant")} -> OK
A12: 7071750 | B12: L | C12: Armoire | D12: 13 | E12: 0 | F12: {=_xlfn.IFS(D12>E12,"OK",D12<E12,"Stock insuffisant")} -> OK
A13: 7663390 | B13: M | C13: Voiture | D13: 15 | E13: 1 | F13: {=_xlfn.IFS(D13>E13,"OK",D13<E13,"Stock insuffisant")} -> OK
... A15: 8221940 | B15: O | C15: Clavier | D15: 4 | E15: 15 | F15: {=_xlfn.IFS(D15>E15,"OK",D15<E15,"Stock insuffisant")} -> Stock insuffisant

Sheet Liste
A1: Intervenant | B1: Catégorie | C1: Priorité | D1: Jour férié
A2: AVE | B2: Elec | C2: 1 - Urgent | D2: 44197
A3: ART | B3: Méc | C3: 2 - Modéré | D3: 44291
A4: PER | B4: Hydo | C4: 3 - Faible | D4: 44317
A5: UYE | B5: Pneu | D5: 44324
D6: 44329
D7: 44340
D8: 44391
D9: 44423
D10: 44501
D11: 44511
D12: 44555
D13: 44562
D14: 44656
D15: 44682
D16: 44689
D17: 44694
... D67: 46381
