Workbook

Sheet PARTICIPANTS
A1: LISTE DES PARTICIPANTS | L1: SUPER GAZ | O1: SUPER STREET | R1: STREET RUN A | U1: STREET RUN B | X1: STREET RUN C | AA1: STREET RUN D | AD1: STREET RUN E
A2: Catégorie couru | B2: N°du participant | C2: Nom | D2: Prénom | E2: Essaie 1 | F2: Essaie 2 | G2: Essaie 3 | H2: Essaie 4 | I2: Meilleur Temps | L2: N° | M2: Nom | N2: Meilleur temps | O2: N° | P2: Nom | Q2: Meilleur temps | R2: N° | S2: Nom | T2: Meilleur temps | U2: N° | V2: Nom | W2: Meilleur temps | X2: N° | Y2: Nom | Z2: Meilleur temps | AA2: N° | AB2: Nom | AC2: Meilleur temps | AD2: N° | AE2: Nom | AF2: Meilleur temps
A3: SUPER GAZ | B3: 2 | C3: PILOTE 2 | D3: P2 | E3: 9.21 | F3: 9 | G3: 10.001 | I3: =IF(E3="","",IF(F3="","",IF(G3="","",MIN(E3:H3)))) -> 9 | L3: =(IF(L$1=$A3,B3,"")) -> 2 | M3: =(IF(L$1=$A3,C3&" "&D3,"")) -> PILOTE 2 P2 | N3: =(IF(L$1=$A3,I3,"")) -> 9 | O3: =(IF(O$1=$A3,$B3,"")) | P3: =(IF(O$1=$A3,$C3&" "&D3,"")) | Q3: =(IF(O$1=$A3,$I3,"")) | R3: =(IF(R$1=$A3,$B3,"")) | S3: =(IF(R$1=$A3,$C3&" "&D3,"")) | T3: =(IF(R$1=$A3,$I3,"")) | U3: =(IF(U$1=$A3,$B3,"")) | V3: =(IF(U$1=$A3,$C3&" "&D3,"")) | W3: =(IF(U$1=$A3,$I3,"")) | X3: =(IF(X$1=$A3,$B3,"")) | Y3: =(IF(X$1=$A3,$C3&" "&D3,"")) | Z3: =(IF(X$1=$A3,$I3,"")) | AA3: =(IF(AA$1=$A3,$B3,"")) | AB3: =(IF(AA$1=$A3,$C3&" "&D3,"")) | AC3: =(IF(AA$1=$A3,$I3,"")) | AD3: =(IF(AD$1=$A3,$B3,"")) | AE3: =(IF(AD$1=$A3,$C3&" "&D3,"")) | AF3: =(IF(AD$1=$A3,$I3,""))
A4: SUPER GAZ | B4: 15 | C4: PILOTE 15 | D4: P15 | E4: 9.56 | F4: 9.56 | G4: 9.56 | I4: =IF(E4="","",IF(F4="","",IF(G4="","",MIN(E4:H4)))) -> 9.56 | L4: =(IF(L$1=$A4,B4,"")) -> 15 | M4: =(IF(L$1=$A4,C4&" "&D4,"")) -> PILOTE 15 P15 | N4: =(IF(L$1=$A4,I4,"")) -> 9.56 | O4: =(IF(O$1=$A4,$B4,"")) | P4: =(IF(O$1=$A4,$C4&" "&D4,"")) | Q4: =(IF(O$1=$A4,$I4,"")) | R4: =(IF(R$1=$A4,$B4,"")) | S4: =(IF(R$1=$A4,$C4&" "&D4,"")) | T4: =(IF(R$1=$A4,$I4,"")) | U4: =(IF(U$1=$A4,$B4,"")) | V4: =(IF(U$1=$A4,$C4&" "&D4,"")) | W4: =(IF(U$1=$A4,$I4,"")) | X4: =(IF(X$1=$A4,$B4,"")) | Y4: =(IF(X$1=$A4,$C4&" "&D4,"")) | Z4: =(IF(X$1=$A4,$I4,"")) | AA4: =(IF(AA$1=$A4,$B4,"")) | AB4: =(IF(AA$1=$A4,$C4&" "&D4,"")) | AC4: =(IF(AA$1=$A4,$I4,"")) | AD4: =(IF(AD$1=$A4,$B4,"")) | AE4: =(IF(AD$1=$A4,$C4&" "&D4,"")) | AF4: =(IF(AD$1=$A4,$I4,""))
A5: SUPER GAZ | B5: 27 | C5: PILOTE 27 | D5: P27 | E5: 9.75 | F5: 9.75 | G5: 9.75 | I5: =IF(E5="","",IF(F5="","",IF(G5="","",MIN(E5:H5)))) -> 9.75 | L5: =(IF(L$1=$A5,B5,"")) -> 27 | M5: =(IF(L$1=$A5,C5&" "&D5,"")) -> PILOTE 27 P27 | N5: =(IF(L$1=$A5,I5,"")) -> 9.75 | O5: =(IF(O$1=$A5,$B5,"")) | P5: =(IF(O$1=$A5,$C5&" "&D5,"")) | Q5: =(IF(O$1=$A5,$I5,"")) | R5: =(IF(R$1=$A5,$B5,"")) | S5: =(IF(R$1=$A5,$C5&" "&D5,"")) | T5: =(IF(R$1=$A5,$I5,"")) | U5: =(IF(U$1=$A5,$B5,"")) | V5: =(IF(U$1=$A5,$C5&" "&D5,"")) | W5: =(IF(U$1=$A5,$I5,"")) | X5: =(IF(X$1=$A5,$B5,"")) | Y5: =(IF(X$1=$A5,$C5&" "&D5,"")) | Z5: =(IF(X$1=$A5,$I5,"")) | AA5: =(IF(AA$1=$A5,$B5,"")) | AB5: =(IF(AA$1=$A5,$C5&" "&D5,"")) | AC5: =(IF(AA$1=$A5,$I5,"")) | AD5: =(IF(AD$1=$A5,$B5,"")) | AE5: =(IF(AD$1=$A5,$C5&" "&D5,"")) | AF5: =(IF(AD$1=$A5,$I5,""))
A6: SUPER GAZ | B6: 39 | C6: PILOTE 39 | D6: P39 | E6: 9.78 | F6: 9.78 | G6: 9.78 | I6: =IF(E6="","",IF(F6="","",IF(G6="","",MIN(E6:H6)))) -> 9.78 | L6: =(IF(L$1=$A6,B6,"")) -> 39 | M6: =(IF(L$1=$A6,C6&" "&D6,"")) -> PILOTE 39 P39 | N6: =(IF(L$1=$A6,I6,"")) -> 9.78 | O6: =(IF(O$1=$A6,$B6,"")) | P6: =(IF(O$1=$A6,$C6&" "&D6,"")) | Q6: =(IF(O$1=$A6,$I6,"")) | R6: =(IF(R$1=$A6,$B6,"")) | S6: =(IF(R$1=$A6,$C6&" "&D6,"")) | T6: =(IF(R$1=$A6,$I6,"")) | U6: =(IF(U$1=$A6,$B6,"")) | V6: =(IF(U$1=$A6,$C6&" "&D6,"")) | W6: =(IF(U$1=$A6,$I6,"")) | X6: =(IF(X$1=$A6,$B6,"")) | Y6: =(IF(X$1=$A6,$C6&" "&D6,"")) | Z6: =(IF(X$1=$A6,$I6,"")) | AA6: =(IF(AA$1=$A6,$B6,"")) | AB6: =(IF(AA$1=$A6,$C6&" "&D6,"")) | AC6: =(IF(AA$1=$A6,$I6,"")) | AD6: =(IF(AD$1=$A6,$B6,"")) | AE6: =(IF(AD$1=$A6,$C6&" "&D6,"")) | AF6: =(IF(AD$1=$A6,$I6,""))
A7: SUPER GAZ | B7: 36 | C7: PILOTE 36 | D7: P36 | E7: 9.8 | F7: 9.8 | G7: 9.8 | I7: =IF(E7="","",IF(F7="","",IF(G7="","",MIN(E7:H7)))) -> 9.8 | L7: =(IF(L$1=$A7,B7,"")) -> 36 | M7: =(IF(L$1=$A7,C7&" "&D7,"")) -> PILOTE 36 P36 | N7: =(IF(L$1=$A7,I7,"")) -> 9.8 | O7: =(IF(O$1=$A7,$B7,"")) | P7: =(IF(O$1=$A7,$C7&" "&D7,"")) | Q7: =(IF(O$1=$A7,$I7,"")) | R7: =(IF(R$1=$A7,$B7,"")) | S7: =(IF(R$1=$A7,$C7&" "&D7,"")) | T7: =(IF(R$1=$A7,$I7,"")) | U7: =(IF(U$1=$A7,$B7,"")) | V7: =(IF(U$1=$A7,$C7&" "&D7,"")) | W7: =(IF(U$1=$A7,$I7,"")) | X7: =(IF(X$1=$A7,$B7,"")) | Y7: =(IF(X$1=$A7,$C7&" "&D7,"")) | Z7: =(IF(X$1=$A7,$I7,"")) | AA7: =(IF(AA$1=$A7,$B7,"")) | AB7: =(IF(AA$1=$A7,$C7&" "&D7,"")) | AC7: =(IF(AA$1=$A7,$I7,"")) | AD7: =(IF(AD$1=$A7,$B7,"")) | AE7: =(IF(AD$1=$A7,$C7&" "&D7,"")) | AF7: =(IF(AD$1=$A7,$I7,""))
A8: SUPER GAZ | B8: 25 | C8: PILOTE 25 | D8: P25 | E8: 9.86 | F8: 9.86 | G8: 9.86 | I8: =IF(E8="","",IF(F8="","",IF(G8="","",MIN(E8:H8)))) -> 9.86 | L8: =(IF(L$1=$A8,B8,"")) -> 25 | M8: =(IF(L$1=$A8,C8&" "&D8,"")) -> PILOTE 25 P25 | N8: =(IF(L$1=$A8,I8,"")) -> 9.86 | O8: =(IF(O$1=$A8,$B8,"")) | P8: =(IF(O$1=$A8,$C8&" "&D8,"")) | Q8: =(IF(O$1=$A8,$I8,"")) | R8: =(IF(R$1=$A8,$B8,"")) | S8: =(IF(R$1=$A8,$C8&" "&D8,"")) | T8: =(IF(R$1=$A8,$I8,"")) | U8: =(IF(U$1=$A8,$B8,"")) | V8: =(IF(U$1=$A8,$C8&" "&D8,"")) | W8: =(IF(U$1=$A8,$I8,"")) | X8: =(IF(X$1=$A8,$B8,"")) | Y8: =(IF(X$1=$A8,$C8&" "&D8,"")) | Z8: =(IF(X$1=$A8,$I8,"")) | AA8: =(IF(AA$1=$A8,$B8,"")) | AB8: =(IF(AA$1=$A8,$C8&" "&D8,"")) | AC8: =(IF(AA$1=$A8,$I8,"")) | AD8: =(IF(AD$1=$A8,$B8,"")) | AE8: =(IF(AD$1=$A8,$C8&" "&D8,"")) | AF8: =(IF(AD$1=$A8,$I8,""))
A9: SUPER GAZ | B9: 10 | C9: PILOTE 10 | D9: P10 | E9: 9.87 | F9: 9.87 | G9: 9.87 | I9: =IF(E9="","",IF(F9="","",IF(G9="","",MIN(E9:H9)))) -> 9.87 | L9: =(IF(L$1=$A9,B9,"")) -> 10 | M9: =(IF(L$1=$A9,C9&" "&D9,"")) -> PILOTE 10 P10 | N9: =(IF(L$1=$A9,I9,"")) -> 9.87 | O9: =(IF(O$1=$A9,$B9,"")) | P9: =(IF(O$1=$A9,$C9&" "&D9,"")) | Q9: =(IF(O$1=$A9,$I9,"")) | R9: =(IF(R$1=$A9,$B9,"")) | S9: =(IF(R$1=$A9,$C9&" "&D9,"")) | T9: =(IF(R$1=$A9,$I9,"")) | U9: =(IF(U$1=$A9,$B9,"")) | V9: =(IF(U$1=$A9,$C9&" "&D9,"")) | W9: =(IF(U$1=$A9,$I9,"")) | X9: =(IF(X$1=$A9,$B9,"")) | Y9: =(IF(X$1=$A9,$C9&" "&D9,"")) | Z9: =(IF(X$1=$A9,$I9,"")) | AA9: =(IF(AA$1=$A9,$B9,"")) | AB9: =(IF(AA$1=$A9,$C9&" "&D9,"")) | AC9: =(IF(AA$1=$A9,$I9,"")) | AD9: =(IF(AD$1=$A9,$B9,"")) | AE9: =(IF(AD$1=$A9,$C9&" "&D9,"")) | AF9: =(IF(AD$1=$A9,$I9,""))
A10: STREET RUN A | E10: 5 | F10: 5.45 | G10: 2 | I10: =IF(E10="","",IF(F10="","",IF(G10="","",MIN(E10:H10)))) -> 2 | L10: =(IF(L$1=$A10,B10,"")) | M10: =(IF(L$1=$A10,C10&" "&D10,"")) | N10: =(IF(L$1=$A10,I10,"")) | O10: =(IF(O$1=$A10,$B10,"")) | P10: =(IF(O$1=$A10,$C10&" "&D10,"")) | Q10: =(IF(O$1=$A10,$I10,"")) | R10: =(IF(R$1=$A10,$B10,"")) -> 0 | S10: =(IF(R$1=$A10,$C10&" "&G10,"")) -> 2 | T10: =(IF(R$1=$A10,$I10,"")) -> 2 | U10: =(IF(U$1=$A10,$B10,"")) | V10: =(IF(U$1=$A10,$C10&" "&D10,"")) | W10: =(IF(U$1=$A10,$I10,"")) | X10: =(IF(X$1=$A10,$B10,"")) | Y10: =(IF(X$1=$A10,$C10&" "&D10,"")) | Z10: =(IF(X$1=$A10,$I10,"")) | AA10: =(IF(AA$1=$A10,$B10,"")) | AB10: =(IF(AA$1=$A10,$C10&" "&D10,"")) | AC10: =(IF(AA$1=$A10,$I10,"")) | AD10: =(IF(AD$1=$A10,$B10,"")) | AE10: =(IF(AD$1=$A10,$C10&" "&D10,"")) | AF10: =(IF(AD$1=$A10,$I10,""))
A11: STREET RUN D | B11: 1 | C11: PILOTE 1 | D11: P1 | E11: 9.05 | F11: 9.87 | G11: 8.98 | I11: =IF(E11="","",IF(F11="","",IF(G11="","",MIN(E11:H11)))) -> 8.98 | L11: =(IF(L$1=$A11,B11,"")) | M11: =(IF(L$1=$A11,C11&" "&D11,"")) | N11: =(IF(L$1=$A11,I11,"")) | O11: =(IF(O$1=$A11,$B11,"")) | P11: =(IF(O$1=$A11,$C11&" "&D11,"")) | Q11: =(IF(O$1=$A11,$I11,"")) | R11: =(IF(R$1=$A11,$B11,"")) | S11: =(IF(R$1=$A11,$C11&" "&D11,"")) | T11: =(IF(R$1=$A11,$I11,"")) | U11: =(IF(U$1=$A11,$B11,"")) | V11: =(IF(U$1=$A11,$C11&" "&D11,"")) | W11: =(IF(U$1=$A11,$I11,"")) | X11: =(IF(X$1=$A11,$B11,"")) | Y11: =(IF(X$1=$A11,$C11&" "&D11,"")) | Z11: =(IF(X$1=$A11,$I11,"")) | AA11: =(IF(AA$1=$A11,$B11,"")) -> 1 | AB11: =(IF(AA$1=$A11,$C11&" "&D11,"")) -> PILOTE 1 P1 | AC11: =(IF(AA$1=$A11,$I11,"")) -> 8.98 | AD11: =(IF(AD$1=$A11,$B11,"")) | AE11: =(IF(AD$1=$A11,$C11&" "&D11,"")) | AF11: =(IF(AD$1=$A11,$I11,""))
A12: STREET RUN A | B12: 28 | C12: PILOTE 28 | D12: P28 | E12: 10.11 | F12: 9.001 | G12: 8.98 | I12: =IF(E12="","",IF(F12="","",IF(G12="","",MIN(E12:H12)))) -> 8.98 | L12: =(IF(L$1=$A12,B12,"")) | M12: =(IF(L$1=$A12,C12&" "&D12,"")) | N12: =(IF(L$1=$A12,I12,"")) | O12: =(IF(O$1=$A12,$B12,"")) | P12: =(IF(O$1=$A12,$C12&" "&D12,"")) | Q12: =(IF(O$1=$A12,$I12,"")) | R12: =(IF(R$1=$A12,$B12,"")) -> 28 | S12: =(IF(R$1=$A12,$C12&" "&D12,"")) -> PILOTE 28 P28 | T12: =(IF(R$1=$A12,$I12,"")) -> 8.98 | U12: =(IF(U$1=$A12,$B12,"")) | V12: =(IF(U$1=$A12,$C12&" "&D12,"")) | W12: =(IF(U$1=$A12,$I12,"")) | X12: =(IF(X$1=$A12,$B12,"")) | Y12: =(IF(X$1=$A12,$C12&" "&D12,"")) | Z12: =(IF(X$1=$A12,$I12,"")) | AA12: =(IF(AA$1=$A12,$B12,"")) | AB12: =(IF(AA$1=$A12,$C12&" "&D12,"")) | AC12: =(IF(AA$1=$A12,$I12,"")) | AD12: =(IF(AD$1=$A12,$B12,"")) | AE12: =(IF(AD$1=$A12,$C12&" "&D12,"")) | AF12: =(IF(AD$1=$A12,$I12,""))
A13: STREET RUN B | B13: 11 | C13: PILOTE 11 | D13: P11 | E13: 9.4 | F13: 9.002 | G13: 9.85 | I13: =IF(E13="","",IF(F13="","",IF(G13="","",MIN(E13:H13)))) -> 9.002 | L13: =(IF(L$1=$A13,B13,"")) | M13: =(IF(L$1=$A13,C13&" "&D13,"")) | N13: =(IF(L$1=$A13,I13,"")) | O13: =(IF(O$1=$A13,$B13,"")) | P13: =(IF(O$1=$A13,$C13&" "&D13,"")) | Q13: =(IF(O$1=$A13,$I13,"")) | R13: =(IF(R$1=$A13,$B13,"")) | S13: =(IF(R$1=$A13,$C13&" "&D13,"")) | T13: =(IF(R$1=$A13,$I13,"")) | U13: =(IF(U$1=$A13,$B13,"")) -> 11 | V13: =(IF(U$1=$A13,$C13&" "&D13,"")) -> PILOTE 11 P11 | W13: =(IF(U$1=$A13,$I13,"")) -> 9.002 | X13: =(IF(X$1=$A13,$B13,"")) | Y13: =(IF(X$1=$A13,$C13&" "&D13,"")) | Z13: =(IF(X$1=$A13,$I13,"")) | AA13: =(IF(AA$1=$A13,$B13,"")) | AB13: =(IF(AA$1=$A13,$C13&" "&D13,"")) | AC13: =(IF(AA$1=$A13,$I13,"")) | AD13: =(IF(AD$1=$A13,$B13,"")) | AE13: =(IF(AD$1=$A13,$C13&" "&D13,"")) | AF13: =(IF(AD$1=$A13,$I13,""))
A14: STREET RUN B | B14: 3 | C14: PILOTE 3 | D14: P3 | E14: 9.007 | F14: 9.73 | G14: 9.65 | I14: =IF(E14="","",IF(F14="","",IF(G14="","",MIN(E14:H14)))) -> 9.007 | L14: =(IF(L$1=$A14,B14,"")) | M14: =(IF(L$1=$A14,C14&" "&D14,"")) | N14: =(IF(L$1=$A14,I14,"")) | O14: =(IF(O$1=$A14,$B14,"")) | P14: =(IF(O$1=$A14,$C14&" "&D14,"")) | Q14: =(IF(O$1=$A14,$I14,"")) | R14: =(IF(R$1=$A14,$B14,"")) | S14: =(IF(R$1=$A14,$C14&" "&D14,"")) | T14: =(IF(R$1=$A14,$I14,"")) | U14: =(IF(U$1=$A14,$B14,"")) -> 3 | V14: =(IF(U$1=$A14,$C14&" "&D14,"")) -> PILOTE 3 P3 | W14: =(IF(U$1=$A14,$I14,"")) -> 9.007 | X14: =(IF(X$1=$A14,$B14,"")) | Y14: =(IF(X$1=$A14,$C14&" "&D14,"")) | Z14: =(IF(X$1=$A14,$I14,"")) | AA14: =(IF(AA$1=$A14,$B14,"")) | AB14: =(IF(AA$1=$A14,$C14&" "&D14,"")) | AC14: =(IF(AA$1=$A14,$I14,"")) | AD14: =(IF(AD$1=$A14,$B14,"")) | AE14: =(IF(AD$1=$A14,$C14&" "&D14,"")) | AF14: =(IF(AD$1=$A14,$I14,""))
A15: STREET RUN B | B15: 21 | C15: PILOTE 21 | D15: P21 | E15: 9.65 | F15: 9.008 | G15: 9.7 | I15: =IF(E15="","",IF(F15="","",IF(G15="","",MIN(E15:H15)))) -> 9.008 | L15: =(IF(L$1=$A15,B15,"")) | M15: =(IF(L$1=$A15,C15&" "&D15,"")) | N15: =(IF(L$1=$A15,I15,"")) | O15: =(IF(O$1=$A15,$B15,"")) | P15: =(IF(O$1=$A15,$C15&" "&D15,"")) | Q15: =(IF(O$1=$A15,$I15,"")) | R15: =(IF(R$1=$A15,$B15,"")) | S15: =(IF(R$1=$A15,$C15&" "&D15,"")) | T15: =(IF(R$1=$A15,$I15,"")) | U15: =(IF(U$1=$A15,$B15,"")) -> 21 | V15: =(IF(U$1=$A15,$C15&" "&D15,"")) -> PILOTE 21 P21 | W15: =(IF(U$1=$A15,$I15,"")) -> 9.008 | X15: =(IF(X$1=$A15,$B15,"")) | Y15: =(IF(X$1=$A15,$C15&" "&D15,"")) | Z15: =(IF(X$1=$A15,$I15,"")) | AA15: =(IF(AA$1=$A15,$B15,"")) | AB15: =(IF(AA$1=$A15,$C15&" "&D15,"")) | AC15: =(IF(AA$1=$A15,$I15,"")) | AD15: =(IF(AD$1=$A15,$B15,"")) | AE15: =(IF(AD$1=$A15,$C15&" "&D15,"")) | AF15: =(IF(AD$1=$A15,$I15,""))
A16: STREET RUN B | B16: 19 | C16: PILOTE 19 | D16: P19 | E16: 10.002 | F16: 9.05 | G16: 10.54 | I16: =IF(E16="","",IF(F16="","",IF(G16="","",MIN(E16:H16)))) -> 9.05 | L16: =(IF(L$1=$A16,B16,"")) | M16: =(IF(L$1=$A16,C16&" "&D16,"")) | N16: =(IF(L$1=$A16,I16,"")) | O16: =(IF(O$1=$A16,$B16,"")) | P16: =(IF(O$1=$A16,$C16&" "&D16,"")) | Q16: =(IF(O$1=$A16,$I16,"")) | R16: =(IF(R$1=$A16,$B16,"")) | S16: =(IF(R$1=$A16,$C16&" "&D16,"")) | T16: =(IF(R$1=$A16,$I16,"")) | U16: =(IF(U$1=$A16,$B16,"")) -> 19 | V16: =(IF(U$1=$A16,$C16&" "&D16,"")) -> PILOTE 19 P19 | W16: =(IF(U$1=$A16,$I16,"")) -> 9.05 | X16: =(IF(X$1=$A16,$B16,"")) | Y16: =(IF(X$1=$A16,$C16&" "&D16,"")) | Z16: =(IF(X$1=$A16,$I16,"")) | AA16: =(IF(AA$1=$A16,$B16,"")) | AB16: =(IF(AA$1=$A16,$C16&" "&D16,"")) | AC16: =(IF(AA$1=$A16,$I16,"")) | AD16: =(IF(AD$1=$A16,$B16,"")) | AE16: =(IF(AD$1=$A16,$C16&" "&D16,"")) | AF16: =(IF(AD$1=$A16,$I16,""))
A17: STREET RUN B | B17: 38 | C17: PILOTE 38 | D17: P38 | E17: 10.002 | F17: 9.05 | G17: 10.54 | I17: =IF(E17="","",IF(F17="","",IF(G17="","",MIN(E17:H17)))) -> 9.05 | L17: =(IF(L$1=$A17,B17,"")) | M17: =(IF(L$1=$A17,C17&" "&D17,"")) | N17: =(IF(L$1=$A17,I17,"")) | O17: =(IF(O$1=$A17,$B17,"")) | P17: =(IF(O$1=$A17,$C17&" "&D17,"")) | Q17: =(IF(O$1=$A17,$I17,"")) | R17: =(IF(R$1=$A17,$B17,"")) | S17: =(IF(R$1=$A17,$C17&" "&D17,"")) | T17: =(IF(R$1=$A17,$I17,"")) | U17: =(IF(U$1=$A17,$B17,"")) -> 38 | V17: =(IF(U$1=$A17,$C17&" "&D17,"")) -> PILOTE 38 P38 | W17: =(IF(U$1=$A17,$I17,"")) -> 9.05 | X17: =(IF(X$1=$A17,$B17,"")) | Y17: =(IF(X$1=$A17,$C17&" "&D17,"")) | Z17: =(IF(X$1=$A17,$I17,"")) | AA17: =(IF(AA$1=$A17,$B17,"")) | AB17: =(IF(AA$1=$A17,$C17&" "&D17,"")) | AC17: =(IF(AA$1=$A17,$I17,"")) | AD17: =(IF(AD$1=$A17,$B17,"")) | AE17: =(IF(AD$1=$A17,$C17&" "&D17,"")) | AF17: =(IF(AD$1=$A17,$I17,""))
A18: STREET RUN B | B18: 4 | C18: PILOTE 4 | D18: P4 | E18: 9.056 | F18: 9.87 | G18: 9.74 | I18: =IF(E18="","",IF(F18="","",IF(G18="","",MIN(E18:H18)))) -> 9.056 | L18: =(IF(L$1=$A18,B18,"")) | M18: =(IF(L$1=$A18,C18&" "&D18,"")) | N18: =(IF(L$1=$A18,I18,"")) | O18: =(IF(O$1=$A18,$B18,"")) | P18: =(IF(O$1=$A18,$C18&" "&D18,"")) | Q18: =(IF(O$1=$A18,$I18,"")) | R18: =(IF(R$1=$A18,$B18,"")) | S18: =(IF(R$1=$A18,$C18&" "&D18,"")) | T18: =(IF(R$1=$A18,$I18,"")) | U18: =(IF(U$1=$A18,$B18,"")) -> 4 | V18: =(IF(U$1=$A18,$C18&" "&D18,"")) -> PILOTE 4 P4 | W18: =(IF(U$1=$A18,$I18,"")) -> 9.056 | X18: =(IF(X$1=$A18,$B18,"")) | Y18: =(IF(X$1=$A18,$C18&" "&D18,"")) | Z18: =(IF(X$1=$A18,$I18,"")) | AA18: =(IF(AA$1=$A18,$B18,"")) | AB18: =(IF(AA$1=$A18,$C18&" "&D18,"")) | AC18: =(IF(AA$1=$A18,$I18,"")) | AD18: =(IF(AD$1=$A18,$B18,"")) | AE18: =(IF(AD$1=$A18,$C18&" "&D18,"")) | AF18: =(IF(AD$1=$A18,$I18,""))
A19: STREET RUN A | B19: 22 | C19: PILOTE 22 | D19: P22 | E19: 9.4 | F19: 9.058 | G19: 9.8 | I19: =IF(E19="","",IF(F19="","",IF(G19="","",MIN(E19:H19)))) -> 9.058 | L19: =(IF(L$1=$A19,B19,"")) | M19: =(IF(L$1=$A19,C19&" "&D19,"")) | N19: =(IF(L$1=$A19,I19,"")) | O19: =(IF(O$1=$A19,$B19,"")) | P19: =(IF(O$1=$A19,$C19&" "&D19,"")) | Q19: =(IF(O$1=$A19,$I19,"")) | R19: =(IF(R$1=$A19,$B19,"")) | S19: =(IF(R$1=$A19,$C19&" "&D19,"")) | T19: =(IF(R$1=$A19,$I19,"")) | U19: =(IF(U$1=$A19,$B19,"")) | V19: =(IF(U$1=$A19,$C19&" "&D19,"")) | W19: =(IF(U$1=$A19,$I19,"")) | X19: =(IF(X$1=$A19,$B19,"")) | Y19: =(IF(X$1=$A19,$C19&" "&D19,"")) | Z19: =(IF(X$1=$A19,$I19,"")) | AA19: =(IF(AA$1=$A19,$B19,"")) | AB19: =(IF(AA$1=$A19,$C19&" "&D19,"")) | AC19: =(IF(AA$1=$A19,$I19,"")) | AD19: =(IF(AD$1=$A19,$B19,"")) | AE19: =(IF(AD$1=$A19,$C19&" "&D19,"")) | AF19: =(IF(AD$1=$A19,$I19,""))
A20: SUPER STREET | B20: 37 | C20: PILOTE 37 | D20: P37 | E20: 9.65 | F20: 9.08 | G20: 9.7 | I20: =IF(E20="","",IF(F20="","",IF(G20="","",MIN(E20:H20)))) -> 9.08 | L20: =(IF(L$1=$A20,B20,"")) | M20: =(IF(L$1=$A20,C20&" "&D20,"")) | N20: =(IF(L$1=$A20,I20,"")) | O20: =(IF(O$1=$A20,$B20,"")) -> 37 | P20: =(IF(O$1=$A20,$C20&" "&D20,"")) -> PILOTE 37 P37 | Q20: =(IF(O$1=$A20,$I20,"")) -> 9.08 | R20: =(IF(R$1=$A20,$B20,"")) | S20: =(IF(R$1=$A20,$C20&" "&D20,"")) | T20: =(IF(R$1=$A20,$I20,"")) | U20: =(IF(U$1=$A20,$B20,"")) | V20: =(IF(U$1=$A20,$C20&" "&D20,"")) | W20: =(IF(U$1=$A20,$I20,"")) | X20: =(IF(X$1=$A20,$B20,"")) | Y20: =(IF(X$1=$A20,$C20&" "&D20,"")) | Z20: =(IF(X$1=$A20,$I20,"")) | AA20: =(IF(AA$1=$A20,$B20,"")) | AB20: =(IF(AA$1=$A20,$C20&" "&D20,"")) | AC20: =(IF(AA$1=$A20,$I20,"")) | AD20: =(IF(AD$1=$A20,$B20,"")) | AE20: =(IF(AD$1=$A20,$C20&" "&D20,"")) | AF20: =(IF(AD$1=$A20,$I20,""))
A21: SUPER STREET | B21: 5 | C21: PILOTE 5 | D21: P5 | E21: 9.67 | F21: 9.125 | G21: 9.997 | I21: =IF(E21="","",IF(F21="","",IF(G21="","",MIN(E21:H21)))) -> 9.125 | L21: =(IF(L$1=$A21,B21,"")) | M21: =(IF(L$1=$A21,C21&" "&D21,"")) | N21: =(IF(L$1=$A21,I21,"")) | O21: =(IF(O$1=$A21,$B21,"")) -> 5 | P21: =(IF(O$1=$A21,$C21&" "&D21,"")) -> PILOTE 5 P5 | Q21: =(IF(O$1=$A21,$I21,"")) -> 9.125 | R21: =(IF(R$1=$A21,$B21,"")) | S21: =(IF(R$1=$A21,$C21&" "&D21,"")) | T21: =(IF(R$1=$A21,$I21,"")) | U21: =(IF(U$1=$A21,$B21,"")) | V21: =(IF(U$1=$A21,$C21&" "&D21,"")) | W21: =(IF(U$1=$A21,$I21,"")) | X21: =(IF(X$1=$A21,$B21,"")) | Y21: =(IF(X$1=$A21,$C21&" "&D21,"")) | Z21: =(IF(X$1=$A21,$I21,"")) | AA21: =(IF(AA$1=$A21,$B21,"")) | AB21: =(IF(AA$1=$A21,$C21&" "&D21,"")) | AC21: =(IF(AA$1=$A21,$I21,"")) | AD21: =(IF(AD$1=$A21,$B21,"")) | AE21: =(IF(AD$1=$A21,$C21&" "&D21,"")) | AF21: =(IF(AD$1=$A21,$I21,""))
A22: SUPER STREET | B22: 14 | C22: PILOTE 14 | D22: P14 | E22: 9.128 | F22: 9.289 | G22: 9.8 | I22: =IF(E22="","",IF(F22="","",IF(G22="","",MIN(E22:H22)))) -> 9.128 | L22: =(IF(L$1=$A22,B22,"")) | M22: =(IF(L$1=$A22,C22&" "&D22,"")) | N22: =(IF(L$1=$A22,I22,"")) | O22: =(IF(O$1=$A22,$B22,"")) -> 14 | P22: =(IF(O$1=$A22,$C22&" "&D22,"")) -> PILOTE 14 P14 | Q22: =(IF(O$1=$A22,$I22,"")) -> 9.128 | R22: =(IF(R$1=$A22,$B22,"")) | S22: =(IF(R$1=$A22,$C22&" "&D22,"")) | T22: =(IF(R$1=$A22,$I22,"")) | U22: =(IF(U$1=$A22,$B22,"")) | V22: =(IF(U$1=$A22,$C22&" "&D22,"")) | W22: =(IF(U$1=$A22,$I22,"")) | X22: =(IF(X$1=$A22,$B22,"")) | Y22: =(IF(X$1=$A22,$C22&" "&D22,"")) | Z22: =(IF(X$1=$A22,$I22,"")) | AA22: =(IF(AA$1=$A22,$B22,"")) | AB22: =(IF(AA$1=$A22,$C22&" "&D22,"")) | AC22: =(IF(AA$1=$A22,$I22,"")) | AD22: =(IF(AD$1=$A22,$B22,"")) | AE22: =(IF(AD$1=$A22,$C22&" "&D22,"")) | AF22: =(IF(AD$1=$A22,$I22,""))
... A42: STREET RUN E | B42: 35 | C42: PILOTE 35 | D42: P35 | E42: 10.54 | F42: 10.54 | G42: 10.54 | I42: =IF(E42="","",IF(F42="","",IF(G42="","",MIN(E42:H42)))) -> 10.54 | L42: =(IF(L$1=$A42,B42,"")) | M42: =(IF(L$1=$A42,C42&" "&D42,"")) | N42: =(IF(L$1=$A42,I42,"")) | O42: =(IF(O$1=$A42,$B42,"")) | P42: =(IF(O$1=$A42,$C42&" "&D42,"")) | Q42: =(IF(O$1=$A42,$I42,"")) | R42: =(IF(R$1=$A42,$B42,"")) | S42: =(IF(R$1=$A42,$C42&" "&D42,"")) | T42: =(IF(R$1=$A42,$I42,"")) | U42: =(IF(U$1=$A42,$B42,"")) | V42: =(IF(U$1=$A42,$C42&" "&D42,"")) | W42: =(IF(U$1=$A42,$I42,"")) | X42: =(IF(X$1=$A42,$B42,"")) | Y42: =(IF(X$1=$A42,$C42&" "&D42,"")) | Z42: =(IF(X$1=$A42,$I42,"")) | AA42: =(IF(AA$1=$A42,$B42,"")) | AB42: =(IF(AA$1=$A42,$C42&" "&D42,"")) | AC42: =(IF(AA$1=$A42,$I42,"")) | AD42: =(IF(AD$1=$A42,$B42,"")) -> 35 | AE42: =(IF(AD$1=$A42,$C42&" "&D42,"")) -> PILOTE 35 P35 | AF42: =(IF(AD$1=$A42,$I42,"")) -> 10.54
I43: =IF(E43="","",IF(F43="","",IF(G43="","",MIN(E43:H43)))) | L43: =(IF(L$1=$A43,B43,"")) | M43: =(IF(L$1=$A43,C43&" "&D43,"")) | N43: =(IF(L$1=$A43,I43,"")) | O43: =(IF(O$1=$A43,$B43,"")) | P43: =(IF(O$1=$A43,$C43&" "&D43,"")) | Q43: =(IF(O$1=$A43,$I43,"")) | R43: =(IF(R$1=$A43,$B43,"")) | S43: =(IF(R$1=$A43,$C43&" "&D43,"")) | T43: =(IF(R$1=$A43,$I43,"")) | U43: =(IF(U$1=$A43,$B43,"")) | V43: =(IF(U$1=$A43,$C43&" "&D43,"")) | W43: =(IF(U$1=$A43,$I43,"")) | X43: =(IF(X$1=$A43,$B43,"")) | Y43: =(IF(X$1=$A43,$C43&" "&D43,"")) | Z43: =(IF(X$1=$A43,$I43,"")) | AA43: =(IF(AA$1=$A43,$B43,"")) | AB43: =(IF(AA$1=$A43,$C43&" "&D43,"")) | AC43: =(IF(AA$1=$A43,$I43,"")) | AD43: =(IF(AD$1=$A43,$B43,"")) | AE43: =(IF(AD$1=$A43,$C43&" "&D43,"")) | AF43: =(IF(AD$1=$A43,$I43,""))
I44: =IF(E44="","",IF(F44="","",IF(G44="","",MIN(E44:H44)))) | L44: =(IF(L$1=$A44,B44,"")) | M44: =(IF(L$1=$A44,C44&" "&D44,"")) | N44: =(IF(L$1=$A44,I44,"")) | O44: =(IF(O$1=$A44,$B44,"")) | P44: =(IF(O$1=$A44,$C44&" "&D44,"")) | Q44: =(IF(O$1=$A44,$I44,"")) | R44: =(IF(R$1=$A44,$B44,"")) | S44: =(IF(R$1=$A44,$C44&" "&D44,"")) | T44: =(IF(R$1=$A44,$I44,"")) | U44: =(IF(U$1=$A44,$B44,"")) | V44: =(IF(U$1=$A44,$C44&" "&D44,"")) | W44: =(IF(U$1=$A44,$I44,"")) | X44: =(IF(X$1=$A44,$B44,"")) | Y44: =(IF(X$1=$A44,$C44&" "&D44,"")) | Z44: =(IF(X$1=$A44,$I44,"")) | AA44: =(IF(AA$1=$A44,$B44,"")) | AB44: =(IF(AA$1=$A44,$C44&" "&D44,"")) | AC44: =(IF(AA$1=$A44,$I44,"")) | AD44: =(IF(AD$1=$A44,$B44,"")) | AE44: =(IF(AD$1=$A44,$C44&" "&D44,"")) | AF44: =(IF(AD$1=$A44,$I44,""))
I45: =IF(E45="","",IF(F45="","",IF(G45="","",MIN(E45:H45)))) | L45: =(IF(L$1=$A45,B45,"")) | M45: =(IF(L$1=$A45,C45&" "&D45,"")) | N45: =(IF(L$1=$A45,I45,"")) | O45: =(IF(O$1=$A45,$B45,"")) | P45: =(IF(O$1=$A45,$C45&" "&D45,"")) | Q45: =(IF(O$1=$A45,$I45,"")) | R45: =(IF(R$1=$A45,$B45,"")) | S45: =(IF(R$1=$A45,$C45&" "&D45,"")) | T45: =(IF(R$1=$A45,$I45,"")) | U45: =(IF(U$1=$A45,$B45,"")) | V45: =(IF(U$1=$A45,$C45&" "&D45,"")) | W45: =(IF(U$1=$A45,$I45,"")) | X45: =(IF(X$1=$A45,$B45,"")) | Y45: =(IF(X$1=$A45,$C45&" "&D45,"")) | Z45: =(IF(X$1=$A45,$I45,"")) | AA45: =(IF(AA$1=$A45,$B45,"")) | AB45: =(IF(AA$1=$A45,$C45&" "&D45,"")) | AC45: =(IF(AA$1=$A45,$I45,"")) | AD45: =(IF(AD$1=$A45,$B45,"")) | AE45: =(IF(AD$1=$A45,$C45&" "&D45,"")) | AF45: =(IF(AD$1=$A45,$I45,""))
I46: =IF(E46="","",IF(F46="","",IF(G46="","",MIN(E46:H46)))) | L46: =(IF(L$1=$A46,B46,"")) | M46: =(IF(L$1=$A46,C46&" "&D46,"")) | N46: =(IF(L$1=$A46,I46,"")) | O46: =(IF(O$1=$A46,$B46,"")) | P46: =(IF(O$1=$A46,$C46&" "&D46,"")) | Q46: =(IF(O$1=$A46,$I46,"")) | R46: =(IF(R$1=$A46,$B46,"")) | S46: =(IF(R$1=$A46,$C46&" "&D46,"")) | T46: =(IF(R$1=$A46,$I46,"")) | U46: =(IF(U$1=$A46,$B46,"")) | V46: =(IF(U$1=$A46,$C46&" "&D46,"")) | W46: =(IF(U$1=$A46,$I46,"")) | X46: =(IF(X$1=$A46,$B46,"")) | Y46: =(IF(X$1=$A46,$C46&" "&D46,"")) | Z46: =(IF(X$1=$A46,$I46,"")) | AA46: =(IF(AA$1=$A46,$B46,"")) | AB46: =(IF(AA$1=$A46,$C46&" "&D46,"")) | AC46: =(IF(AA$1=$A46,$I46,"")) | AD46: =(IF(AD$1=$A46,$B46,"")) | AE46: =(IF(AD$1=$A46,$C46&" "&D46,"")) | AF46: =(IF(AD$1=$A46,$I46,""))
I47: =IF(E47="","",IF(F47="","",IF(G47="","",MIN(E47:H47)))) | L47: =(IF(L$1=$A47,B47,"")) | M47: =(IF(L$1=$A47,C47&" "&D47,"")) | N47: =(IF(L$1=$A47,I47,"")) | O47: =(IF(O$1=$A47,$B47,"")) | P47: =(IF(O$1=$A47,$C47&" "&D47,"")) | Q47: =(IF(O$1=$A47,$I47,"")) | R47: =(IF(R$1=$A47,$B47,"")) | S47: =(IF(R$1=$A47,$C47&" "&D47,"")) | T47: =(IF(R$1=$A47,$I47,"")) | U47: =(IF(U$1=$A47,$B47,"")) | V47: =(IF(U$1=$A47,$C47&" "&D47,"")) | W47: =(IF(U$1=$A47,$I47,"")) | X47: =(IF(X$1=$A47,$B47,"")) | Y47: =(IF(X$1=$A47,$C47&" "&D47,"")) | Z47: =(IF(X$1=$A47,$I47,"")) | AA47: =(IF(AA$1=$A47,$B47,"")) | AB47: =(IF(AA$1=$A47,$C47&" "&D47,"")) | AC47: =(IF(AA$1=$A47,$I47,"")) | AD47: =(IF(AD$1=$A47,$B47,"")) | AE47: =(IF(AD$1=$A47,$C47&" "&D47,"")) | AF47: =(IF(AD$1=$A47,$I47,""))
I48: =IF(E48="","",IF(F48="","",IF(G48="","",MIN(E48:H48)))) | L48: =(IF(L$1=$A48,B48,"")) | M48: =(IF(L$1=$A48,C48&" "&D48,"")) | N48: =(IF(L$1=$A48,I48,"")) | O48: =(IF(O$1=$A48,$B48,"")) | P48: =(IF(O$1=$A48,$C48&" "&D48,"")) | Q48: =(IF(O$1=$A48,$I48,"")) | R48: =(IF(R$1=$A48,$B48,"")) | S48: =(IF(R$1=$A48,$C48&" "&D48,"")) | T48: =(IF(R$1=$A48,$I48,"")) | U48: =(IF(U$1=$A48,$B48,"")) | V48: =(IF(U$1=$A48,$C48&" "&D48,"")) | W48: =(IF(U$1=$A48,$I48,"")) | X48: =(IF(X$1=$A48,$B48,"")) | Y48: =(IF(X$1=$A48,$C48&" "&D48,"")) | Z48: =(IF(X$1=$A48,$I48,"")) | AA48: =(IF(AA$1=$A48,$B48,"")) | AB48: =(IF(AA$1=$A48,$C48&" "&D48,"")) | AC48: =(IF(AA$1=$A48,$I48,"")) | AD48: =(IF(AD$1=$A48,$B48,"")) | AE48: =(IF(AD$1=$A48,$C48&" "&D48,"")) | AF48: =(IF(AD$1=$A48,$I48,""))
I49: =IF(E49="","",IF(F49="","",IF(G49="","",MIN(E49:H49)))) | L49: =(IF(L$1=$A49,B49,"")) | M49: =(IF(L$1=$A49,C49&" "&D49,"")) | N49: =(IF(L$1=$A49,I49,"")) | O49: =(IF(O$1=$A49,$B49,"")) | P49: =(IF(O$1=$A49,$C49&" "&D49,"")) | Q49: =(IF(O$1=$A49,$I49,"")) | R49: =(IF(R$1=$A49,$B49,"")) | S49: =(IF(R$1=$A49,$C49&" "&D49,"")) | T49: =(IF(R$1=$A49,$I49,"")) | U49: =(IF(U$1=$A49,$B49,"")) | V49: =(IF(U$1=$A49,$C49&" "&D49,"")) | W49: =(IF(U$1=$A49,$I49,"")) | X49: =(IF(X$1=$A49,$B49,"")) | Y49: =(IF(X$1=$A49,$C49&" "&D49,"")) | Z49: =(IF(X$1=$A49,$I49,"")) | AA49: =(IF(AA$1=$A49,$B49,"")) | AB49: =(IF(AA$1=$A49,$C49&" "&D49,"")) | AC49: =(IF(AA$1=$A49,$I49,"")) | AD49: =(IF(AD$1=$A49,$B49,"")) | AE49: =(IF(AD$1=$A49,$C49&" "&D49,"")) | AF49: =(IF(AD$1=$A49,$I49,""))
I50: =IF(E50="","",IF(F50="","",IF(G50="","",MIN(E50:H50)))) | L50: =(IF(L$1=$A50,B50,"")) | M50: =(IF(L$1=$A50,C50&" "&D50,"")) | N50: =(IF(L$1=$A50,I50,"")) | O50: =(IF(O$1=$A50,$B50,"")) | P50: =(IF(O$1=$A50,$C50&" "&D50,"")) | Q50: =(IF(O$1=$A50,$I50,"")) | R50: =(IF(R$1=$A50,$B50,"")) | S50: =(IF(R$1=$A50,$C50&" "&D50,"")) | T50: =(IF(R$1=$A50,$I50,"")) | U50: =(IF(U$1=$A50,$B50,"")) | V50: =(IF(U$1=$A50,$C50&" "&D50,"")) | W50: =(IF(U$1=$A50,$I50,"")) | X50: =(IF(X$1=$A50,$B50,"")) | Y50: =(IF(X$1=$A50,$C50&" "&D50,"")) | Z50: =(IF(X$1=$A50,$I50,"")) | AA50: =(IF(AA$1=$A50,$B50,"")) | AB50: =(IF(AA$1=$A50,$C50&" "&D50,"")) | AC50: =(IF(AA$1=$A50,$I50,"")) | AD50: =(IF(AD$1=$A50,$B50,"")) | AE50: =(IF(AD$1=$A50,$C50&" "&D50,"")) | AF50: =(IF(AD$1=$A50,$I50,""))
I51: =IF(E51="","",IF(F51="","",IF(G51="","",MIN(E51:H51)))) | L51: =(IF(L$1=$A51,B51,"")) | M51: =(IF(L$1=$A51,C51&" "&D51,"")) | N51: =(IF(L$1=$A51,I51,"")) | O51: =(IF(O$1=$A51,$B51,"")) | P51: =(IF(O$1=$A51,$C51&" "&D51,"")) | Q51: =(IF(O$1=$A51,$I51,"")) | R51: =(IF(R$1=$A51,$B51,"")) | S51: =(IF(R$1=$A51,$C51&" "&D51,"")) | T51: =(IF(R$1=$A51,$I51,"")) | U51: =(IF(U$1=$A51,$B51,"")) | V51: =(IF(U$1=$A51,$C51&" "&D51,"")) | W51: =(IF(U$1=$A51,$I51,"")) | X51: =(IF(X$1=$A51,$B51,"")) | Y51: =(IF(X$1=$A51,$C51&" "&D51,"")) | Z51: =(IF(X$1=$A51,$I51,"")) | AA51: =(IF(AA$1=$A51,$B51,"")) | AB51: =(IF(AA$1=$A51,$C51&" "&D51,"")) | AC51: =(IF(AA$1=$A51,$I51,"")) | AD51: =(IF(AD$1=$A51,$B51,"")) | AE51: =(IF(AD$1=$A51,$C51&" "&D51,"")) | AF51: =(IF(AD$1=$A51,$I51,""))
I52: =IF(E52="","",IF(F52="","",IF(G52="","",MIN(E52:H52)))) | L52: =(IF(L$1=$A52,B52,"")) | M52: =(IF(L$1=$A52,C52&" "&D52,"")) | N52: =(IF(L$1=$A52,I52,"")) | O52: =(IF(O$1=$A52,$B52,"")) | P52: =(IF(O$1=$A52,$C52&" "&D52,"")) | Q52: =(IF(O$1=$A52,$I52,"")) | R52: =(IF(R$1=$A52,$B52,"")) | S52: =(IF(R$1=$A52,$C52&" "&D52,"")) | T52: =(IF(R$1=$A52,$I52,"")) | U52: =(IF(U$1=$A52,$B52,"")) | V52: =(IF(U$1=$A52,$C52&" "&D52,"")) | W52: =(IF(U$1=$A52,$I52,"")) | X52: =(IF(X$1=$A52,$B52,"")) | Y52: =(IF(X$1=$A52,$C52&" "&D52,"")) | Z52: =(IF(X$1=$A52,$I52,"")) | AA52: =(IF(AA$1=$A52,$B52,"")) | AB52: =(IF(AA$1=$A52,$C52&" "&D52,"")) | AC52: =(IF(AA$1=$A52,$I52,"")) | AD52: =(IF(AD$1=$A52,$B52,"")) | AE52: =(IF(AD$1=$A52,$C52&" "&D52,"")) | AF52: =(IF(AD$1=$A52,$I52,""))
I53: =IF(E53="","",IF(F53="","",IF(G53="","",MIN(E53:H53)))) | L53: =(IF(L$1=$A53,B53,"")) | M53: =(IF(L$1=$A53,C53&" "&D53,"")) | N53: =(IF(L$1=$A53,I53,"")) | O53: =(IF(O$1=$A53,$B53,"")) | P53: =(IF(O$1=$A53,$C53&" "&D53,"")) | Q53: =(IF(O$1=$A53,$I53,"")) | R53: =(IF(R$1=$A53,$B53,"")) | S53: =(IF(R$1=$A53,$C53&" "&D53,"")) | T53: =(IF(R$1=$A53,$I53,"")) | U53: =(IF(U$1=$A53,$B53,"")) | V53: =(IF(U$1=$A53,$C53&" "&D53,"")) | W53: =(IF(U$1=$A53,$I53,"")) | X53: =(IF(X$1=$A53,$B53,"")) | Y53: =(IF(X$1=$A53,$C53&" "&D53,"")) | Z53: =(IF(X$1=$A53,$I53,"")) | AA53: =(IF(AA$1=$A53,$B53,"")) | AB53: =(IF(AA$1=$A53,$C53&" "&D53,"")) | AC53: =(IF(AA$1=$A53,$I53,"")) | AD53: =(IF(AD$1=$A53,$B53,"")) | AE53: =(IF(AD$1=$A53,$C53&" "&D53,"")) | AF53: =(IF(AD$1=$A53,$I53,""))
I54: =IF(E54="","",IF(F54="","",IF(G54="","",MIN(E54:H54)))) | L54: =(IF(L$1=$A54,B54,"")) | M54: =(IF(L$1=$A54,C54&" "&D54,"")) | N54: =(IF(L$1=$A54,I54,"")) | O54: =(IF(O$1=$A54,$B54,"")) | P54: =(IF(O$1=$A54,$C54&" "&D54,"")) | Q54: =(IF(O$1=$A54,$I54,"")) | R54: =(IF(R$1=$A54,$B54,"")) | S54: =(IF(R$1=$A54,$C54&" "&D54,"")) | T54: =(IF(R$1=$A54,$I54,"")) | U54: =(IF(U$1=$A54,$B54,"")) | V54: =(IF(U$1=$A54,$C54&" "&D54,"")) | W54: =(IF(U$1=$A54,$I54,"")) | X54: =(IF(X$1=$A54,$B54,"")) | Y54: =(IF(X$1=$A54,$C54&" "&D54,"")) | Z54: =(IF(X$1=$A54,$I54,"")) | AA54: =(IF(AA$1=$A54,$B54,"")) | AB54: =(IF(AA$1=$A54,$C54&" "&D54,"")) | AC54: =(IF(AA$1=$A54,$I54,"")) | AD54: =(IF(AD$1=$A54,$B54,"")) | AE54: =(IF(AD$1=$A54,$C54&" "&D54,"")) | AF54: =(IF(AD$1=$A54,$I54,""))
... I74: =IF(E74="","",IF(F74="","",IF(G74="","",MIN(E74:H74)))) | L74: =(IF(L$1=$A74,B74,"")) | M74: =(IF(L$1=$A74,C74&" "&D74,"")) | N74: =(IF(L$1=$A74,I74,"")) | O74: =(IF(O$1=$A74,$B74,"")) | P74: =(IF(O$1=$A74,$C74&" "&D74,"")) | Q74: =(IF(O$1=$A74,$I74,"")) | R74: =(IF(R$1=$A74,$B74,"")) | S74: =(IF(R$1=$A74,$C74&" "&D74,"")) | T74: =(IF(R$1=$A74,$I74,"")) | U74: =(IF(U$1=$A74,$B74,"")) | V74: =(IF(U$1=$A74,$C74&" "&D74,"")) | W74: =(IF(U$1=$A74,$I74,"")) | X74: =(IF(X$1=$A74,$B74,"")) | Y74: =(IF(X$1=$A74,$C74&" "&D74,"")) | Z74: =(IF(X$1=$A74,$I74,"")) | AA74: =(IF(AA$1=$A74,$B74,"")) | AB74: =(IF(AA$1=$A74,$C74&" "&D74,"")) | AC74: =(IF(AA$1=$A74,$I74,"")) | AD74: =(IF(AD$1=$A74,$B74,"")) | AE74: =(IF(AD$1=$A74,$C74&" "&D74,"")) | AF74: =(IF(AD$1=$A74,$I74,""))
L75: =(IF(L$1=$A75,B75,"")) | M75: =(IF(L$1=$A75,C75&" "&D75,"")) | N75: =(IF(L$1=$A75,I75,"")) | O75: =(IF(O$1=$A75,$B75,"")) | P75: =(IF(O$1=$A75,$C75&" "&D75,"")) | Q75: =(IF(O$1=$A75,$I75,"")) | R75: =(IF(R$1=$A75,$B75,"")) | S75: =(IF(R$1=$A75,$C75&" "&D75,"")) | T75: =(IF(R$1=$A75,$I75,"")) | U75: =(IF(U$1=$A75,$B75,"")) | V75: =(IF(U$1=$A75,$C75&" "&D75,"")) | W75: =(IF(U$1=$A75,$I75,"")) | X75: =(IF(X$1=$A75,$B75,"")) | Y75: =(IF(X$1=$A75,$C75&" "&D75,"")) | Z75: =(IF(X$1=$A75,$I75,"")) | AA75: =(IF(AA$1=$A75,$B75,"")) | AB75: =(IF(AA$1=$A75,$C75&" "&D75,"")) | AC75: =(IF(AA$1=$A75,$I75,"")) | AD75: =(IF(AD$1=$A75,$B75,"")) | AE75: =(IF(AD$1=$A75,$C75&" "&D75,"")) | AF75: =(IF(AD$1=$A75,$I75,""))
L76: =(IF(L$1=$A76,B76,"")) | M76: =(IF(L$1=$A76,C76&" "&D76,"")) | N76: =(IF(L$1=$A76,I76,"")) | O76: =(IF(O$1=$A76,$B76,"")) | P76: =(IF(O$1=$A76,$C76&" "&D76,"")) | Q76: =(IF(O$1=$A76,$I76,"")) | R76: =(IF(R$1=$A76,$B76,"")) | S76: =(IF(R$1=$A76,$C76&" "&D76,"")) | T76: =(IF(R$1=$A76,$I76,"")) | U76: =(IF(U$1=$A76,$B76,"")) | V76: =(IF(U$1=$A76,$C76&" "&D76,"")) | W76: =(IF(U$1=$A76,$I76,"")) | X76: =(IF(X$1=$A76,$B76,"")) | Y76: =(IF(X$1=$A76,$C76&" "&D76,"")) | Z76: =(IF(X$1=$A76,$I76,"")) | AA76: =(IF(AA$1=$A76,$B76,"")) | AB76: =(IF(AA$1=$A76,$C76&" "&D76,"")) | AC76: =(IF(AA$1=$A76,$I76,"")) | AD76: =(IF(AD$1=$A76,$B76,"")) | AE76: =(IF(AD$1=$A76,$C76&" "&D76,"")) | AF76: =(IF(AD$1=$A76,$I76,""))
L77: =(IF(L$1=$A77,B77,"")) | M77: =(IF(L$1=$A77,C77&" "&D77,"")) | N77: =(IF(L$1=$A77,I77,"")) | O77: =(IF(O$1=$A77,$B77,"")) | P77: =(IF(O$1=$A77,$C77&" "&D77,"")) | Q77: =(IF(O$1=$A77,$I77,"")) | R77: =(IF(R$1=$A77,$B77,"")) | S77: =(IF(R$1=$A77,$C77&" "&D77,"")) | T77: =(IF(R$1=$A77,$I77,"")) | U77: =(IF(U$1=$A77,$B77,"")) | V77: =(IF(U$1=$A77,$C77&" "&D77,"")) | W77: =(IF(U$1=$A77,$I77,"")) | X77: =(IF(X$1=$A77,$B77,"")) | Y77: =(IF(X$1=$A77,$C77&" "&D77,"")) | Z77: =(IF(X$1=$A77,$I77,"")) | AA77: =(IF(AA$1=$A77,$B77,"")) | AB77: =(IF(AA$1=$A77,$C77&" "&D77,"")) | AC77: =(IF(AA$1=$A77,$I77,"")) | AD77: =(IF(AD$1=$A77,$B77,"")) | AE77: =(IF(AD$1=$A77,$C77&" "&D77,"")) | AF77: =(IF(AD$1=$A77,$I77,""))
L78: =(IF(L$1=$A78,B78,"")) | M78: =(IF(L$1=$A78,C78&" "&D78,"")) | N78: =(IF(L$1=$A78,I78,"")) | O78: =(IF(O$1=$A78,$B78,"")) | P78: =(IF(O$1=$A78,$C78&" "&D78,"")) | Q78: =(IF(O$1=$A78,$I78,"")) | R78: =(IF(R$1=$A78,$B78,"")) | S78: =(IF(R$1=$A78,$C78&" "&D78,"")) | T78: =(IF(R$1=$A78,$I78,"")) | U78: =(IF(U$1=$A78,$B78,"")) | V78: =(IF(U$1=$A78,$C78&" "&D78,"")) | W78: =(IF(U$1=$A78,$I78,"")) | X78: =(IF(X$1=$A78,$B78,"")) | Y78: =(IF(X$1=$A78,$C78&" "&D78,"")) | Z78: =(IF(X$1=$A78,$I78,"")) | AA78: =(IF(AA$1=$A78,$B78,"")) | AB78: =(IF(AA$1=$A78,$C78&" "&D78,"")) | AC78: =(IF(AA$1=$A78,$I78,"")) | AD78: =(IF(AD$1=$A78,$B78,"")) | AE78: =(IF(AD$1=$A78,$C78&" "&D78,"")) | AF78: =(IF(AD$1=$A78,$I78,""))
L79: =(IF(L$1=$A79,B79,"")) | M79: =(IF(L$1=$A79,C79&" "&D79,"")) | N79: =(IF(L$1=$A79,I79,"")) | O79: =(IF(O$1=$A79,$B79,"")) | P79: =(IF(O$1=$A79,$C79&" "&D79,"")) | Q79: =(IF(O$1=$A79,$I79,"")) | R79: =(IF(R$1=$A79,$B79,"")) | S79: =(IF(R$1=$A79,$C79&" "&D79,"")) | T79: =(IF(R$1=$A79,$I79,"")) | U79: =(IF(U$1=$A79,$B79,"")) | V79: =(IF(U$1=$A79,$C79&" "&D79,"")) | W79: =(IF(U$1=$A79,$I79,"")) | X79: =(IF(X$1=$A79,$B79,"")) | Y79: =(IF(X$1=$A79,$C79&" "&D79,"")) | Z79: =(IF(X$1=$A79,$I79,"")) | AA79: =(IF(AA$1=$A79,$B79,"")) | AB79: =(IF(AA$1=$A79,$C79&" "&D79,"")) | AC79: =(IF(AA$1=$A79,$I79,"")) | AD79: =(IF(AD$1=$A79,$B79,"")) | AE79: =(IF(AD$1=$A79,$C79&" "&D79,"")) | AF79: =(IF(AD$1=$A79,$I79,""))
L80: =(IF(L$1=$A80,B80,"")) | M80: =(IF(L$1=$A80,C80&" "&D80,"")) | N80: =(IF(L$1=$A80,I80,"")) | O80: =(IF(O$1=$A80,$B80,"")) | P80: =(IF(O$1=$A80,$C80&" "&D80,"")) | Q80: =(IF(O$1=$A80,$I80,"")) | R80: =(IF(R$1=$A80,$B80,"")) | S80: =(IF(R$1=$A80,$C80&" "&D80,"")) | T80: =(IF(R$1=$A80,$I80,"")) | U80: =(IF(U$1=$A80,$B80,"")) | V80: =(IF(U$1=$A80,$C80&" "&D80,"")) | W80: =(IF(U$1=$A80,$I80,"")) | X80: =(IF(X$1=$A80,$B80,"")) | Y80: =(IF(X$1=$A80,$C80&" "&D80,"")) | Z80: =(IF(X$1=$A80,$I80,"")) | AA80: =(IF(AA$1=$A80,$B80,"")) | AB80: =(IF(AA$1=$A80,$C80&" "&D80,"")) | AC80: =(IF(AA$1=$A80,$I80,"")) | AD80: =(IF(AD$1=$A80,$B80,"")) | AE80: =(IF(AD$1=$A80,$C80&" "&D80,"")) | AF80: =(IF(AD$1=$A80,$I80,""))
L82: SUPER GAZ | O82: SUPER STREET | R82: STREET RUN A | U82: STREET RUN B | X82: STREET RUN C | AA82: STREET RUN D | AD82: STREET RUN E
M83: =COUNTA(M84:M113) -> 7 | P83: =COUNTA(P84:P113) -> 8 | S83: =COUNTA(S84:S113) -> 0 | V83: =COUNTA(V84:V113) -> 0 | Y83: =COUNTA(Y84:Y113) -> 0 | AB83: =COUNTA(AB84:AB113) -> 0 | AE83: =COUNTA(AE84:AE113) -> 0
K84: 1 | L84: 2 | M84: PILOTE 2 P2 | N84: 9 | O84: 1 | P84: PILOTE 1 P1 | Q84: 8.98
K85: 2 | L85: 15 | M85: PILOTE 15 P15 | N85: 9.56 | O85: 2 | P85: PILOTE 2 P2 | Q85: 9
K86: 3 | L86: 27 | M86: PILOTE 27 P27 | N86: 9.75 | O86: 28 | P86: PILOTE 28 P28 | Q86: 9.001
K87: 4 | L87: 39 | M87: PILOTE 39 P39 | N87: 9.78 | O87: 11 | P87: PILOTE 11 P11 | Q87: 9.002
K88: 5 | L88: 36 | M88: PILOTE 36 P36 | N88: 9.8 | O88: 3 | P88: PILOTE 3 P3 | Q88: 9.007
K89: 6 | L89: 25 | M89: PILOTE 25 P25 | N89: 9.86 | O89: 11 | P89: PILOTE 11 P11 | Q89: 9.002
K90: 7 | L90: 10 | M90: PILOTE 10 P10 | N90: 9.87 | O90: 11 | P90: PILOTE 11 P11 | Q90: 9.002
K91: 8 | O91: 3 | P91: PILOTE 3 P3 | Q91: 9.007
G92: , | K92: 9
K93: 10
K94: 11
K95: 12
K96: 13
A97: SUPER GAZ | K97: 14
A98: SUPER STREET | K98: 15
A99: STREET RUN A | K99: 16
A100: STREET RUN B
A101: STREET RUN C
A102: STREET RUN D
A103: STREET RUN E

Sheet SUPER GAZ
A3: =PARTICIPANTS!L1 -> SUPER GAZ | AN3: 56ème Edition | AP3: RUN TROPHY 2024 | AQ3: 60ème EDITION
AL4: 10 | AN4: 57ème Edition | AP4: RUN TROPHY 2025 | AQ4: 61ème EDITION
A5: 0.0625 | C5: N° | D5: Nom | E5: Temps | F5: Obs | G5: F-Départ | K5: N° | L5: Nom | M5: Temps | N5: Obs | O5: F-Départ | S5: N° | T5: Nom | U5: Temps | V5: Obs | W5: F-Départ | AA5: N° | AB5: Nom | AC5: Temps | AD5: Obs | AE5: F-Départ | AH5: N° | AI5: Nom | AJ5: Temps | AN5: 58ème Edition | AP5: RUN TROPHY 2026 | AQ5: 62ème EDITION
B6: Course 1 | C6: =IF(C32="","",C32) | D6: =IF(D32="","",D32) | F6: =IF(E6="","",IF(E6<$AL$4,"Eliminé",IF(G6="x","Eliminé",""))) | AN6: 59ème Edition | AP6: RUN TROPHY 2027 | AQ6: 63ème EDITION
C7: =IF(C33="","",C33) | D7: =IF(D33="","",D33) | F7: =IF(E7="","",IF(E7<$AL$4,"Eliminé",IF(G7="x","Eliminé",""))) | AN7: 60ème Edition | AP7: RUN TROPHY 2028 | AQ7: 64ème EDITION
I8: 0.25 | J8: Course 1 | K8: =IF(L8="","",IF(D6=L8,C6,IF(C6="",K32,C7))) -> 2 | L8: =_xlfn.IFS(D6="",L32,E6="","",F6="Eliminé",D7,F7="Eliminé",D6,E6<10,D7,E7<10,D6,E6<E7,D6,E7<E6,D7) -> PILOTE 2 P2 | M8: 10.011 | N8: =IF(M8="","",IF(M8<$AL$4,"Eliminé",IF(O8="x","Eliminé",""))) | AN8: 61ème Edition | AP8: RUN TROPHY 2029 | AQ8: 64ème EDITION "Jean-Marie CHATEAUNEUF"
B9: Course 2 | C9: =IF(C34="","",C34) | D9: =IF(D34="","",D34) | F9: =IF(E9="","",IF(E9<$AL$4,"Eliminé",IF(G9="x","Eliminé",""))) | K9: =IF(L9="","",IF(D9=L9,C9,IF(C9="",K33,C10))) -> 27 | L9: =_xlfn.IFS(D9="",L33,E9="","",F9="Eliminé",D10,F10="Eliminé",D9,E9<10,D10,E10<10,D9,E9<E10,D9,E10<E9,D10) -> PILOTE 27 P27 | M9: 10.021 | N9: =IF(M9="","",IF(M9<$AL$4,"Eliminé",IF(O9="x","Eliminé",""))) | AN9: 62ème Edition | AP9: RUN TROPHY 2030 | AQ9: 65ème EDITION
C10: =IF(C35="","",C35) | D10: =IF(D35="","",D35) | F10: =IF(E10="","",IF(E10<$AL$4,"Eliminé",IF(G10="x","Eliminé",""))) | AN10: 63ème Edition | AP10: RUN TROPHY 2031 | AQ10: 66ème EDITION
Q11: 0.5 | R11: Course 1 | S11: =IF(T11="","",IF(L8=T11,K8,IF(K8="",S32,K9))) -> 2 | T11: =_xlfn.IFS(L8="",T32,M8="","",N8="Eliminé",L9,N9="Eliminé",L8,M8<10,L9,M9<10,L8,M8<M9,L8,M9<M8,L9) -> PILOTE 2 P2 | U11: 11.02 | V11: =IF(U11="","",IF(U11<$AL$4,"Eliminé",IF(W11="x","Eliminé",""))) | AN11: 64ème Edition | AP11: RUN TROPHY 2032 | AQ11: 67ème EDITION
B12: Course 3 | C12: =IF(C36="","",C36) | D12: =IF(D36="","",D36) | F12: =IF(E12="","",IF(E12<$AL$4,"Eliminé",IF(G12="x","Eliminé",""))) | S12: =IF(T12="","",IF(L13=T12,K13,IF(K13="",S33,K14))) -> 25 | T12: =_xlfn.IFS(L13="",T33,M13="","",N13="Eliminé",L14,N14="Eliminé",L13,M13<10,L14,M14<10,L13,M13<M14,L13,M14<M13,L14) -> PILOTE 25 P25 | U12: 11.05 | V12: =IF(U12="","",IF(U12<$AL$4,"Eliminé",IF(W12="x","Eliminé",""))) | AN12: 65ème Edition | AP12: RUN TROPHY 2033 | AQ12: 68ème EDITION
C13: =IF(C37="","",C37) | D13: =IF(D37="","",D37) | F13: =IF(E13="","",IF(E13<$AL$4,"Eliminé",IF(G13="x","Eliminé",""))) | J13: Course 2 | K13: =IF(L13="","",IF(D12=L13,C12,IF(C12="",K34,C13))) -> 25 | L13: =_xlfn.IFS(D12="",L34,E12="","",F12="Eliminé",D13,F13="Eliminé",D12,E12<10,D13,E13<10,D12,E13<E12,D13,E12<E13,D12) -> PILOTE 25 P25 | M13: 10.24 | N13: =IF(M13="","",IF(M13<$AL$4,"Eliminé",IF(O13="x","Eliminé",""))) | AN13: 66ème Edition | AP13: RUN TROPHY 2034 | AQ13: 69ème EDITION
K14: =IF(L14="","",IF(D15=L14,C15,IF(C15="",K35,C16))) -> 15 | L14: =_xlfn.IFS(D15="",L35,E15="","",F15="Eliminé",D16,F16="Eliminé",D15,E15<10,D16,E16<10,D15,E15<E16,D15,E16<E15,D16) -> PILOTE 15 P15 | M14: 10.35 | N14: =IF(M14="","",IF(M14<$AL$4,"Eliminé",IF(O14="x","Eliminé",""))) | AN14: 67ème Edition | AP14: RUN TROPHY 2035 | AQ14: 70ème EDITION
B15: Course 4 | C15: =IF(C38="","",C38) | D15: =IF(D38="","",D38) | F15: =IF(E15="","",IF(E15<$AL$4,"Eliminé",IF(G15="x","Eliminé",""))) | AN15: 68ème Edition | AP15: RUN TROPHY 2036 | AQ15: 71ème EDITION
C16: =IF(C39="","",C39) | D16: =IF(D39="","",D39) | F16: =IF(E16="","",IF(E16<$AL$4,"Eliminé",IF(G16="x","Eliminé",""))) | Y16: Finale | Z16: Course 1 | AA16: =IF(AB16="","",IF(T11=AB16,S11,IF(S11="",AA32,S12))) -> 2 | AB16: =_xlfn.IFS(T11="",AB37,U11="","",V11="Eliminé",T12,V12="Eliminé",T11,U11<10,T12,U12<10,T11,U11<U12,T11,U12<U11,T12) -> PILOTE 2 P2 | AC16: 10.024 | AD16: =IF(AC16="","",IF(AC16<$AL$4,"Eliminé",IF(AE16="x","Eliminé",""))) | AG16: Finale | AH16: =IF(AI16="","",IF(AB16=AI16,AA16,AA17)) -> 10 | AI16: =IF(AC16="","",IF(AJ16=AC16,AB16,IF(AJ16=AC17,AB17))) -> PILOTE 10 P10 | AJ16: =IF(AD17="Eliminé",AC16,IF(AD16="Eliminé",AC17,MIN(AC16:AC17))) -> 10.022 | AN16: 69ème Edition | AP16: RUN TROPHY 2037 | AQ16: 72ème EDITION
AA17: =IF(AB17="","",IF(T22=AB17,S22,IF(S22="",AA33,S23))) -> 10 | AB17: =_xlfn.IFS(T22="",AB38,U22="","",V22="Eliminé",T23,V23="Eliminé",T22,U22<10,T23,U23<10,T22,U22<U23,T22,U23<U22,T23) -> PILOTE 10 P10 | AC17: 10.022 | AD17: =IF(AC17="","",IF(AC17<$AL$4,"Eliminé",IF(AE17="x","Eliminé",""))) | AK17: =IF(AJ16=0,"",IF(AJ16<$AL$4,"Eliminé",IF(AL17="x","Eliminé",""))) | AN17: 70ème Edition | AP17: RUN TROPHY 2038 | AQ17: 73ème EDITION
B18: Course 5 | C18: =IF(C40="","",C40) | D18: =IF(D40="","",D40) | F18: =IF(E18="","",IF(E18<$AL$4,"Eliminé",IF(G18="x","Eliminé",""))) | AN18: 71eme Edition | AP18: RUN TROPHY 2039 | AQ18: 74ème EDITION
C19: =IF(C41="","",C41) | D19: =IF(D41="","",D41) | F19: =IF(E19="","",IF(E19<$AL$4,"Eliminé",IF(G19="x","Eliminé",""))) | AN19: 72ème Edition | AP19: RUN TROPHY 2040 | AQ19: 75ème EDITION
J20: Course 3 | K20: =IF(L20="","",IF(D18=L20,C18,IF(C18="",K36,C19))) -> 36 | L20: =_xlfn.IFS(D18="",L36,E18="","",F18="Eliminé",D19,F19="Eliminé",D18,E18<10,D19,E19<10,D18,E18<E19,D18,E19<E18,D19) -> PILOTE 36 P36 | M20: 10.45 | N20: =IF(M20="","",IF(M20<$AL$4,"Eliminé",IF(O20="x","Eliminé",""))) | AN20: 73ème Edition | AP20: RUN TROPHY 2041 | AQ20: 76ème EDITION
B21: Course 6 | C21: =IF(C42="","",C42) | D21: =IF(D42="","",D42) | F21: =IF(E21="","",IF(E21<$AL$4,"Eliminé",IF(G21="x","Eliminé",""))) | K21: =IF(L21="","",IF(D21=L21,C21,IF(C21="",K37,C22))) -> 39 | L21: =_xlfn.IFS(D21="",L37,E21="","",F21="Eliminé",D22,F22="Eliminé",D21,E21<10,D22,E22<10,D21,E21<E22,D21,E22<E21,D22) -> PILOTE 39 P39 | N21: =IF(M21="","",IF(M21<$AL$4,"Eliminé",IF(O21="x","Eliminé",""))) | AN21: 74ème Edition | AP21: RUN TROPHY 2042 | AQ21: 77ème EDITION
C22: =IF(C43="","",C43) | D22: =IF(D43="","",D43) | F22: =IF(E22="","",IF(E22<$AL$4,"Eliminé",IF(G22="x","Eliminé",""))) | R22: Course 2 | S22: =IF(T22="","",IF(L20=T22,K20,IF(K20="",S34,K21))) -> 36 | T22: =_xlfn.IFS(L20="",T43,M20="","",N20="Eliminé",L21,N21="Eliminé",L20,M20<10,L21,M21<10,L20,M20<M21,L20,M21<M20,L21) -> PILOTE 36 P36 | U22: 11.7 | V22: =IF(U22="","",IF(U22<$AL$4,"Eliminé",IF(W22="x","Eliminé",""))) | AN22: 75ème Edition | AP22: RUN TROPHY 2043 | AQ22: 78ème EDITION
S23: =IF(T23="","",IF(L25=T23,K25,IF(K25="",S35,K26))) -> 10 | T23: =_xlfn.IFS(L25="",T44,M25="","",N25="Eliminé",L26,N26="Eliminé",L25,M25<10,L26,M26<10,L25,M25<M26,L25,M26<M25,L26) -> PILOTE 10 P10 | U23: 11.4 | V23: =IF(U23="","",IF(U23<$AL$4,"Eliminé",IF(W23="x","Eliminé",""))) | AN23: 76ème Edition | AP23: RUN TROPHY 2044 | AQ23: 79ème EDITION
B24: Course 7 | C24: =IF(C44="","",C44) | D24: =IF(D44="","",D44) | F24: =IF(E24="","",IF(E24<$AL$4,"Eliminé",IF(G24="x","Eliminé",""))) | AN24: 77ème Edition | AP24: RUN TROPHY 2045 | AQ24: 80ème EDITION
C25: =IF(C45="","",C45) | D25: =IF(D45="","",D45) | F25: =IF(E25="","",IF(E25<$AL$4,"Eliminé",IF(G25="x","Eliminé",""))) | J25: Course 4 | K25: =IF(L25="","",IF(D24=L25,C24,IF(C24="",K38,C25))) -> 10 | L25: =_xlfn.IFS(D24="",L38,E24="","",F24="Eliminé",D25,F25="Eliminé",D24,E24<10,D25,E25<10,D24,E24<E25,D24,E25<E24,D25) -> PILOTE 10 P10 | M25: 10.52 | N25: =IF(M25="","",IF(M25<$AL$4,"Eliminé",IF(O25="x","Eliminé",""))) | AI25: Vainqueur | AN25: 78ème Edition | AP25: RUN TROPHY 2046 | AQ25: 81ème EDITION
K26: =IF(L26="","",IF(D27=L26,C27,IF(C27="",K39,C28))) | L26: =_xlfn.IFS(D27="",L39,E27="","",F27="Eliminé",D28,F28="Eliminé",D27,E27<10,D28,E28<10,D27,E27<E28,D27,E28<E27,D28) | N26: =IF(M26="","",IF(M26<$AL$4,"Eliminé",IF(O26="x","Eliminé",""))) | AI26: =AH16 -> 10 | AN26: 79ème Edition | AP26: RUN TROPHY 2047 | AQ26: 82ème EDITION
B27: Course 8 | C27: =IF(C46="","",C46) | D27: =IF(D46="","",D46) | F27: =IF(E27="","",IF(E27<$AL$4,"Eliminé",IF(G27="x","Eliminé",""))) | AI27: =AI16 -> PILOTE 10 P10 | AN27: 80ème Edition | AP27: RUN TROPHY 2048 | AQ27: 83ème EDITION
C28: =IF(C47="","",C47) | D28: =IF(D47="","",D47) | F28: =IF(E28="","",IF(E28<$AL$4,"Eliminé",IF(G28="x","Eliminé",""))) | AI28: =MIN(AJ16:AJ16) -> 10.022 | AN28: 81ème Edition | AP28: RUN TROPHY 2049 | AQ28: 84ème EDITION
AN29: 82ème Edition | AP29: RUN TROPHY 2050 | AQ29: 85ème EDITION
AN30: 83ème Edition | AP30: RUN TROPHY 2051 | AQ30: 86ème EDITION
AN31: 84ème Edition | AP31: RUN TROPHY 2052 | AQ31: 87ème EDITION
A32: 1 | C32: =IF(PARTICIPANTS!$M$83>8,PARTICIPANTS!L84,"") | D32: =IF(PARTICIPANTS!$M$83>8,PARTICIPANTS!M84,"") | K32: =IF(AND(PARTICIPANTS!$M$83>4,PARTICIPANTS!$M$83<=8),PARTICIPANTS!L84,"") -> 2 | L32: =IF(AND(PARTICIPANTS!$M$83>4,PARTICIPANTS!$M$83<=8),PARTICIPANTS!M84,"") -> PILOTE 2 P2 | S32: =IF(AND(PARTICIPANTS!$M$83>2,PARTICIPANTS!$M$83<=4),PARTICIPANTS!L84,"") | T32: =IF(AND(PARTICIPANTS!$M$83>2,PARTICIPANTS!$M$83<=4),PARTICIPANTS!M84,"") | AA32: =IF(AND(PARTICIPANTS!$M$83>=1,PARTICIPANTS!$M$83<=2),PARTICIPANTS!L84,"") | AB32: =IF(AND(PARTICIPANTS!$M$83>=1,PARTICIPANTS!$M$83<=2),PARTICIPANTS!M84,"") | AN32: 85ème Edition | AP32: RUN TROPHY 2053 | AQ32: 88ème EDITION
A33: 2 | C33: =IF(PARTICIPANTS!$M$83=16,PARTICIPANTS!L92,IF(PARTICIPANTS!$M$83=15,PARTICIPANTS!L88,IF(PARTICIPANTS!$M$83=14,PARTICIPANTS!L91,IF(PARTICIPANTS!$M$83=13,PARTICIPANTS!L88,IF(PARTICIPANTS!$M$83=12,PARTICIPANTS!L90,IF(PARTICIPANTS!$M$83=11,PARTICIPANTS!L87,IF(PARTICIPANTS!$M$83=10,PARTICIPANTS!L89,IF(PARTICIPANTS!$M$83=9,PARTICIPANTS!L87,"")))))))) | D33: =IF(PARTICIPANTS!$M$83=16,PARTICIPANTS!M92,IF(PARTICIPANTS!$M$83=15,PARTICIPANTS!M88,IF(PARTICIPANTS!$M$83=14,PARTICIPANTS!M91,IF(PARTICIPANTS!$M$83=13,PARTICIPANTS!M88,IF(PARTICIPANTS!$M$83=12,PARTICIPANTS!M90,IF(PARTICIPANTS!$M$83=11,PARTICIPANTS!M87,IF(PARTICIPANTS!$M$83=10,PARTICIPANTS!M89,IF(PARTICIPANTS!$M$83=9,PARTICIPANTS!M87,"")))))))) | K33: =IF(PARTICIPANTS!$M$83=8,PARTICIPANTS!L88,IF(PARTICIPANTS!$M$83=7,PARTICIPANTS!L86,IF(PARTICIPANTS!$M$83=6,PARTICIPANTS!L87,IF(PARTICIPANTS!$M$83=5,PARTICIPANTS!L86,"")))) -> 27 | L33: =IF(PARTICIPANTS!$M$83=8,PARTICIPANTS!M88,IF(PARTICIPANTS!$M$83=7,PARTICIPANTS!M86,IF(PARTICIPANTS!$M$83=6,PARTICIPANTS!M87,IF(PARTICIPANTS!$M$83=5,PARTICIPANTS!M86,"")))) -> PILOTE 27 P27 | S33: =IF(PARTICIPANTS!$M$83=4,PARTICIPANTS!L86,IF(PARTICIPANTS!$M$83=3,PARTICIPANTS!L85,"")) | T33: =IF(PARTICIPANTS!$M$83=4,PARTICIPANTS!M86,IF(PARTICIPANTS!$M$83=3,PARTICIPANTS!M85,"")) | AA33: =IF(AND(PARTICIPANTS!$M$83>=1,PARTICIPANTS!$M$83<=2),PARTICIPANTS!L85,"") | AB33: =IF(AND(PARTICIPANTS!$M$83>=1,PARTICIPANTS!$M$83<=2),PARTICIPANTS!M85,"") | AN33: 86ème Edition | AP33: RUN TROPHY 2054 | AQ33: 89ème EDITION
A34: 3 | C34: =IF(PARTICIPANTS!$M$83=16,PARTICIPANTS!L88,IF(PARTICIPANTS!$M$83=15,PARTICIPANTS!L95,IF(PARTICIPANTS!$M$83=14,PARTICIPANTS!L86,IF(PARTICIPANTS!$M$83=13,PARTICIPANTS!L94,IF(PARTICIPANTS!$M$83=12,PARTICIPANTS!L87,IF(PARTICIPANTS!$M$83=11,PARTICIPANTS!L92,IF(PARTICIPANTS!$M$83=10,PARTICIPANTS!L86,IF(PARTICIPANTS!$M$83=9,PARTICIPANTS!L91,"")))))))) | D34: =IF(PARTICIPANTS!$M$83=16,PARTICIPANTS!M88,IF(PARTICIPANTS!$M$83=15,PARTICIPANTS!M95,IF(PARTICIPANTS!$M$83=14,PARTICIPANTS!M86,IF(PARTICIPANTS!$M$83=13,PARTICIPANTS!M94,IF(PARTICIPANTS!$M$83=12,PARTICIPANTS!M87,IF(PARTICIPANTS!$M$83=11,PARTICIPANTS!M92,IF(PARTICIPANTS!$M$83=10,PARTICIPANTS!M86,IF(PARTICIPANTS!$M$83=9,PARTICIPANTS!M91,"")))))))) | K34: =IF(PARTICIPANTS!$M$83=8,PARTICIPANTS!L86,IF(PARTICIPANTS!$M$83=7,PARTICIPANTS!L89,IF(PARTICIPANTS!$M$83=6,PARTICIPANTS!L85,IF(PARTICIPANTS!$M$83=5,PARTICIPANTS!L87,"")))) -> 25 | L34: =IF(PARTICIPANTS!$M$83=8,PARTICIPANTS!M86,IF(PARTICIPANTS!$M$83=7,PARTICIPANTS!M89,IF(PARTICIPANTS!$M$83=6,PARTICIPANTS!M85,IF(PARTICIPANTS!$M$83=5,PARTICIPANTS!M87,"")))) -> PILOTE 25 P25 | S34: =IF(PARTICIPANTS!$M$83=4,PARTICIPANTS!L85,IF(PARTICIPANTS!$M$83=3,PARTICIPANTS!L86,"")) | T34: =IF(PARTICIPANTS!$M$83=4,PARTICIPANTS!M85,IF(PARTICIPANTS!$M$83=3,PARTICIPANTS!M86,"")) | AN34: 87ème Edition | AP34: RUN TROPHY 2055 | AQ34: 90ème EDITION
A35: 4 | C35: =IF(PARTICIPANTS!$M$83=16,PARTICIPANTS!L96,IF(PARTICIPANTS!$M$83=15,PARTICIPANTS!L86,IF(PARTICIPANTS!$M$83=14,PARTICIPANTS!L93,IF(PARTICIPANTS!$M$83=13,PARTICIPANTS!L86,IF(PARTICIPANTS!$M$83=12,PARTICIPANTS!L93,IF(PARTICIPANTS!$M$83=11,PARTICIPANTS!L86,IF(PARTICIPANTS!$M$83=10,PARTICIPANTS!L91,IF(PARTICIPANTS!$M$83=9,PARTICIPANTS!L85,"")))))))) | D35: =IF(PARTICIPANTS!$M$83=16,PARTICIPANTS!M96,IF(PARTICIPANTS!$M$83=15,PARTICIPANTS!M86,IF(PARTICIPANTS!$M$83=14,PARTICIPANTS!M93,IF(PARTICIPANTS!$M$83=13,PARTICIPANTS!M86,IF(PARTICIPANTS!$M$83=12,PARTICIPANTS!M93,IF(PARTICIPANTS!$M$83=11,PARTICIPANTS!M86,IF(PARTICIPANTS!$M$83=10,PARTICIPANTS!M91,IF(PARTICIPANTS!$M$83=9,PARTICIPANTS!M85,"")))))))) | K35: =IF(PARTICIPANTS!$M$83=8,PARTICIPANTS!L90,IF(PARTICIPANTS!$M$83=7,PARTICIPANTS!L85,IF(PARTICIPANTS!$M$83=6,PARTICIPANTS!L88,IF(PARTICIPANTS!$M$83=5,PARTICIPANTS!L85,"")))) -> 15 | L35: =IF(PARTICIPANTS!$M$83=8,PARTICIPANTS!M90,IF(PARTICIPANTS!$M$83=7,PARTICIPANTS!M85,IF(PARTICIPANTS!$M$83=6,PARTICIPANTS!M88,IF(PARTICIPANTS!$M$83=5,PARTICIPANTS!M85,"")))) -> PILOTE 15 P15 | S35: =IF(PARTICIPANTS!$M$83=4,PARTICIPANTS!L87,"") | T35: =IF(PARTICIPANTS!$M$83=4,PARTICIPANTS!M87,"") | AN35: 88ème Edition | AP35: RUN TROPHY 2056 | AQ35: 91ème EDITION
A36: 5 | C36: =IF(PARTICIPANTS!$M$83=16,PARTICIPANTS!L86,IF(PARTICIPANTS!$M$83=15,PARTICIPANTS!L93,IF(PARTICIPANTS!$M$83=14,PARTICIPANTS!L89,IF(PARTICIPANTS!$M$83=13,PARTICIPANTS!L92,IF(PARTICIPANTS!$M$83=12,PARTICIPANTS!L85,IF(PARTICIPANTS!$M$83=11,PARTICIPANTS!L91,IF(PARTICIPANTS!$M$83=10,PARTICIPANTS!L88,IF(PARTICIPANTS!$M$83=9,PARTICIPANTS!L89,"")))))))) | D36: =IF(PARTICIPANTS!$M$83=16,PARTICIPANTS!M86,IF(PARTICIPANTS!$M$83=15,PARTICIPANTS!M93,IF(PARTICIPANTS!$M$83=14,PARTICIPANTS!M89,IF(PARTICIPANTS!$M$83=13,PARTICIPANTS!M92,IF(PARTICIPANTS!$M$83=12,PARTICIPANTS!M85,IF(PARTICIPANTS!$M$83=11,PARTICIPANTS!M91,IF(PARTICIPANTS!$M$83=10,PARTICIPANTS!M88,IF(PARTICIPANTS!$M$83=9,PARTICIPANTS!M89,"")))))))) | K36: =IF(PARTICIPANTS!$M$83=8,PARTICIPANTS!L85,IF(PARTICIPANTS!$M$83=7,PARTICIPANTS!L88,IF(PARTICIPANTS!$M$83=6,PARTICIPANTS!L86,IF(PARTICIPANTS!$M$83=5,PARTICIPANTS!L88,"")))) -> 36 | L36: =IF(PARTICIPANTS!$M$83=8,PARTICIPANTS!M85,IF(PARTICIPANTS!$M$83=7,PARTICIPANTS!M88,IF(PARTICIPANTS!$M$83=6,PARTICIPANTS!M86,IF(PARTICIPANTS!$M$83=5,PARTICIPANTS!M88,"")))) -> PILOTE 36 P36 | AN36: 89ème Edition | AP36: RUN TROPHY 2057 | AQ36: 92ème EDITION
A37: 6 | C37: =IF(PARTICIPANTS!$M$83=16,PARTICIPANTS!L94,IF(PARTICIPANTS!$M$83=15,PARTICIPANTS!L90,IF(PARTICIPANTS!$M$83=14,PARTICIPANTS!L96,IF(PARTICIPANTS!$M$83=13,PARTICIPANTS!L89,IF(PARTICIPANTS!$M$83=12,PARTICIPANTS!L91,IF(PARTICIPANTS!$M$83=11,PARTICIPANTS!L89,IF(PARTICIPANTS!$M$83=10,PARTICIPANTS!L93,IF(PARTICIPANTS!$M$83=9,PARTICIPANTS!L86,"")))))))) | D37: =IF(PARTICIPANTS!$M$83=16,PARTICIPANTS!M94,IF(PARTICIPANTS!$M$83=15,PARTICIPANTS!M90,IF(PARTICIPANTS!$M$83=14,PARTICIPANTS!M96,IF(PARTICIPANTS!$M$83=13,PARTICIPANTS!M89,IF(PARTICIPANTS!$M$83=12,PARTICIPANTS!M91,IF(PARTICIPANTS!$M$83=11,PARTICIPANTS!M89,IF(PARTICIPANTS!$M$83=10,PARTICIPANTS!M93,IF(PARTICIPANTS!$M$83=9,PARTICIPANTS!M86,"")))))))) | K37: =IF(PARTICIPANTS!$M$83=8,PARTICIPANTS!L89,IF(PARTICIPANTS!$M$83=7,PARTICIPANTS!L87,IF(PARTICIPANTS!$M$83=6,PARTICIPANTS!L89,""))) -> 39 | L37: =IF(PARTICIPANTS!$M$83=8,PARTICIPANTS!M89,IF(PARTICIPANTS!$M$83=7,PARTICIPANTS!M87,IF(PARTICIPANTS!$M$83=6,PARTICIPANTS!M89,""))) -> PILOTE 39 P39 | AN37: 90ème Edition | AP37: RUN TROPHY 2058 | AQ37: 93ème EDITION
A38: 7 | C38: =IF(PARTICIPANTS!$M$83=16,PARTICIPANTS!L90,IF(PARTICIPANTS!$M$83=15,PARTICIPANTS!L97,IF(PARTICIPANTS!$M$83=14,PARTICIPANTS!L85,IF(PARTICIPANTS!$M$83=13,PARTICIPANTS!L95,IF(PARTICIPANTS!$M$83=12,PARTICIPANTS!L88,IF(PARTICIPANTS!$M$83=11,PARTICIPANTS!L93,IF(PARTICIPANTS!$M$83=10,PARTICIPANTS!L85,IF(PARTICIPANTS!$M$83=9,PARTICIPANTS!L90,"")))))))) | D38: =IF(PARTICIPANTS!$M$83=16,PARTICIPANTS!M90,IF(PARTICIPANTS!$M$83=15,PARTICIPANTS!M97,IF(PARTICIPANTS!$M$83=14,PARTICIPANTS!M85,IF(PARTICIPANTS!$M$83=13,PARTICIPANTS!M95,IF(PARTICIPANTS!$M$83=12,PARTICIPANTS!M88,IF(PARTICIPANTS!$M$83=11,PARTICIPANTS!M93,IF(PARTICIPANTS!$M$83=10,PARTICIPANTS!M85,IF(PARTICIPANTS!$M$83=9,PARTICIPANTS!M90,"")))))))) | K38: =IF(PARTICIPANTS!$M$83=8,PARTICIPANTS!L87,IF(PARTICIPANTS!$M$83=7,PARTICIPANTS!L90,"")) -> 10 | L38: =IF(PARTICIPANTS!$M$83=8,PARTICIPANTS!M87,IF(PARTICIPANTS!$M$83=7,PARTICIPANTS!M90,"")) -> PILOTE 10 P10 | AN38: 91ème Edition | AP38: RUN TROPHY 2059 | AQ38: 94ème EDITION
A39: 8 | C39: =IF(PARTICIPANTS!$M$83=16,PARTICIPANTS!L98,IF(PARTICIPANTS!$M$83=15,PARTICIPANTS!L85,IF(PARTICIPANTS!$M$83=14,PARTICIPANTS!L92,IF(PARTICIPANTS!$M$83=13,PARTICIPANTS!L85,IF(PARTICIPANTS!$M$83=12,PARTICIPANTS!L94,IF(PARTICIPANTS!$M$83=11,PARTICIPANTS!L85,IF(PARTICIPANTS!$M$83=10,PARTICIPANTS!L90,IF(PARTICIPANTS!$M$83=9,PARTICIPANTS!L88,"")))))))) | D39: =IF(PARTICIPANTS!$M$83=16,PARTICIPANTS!M98,IF(PARTICIPANTS!$M$83=15,PARTICIPANTS!M85,IF(PARTICIPANTS!$M$83=14,PARTICIPANTS!M92,IF(PARTICIPANTS!$M$83=13,PARTICIPANTS!M85,IF(PARTICIPANTS!$M$83=12,PARTICIPANTS!M94,IF(PARTICIPANTS!$M$83=11,PARTICIPANTS!M85,IF(PARTICIPANTS!$M$83=10,PARTICIPANTS!M90,IF(PARTICIPANTS!$M$83=9,PARTICIPANTS!M88,"")))))))) | K39: =IF(PARTICIPANTS!$M$83=8,PARTICIPANTS!L91,"") | L39: =IF(PARTICIPANTS!$M$83=8,PARTICIPANTS!M91,"") | AN39: 92ème Edition | AP39: RUN TROPHY 2060 | AQ39: 95ème EDITION
A40: 9 | C40: =IF(PARTICIPANTS!$M$83=16,PARTICIPANTS!L85,IF(PARTICIPANTS!$M$83=15,PARTICIPANTS!L92,IF(PARTICIPANTS!$M$83=14,PARTICIPANTS!L88,IF(PARTICIPANTS!$M$83=13,PARTICIPANTS!L91,IF(PARTICIPANTS!$M$83=12,PARTICIPANTS!L86,IF(PARTICIPANTS!$M$83=11,PARTICIPANTS!L90,IF(PARTICIPANTS!$M$83=10,PARTICIPANTS!L87,IF(PARTICIPANTS!$M$83=9,PARTICIPANTS!L92,"")))))))) | D40: =IF(PARTICIPANTS!$M$83=16,PARTICIPANTS!M85,IF(PARTICIPANTS!$M$83=15,PARTICIPANTS!M92,IF(PARTICIPANTS!$M$83=14,PARTICIPANTS!M88,IF(PARTICIPANTS!$M$83=13,PARTICIPANTS!M91,IF(PARTICIPANTS!$M$83=12,PARTICIPANTS!M86,IF(PARTICIPANTS!$M$83=11,PARTICIPANTS!M90,IF(PARTICIPANTS!$M$83=10,PARTICIPANTS!M87,IF(PARTICIPANTS!$M$83=9,PARTICIPANTS!M92,"")))))))) | AN40: 93ème Edition | AP40: RUN TROPHY 2061 | AQ40: 96ème EDITION
A41: 10 | C41: =IF(PARTICIPANTS!$M$83=16,PARTICIPANTS!L93,IF(PARTICIPANTS!$M$83=15,PARTICIPANTS!L89,IF(PARTICIPANTS!$M$83=14,PARTICIPANTS!L95,IF(PARTICIPANTS!$M$83=13,PARTICIPANTS!L87,IF(PARTICIPANTS!$M$83=12,PARTICIPANTS!L92,IF(PARTICIPANTS!$M$83=11,PARTICIPANTS!L88,IF(PARTICIPANTS!$M$83=10,PARTICIPANTS!L93,""))))))) | D41: =IF(PARTICIPANTS!$M$83=16,PARTICIPANTS!M93,IF(PARTICIPANTS!$M$83=15,PARTICIPANTS!M89,IF(PARTICIPANTS!$M$83=14,PARTICIPANTS!M95,IF(PARTICIPANTS!$M$83=13,PARTICIPANTS!M87,IF(PARTICIPANTS!$M$83=12,PARTICIPANTS!M92,IF(PARTICIPANTS!$M$83=11,PARTICIPANTS!M88,IF(PARTICIPANTS!$M$83=10,PARTICIPANTS!M93,""))))))) | AN41: 94ème Edition | AP41: RUN TROPHY 2062 | AQ41: 97ème EDITION
A42: 11 | C42: =IF(PARTICIPANTS!$M$83=16,PARTICIPANTS!L89,IF(PARTICIPANTS!$M$83=15,PARTICIPANTS!L97,IF(PARTICIPANTS!$M$83=14,PARTICIPANTS!L87,IF(PARTICIPANTS!$M$83=13,PARTICIPANTS!L93,IF(PARTICIPANTS!$M$83=12,PARTICIPANTS!L89,IF(PARTICIPANTS!$M$83=11,PARTICIPANTS!L94,"")))))) | D42: =IF(PARTICIPANTS!$M$83=16,PARTICIPANTS!M89,IF(PARTICIPANTS!$M$83=15,PARTICIPANTS!M97,IF(PARTICIPANTS!$M$83=14,PARTICIPANTS!M87,IF(PARTICIPANTS!$M$83=13,PARTICIPANTS!M93,IF(PARTICIPANTS!$M$83=12,PARTICIPANTS!M89,IF(PARTICIPANTS!$M$83=11,PARTICIPANTS!M94,"")))))) | AN42: 95ème Edition | AP42: RUN TROPHY 2063 | AQ42: 98ème EDITION
A43: 12 | C43: =IF(PARTICIPANTS!$M$83=16,PARTICIPANTS!L97,IF(PARTICIPANTS!$M$83=15,PARTICIPANTS!L87,IF(PARTICIPANTS!$M$83=14,PARTICIPANTS!L94,IF(PARTICIPANTS!$M$83=13,PARTICIPANTS!L90,IF(PARTICIPANTS!$M$83=12,PARTICIPANTS!L95,""))))) | D43: =IF(PARTICIPANTS!$M$83=16,PARTICIPANTS!M97,IF(PARTICIPANTS!$M$83=15,PARTICIPANTS!M87,IF(PARTICIPANTS!$M$83=14,PARTICIPANTS!M94,IF(PARTICIPANTS!$M$83=13,PARTICIPANTS!M90,IF(PARTICIPANTS!$M$83=12,PARTICIPANTS!M95,""))))) | AN43: 96ème Edition | AP43: RUN TROPHY 2064 | AQ43: 99ème EDITION
A44: 13 | C44: =IF(PARTICIPANTS!$M$83=16,PARTICIPANTS!L87,IF(PARTICIPANTS!$M$83=15,PARTICIPANTS!L94,IF(PARTICIPANTS!$M$83=14,PARTICIPANTS!L90,IF(PARTICIPANTS!$M$83=13,PARTICIPANTS!L96,"")))) | D44: =IF(PARTICIPANTS!$M$83=16,PARTICIPANTS!M87,IF(PARTICIPANTS!$M$83=15,PARTICIPANTS!M94,IF(PARTICIPANTS!$M$83=14,PARTICIPANTS!M90,IF(PARTICIPANTS!$M$83=13,PARTICIPANTS!M96,"")))) | AN44: 97ème Edition | AP44: RUN TROPHY 2065 | AQ44: 100ème EDITION
A45: 14 | C45: =IF(PARTICIPANTS!$M$83=16,PARTICIPANTS!L95,IF(PARTICIPANTS!$M$83=15,PARTICIPANTS!L91,IF(PARTICIPANTS!$M$83=14,PARTICIPANTS!L97,""))) | D45: =IF(PARTICIPANTS!$M$83=16,PARTICIPANTS!M95,IF(PARTICIPANTS!$M$83=15,PARTICIPANTS!M91,IF(PARTICIPANTS!$M$83=14,PARTICIPANTS!M97,""))) | AN45: 98ème Edition
A46: 15 | C46: =IF(PARTICIPANTS!$M$83=16,PARTICIPANTS!L91,IF(PARTICIPANTS!$M$83=15,PARTICIPANTS!L98,"")) | D46: =IF(PARTICIPANTS!$M$83=16,PARTICIPANTS!M91,IF(PARTICIPANTS!$M$83=15,PARTICIPANTS!M98,"")) | AN46: 99ème Edition
A47: 16 | C47: =IF(PARTICIPANTS!$M$83=16,PARTICIPANTS!L99,"") | D47: =IF(PARTICIPANTS!$M$83=16,PARTICIPANTS!M99,"") | AN47: 100ème Edition
A48: 17 | AN48: 101ème Edition
A49: 18 | AN49: 102ème Edition
A50: 19 | AN50: 103ème Edition
A51: 20 | AN51: 104ème Edition
A52: 21 | AN52: 105ème Edition
A53: 22 | AN53: 106ème Edition
A54: 23 | AN54: 107ème Edition
A55: 24 | AN55: 108ème Edition
A56: 25 | AN56: 109ème Edition
A57: 26 | AN57: 110ème Edition
A58: 27 | AN58: 111ème Edition
A59: 28 | AN59: 112ème Edition
... A71: 40 | AN71: 124ème Edition
AN72: 125ème Edition
AN73: 126ème Edition
AN74: 127ème Edition
AN75: 128ème Edition
AN76: 129ème Edition
AN77: 130ème Edition
AN78: 131er Edition
AN79: 132ème Edition
AN80: 133ème Edition
AN81: 134ème Edition
AN82: 135ème Edition
AN83: 136ème Edition
... AN121: 174ème Edition

Sheet Feuil2
A1: Super Gaz | F1: Super Gaz
A2: =IF(D2,RANK(D2,$D$2:$D$13,1),1) -> 1 | B2: ='SUPER GAZ'!$S$11 -> 2 | C2: ='SUPER GAZ'!$T$11 -> PILOTE 2 P2 | D2: ='SUPER GAZ'!$U$11 -> 11.02 | F2: =IF(I2,RANK(I2,$I$2:$I$9,1),0) -> 3 | G2: ='SUPER GAZ'!$K$8 -> 2 | H2: ='SUPER GAZ'!$L$8 -> PILOTE 2 P2 | I2: ='SUPER GAZ'!$M$8 -> 10.011 | K2: 3 | L2: 4 | M2: 5 | N2: 6 | O2: 7
A3: =IF(D3,RANK(D3,$D$2:$D$13,1),1) -> 2 | B3: ='SUPER GAZ'!$S$12 -> 25 | C3: ='SUPER GAZ'!$T$12 -> PILOTE 25 P25 | D3: ='SUPER GAZ'!$U$12 -> 11.05 | F3: =IF(I3,RANK(I3,$I$2:$I$9,1),0) -> 4 | G3: ='SUPER GAZ'!$K$9 -> 27 | H3: ='SUPER GAZ'!$L$9 -> PILOTE 27 P27 | I3: ='SUPER GAZ'!$M$9 -> 10.021 | K3: =IF($K$5=$D$2,$B$2,IF($K$5=$D$3,$B$3,IF($K$5=$D$4,$B$4,IF($K$5=$D$5,$B$5,"")))) -> 2 | L3: =IF($L$4=$C$2,$B$2,IF($L$4=$C$3,$B$3,IF($L$4=$C$4,$B$4,IF($L$4=$C$5,$B$5,"")))) -> 25 | M3: =IF($M$5=$I$2,$G$2,IF($M$5=$I$3,$G$3,IF($M$5=$I$4,$G$4,IF($M$5=$I$5,$G$5,IF($M$5=$I$6,$G$6,IF($M$5=I7,$G$7,IF($M$5=I8,$G$8,""))))))) -> 2 | N3: =IF($N$5=$I$2,$G$2,IF($N$5=$I$3,$G$3,IF($N$5=$I$4,$G$4,IF($N$5=$I$5,$G$5,IF($N$5=$I$6,$G$6,IF($N$5=I7,G7,IF($N$5=I8,G8,""))))))) -> 27 | O3: =IF($O$5=$I$2,$G$2,IF($O$5=$I$3,$G$3,IF($O$5=$I$4,$G$4,IF($O$5=$I$5,$G$5,IF($O$5=$I$6,$G$6,IF($O$5=$I$7,$G$7,IF($O$5=$I$8,$G$8,IF($O$5=$I$9,$G$9,"")))))))) -> 25
A4: =IF(D4,RANK(D4,$D$2:$D$13,1),1) -> 4 | B4: ='SUPER GAZ'!$S$22 -> 36 | C4: ='SUPER GAZ'!$T$22 -> PILOTE 36 P36 | D4: ='SUPER GAZ'!$U$22 -> 11.7 | F4: =IF(I4,RANK(I4,$I$2:$I$9,1),0) -> 5 | G4: ='SUPER GAZ'!$K$13 -> 25 | H4: ='SUPER GAZ'!$L$13 -> PILOTE 25 P25 | I4: ='SUPER GAZ'!$M$13 -> 10.24 | K4: =IF($K$5=$D$2,$C$2,IF($K$5=$D$3,$C$3,IF($K$5=$D$4,$C$4,IF($K$5=$D$5,$C$5,"")))) -> PILOTE 2 P2 | L4: =IF($L$5=$D$2,$C$2,IF($L$5=$D$3,$C$3,IF($L$5=$D$4,$C$4,IF($L$5=$D$5,$C$5)))) -> PILOTE 25 P25 | M4: =IF($M$5=$I$2,$H$2,IF($M$5=$I$3,$H$3,IF($M$5=$I$4,$H$4,IF($M$5=$I$5,$H$5,IF($M$5=$I$6,$H$6,IF($M$5=I7,H7,IF($M$5=I8,H8,IF($M$5=I9,H9,"")))))))) -> PILOTE 2 P2 | N4: =IF($N$5=$I$2,$H$2,IF($N$5=$I$3,$H$3,IF($N$5=$I$4,$H$4,IF($N$5=$I$5,$H$5,IF($N$5=$I$6,$H$6,IF($N$5=I7,$H$7,IF($N$5=I8,$H$8,IF($N$5=I9,$H$9,"")))))))) -> PILOTE 27 P27 | O4: =IF($O$5=$I$2,$H$2,IF($O$5=$I$3,$H$3,IF($O$5=$I$4,$H$4,IF($O$5=$I$5,$H$5,IF($O$5=$I$6,$H$6,IF($O$5=$I$7,$H$7,IF($O$5=$I$8,$H$8,IF($O$5=$I$9,$H$9,"")))))))) -> PILOTE 25 P25
A5: =IF(D5,RANK(D5,$D$2:$D$13,1),1) -> 3 | B5: ='SUPER GAZ'!$S$23 -> 10 | C5: ='SUPER GAZ'!$T$23 -> PILOTE 10 P10 | D5: ='SUPER GAZ'!$U$23 -> 11.4 | F5: =IF(I5,RANK(I5,$I$2:$I$9,1),0) -> 6 | G5: ='SUPER GAZ'!$K$14 -> 15 | H5: ='SUPER GAZ'!$L$14 -> PILOTE 15 P15 | I5: ='SUPER GAZ'!$M$14 -> 10.35 | K5: {=MIN(IF(D2:D5<>0,D2:D5))} -> 11.02 | L5: {=MIN(IF(D2:D5>K5,D2:D5))} -> 11.05 | M5: {=MIN(IF(I2:I9<>0,I2:I9))} -> 10.011 | N5: {=MIN(IF(I2:I9>M5,I2:I9))} -> 10.021 | O5: {=MIN(IF(I2:I9>N5,I2:I9))} -> 10.24
F6: =IF(I6,RANK(I6,$I$2:$I$9,1),0) -> 7 | G6: ='SUPER GAZ'!$K$20 -> 36 | H6: ='SUPER GAZ'!$L$20 -> PILOTE 36 P36 | I6: ='SUPER GAZ'!$M$20 -> 10.45
F7: =IF(I7,RANK(I7,$I$2:$I$9,1),0) -> 0 | G7: ='SUPER GAZ'!$K$21 -> 39 | H7: ='SUPER GAZ'!$L$21 -> PILOTE 39 P39 | I7: ='SUPER GAZ'!$M$21 -> 0
F8: =IF(I8,RANK(I8,$I$2:$I$9,1),0) -> 8 | G8: ='SUPER GAZ'!$K$25 -> 10 | H8: ='SUPER GAZ'!$L$25 -> PILOTE 10 P10 | I8: ='SUPER GAZ'!$M$25 -> 10.52
F9: =IF(I9,RANK(I9,$I$2:$I$9,1),0) -> 0 | G9: ='SUPER GAZ'!$K$26 | H9: ='SUPER GAZ'!$L$26 | I9: ='SUPER GAZ'!$M$26 -> 0

Sheet VAINQUEURS
A4: SUPER GAZ
A5: 1 | C5: 2 | E5: 3 | G5: 4 | I5: 5
A6: ='SUPER GAZ'!AH16 -> 10 | C6: =IF(A6='SUPER GAZ'!$AA$16,'SUPER GAZ'!$AA$17,IF(A6='SUPER GAZ'!$AA$17,'SUPER GAZ'!$AA$16,"")) -> 2 | E6: =IF(Feuil2!K3=VAINQUEURS!C6,Feuil2!L3,IF(Feuil2!K3=VAINQUEURS!A6,L4,Feuil2!K3)) -> 25 | G6: =IF(Feuil2!L3=VAINQUEURS!A6,Feuil2!M3,IF(Feuil2!L3=VAINQUEURS!C6,Feuil2!M3,IF(Feuil2!L3=VAINQUEURS!E6,Feuil2!M3,IF(Feuil2!M3=A6,Feuil2!N3,IF(Feuil2!M3=C6,Feuil2!N3,IF(E6=Feuil2!M3,Feuil2!N3,IF(Feuil2!N3=A6,Feuil2!O3,IF(Feuil2!N3=C6,Feuil2!O3,IF(E6=Feuil2!N3,Feuil2!O3))))))))) -> 2 | I6: =_xlfn.IFS(Feuil2!#REF!=VAINQUEURS!$I$5,Feuil2!#REF!,Feuil2!#REF!=VAINQUEURS!$I$5,Feuil2!#REF!,Feuil2!$A$2=VAINQUEURS!$I$5,Feuil2!$B$2,Feuil2!$A$3=VAINQUEURS!$I$5,Feuil2!$B$3,Feuil2!$A$4=VAINQUEURS!$I$5,Feuil2!$B$4,Feuil2!$A$5=VAINQUEURS!$I$5,Feuil2!$B$5,Feuil2!$F$2=VAINQUEURS!$I$5,Feuil2!$G$2,Feuil2!$F$3=VAINQUEURS!$I$5,Feuil2!$G$3,Feuil2!$F$4=VAINQUEURS!$I$5,Feuil2!$G$4,Feuil2!$F$5=VAINQUEURS!$I$5,Feuil2!$G$5,Feuil2!$F$6=VAINQUEURS!$I$5,Feuil2!$G$6,Feuil2!$F$7=VAINQUEURS!$I$5,Feuil2!$G$7,Feuil2!$F$8=VAINQUEURS!$I$5,Feuil2!$G$8,Feuil2!$F$9=VAINQUEURS!$I$5,Feuil2!$G$9) -> #REF!
A7: ='SUPER GAZ'!AI16 -> PILOTE 10 P10 | C7: =IF(A7='SUPER GAZ'!$AB$16,'SUPER GAZ'!$AB$17,IF(A7='SUPER GAZ'!$AB$17,'SUPER GAZ'!$AB$16,"")) -> PILOTE 2 P2 | E7: =IF(Feuil2!K4=VAINQUEURS!C7,Feuil2!L4,IF(Feuil2!K4=VAINQUEURS!A7,L5,Feuil2!K4)) -> PILOTE 25 P25 | G7: =IF(Feuil2!M4=VAINQUEURS!E7,Feuil2!N4,IF(Feuil2!M4=VAINQUEURS!C7,N5,Feuil2!M4)) -> 0 | I7: =_xlfn.IFS(Feuil2!#REF!=VAINQUEURS!$I$5,Feuil2!#REF!,Feuil2!#REF!=VAINQUEURS!$I$5,Feuil2!#REF!,Feuil2!$A$2=VAINQUEURS!$I$5,Feuil2!$C$2,Feuil2!$A$3=VAINQUEURS!$I$5,Feuil2!$C$3,Feuil2!$A$4=VAINQUEURS!$I$5,Feuil2!$C$4,Feuil2!$A$5=VAINQUEURS!$I$5,Feuil2!$C$5,Feuil2!$F$2=VAINQUEURS!$I$5,Feuil2!$H$2,Feuil2!$F$3=VAINQUEURS!$I$5,Feuil2!$H$3,Feuil2!$F$4=VAINQUEURS!$I$5,Feuil2!$H$4,Feuil2!$F$5=VAINQUEURS!$I$5,Feuil2!$H$5,Feuil2!$F$6=VAINQUEURS!$I$5,Feuil2!$H$6,Feuil2!$F$7=VAINQUEURS!$I$5,Feuil2!$H$7,Feuil2!$F$8=VAINQUEURS!$I$5,Feuil2!$H$8,Feuil2!$F$9=VAINQUEURS!$I$5,Feuil2!$H$9) -> #REF!
A8: ='SUPER GAZ'!AJ16 -> 10.022 | C8: =IF(A8='SUPER GAZ'!$AC$16,'SUPER GAZ'!$AC$17,IF(A8='SUPER GAZ'!$AC$17,'SUPER GAZ'!$AC$16,"")) -> 10.024 | E8: =IF(VAINQUEURS!E6=Feuil2!K5,Feuil2!K5,Feuil2!L5) -> 11.05 | G8: =IF(VAINQUEURS!G6=Feuil2!M5,Feuil2!M5,Feuil2!N5) -> 10.021 | I8: =_xlfn.IFS(Feuil2!#REF!=VAINQUEURS!$I$5,Feuil2!#REF!,Feuil2!#REF!=VAINQUEURS!$I$5,Feuil2!#REF!,Feuil2!$A$2=VAINQUEURS!$I$5,Feuil2!$D$2,Feuil2!$A$3=VAINQUEURS!$I$5,Feuil2!$D$3,Feuil2!$A$4=VAINQUEURS!$I$5,Feuil2!$D$4,Feuil2!$A$5=VAINQUEURS!$I$5,Feuil2!$D$5,Feuil2!$F$2=VAINQUEURS!$I$5,Feuil2!$I$2,Feuil2!$F$3=VAINQUEURS!$I$5,Feuil2!$I$3,Feuil2!$F$4=VAINQUEURS!$I$5,Feuil2!$I$4,Feuil2!$F$5=VAINQUEURS!$I$5,Feuil2!$I$5,Feuil2!$F$6=VAINQUEURS!$I$5,Feuil2!$I$6,Feuil2!$F$7=VAINQUEURS!$I$5,Feuil2!$I$7,Feuil2!$F$8=VAINQUEURS!$I$5,Feuil2!$I$8,Feuil2!$F$9=VAINQUEURS!$I$5,Feuil2!$I$9) -> #REF!
