Workbook

Sheet Suivi des Commandes
C3: Fournisseur retenu | D3: Ref bc
B4: 1 | C4: SOFID INDUSTRIES | D4: 000 930
B5: 1 | C5: SION UNIVERSAL | D5: 000 4255
B6: 1 | C6: X&M | D6: 000 4277
B7: 1 | C7: SPIRAL | D7: 000 4260
B8: 1 | C8: UNIVERS DES EPI | D8: 000 943
B9: 1 | C9: CHEHAB-CI | D9: 000 4262
B10: 1 | C10: ROAD TRANSPORT | D10: 000 923
B11: 1 | C11: GLOBAL TECHNOLOGIES INTER | D11: 000 4264
B12: 1 | C12: UCM
B13: 1 | C13: UMER
B14: 1 | C14: SOFID INDUSTRIES
B15: 1 | C15: SION UNIVERSAL
B16: 1 | C16: X&M
B17: 1 | C17: SPIRAL
B18: 1 | C18: UNIVERS DES EPI
B19: 1 | C19: CHEHAB-CI
B20: 1 | C20: ROAD TRANSPORT
B21: 1 | C21: GLOBAL TECHNOLOGIES INTER
B22: 1 | C22: COCITAM
B23: 1 | C23: DEEPCARE
... B376: 1 | C376: ETS SAWADOGO
B377: 1
B378: 1 | C378: TECMO
B379: 1 | C379: TECMO
B380: 1 | C380: KIZITO IVOIRE
B381: 1 | C381: KIZITO IVOIRE
B382: 1 | C382: ETS COULOU
B383: 1 | C383: EUROPCAR
B384: 1 | C384: APAVE
B385: 1 | C385: SEMAG MATFORCE
B386: 1 | C386: ARC INDUSTRIE
B387: 1 | C387: ARC INDUSTRIE
B388: 1 | C388: ARC INDUSTRIE
B389: 1 | C389: ROAD TRANSPORT
... B480: 1 | C480: ORYX LUBRIFIANT TOGO

Sheet Pareto 2021
D3: FOURNISSEURS | E3: NB COMMANDE | F3: CUMUL NB CMDE | G3: % NB CMDE | H3: CUMUL NB FOUR | I3: % NB FOUR
C4: 1 | D4: SOFID INDUSTRIES | E4: =SUMIF('Suivi des Commandes'!$C$4:$C$480,"SOFID INDUSTRIES",'Suivi des Commandes'!$B$4:$B$11) -> 9 | F4: =E4 -> 9 | G4: =+F4/$D$208 -> #DIV/0! | H4: =C4 -> 1 | I4: =+H4/$B$208 -> #DIV/0!
C5: 1 | D5: L'UNIVERS DES EPI | E5: =SUMIF('Suivi des Commandes'!$C$4:$C$11,"SOFID INDUSTRIES",'Suivi des Commandes'!$B$4:$B$480) -> 1 | F5: =F4+E5 -> 10 | G5: =+F5/$D$208 -> #DIV/0! | H5: =H4+C5 -> 2 | I5: =+H5/$B$208 -> #DIV/0!
C6: 1 | D6: INTELEC PROTECTION | E6: =SUMIF('Suivi des Commandes'!$C$4:$C$11,"SOFID INDUSTRIES",'Suivi des Commandes'!$B$4:$B$11) -> 1 | F6: =F5+E6 -> 11 | G6: =+F6/$D$208 -> #DIV/0! | H6: =H5+C6 -> 3 | I6: =+H6/$B$208 -> #DIV/0!
C7: 1 | D7: SOFID | E7: =SUMIF('Suivi des Commandes'!$C$4:$C$11,"SOFID INDUSTRIES",'Suivi des Commandes'!$B$4:$B$11) -> 1 | F7: =F6+E7 -> 12 | G7: =+F7/$D$208 -> #DIV/0! | H7: =H6+C7 -> 4 | I7: =+H7/$B$208 -> #DIV/0!
C8: 1 | D8: OFFICE BUREAU | E8: =SUMIF('Suivi des Commandes'!$C$4:$C$11,"SOFID INDUSTRIES",'Suivi des Commandes'!$B$4:$B$11) -> 1 | F8: =F7+E8 -> 13 | G8: =+F8/$D$208 -> #DIV/0! | H8: =H7+C8 -> 5 | I8: =+H8/$B$208 -> #DIV/0!
C9: 1 | D9: UCM | E9: =SUMIF('Suivi des Commandes'!$C$4:$C$11,"SOFID INDUSTRIES",'Suivi des Commandes'!$B$4:$B$11) -> 1 | F9: =F8+E9 -> 14 | G9: =+F9/$D$208 -> #DIV/0! | H9: =H8+C9 -> 6 | I9: =+H9/$B$208 -> #DIV/0!
C10: 1 | D10: SAPRESSI | E10: =SUMIF('Suivi des Commandes'!$C$4:$C$11,"SOFID INDUSTRIES",'Suivi des Commandes'!$B$4:$B$11) -> 1 | F10: =F9+E10 -> 15 | G10: =+F10/$D$208 -> #DIV/0! | H10: =H9+C10 -> 7 | I10: =+H10/$B$208 -> #DIV/0!
