Workbook

Sheet Feuil1
B1: Sur place | C1: À emporter | D1: Livraison
A2: Villeurbanne
A3: Burger | B3: =COUNTIFS(Feuil2!A:A,"Burger",Feuil2!B:B,"Sur place",Feuil2!C:C,"Villeurbanne") -> 1 | C3: =COUNTIFS(Feuil2!B:B,"Burger",Feuil2!C:C,"À emporter",Feuil2!D:D,"Villeurbanne") -> 0 | D3: =COUNTIFS(Feuil2!C:C,"Burger",Feuil2!D:D,"Livraison",Feuil2!E:E,"Villeurbanne") -> 0
A4: Pizza | B4: =COUNTIFS(Feuil2!A:A,"Pizza",Feuil2!B:B,"Sur place",Feuil2!C:C,"Villeurbanne") -> 0 | C4: =COUNTIFS(Feuil2!B:B,"Pizza",Feuil2!C:C,"À emporter",Feuil2!D:D,"Villeurbanne") -> 0 | D4: =COUNTIFS(Feuil2!C:C,"Pizza",Feuil2!D:D,"Livraison",Feuil2!E:E,"Villeurbanne") -> 0
A5: Salade | B5: =COUNTIFS(Feuil2!A:A,"Salade",Feuil2!B:B,"Sur place",Feuil2!C:C,"Villeurbanne") -> 0 | C5: =COUNTIFS(Feuil2!B:B,"Salade",Feuil2!C:C,"À emporter",Feuil2!D:D,"Villeurbanne") -> 0 | D5: =COUNTIFS(Feuil2!C:C,"Salade",Feuil2!D:D,"Livraison",Feuil2!E:E,"Villeurbanne") -> 0
A6: Lyon
A7: Burger | B7: =COUNTIFS(Feuil2!A:A,"Burger",Feuil2!B:B,"Sur place",Feuil2!C:C,"Lyon") -> 0 | C7: =COUNTIFS(Feuil2!B:B,"Burger",Feuil2!C:C,"À emporter",Feuil2!D:D,"Lyon") -> 0 | D7: =COUNTIFS(Feuil2!C:C,"Burger",Feuil2!D:D,"Livraison",Feuil2!E:E,"Lyon") -> 0
A8: Pizza | B8: =COUNTIFS(Feuil2!A:A,"Pizza",Feuil2!B:B,"Sur place",Feuil2!C:C,"Lyon") -> 0 | C8: =COUNTIFS(Feuil2!B:B,"Pizza",Feuil2!C:C,"À emporter",Feuil2!D:D,"Lyon") -> 0 | D8: =COUNTIFS(Feuil2!C:C,"Pizza",Feuil2!D:D,"Livraison",Feuil2!E:E,"Lyon") -> 0
A9: Salade | B9: =COUNTIFS(Feuil2!A:A,"Salade",Feuil2!B:B,"Sur place",Feuil2!C:C,"Lyon") -> 0 | C9: =COUNTIFS(Feuil2!B:B,"Salade",Feuil2!C:C,"À emporter",Feuil2!D:D,"Lyon") -> 0 | D9: =COUNTIFS(Feuil2!C:C,"Salade",Feuil2!D:D,"Livraison",Feuil2!E:E,"Lyon") -> 0
A10: Montpellier
A11: Burger | B11: =COUNTIFS(Feuil2!A:A,"Burger",Feuil2!B:B,"Sur place",Feuil2!C:C,"Lyon") -> 0 | C11: =COUNTIFS(Feuil2!B:B,"Burger",Feuil2!C:C,"À emporter",Feuil2!D:D,"Lyon") -> 0 | D11: =COUNTIFS(Feuil2!C:C,"Burger",Feuil2!D:D,"Livraison",Feuil2!E:E,"Lyon") -> 0
A12: Pizza | B12: =COUNTIFS(Feuil2!A:A,"Pizza",Feuil2!B:B,"Sur place",Feuil2!C:C,"Lyon") -> 0 | C12: =COUNTIFS(Feuil2!B:B,"Pizza",Feuil2!C:C,"À emporter",Feuil2!D:D,"Lyon") -> 0 | D12: =COUNTIFS(Feuil2!C:C,"Pizza",Feuil2!D:D,"Livraison",Feuil2!E:E,"Lyon") -> 0
A13: Salade | B13: =COUNTIFS(Feuil2!A:A,"Salade",Feuil2!B:B,"Sur place",Feuil2!C:C,"Lyon") -> 0 | C13: =COUNTIFS(Feuil2!B:B,"Salade",Feuil2!C:C,"À emporter",Feuil2!D:D,"Lyon") -> 0 | D13: =COUNTIFS(Feuil2!C:C,"Salade",Feuil2!D:D,"Livraison",Feuil2!E:E,"Lyon") -> 0

Sheet Feuil2
A1: Burger | B1: Sur place | C1: Villeurbanne
