Workbook
Name Arbitre: Inscriptions!$O$4
Name Arbitre: #REF!
Name Date: Inscriptions!$D$6
Name Date: #REF!
Name Lieu: Inscriptions!$D$4
Name Lieu: #REF!
Name Nombreflottes: [1]Inscriptions!$K$12
Name Nombreflottes: Inscriptions!$K$12
Name Nombreflottes: #REF!
Name Retrait: Inscriptions!$J$8:$Q$8
Name SaisieInscriptions: Inscriptions!$D$19:$V$78
Name SaisieInscriptions: #REF!
Name SaisieVoileInscriptions: Inscriptions!$D$19:$D$78
Name SaisieVoileInscriptions: #REF!
Name Serie: Inscriptions!$O$6
Name Serie: #REF!

Sheet Inscriptions
C2: Inscriptions
D4: Saisir le lieu de la régate | O4: Saisir le nom de l'arbitre
D6: Saisir la date | O6: Saisir IOM, RG65 ou Classe M
D8: Retrait après les manches
D12: Nombre de flottes ( 1 à 5 ) | M12: Nombre de bateaux promus ( 4 ou 6 )
H14: Nombre de bateaux dans chaque flotte
D16: A | H16: B | L16: C | P16: D | T16: E
D18: Voile | E18: =Coureurs!$C$2 -> Nom | I18: =Coureurs!$D$2 -> Prénom | N18: =Coureurs!$E$2 -> N° coureur
C19: 1 | D19: 23 | E19: =IF($D$19<>"",VLOOKUP($D$19,Coureurs!$B$3:$F$202,2,FALSE),"") -> C | I19: =IF($D$19<>"",VLOOKUP($D$19,Coureurs!$B$3:$F$202,3,FALSE),"") -> 0 | N19: =IF($D$19<>"",VLOOKUP($D$19,Coureurs!$B$3:$E$202,4,FALSE),"") -> 0
C20: 2 | D20: 208 | E20: =IF($D$20<>"",VLOOKUP($D$20,Coureurs!$B$3:$F$202,2,FALSE),"") -> A | I20: =IF($D$20<>"",VLOOKUP($D$20,Coureurs!$B$3:$F$202,3,FALSE),"") -> 0 | N20: =IF($D$20<>"",VLOOKUP($D$20,Coureurs!$B$3:$E$202,4,FALSE),"") -> 0
C21: 3 | E21: =IF($D$21<>"",VLOOKUP($D$21,Coureurs!$B$3:$F$202,2,FALSE),"") | I21: =IF($D$21<>"",VLOOKUP($D$21,Coureurs!$B$3:$F$202,3,FALSE),"") | N21: =IF($D$21<>"",VLOOKUP($D$21,Coureurs!$B$3:$E$202,4,FALSE),"")
C22: 4 | E22: =IF($D$22<>"",VLOOKUP($D$22,Coureurs!$B$3:$F$202,2,FALSE),"") | I22: =IF($D$22<>"",VLOOKUP($D$22,Coureurs!$B$3:$F$202,3,FALSE),"") | N22: =IF($D$22<>"",VLOOKUP($D$22,Coureurs!$B$3:$E$202,4,FALSE),"")
C23: 5 | E23: =IF($D$23<>"",VLOOKUP($D$23,Coureurs!$B$3:$F$202,2,FALSE),"") | I23: =IF($D$23<>"",VLOOKUP($D$23,Coureurs!$B$3:$F$202,3,FALSE),"") | N23: =IF($D$23<>"",VLOOKUP($D$23,Coureurs!$B$3:$E$202,4,FALSE),"")
C24: 6 | E24: =IF($D$24<>"",VLOOKUP($D$24,Coureurs!$B$3:$F$202,2,FALSE),"") | I24: =IF($D$24<>"",VLOOKUP($D$24,Coureurs!$B$3:$F$202,3,FALSE),"") | N24: =IF($D$24<>"",VLOOKUP($D$24,Coureurs!$B$3:$E$202,4,FALSE),"")
C25: 7 | E25: =IF($D$25<>"",VLOOKUP($D$25,Coureurs!$B$3:$F$202,2,FALSE),"") | I25: =IF($D$25<>"",VLOOKUP($D$25,Coureurs!$B$3:$F$202,3,FALSE),"") | N25: =IF($D$25<>"",VLOOKUP($D$25,Coureurs!$B$3:$E$202,4,FALSE),"")
C26: 8 | E26: =IF($D$26<>"",VLOOKUP($D$26,Coureurs!$B$3:$F$202,2,FALSE),"") | I26: =IF($D$26<>"",VLOOKUP($D$26,Coureurs!$B$3:$F$202,3,FALSE),"") | N26: =IF($D$26<>"",VLOOKUP($D$26,Coureurs!$B$3:$E$202,4,FALSE),"")
C27: 9 | E27: =IF($D$27<>"",VLOOKUP($D$27,Coureurs!$B$3:$F$202,2,FALSE),"") | I27: =IF($D$27<>"",VLOOKUP($D$27,Coureurs!$B$3:$F$202,3,FALSE),"") | N27: =IF($D$27<>"",VLOOKUP($D$27,Coureurs!$B$3:$E$202,4,FALSE),"")
C28: 10 | E28: =IF($D$28<>"",VLOOKUP($D$28,Coureurs!$B$3:$F$202,2,FALSE),"") | I28: =IF($D$28<>"",VLOOKUP($D$28,Coureurs!$B$3:$F$202,3,FALSE),"") | N28: =IF($D$28<>"",VLOOKUP($D$28,Coureurs!$B$3:$E$202,4,FALSE),"")
C29: 11 | E29: =IF($D$29<>"",VLOOKUP($D$29,Coureurs!$B$3:$F$202,2,FALSE),"") | I29: =IF($D$29<>"",VLOOKUP($D$29,Coureurs!$B$3:$F$202,3,FALSE),"") | N29: =IF($D$29<>"",VLOOKUP($D$29,Coureurs!$B$3:$E$202,4,FALSE),"")
C30: 12 | E30: =IF($D$30<>"",VLOOKUP($D$30,Coureurs!$B$3:$F$202,2,FALSE),"") | I30: =IF($D$30<>"",VLOOKUP($D$30,Coureurs!$B$3:$F$202,3,FALSE),"") | N30: =IF($D$30<>"",VLOOKUP($D$30,Coureurs!$B$3:$E$202,4,FALSE),"")
C31: 13 | E31: =IF($D$31<>"",VLOOKUP($D$31,Coureurs!$B$3:$F$202,2,FALSE),"") | I31: =IF($D$31<>"",VLOOKUP($D$31,Coureurs!$B$3:$F$202,3,FALSE),"") | N31: =IF($D$31<>"",VLOOKUP($D$31,Coureurs!$B$3:$E$202,4,FALSE),"")
C32: 14 | E32: =IF($D$32<>"",VLOOKUP($D$32,Coureurs!$B$3:$F$202,2,FALSE),"") | I32: =IF($D$32<>"",VLOOKUP($D$32,Coureurs!$B$3:$F$202,3,FALSE),"") | N32: =IF($D$32<>"",VLOOKUP($D$32,Coureurs!$B$3:$E$202,4,FALSE),"")
C33: 15 | E33: =IF($D$33<>"",VLOOKUP($D$33,Coureurs!$B$3:$F$202,2,FALSE),"") | I33: =IF($D$33<>"",VLOOKUP($D$33,Coureurs!$B$3:$F$202,3,FALSE),"") | N33: =IF($D$33<>"",VLOOKUP($D$33,Coureurs!$B$3:$E$202,4,FALSE),"")
C34: 16 | E34: =IF($D$34<>"",VLOOKUP($D$34,Coureurs!$B$3:$F$202,2,FALSE),"") | I34: =IF($D$33<>"",VLOOKUP($D$33,Coureurs!$B$3:$F$202,3,FALSE),"") | N34: =IF($D$34<>"",VLOOKUP($D$34,Coureurs!$B$3:$E$202,4,FALSE),"")
C35: 17 | E35: =IF($D$35<>"",VLOOKUP($D$35,Coureurs!$B$3:$F$202,2,FALSE),"") | I35: =IF($D$35<>"",VLOOKUP($D$35,Coureurs!$B$3:$F$202,3,FALSE),"") | N35: =IF($D$35<>"",VLOOKUP($D$35,Coureurs!$B$3:$E$202,4,FALSE),"")
C36: 18 | E36: =IF($D$36<>"",VLOOKUP($D$36,Coureurs!$B$3:$F$202,2,FALSE),"") | I36: =IF($D$36<>"",VLOOKUP($D$36,Coureurs!$B$3:$F$202,3,FALSE),"") | N36: =IF($D$36<>"",VLOOKUP($D$36,Coureurs!$B$3:$E$202,4,FALSE),"")
C37: 19 | E37: =IF($D$37<>"",VLOOKUP($D$37,Coureurs!$B$3:$F$202,2,FALSE),"") | I37: =IF($D$37<>"",VLOOKUP($D$37,Coureurs!$B$3:$F$202,3,FALSE),"") | N37: =IF($D$37<>"",VLOOKUP($D$37,Coureurs!$B$3:$E$202,4,FALSE),"")
C38: 20 | E38: =IF($D$38<>"",VLOOKUP($D$38,Coureurs!$B$3:$F$202,2,FALSE),"") | I38: =IF($D$38<>"",VLOOKUP($D$38,Coureurs!$B$3:$F$202,3,FALSE),"") | N38: =IF($D$38<>"",VLOOKUP($D$38,Coureurs!$B$3:$E$202,4,FALSE),"")
C39: 21 | E39: =IF($D$39<>"",VLOOKUP($D$39,Coureurs!$B$3:$F$202,2,FALSE),"") | I39: =IF($D$39<>"",VLOOKUP($D$39,Coureurs!$B$3:$F$202,3,FALSE),"") | N39: =IF($D$39<>"",VLOOKUP($D$39,Coureurs!$B$3:$E$202,4,FALSE),"")
C40: 22 | E40: =IF($D$40<>"",VLOOKUP($D$40,Coureurs!$B$3:$F$202,2,FALSE),"") | I40: =IF($D$40<>"",VLOOKUP($D$40,Coureurs!$B$3:$F$202,3,FALSE),"") | N40: =IF($D$40<>"",VLOOKUP($D$40,Coureurs!$B$3:$E$202,4,FALSE),"")
C41: 23 | E41: =IF($D$41<>"",VLOOKUP($D$41,Coureurs!$B$3:$F$202,2,FALSE),"") | I41: =IF($D$41<>"",VLOOKUP($D$41,Coureurs!$B$3:$F$202,3,FALSE),"") | N41: =IF($D$41<>"",VLOOKUP($D$41,Coureurs!$B$3:$E$202,4,FALSE),"")
C42: 24 | E42: =IF($D$42<>"",VLOOKUP($D$42,Coureurs!$B$3:$F$202,2,FALSE),"") | I42: =IF($D$42<>"",VLOOKUP($D$42,Coureurs!$B$3:$F$202,3,FALSE),"") | N42: =IF($D$42<>"",VLOOKUP($D$42,Coureurs!$B$3:$E$202,4,FALSE),"")
C43: 25 | E43: =IF($D$43<>"",VLOOKUP($D$43,Coureurs!$B$3:$F$202,2,FALSE),"") | I43: =IF($D$43<>"",VLOOKUP($D$43,Coureurs!$B$3:$F$202,3,FALSE),"") | N43: =IF($D$43<>"",VLOOKUP($D$43,Coureurs!$B$3:$E$202,4,FALSE),"")
C44: 26 | E44: =IF($D$44<>"",VLOOKUP($D$44,Coureurs!$B$3:$F$202,2,FALSE),"") | I44: =IF($D$44<>"",VLOOKUP($D$44,Coureurs!$B$3:$F$202,3,FALSE),"") | N44: =IF($D$44<>"",VLOOKUP($D$44,Coureurs!$B$3:$E$202,4,FALSE),"")
C45: 27 | E45: =IF($D$45<>"",VLOOKUP($D$45,Coureurs!$B$3:$F$202,2,FALSE),"") | I45: =IF($D$45<>"",VLOOKUP($D$45,Coureurs!$B$3:$F$202,3,FALSE),"") | N45: =IF($D$45<>"",VLOOKUP($D$45,Coureurs!$B$3:$E$202,4,FALSE),"")
C46: 28 | E46: =IF($D$46<>"",VLOOKUP($D$46,Coureurs!$B$3:$F$202,2,FALSE),"") | I46: =IF($D$46<>"",VLOOKUP($D$46,Coureurs!$B$3:$F$202,3,FALSE),"") | N46: =IF($D$46<>"",VLOOKUP($D$46,Coureurs!$B$3:$E$202,4,FALSE),"")
C47: 29 | E47: =IF($D$47<>"",VLOOKUP($D$47,Coureurs!$B$3:$F$202,2,FALSE),"") | I47: =IF($D$47<>"",VLOOKUP($D$47,Coureurs!$B$3:$F$202,3,FALSE),"") | N47: =IF($D$47<>"",VLOOKUP($D$47,Coureurs!$B$3:$E$202,4,FALSE),"")
C48: 30 | E48: =IF($D$48<>"",VLOOKUP($D$48,Coureurs!$B$3:$F$202,2,FALSE),"") | I48: =IF($D$48<>"",VLOOKUP($D$48,Coureurs!$B$3:$F$202,3,FALSE),"") | N48: =IF($D$48<>"",VLOOKUP($D$48,Coureurs!$B$3:$E$202,4,FALSE),"")
C49: 31 | E49: =IF($D$49<>"",VLOOKUP($D$49,Coureurs!$B$3:$F$202,2,FALSE),"") | I49: =IF($D$49<>"",VLOOKUP($D$49,Coureurs!$B$3:$F$202,3,FALSE),"") | N49: =IF($D$49<>"",VLOOKUP($D$49,Coureurs!$B$3:$E$202,4,FALSE),"")
C50: 32 | E50: =IF($D$50<>"",VLOOKUP($D$50,Coureurs!$B$3:$F$202,2,FALSE),"") | I50: =IF($D$50<>"",VLOOKUP($D$50,Coureurs!$B$3:$F$202,3,FALSE),"") | N50: =IF($D$50<>"",VLOOKUP($D$50,Coureurs!$B$3:$E$202,4,FALSE),"")
C51: 33 | E51: =IF($D$51<>"",VLOOKUP($D$51,Coureurs!$B$3:$F$202,2,FALSE),"") | I51: =IF($D$51<>"",VLOOKUP($D$51,Coureurs!$B$3:$F$202,3,FALSE),"") | N51: =IF($D$51<>"",VLOOKUP($D$51,Coureurs!$B$3:$E$202,4,FALSE),"")
C52: 34 | E52: =IF($D$52<>"",VLOOKUP($D$52,Coureurs!$B$3:$F$202,2,FALSE),"") | I52: =IF($D$52<>"",VLOOKUP($D$52,Coureurs!$B$3:$F$202,3,FALSE),"") | N52: =IF($D$52<>"",VLOOKUP($D$52,Coureurs!$B$3:$E$202,4,FALSE),"")
C53: 35 | E53: =IF($D$53<>"",VLOOKUP($D$53,Coureurs!$B$3:$F$202,2,FALSE),"") | I53: =IF($D$53<>"",VLOOKUP($D$53,Coureurs!$B$3:$F$202,3,FALSE),"") | N53: =IF($D$53<>"",VLOOKUP($D$53,Coureurs!$B$3:$E$202,4,FALSE),"")
C54: 36 | E54: =IF($D$54<>"",VLOOKUP($D$54,Coureurs!$B$3:$F$202,2,FALSE),"") | I54: =IF($D$54<>"",VLOOKUP($D$54,Coureurs!$B$3:$F$202,3,FALSE),"") | N54: =IF($D$54<>"",VLOOKUP($D$54,Coureurs!$B$3:$E$202,4,FALSE),"")
C55: 37 | E55: =IF($D$55<>"",VLOOKUP($D$55,Coureurs!$B$3:$F$202,2,FALSE),"") | I55: =IF($D$55<>"",VLOOKUP($D$55,Coureurs!$B$3:$F$202,3,FALSE),"") | N55: =IF($D$55<>"",VLOOKUP($D$55,Coureurs!$B$3:$E$202,4,FALSE),"")
C56: 38 | E56: =IF($D$56<>"",VLOOKUP($D$56,Coureurs!$B$3:$F$202,2,FALSE),"") | I56: =IF($D$56<>"",VLOOKUP($D$56,Coureurs!$B$3:$F$202,3,FALSE),"") | N56: =IF($D$56<>"",VLOOKUP($D$56,Coureurs!$B$3:$E$202,4,FALSE),"")
C57: 39 | E57: =IF($D$57<>"",VLOOKUP($D$57,Coureurs!$B$3:$F$202,2,FALSE),"") | I57: =IF($D$57<>"",VLOOKUP($D$57,Coureurs!$B$3:$F$202,3,FALSE),"") | N57: =IF($D$57<>"",VLOOKUP($D$57,Coureurs!$B$3:$E$202,4,FALSE),"")
C58: 40 | E58: =IF($D$58<>"",VLOOKUP($D$58,Coureurs!$B$3:$F$202,2,FALSE),"") | I58: =IF($D$58<>"",VLOOKUP($D$58,Coureurs!$B$3:$F$202,3,FALSE),"") | N58: =IF($D$58<>"",VLOOKUP($D$58,Coureurs!$B$3:$E$202,4,FALSE),"")
C59: 41 | E59: =IF($D$59<>"",VLOOKUP($D$59,Coureurs!$B$3:$F$202,2,FALSE),"") | I59: =IF($D$59<>"",VLOOKUP($D$59,Coureurs!$B$3:$F$202,3,FALSE),"") | N59: =IF($D$59<>"",VLOOKUP($D$59,Coureurs!$B$3:$E$202,4,FALSE),"")
C60: 42 | E60: =IF($D$60<>"",VLOOKUP($D$60,Coureurs!$B$3:$F$202,2,FALSE),"") | I60: =IF($D$60<>"",VLOOKUP($D$60,Coureurs!$B$3:$F$202,3,FALSE),"") | N60: =IF($D$60<>"",VLOOKUP($D$60,Coureurs!$B$3:$E$202,4,FALSE),"")
C61: 43 | E61: =IF($D$61<>"",VLOOKUP($D$61,Coureurs!$B$3:$F$202,2,FALSE),"") | I61: =IF($D$61<>"",VLOOKUP($D$61,Coureurs!$B$3:$F$202,3,FALSE),"") | N61: =IF($D$61<>"",VLOOKUP($D$61,Coureurs!$B$3:$E$202,4,FALSE),"")
C62: 44 | E62: =IF($D$62<>"",VLOOKUP($D$62,Coureurs!$B$3:$F$202,2,FALSE),"") | I62: =IF($D$62<>"",VLOOKUP($D$62,Coureurs!$B$3:$F$202,3,FALSE),"") | N62: =IF($D$62<>"",VLOOKUP($D$62,Coureurs!$B$3:$E$202,4,FALSE),"")
C63: 45 | E63: =IF($D$63<>"",VLOOKUP($D$63,Coureurs!$B$3:$F$202,2,FALSE),"") | I63: =IF($D$63<>"",VLOOKUP($D$63,Coureurs!$B$3:$F$202,3,FALSE),"") | N63: =IF($D$63<>"",VLOOKUP($D$63,Coureurs!$B$3:$E$202,4,FALSE),"")
C64: 46 | E64: =IF($D$64<>"",VLOOKUP($D$64,Coureurs!$B$3:$F$202,2,FALSE),"") | I64: =IF($D$64<>"",VLOOKUP($D$64,Coureurs!$B$3:$F$202,3,FALSE),"") | N64: =IF($D$64<>"",VLOOKUP($D$64,Coureurs!$B$3:$E$202,4,FALSE),"")
C65: 47 | E65: =IF($D$65<>"",VLOOKUP($D$65,Coureurs!$B$3:$F$202,2,FALSE),"") | I65: =IF($D$65<>"",VLOOKUP($D$65,Coureurs!$B$3:$F$202,3,FALSE),"") | N65: =IF($D$65<>"",VLOOKUP($D$65,Coureurs!$B$3:$E$202,4,FALSE),"")
C66: 48 | E66: =IF($D$66<>"",VLOOKUP($D$66,Coureurs!$B$3:$F$202,2,FALSE),"") | I66: =IF($D$66<>"",VLOOKUP($D$66,Coureurs!$B$3:$F$202,3,FALSE),"") | N66: =IF($D$66<>"",VLOOKUP($D$66,Coureurs!$B$3:$E$202,4,FALSE),"")
C67: 49 | E67: =IF($D$67<>"",VLOOKUP($D$67,Coureurs!$B$3:$F$202,2,FALSE),"") | I67: =IF($D$67<>"",VLOOKUP($D$67,Coureurs!$B$3:$F$202,3,FALSE),"") | N67: =IF($D$67<>"",VLOOKUP($D$67,Coureurs!$B$3:$E$202,4,FALSE),"")
C68: 50 | E68: =IF($D$68<>"",VLOOKUP($D$68,Coureurs!$B$3:$F$202,2,FALSE),"") | I68: =IF($D$68<>"",VLOOKUP($D$68,Coureurs!$B$3:$F$202,3,FALSE),"") | N68: =IF($D$68<>"",VLOOKUP($D$68,Coureurs!$B$3:$E$202,4,FALSE),"")
C69: 51 | E69: =IF($D$69<>"",VLOOKUP($D$69,Coureurs!$B$3:$F$202,2,FALSE),"") | I69: =IF($D$69<>"",VLOOKUP($D$69,Coureurs!$B$3:$F$202,3,FALSE),"") | N69: =IF($D$69<>"",VLOOKUP($D$69,Coureurs!$B$3:$E$202,4,FALSE),"")
C70: 52 | E70: =IF($D$70<>"",VLOOKUP($D$70,Coureurs!$B$3:$F$202,2,FALSE),"") | I70: =IF($D$70<>"",VLOOKUP($D$70,Coureurs!$B$3:$F$202,3,FALSE),"") | N70: =IF($D$70<>"",VLOOKUP($D$70,Coureurs!$B$3:$E$202,4,FALSE),"")
C71: 53 | E71: =IF($D$71<>"",VLOOKUP($D$71,Coureurs!$B$3:$F$202,2,FALSE),"") | I71: =IF($D$71<>"",VLOOKUP($D$71,Coureurs!$B$3:$F$202,3,FALSE),"") | N71: =IF($D$71<>"",VLOOKUP($D$71,Coureurs!$B$3:$E$202,4,FALSE),"")
C72: 54 | E72: =IF($D$72<>"",VLOOKUP($D$72,Coureurs!$B$3:$F$202,2,FALSE),"") | I72: =IF($D$72<>"",VLOOKUP($D$72,Coureurs!$B$3:$F$202,3,FALSE),"") | N72: =IF($D$72<>"",VLOOKUP($D$72,Coureurs!$B$3:$E$202,4,FALSE),"")
C73: 55 | E73: =IF($D$73<>"",VLOOKUP($D$73,Coureurs!$B$3:$F$202,2,FALSE),"") | I73: =IF($D$73<>"",VLOOKUP($D$73,Coureurs!$B$3:$F$202,3,FALSE),"") | N73: =IF($D$73<>"",VLOOKUP($D$73,Coureurs!$B$3:$E$202,4,FALSE),"")
C74: 56 | E74: =IF($D$74<>"",VLOOKUP($D$74,Coureurs!$B$3:$F$202,2,FALSE),"") | I74: =IF($D$74<>"",VLOOKUP($D$74,Coureurs!$B$3:$F$202,3,FALSE),"") | N74: =IF($D$74<>"",VLOOKUP($D$74,Coureurs!$B$3:$E$202,4,FALSE),"")
C75: 57 | E75: =IF($D$75<>"",VLOOKUP($D$75,Coureurs!$B$3:$F$202,2,FALSE),"") | I75: =IF($D$75<>"",VLOOKUP($D$75,Coureurs!$B$3:$F$202,3,FALSE),"") | N75: =IF($D$75<>"",VLOOKUP($D$75,Coureurs!$B$3:$E$202,4,FALSE),"")
C76: 58 | E76: =IF($D$76<>"",VLOOKUP($D$76,Coureurs!$B$3:$F$202,2,FALSE),"") | I76: =IF($D$76<>"",VLOOKUP($D$76,Coureurs!$B$3:$F$202,3,FALSE),"") | N76: =IF($D$76<>"",VLOOKUP($D$76,Coureurs!$B$3:$E$202,4,FALSE),"")
C77: 59 | E77: =IF($D$77<>"",VLOOKUP($D$77,Coureurs!$B$3:$F$202,2,FALSE),"") | I77: =IF($D$77<>"",VLOOKUP($D$77,Coureurs!$B$3:$F$202,3,FALSE),"") | N77: =IF($D$77<>"",VLOOKUP($D$77,Coureurs!$B$3:$E$202,4,FALSE),"")
C78: 60 | E78: =IF($D$78<>"",VLOOKUP($D$78,Coureurs!$B$3:$F$202,2,FALSE),"") | I78: =IF($D$78<>"",VLOOKUP($D$78,Coureurs!$B$3:$F$202,3,FALSE),"") | N78: =IF($D$78<>"",VLOOKUP($D$78,Coureurs!$B$3:$E$202,4,FALSE),"")

Sheet Coureurs
B2: N° Voile | C2: Nom | D2: Prénom | E2: N° coureur | F2: Téléphone | G2: Adresse mail
A3: 1 | B3: 208 | C3: A
A4: 2 | B4: 5 | C4: B
A5: 3 | B5: 23 | C5: C
A6: 4 | B6: 53 | C6: D
A7: 5 | B7: 114 | C7: E
A8: 6 | B8: 10 | C8: F
A9: 7 | B9: 60 | C9: G
A10: 8 | B10: 65 | C10: H
A11: 9 | B11: 23 | C11: I
A12: 10 | B12: 36 | C12: J
A13: 11 | B13: 7 | C13: K
A14: 12 | B14: 53 | C14: L
A15: 13 | B15: 342 | C15: M
A16: 14 | B16: 343 | C16: N
A17: 15 | B17: 23 | C17: O
A18: 16 | B18: 186 | C18: P
A19: 17 | B19: 41 | C19: Q
A20: 18 | B20: 57 | C20: R
A21: 19 | B21: 56 | C21: S
A22: 20 | B22: 6 | C22: T
A23: 21 | B23: 75 | C23: U
A24: 22 | B24: 216 | C24: V
A25: 23 | B25: 239 | C25: W
A26: 24 | C26: X
A27: 25 | B27: 42 | C27: Y
A28: 26 | B28: 23 | C28: Z
A29: 27
A30: 28
A31: 29
A32: 30
A33: 31
A34: 32
A35: 33
A36: 34
A37: 35
A38: 36
A39: 37
A40: 38
... A69: 67
