Workbook

Sheet CDE
A1: AFAC | B1: CDE | C1: PROD | D1: RECEP | E1: EXPED | F1: QT1 | G1: QT1 | H1: PUHT | I1: TOTHT | J1: MQ | K1: 35 | L1: 36 | M1: 37 | N1: 38 | O1: 39 | P1: 40 | Q1: 41 | R1: 28 | S1: 29 | T1: 30 | U1: 31 | V1: 32 | W1: 33 | X1: 34 | Y1: H40 | Z1: H41 | AA1: H42 | AB1: H43 | AC1: H44 | AD1: H45
A2: CA | B2: CDE | C2: VENTE | F2: 10 | G2: =SUBTOTAL(9,K2:Q2) -> 10 | H2: 38 | I2: =G2*H2 -> 380 | J2: ALI | K2: 0 | L2: 1 | M2: 2 | N2: 3 | O2: 2 | P2: 1 | Q2: 1
A3: CA | B3: CDE | C3: VENTE | F3: 10 | G3: =SUBTOTAL(9,K3:Q3) -> 10 | H3: 38 | I3: =G3*H3 -> 380 | J3: ALI | K3: 0 | L3: 1 | M3: 2 | N3: 3 | O3: 2 | P3: 1 | Q3: 1
A4: CA | B4: CDE | C4: VENTE | F4: 12 | G4: =SUBTOTAL(9,K4:Q4) -> 12 | H4: 38 | I4: =G4*H4 -> 456 | J4: ALI | K4: 0 | L4: 1 | M4: 2 | N4: 3 | O4: 3 | P4: 2 | Q4: 1
A5: CA | B5: CDE | C5: VENTE | F5: 10 | G5: =SUBTOTAL(9,K5:Q5) -> 10 | H5: 41 | I5: =G5*H5 -> 410 | J5: ALI | K5: 0 | L5: 1 | M5: 2 | N5: 3 | O5: 2 | P5: 1 | Q5: 1
A6: CA | B6: CDE | C6: VENTE | F6: 10 | G6: =SUBTOTAL(9,K6:Q6) -> 10 | H6: 45 | I6: =G6*H6 -> 450 | J6: ALI | K6: 0 | L6: 1 | M6: 2 | N6: 3 | O6: 2 | P6: 1 | Q6: 1
A7: CA | B7: CDE | C7: VENTE | F7: 8 | G7: =SUBTOTAL(9,K7:Q7) -> 8 | H7: 45 | I7: =G7*H7 -> 360 | J7: ALI | K7: 0 | L7: 1 | M7: 1 | N7: 2 | O7: 2 | P7: 1 | Q7: 1
A8: CA | B8: CDE | C8: VENTE | F8: 12 | G8: =SUBTOTAL(9,K8:Q8) -> 12 | H8: 38 | I8: =G8*H8 -> 456 | J8: ALI | K8: 0 | L8: 1 | M8: 2 | N8: 3 | O8: 3 | P8: 2 | Q8: 1
A9: CA | B9: CDE | C9: VENTE | F9: 10 | G9: =SUBTOTAL(9,K9:Q9) -> 10 | H9: 42 | I9: =G9*H9 -> 420 | J9: ALI | K9: 0 | L9: 1 | M9: 2 | N9: 3 | O9: 2 | P9: 1 | Q9: 1
A10: CA | B10: CDE | C10: VENTE | F10: 10 | G10: =SUBTOTAL(9,K10:Q10) -> 10 | H10: 42 | I10: =G10*H10 -> 420 | J10: ALI | K10: 0 | L10: 1 | M10: 2 | N10: 3 | O10: 2 | P10: 1 | Q10: 1
A11: CA | B11: CDE | C11: VENTE | F11: 10 | G11: =SUBTOTAL(9,K11:Q11) -> 10 | H11: 42 | I11: =G11*H11 -> 420 | J11: ALI | K11: 0 | L11: 1 | M11: 2 | N11: 3 | O11: 2 | P11: 1 | Q11: 1
A12: CA | B12: CDE | C12: VENTE | F12: 10 | G12: =SUBTOTAL(9,K12:Q12) -> 10 | H12: 38 | I12: =G12*H12 -> 380 | J12: ALI | K12: 0 | L12: 1 | M12: 2 | N12: 3 | O12: 2 | P12: 1 | Q12: 1
A13: CA | B13: CDE | C13: VENTE | F13: 6 | G13: =SUBTOTAL(9,K13:Q13) -> 6 | H13: 59 | I13: =G13*H13 -> 354 | J13: NIM | K13: 0 | L13: 0 | M13: 1 | N13: 2 | O13: 2 | P13: 1 | Q13: 0
... A22: CA | B22: CDE | C22: VENTE | F22: 10 | G22: =SUBTOTAL(9,K22:Q22) -> 10 | H22: 38 | I22: =G22*H22 -> 380 | J22: SMS | K22: 0 | L22: 1 | M22: 2 | N22: 3 | O22: 2 | P22: 1 | Q22: 1
A23: CA | B23: CDE | C23: VENTE | F23: 9 | G23: =SUBTOTAL(9,K23:X23) -> 9 | H23: 53.222 | J23: KID | K23: 1 | L23: 1 | M23: 1 | N23: 1 | O23: 1 | S23: 1 | T23: 1 | U23: 1 | X23: 1
A24: CA | B24: CDE | C24: VENTE | F24: 4 | G24: =SUBTOTAL(9,K24:X24) -> 4 | H24: 52.75 | J24: KID | K24: 1 | T24: 1 | U24: 1 | X24: 1
A25: CA | B25: CDE | C25: VENTE | F25: 5 | G25: =SUBTOTAL(9,K25:X25) -> 5 | H25: 53.4 | J25: KID | K25: 1 | L25: 1 | M25: 1 | T25: 1 | X25: 1
A26: CA | B26: CDE | C26: VENTE | F26: 1 | G26: =SUBTOTAL(9,K26:Q26) -> 1 | H26: 66 | I26: =G26*H26 -> 66 | J26: NIM | N26: 1
A27: CA | B27: CDE | C27: VENTE | F27: 8 | G27: =SUBTOTAL(9,K27:Q27) -> 8 | H27: 58 | I27: =G27*H27 -> 464 | J27: NIM | K27: 1 | L27: 1 | M27: 2 | N27: 2 | O27: 1 | P27: 1 | Q27: 0
A28: CA | B28: CDE | C28: VENTE | F28: 8 | G28: =SUBTOTAL(9,K28:Q28) -> 8 | H28: 58 | I28: =G28*H28 -> 464 | J28: NIM | K28: 1 | L28: 1 | M28: 2 | N28: 2 | O28: 1 | P28: 1 | Q28: 0
A29: CA | B29: CDE | C29: VENTE | F29: 9 | G29: =SUBTOTAL(9,K29:Q29) -> 9 | H29: 57 | I29: =G29*H29 -> 513 | J29: NIM | K29: 1 | L29: 1 | M29: 1 | N29: 2 | O29: 2 | P29: 1 | Q29: 1
A30: CA | B30: CDE | C30: VENTE | F30: 7 | G30: =SUBTOTAL(9,K30:Q30) -> 7 | H30: 57 | I30: =G30*H30 -> 399 | J30: NIM | K30: 1 | L30: 1 | M30: 1 | N30: 1 | O30: 1 | P30: 1 | Q30: 1
A31: CA | B31: CDE | C31: VENTE | F31: 8 | G31: =SUBTOTAL(9,K31:Q31) -> 8 | H31: 57 | I31: =G31*H31 -> 456 | J31: NIM | K31: 0 | L31: 1 | M31: 2 | N31: 2 | O31: 2 | P31: 1 | Q31: 0
A32: CA | B32: CDE | C32: VENTE | F32: 8 | G32: =SUBTOTAL(9,K32:Q32) -> 8 | H32: 66 | I32: =G32*H32 -> 528 | J32: NIM | K32: 1 | L32: 1 | M32: 2 | N32: 2 | O32: 1 | P32: 1 | Q32: 0
A33: CA | B33: CDE | C33: VENTE | F33: 8 | G33: =SUBTOTAL(9,K33:Q33) -> 8 | H33: 60 | I33: =G33*H33 -> 480 | J33: NIM | K33: 1 | L33: 1 | M33: 2 | N33: 1 | O33: 1 | P33: 1 | Q33: 1
A34: CA | B34: CDE | C34: VENTE | F34: 8 | G34: =SUBTOTAL(9,K34:Q34) -> 8 | H34: 57 | I34: =G34*H34 -> 456 | J34: NIM | K34: 1 | L34: 1 | M34: 1 | N34: 2 | O34: 1 | P34: 1 | Q34: 1
A35: CA | B35: CDE | C35: VENTE | F35: 8 | G35: =SUBTOTAL(9,K35:Q35) -> 8 | H35: 63 | I35: =G35*H35 -> 504 | J35: NIM | K35: 0 | L35: 1 | M35: 2 | N35: 2 | O35: 2 | P35: 1 | Q35: 0
A36: CA | B36: CDE | C36: VENTE | F36: 8 | G36: =SUBTOTAL(9,K36:Q36) -> 8 | H36: 69 | I36: =G36*H36 -> 552 | J36: NIM | K36: 0 | L36: 1 | M36: 2 | N36: 2 | O36: 2 | P36: 1 | Q36: 0
A37: CA | B37: CDE | C37: VENTE | F37: 8 | G37: =SUBTOTAL(9,K37:Q37) -> 8 | H37: 57 | I37: =G37*H37 -> 456 | J37: NIM | K37: 1 | L37: 1 | M37: 1 | N37: 2 | O37: 2 | P37: 1 | Q37: 0
A38: CA | B38: CDE | C38: VENTE | F38: 8 | G38: =SUBTOTAL(9,K38:Q38) -> 8 | H38: 57 | I38: =G38*H38 -> 456 | J38: NIM | K38: 0 | L38: 1 | M38: 2 | N38: 2 | O38: 1 | P38: 1 | Q38: 1
A39: CA | B39: CDE | C39: VENTE | F39: 8 | G39: =SUBTOTAL(9,K39:Q39) -> 8 | H39: 45 | I39: =G39*H39 -> 360 | J39: ALI | K39: 1 | L39: 1 | M39: 1 | N39: 2 | O39: 2 | P39: 1 | Q39: 0
A40: CA | B40: CDE | F40: 9 | G40: =SUBTOTAL(9,K40:Q40) -> 9 | H40: 38 | I40: =G40*H40 -> 342 | J40: ALI | K40: 1 | L40: 1 | M40: 2 | N40: 2 | O40: 2 | P40: 1 | Q40: 0

Sheet RECAP RECEP
B2: ALIWELL | C2: ALIWELL H | D2: NIMAL | E2: NIMAL KID | F2: SMS | G2: TOTAL | H2: CA HT
A3: COMMANDE | B3: {=SUM((CDE!J2:J3808="ALI")*(CDE!C2:C3808="VENTE")*(CDE!G2:G3808))} -> 120 | C3: {=SUM((CDE!J2:J3808="HOM")*(CDE!C2:C3808="VENTE")*(CDE!G2:G3808))} -> 0 | D3: {=SUM((CDE!J2:J3808="NIM")*(CDE!C2:C3808="VENTE")*(CDE!G2:G3808))} -> 109 | E3: {=SUM((CDE!J2:J3808="KID")*(CDE!C2:C3808="VENTE")*(CDE!G2:G3808))} -> 18 | F3: {=SUM((CDE!J2:J3808="SMS")*(CDE!C2:C3808="VENTE")*(CDE!G2:G3808))} -> 78 | G3: =SUM(B3:F3) -> 325 | H3: {=SUM((CDE!C2:C3808="VENTE")*(CDE!I2:I3808))} -> 14346
