Workbook

Sheet Tableau de bord
B2: Semaine n° | C2: Total semaine | E2: Moyenne d'heures entre semaine | F2: 40 | G2: et semaine | H2: 42
B3: 40 | C3: =Octobre!J3 -> 0.64583333
B4: 41 | C4: =Octobre!J10 -> 1.1458333 | E4: Résultat
B5: 42 | C5: =Octobre!J17 -> 0.96875
B6: 43 | C6: =Octobre!J24 -> 0
B7: 44 | C7: =Octobre!J31 -> 0
B8: 45 | C8: =Novembre!J9 -> 0
B9: 46 | C9: =Novembre!J16 -> 0
B10: 47 | C10: =Novembre!J23 -> 0
B11: 48 | C11: =Novembre!J30 -> 0
B12: 49 | C12: =Novembre!J37 -> 0
B13: 50 | C13: =Décembre!J16 -> 0
B14: 51 | C14: =Décembre!J23 -> 0
B15: 52 | C15: =Décembre!J30 -> 0
B16: 1 | C16: =Décembre!J37 -> 0

Sheet Octobre
A1: Octobre
A2: Jour | B2: Date | C2: Semaine n° | D2: Heure de début | E2: Heure de fin | F2: Temps de pause | G2: Heures prestées | J2: Total semaine | K2: Total octobre
A3: =CHOOSE(WEEKDAY(B3,2),"lundi","mardi","mercredi","jeudi","vendredi","samedi","dimanche") -> lundi | B3: 44466 | C3: =WEEKNUM(B3,2) -> 40 | G3: =(E3-D3)-I3 -> 0 | H3: =CONVERT(F3,"mn","hr") -> 0 | I3: =H3/24 -> 0 | J3: =SUM(G3:G9) -> 0.64583333
A4: =CHOOSE(WEEKDAY(B4,2),"lundi","mardi","mercredi","jeudi","vendredi","samedi","dimanche") -> mardi | B4: 44467 | C4: =WEEKNUM(B4,2) -> 40 | G4: =(E4-D4)-I4 -> 0 | H4: =CONVERT(F4,"mn","hr") -> 0 | I4: =H4/24 -> 0
A5: =CHOOSE(WEEKDAY(B5,2),"lundi","mardi","mercredi","jeudi","vendredi","samedi","dimanche") -> mercredi | B5: 44468 | C5: =WEEKNUM(B5,2) -> 40 | G5: =(E5-D5)-I5 -> 0 | H5: =CONVERT(F5,"mn","hr") -> 0 | I5: =H5/24 -> 0
A6: =CHOOSE(WEEKDAY(B6,2),"lundi","mardi","mercredi","jeudi","vendredi","samedi","dimanche") -> jeudi | B6: 44469 | C6: =WEEKNUM(B6,2) -> 40 | G6: =(E6-D6)-I6 -> 0 | H6: =CONVERT(F6,"mn","hr") -> 0 | I6: =H6/24 -> 0
A7: =CHOOSE(WEEKDAY(B7,2),"lundi","mardi","mercredi","jeudi","vendredi","samedi","dimanche") -> vendredi | B7: 44470 | C7: =WEEKNUM(B7,2) -> 40 | D7: 0.5 | E7: 0.77083333 | F7: 30 | G7: =(E7-D7)-I7 -> 0.25 | H7: =CONVERT(F7,"mn","hr") -> 0.5 | I7: =H7/24 -> 0.020833333
A8: =CHOOSE(WEEKDAY(B8,2),"lundi","mardi","mercredi","jeudi","vendredi","samedi","dimanche") -> samedi | B8: 44471 | C8: =WEEKNUM(B8,2) -> 40 | D8: 0.58333333 | E8: 0.79166667 | F8: 30 | G8: =(E8-D8)-I8 -> 0.1875 | H8: =CONVERT(F8,"mn","hr") -> 0.5 | I8: =H8/24 -> 0.020833333
A9: =CHOOSE(WEEKDAY(B9,2),"lundi","mardi","mercredi","jeudi","vendredi","samedi","dimanche") -> dimanche | B9: 44472 | C9: =WEEKNUM(B9,2) -> 40 | D9: 0.54166667 | E9: 0.77083333 | F9: 30 | G9: =(E9-D9)-I9 -> 0.20833333 | H9: =CONVERT(F9,"mn","hr") -> 0.5 | I9: =H9/24 -> 0.020833333
A10: =CHOOSE(WEEKDAY(B10,2),"lundi","mardi","mercredi","jeudi","vendredi","samedi","dimanche") -> lundi | B10: 44473 | C10: =WEEKNUM(B10,2) -> 41 | D10: 0.41666667 | E10: 0.77083333 | F10: 45 | G10: =(E10-D10)-I10 -> 0.32291667 | H10: =CONVERT(F10,"mn","hr") -> 0.75 | I10: =H10/24 -> 0.03125 | J10: =SUM(G10:G16) -> 1.1458333
A11: =CHOOSE(WEEKDAY(B11,2),"lundi","mardi","mercredi","jeudi","vendredi","samedi","dimanche") -> mardi | B11: 44474 | C11: =WEEKNUM(B11,2) -> 41 | G11: =(E11-D11)-I11 -> 0 | H11: =CONVERT(F11,"mn","hr") -> 0 | I11: =H11/24 -> 0
A12: =CHOOSE(WEEKDAY(B12,2),"lundi","mardi","mercredi","jeudi","vendredi","samedi","dimanche") -> mercredi | B12: 44475 | C12: =WEEKNUM(B12,2) -> 41 | D12: 0.375 | E12: 0.64583333 | F12: 30 | G12: =(E12-D12)-I12 -> 0.25 | H12: =CONVERT(F12,"mn","hr") -> 0.5 | I12: =H12/24 -> 0.020833333
A13: =CHOOSE(WEEKDAY(B13,2),"lundi","mardi","mercredi","jeudi","vendredi","samedi","dimanche") -> jeudi | B13: 44476 | C13: =WEEKNUM(B13,2) -> 41 | G13: =(E13-D13)-I13 -> 0 | H13: =CONVERT(F13,"mn","hr") -> 0 | I13: =H13/24 -> 0
A14: =CHOOSE(WEEKDAY(B14,2),"lundi","mardi","mercredi","jeudi","vendredi","samedi","dimanche") -> vendredi | B14: 44477 | C14: =WEEKNUM(B14,2) -> 41 | D14: 0.45833333 | E14: 0.77083333 | F14: 30 | G14: =(E14-D14)-I14 -> 0.29166667 | H14: =CONVERT(F14,"mn","hr") -> 0.5 | I14: =H14/24 -> 0.020833333
A15: =CHOOSE(WEEKDAY(B15,2),"lundi","mardi","mercredi","jeudi","vendredi","samedi","dimanche") -> samedi | B15: 44478 | C15: =WEEKNUM(B15,2) -> 41 | D15: 0.375 | E15: 0.6875 | F15: 45 | G15: =(E15-D15)-I15 -> 0.28125 | H15: =CONVERT(F15,"mn","hr") -> 0.75 | I15: =H15/24 -> 0.03125
A16: =CHOOSE(WEEKDAY(B16,2),"lundi","mardi","mercredi","jeudi","vendredi","samedi","dimanche") -> dimanche | B16: 44479 | C16: =WEEKNUM(B16,2) -> 41 | G16: =(E16-D16)-I16 -> 0 | H16: =CONVERT(F16,"mn","hr") -> 0 | I16: =H16/24 -> 0
A17: =CHOOSE(WEEKDAY(B17,2),"lundi","mardi","mercredi","jeudi","vendredi","samedi","dimanche") -> lundi | B17: 44480 | C17: =WEEKNUM(B17,2) -> 42 | G17: =(E17-D17)-I17 -> 0 | H17: =CONVERT(F17,"mn","hr") -> 0 | I17: =H17/24 -> 0 | J17: =SUM(G17:G23) -> 0.96875
A18: =CHOOSE(WEEKDAY(B18,2),"lundi","mardi","mercredi","jeudi","vendredi","samedi","dimanche") -> mardi | B18: 44481 | C18: =WEEKNUM(B18,2) -> 42 | G18: =(E18-D18)-I18 -> 0 | H18: =CONVERT(F18,"mn","hr") -> 0 | I18: =H18/24 -> 0
A19: =CHOOSE(WEEKDAY(B19,2),"lundi","mardi","mercredi","jeudi","vendredi","samedi","dimanche") -> mercredi | B19: 44482 | C19: =WEEKNUM(B19,2) -> 42 | D19: 0.54166667 | E19: 0.77083333 | F19: 30 | G19: =(E19-D19)-I19 -> 0.20833333 | H19: =CONVERT(F19,"mn","hr") -> 0.5 | I19: =H19/24 -> 0.020833333
A20: =CHOOSE(WEEKDAY(B20,2),"lundi","mardi","mercredi","jeudi","vendredi","samedi","dimanche") -> jeudi | B20: 44483 | C20: =WEEKNUM(B20,2) -> 42 | D20: 0.45833333 | E20: 0.70833333 | F20: 30 | G20: =(E20-D20)-I20 -> 0.22916667 | H20: =CONVERT(F20,"mn","hr") -> 0.5 | I20: =H20/24 -> 0.020833333
A21: =CHOOSE(WEEKDAY(B21,2),"lundi","mardi","mercredi","jeudi","vendredi","samedi","dimanche") -> vendredi | B21: 44484 | C21: =WEEKNUM(B21,2) -> 42 | D21: 0.375 | E21: 0.6875 | F21: 45 | G21: =(E21-D21)-I21 -> 0.28125 | H21: =CONVERT(F21,"mn","hr") -> 0.75 | I21: =H21/24 -> 0.03125
A22: =CHOOSE(WEEKDAY(B22,2),"lundi","mardi","mercredi","jeudi","vendredi","samedi","dimanche") -> samedi | B22: 44485 | C22: =WEEKNUM(B22,2) -> 42 | D22: 0.45833333 | E22: 0.72916667 | F22: 30 | G22: =(E22-D22)-I22 -> 0.25 | H22: =CONVERT(F22,"mn","hr") -> 0.5 | I22: =H22/24 -> 0.020833333
A23: =CHOOSE(WEEKDAY(B23,2),"lundi","mardi","mercredi","jeudi","vendredi","samedi","dimanche") -> dimanche | B23: 44486 | C23: =WEEKNUM(B23,2) -> 42 | G23: =(E23-D23)-I23 -> 0 | H23: =CONVERT(F23,"mn","hr") -> 0 | I23: =H23/24 -> 0
A24: =CHOOSE(WEEKDAY(B24,2),"lundi","mardi","mercredi","jeudi","vendredi","samedi","dimanche") -> lundi | B24: 44487 | C24: =WEEKNUM(B24,2) -> 43 | G24: =(E24-D24)-I24 -> 0 | H24: =CONVERT(F24,"mn","hr") -> 0 | I24: =H24/24 -> 0 | J24: =SUM(G24:G30) -> 0
A25: =CHOOSE(WEEKDAY(B25,2),"lundi","mardi","mercredi","jeudi","vendredi","samedi","dimanche") -> mardi | B25: 44488 | C25: =WEEKNUM(B25,2) -> 43 | G25: =(E25-D25)-I25 -> 0 | H25: =CONVERT(F25,"mn","hr") -> 0 | I25: =H25/24 -> 0
A26: =CHOOSE(WEEKDAY(B26,2),"lundi","mardi","mercredi","jeudi","vendredi","samedi","dimanche") -> mercredi | B26: 44489 | C26: =WEEKNUM(B26,2) -> 43 | G26: =(E26-D26)-I26 -> 0 | H26: =CONVERT(F26,"mn","hr") -> 0 | I26: =H26/24 -> 0
A27: =CHOOSE(WEEKDAY(B27,2),"lundi","mardi","mercredi","jeudi","vendredi","samedi","dimanche") -> jeudi | B27: 44490 | C27: =WEEKNUM(B27,2) -> 43 | G27: =(E27-D27)-I27 -> 0 | H27: =CONVERT(F27,"mn","hr") -> 0 | I27: =H27/24 -> 0
A28: =CHOOSE(WEEKDAY(B28,2),"lundi","mardi","mercredi","jeudi","vendredi","samedi","dimanche") -> vendredi | B28: 44491 | C28: =WEEKNUM(B28,2) -> 43 | G28: =(E28-D28)-I28 -> 0 | H28: =CONVERT(F28,"mn","hr") -> 0 | I28: =H28/24 -> 0
A29: =CHOOSE(WEEKDAY(B29,2),"lundi","mardi","mercredi","jeudi","vendredi","samedi","dimanche") -> samedi | B29: 44492 | C29: =WEEKNUM(B29,2) -> 43 | G29: =(E29-D29)-I29 -> 0 | H29: =CONVERT(F29,"mn","hr") -> 0 | I29: =H29/24 -> 0
A30: =CHOOSE(WEEKDAY(B30,2),"lundi","mardi","mercredi","jeudi","vendredi","samedi","dimanche") -> dimanche | B30: 44493 | C30: =WEEKNUM(B30,2) -> 43 | G30: =(E30-D30)-I30 -> 0 | H30: =CONVERT(F30,"mn","hr") -> 0 | I30: =H30/24 -> 0
A31: =CHOOSE(WEEKDAY(B31,2),"lundi","mardi","mercredi","jeudi","vendredi","samedi","dimanche") -> lundi | B31: 44494 | C31: =WEEKNUM(B31,2) -> 44 | G31: =(E31-D31)-I31 -> 0 | H31: =CONVERT(F31,"mn","hr") -> 0 | I31: =H31/24 -> 0 | J31: =SUM(G31:G37) -> 0
A32: =CHOOSE(WEEKDAY(B32,2),"lundi","mardi","mercredi","jeudi","vendredi","samedi","dimanche") -> mardi | B32: 44495 | C32: =WEEKNUM(B32,2) -> 44 | G32: =(E32-D32)-I32 -> 0 | H32: =CONVERT(F32,"mn","hr") -> 0 | I32: =H32/24 -> 0
A33: =CHOOSE(WEEKDAY(B33,2),"lundi","mardi","mercredi","jeudi","vendredi","samedi","dimanche") -> mercredi | B33: 44496 | C33: =WEEKNUM(B33,2) -> 44 | G33: =(E33-D33)-I33 -> 0 | H33: =CONVERT(F33,"mn","hr") -> 0 | I33: =H33/24 -> 0
A34: =CHOOSE(WEEKDAY(B34,2),"lundi","mardi","mercredi","jeudi","vendredi","samedi","dimanche") -> jeudi | B34: 44497 | C34: =WEEKNUM(B34,2) -> 44 | G34: =(E34-D34)-I34 -> 0 | H34: =CONVERT(F34,"mn","hr") -> 0 | I34: =H34/24 -> 0
A35: =CHOOSE(WEEKDAY(B35,2),"lundi","mardi","mercredi","jeudi","vendredi","samedi","dimanche") -> vendredi | B35: 44498 | C35: =WEEKNUM(B35,2) -> 44 | G35: =(E35-D35)-I35 -> 0 | H35: =CONVERT(F35,"mn","hr") -> 0 | I35: =H35/24 -> 0
A36: =CHOOSE(WEEKDAY(B36,2),"lundi","mardi","mercredi","jeudi","vendredi","samedi","dimanche") -> samedi | B36: 44499 | C36: =WEEKNUM(B36,2) -> 44 | G36: =(E36-D36)-I36 -> 0 | H36: =CONVERT(F36,"mn","hr") -> 0 | I36: =H36/24 -> 0
A37: =CHOOSE(WEEKDAY(B37,2),"lundi","mardi","mercredi","jeudi","vendredi","samedi","dimanche") -> dimanche | B37: 44500 | C37: =WEEKNUM(B37,2) -> 44 | G37: =(E37-D37)-I37 -> 0 | H37: =CONVERT(F37,"mn","hr") -> 0 | I37: =H37/24 -> 0 | K37: =SUMIFS(G3:G37, B3:B37, ">=01-10-21", B3:B37, "<01-11-21") -> 2.7604167

Sheet Novembre
A1: Novembre
A2: Jour | B2: Date | C2: Semaine n° | D2: Heure de début | E2: Heure de fin | F2: Temps de pause | G2: Heures prestées | J2: Total semaine | K2: Total octobre
A3: =CHOOSE(WEEKDAY(B3,2),"lundi","mardi","mercredi","jeudi","vendredi","samedi","dimanche") -> lundi | B3: 44501 | C3: =WEEKNUM(B3,2) -> 45 | G3: =(E3-D3)-I3 -> 0 | H3: =CONVERT(F3,"mn","hr") -> 0 | I3: =H3/24 -> 0
A4: =CHOOSE(WEEKDAY(B4,2),"lundi","mardi","mercredi","jeudi","vendredi","samedi","dimanche") -> mardi | B4: 44502 | C4: =WEEKNUM(B4,2) -> 45 | G4: =(E4-D4)-I4 -> 0 | H4: =CONVERT(F4,"mn","hr") -> 0 | I4: =H4/24 -> 0
A5: =CHOOSE(WEEKDAY(B5,2),"lundi","mardi","mercredi","jeudi","vendredi","samedi","dimanche") -> mercredi | B5: 44503 | C5: =WEEKNUM(B5,2) -> 45 | G5: =(E5-D5)-I5 -> 0 | H5: =CONVERT(F5,"mn","hr") -> 0 | I5: =H5/24 -> 0
A6: =CHOOSE(WEEKDAY(B6,2),"lundi","mardi","mercredi","jeudi","vendredi","samedi","dimanche") -> jeudi | B6: 44504 | C6: =WEEKNUM(B6,2) -> 45 | G6: =(E6-D6)-I6 -> 0 | H6: =CONVERT(F6,"mn","hr") -> 0 | I6: =H6/24 -> 0
A7: =CHOOSE(WEEKDAY(B7,2),"lundi","mardi","mercredi","jeudi","vendredi","samedi","dimanche") -> vendredi | B7: 44505 | C7: =WEEKNUM(B7,2) -> 45 | G7: =(E7-D7)-I7 -> 0 | H7: =CONVERT(F7,"mn","hr") -> 0 | I7: =H7/24 -> 0
A8: =CHOOSE(WEEKDAY(B8,2),"lundi","mardi","mercredi","jeudi","vendredi","samedi","dimanche") -> samedi | B8: 44506 | C8: =WEEKNUM(B8,2) -> 45 | G8: =(E8-D8)-I8 -> 0 | H8: =CONVERT(F8,"mn","hr") -> 0 | I8: =H8/24 -> 0
A9: =CHOOSE(WEEKDAY(B9,2),"lundi","mardi","mercredi","jeudi","vendredi","samedi","dimanche") -> dimanche | B9: 44507 | C9: =WEEKNUM(B9,2) -> 45 | G9: =(E9-D9)-I9 -> 0 | H9: =CONVERT(F9,"mn","hr") -> 0 | I9: =H9/24 -> 0 | J9: =SUM(G3:G9) -> 0
A10: =CHOOSE(WEEKDAY(B10,2),"lundi","mardi","mercredi","jeudi","vendredi","samedi","dimanche") -> lundi | B10: 44508 | C10: =WEEKNUM(B10,2) -> 46 | G10: =(E10-D10)-I10 -> 0 | H10: =CONVERT(F10,"mn","hr") -> 0 | I10: =H10/24 -> 0
A11: =CHOOSE(WEEKDAY(B11,2),"lundi","mardi","mercredi","jeudi","vendredi","samedi","dimanche") -> mardi | B11: 44509 | C11: =WEEKNUM(B11,2) -> 46 | G11: =(E11-D11)-I11 -> 0 | H11: =CONVERT(F11,"mn","hr") -> 0 | I11: =H11/24 -> 0
A12: =CHOOSE(WEEKDAY(B12,2),"lundi","mardi","mercredi","jeudi","vendredi","samedi","dimanche") -> mercredi | B12: 44510 | C12: =WEEKNUM(B12,2) -> 46 | G12: =(E12-D12)-I12 -> 0 | H12: =CONVERT(F12,"mn","hr") -> 0 | I12: =H12/24 -> 0
A13: =CHOOSE(WEEKDAY(B13,2),"lundi","mardi","mercredi","jeudi","vendredi","samedi","dimanche") -> jeudi | B13: 44511 | C13: =WEEKNUM(B13,2) -> 46 | G13: =(E13-D13)-I13 -> 0 | H13: =CONVERT(F13,"mn","hr") -> 0 | I13: =H13/24 -> 0
A14: =CHOOSE(WEEKDAY(B14,2),"lundi","mardi","mercredi","jeudi","vendredi","samedi","dimanche") -> vendredi | B14: 44512 | C14: =WEEKNUM(B14,2) -> 46 | G14: =(E14-D14)-I14 -> 0 | H14: =CONVERT(F14,"mn","hr") -> 0 | I14: =H14/24 -> 0
A15: =CHOOSE(WEEKDAY(B15,2),"lundi","mardi","mercredi","jeudi","vendredi","samedi","dimanche") -> samedi | B15: 44513 | C15: =WEEKNUM(B15,2) -> 46 | G15: =(E15-D15)-I15 -> 0 | H15: =CONVERT(F15,"mn","hr") -> 0 | I15: =H15/24 -> 0
A16: =CHOOSE(WEEKDAY(B16,2),"lundi","mardi","mercredi","jeudi","vendredi","samedi","dimanche") -> dimanche | B16: 44514 | C16: =WEEKNUM(B16,2) -> 46 | G16: =(E16-D16)-I16 -> 0 | H16: =CONVERT(F16,"mn","hr") -> 0 | I16: =H16/24 -> 0 | J16: =SUM(G10:G16) -> 0
A17: =CHOOSE(WEEKDAY(B17,2),"lundi","mardi","mercredi","jeudi","vendredi","samedi","dimanche") -> lundi | B17: 44515 | C17: =WEEKNUM(B17,2) -> 47 | G17: =(E17-D17)-I17 -> 0 | H17: =CONVERT(F17,"mn","hr") -> 0 | I17: =H17/24 -> 0
A18: =CHOOSE(WEEKDAY(B18,2),"lundi","mardi","mercredi","jeudi","vendredi","samedi","dimanche") -> mardi | B18: 44516 | C18: =WEEKNUM(B18,2) -> 47 | G18: =(E18-D18)-I18 -> 0 | H18: =CONVERT(F18,"mn","hr") -> 0 | I18: =H18/24 -> 0
A19: =CHOOSE(WEEKDAY(B19,2),"lundi","mardi","mercredi","jeudi","vendredi","samedi","dimanche") -> mercredi | B19: 44517 | C19: =WEEKNUM(B19,2) -> 47 | G19: =(E19-D19)-I19 -> 0 | H19: =CONVERT(F19,"mn","hr") -> 0 | I19: =H19/24 -> 0
A20: =CHOOSE(WEEKDAY(B20,2),"lundi","mardi","mercredi","jeudi","vendredi","samedi","dimanche") -> jeudi | B20: 44518 | C20: =WEEKNUM(B20,2) -> 47 | G20: =(E20-D20)-I20 -> 0 | H20: =CONVERT(F20,"mn","hr") -> 0 | I20: =H20/24 -> 0
A21: =CHOOSE(WEEKDAY(B21,2),"lundi","mardi","mercredi","jeudi","vendredi","samedi","dimanche") -> vendredi | B21: 44519 | C21: =WEEKNUM(B21,2) -> 47 | G21: =(E21-D21)-I21 -> 0 | H21: =CONVERT(F21,"mn","hr") -> 0 | I21: =H21/24 -> 0
A22: =CHOOSE(WEEKDAY(B22,2),"lundi","mardi","mercredi","jeudi","vendredi","samedi","dimanche") -> samedi | B22: 44520 | C22: =WEEKNUM(B22,2) -> 47 | G22: =(E22-D22)-I22 -> 0 | H22: =CONVERT(F22,"mn","hr") -> 0 | I22: =H22/24 -> 0
A23: =CHOOSE(WEEKDAY(B23,2),"lundi","mardi","mercredi","jeudi","vendredi","samedi","dimanche") -> dimanche | B23: 44521 | C23: =WEEKNUM(B23,2) -> 47 | G23: =(E23-D23)-I23 -> 0 | H23: =CONVERT(F23,"mn","hr") -> 0 | I23: =H23/24 -> 0 | J23: =SUM(G17:G23) -> 0
A24: =CHOOSE(WEEKDAY(B24,2),"lundi","mardi","mercredi","jeudi","vendredi","samedi","dimanche") -> lundi | B24: 44522 | C24: =WEEKNUM(B24,2) -> 48 | G24: =(E24-D24)-I24 -> 0 | H24: =CONVERT(F24,"mn","hr") -> 0 | I24: =H24/24 -> 0
A25: =CHOOSE(WEEKDAY(B25,2),"lundi","mardi","mercredi","jeudi","vendredi","samedi","dimanche") -> mardi | B25: 44523 | C25: =WEEKNUM(B25,2) -> 48 | G25: =(E25-D25)-I25 -> 0 | H25: =CONVERT(F25,"mn","hr") -> 0 | I25: =H25/24 -> 0
A26: =CHOOSE(WEEKDAY(B26,2),"lundi","mardi","mercredi","jeudi","vendredi","samedi","dimanche") -> mercredi | B26: 44524 | C26: =WEEKNUM(B26,2) -> 48 | G26: =(E26-D26)-I26 -> 0 | H26: =CONVERT(F26,"mn","hr") -> 0 | I26: =H26/24 -> 0
A27: =CHOOSE(WEEKDAY(B27,2),"lundi","mardi","mercredi","jeudi","vendredi","samedi","dimanche") -> jeudi | B27: 44525 | C27: =WEEKNUM(B27,2) -> 48 | G27: =(E27-D27)-I27 -> 0 | H27: =CONVERT(F27,"mn","hr") -> 0 | I27: =H27/24 -> 0
A28: =CHOOSE(WEEKDAY(B28,2),"lundi","mardi","mercredi","jeudi","vendredi","samedi","dimanche") -> vendredi | B28: 44526 | C28: =WEEKNUM(B28,2) -> 48 | G28: =(E28-D28)-I28 -> 0 | H28: =CONVERT(F28,"mn","hr") -> 0 | I28: =H28/24 -> 0
A29: =CHOOSE(WEEKDAY(B29,2),"lundi","mardi","mercredi","jeudi","vendredi","samedi","dimanche") -> samedi | B29: 44527 | C29: =WEEKNUM(B29,2) -> 48 | G29: =(E29-D29)-I29 -> 0 | H29: =CONVERT(F29,"mn","hr") -> 0 | I29: =H29/24 -> 0
A30: =CHOOSE(WEEKDAY(B30,2),"lundi","mardi","mercredi","jeudi","vendredi","samedi","dimanche") -> dimanche | B30: 44528 | C30: =WEEKNUM(B30,2) -> 48 | G30: =(E30-D30)-I30 -> 0 | H30: =CONVERT(F30,"mn","hr") -> 0 | I30: =H30/24 -> 0 | J30: =SUM(G24:G30) -> 0
A31: =CHOOSE(WEEKDAY(B31,2),"lundi","mardi","mercredi","jeudi","vendredi","samedi","dimanche") -> lundi | B31: 44529 | C31: =WEEKNUM(B31,2) -> 49 | G31: =(E31-D31)-I31 -> 0 | H31: =CONVERT(F31,"mn","hr") -> 0 | I31: =H31/24 -> 0
A32: =CHOOSE(WEEKDAY(B32,2),"lundi","mardi","mercredi","jeudi","vendredi","samedi","dimanche") -> mardi | B32: 44530 | C32: =WEEKNUM(B32,2) -> 49 | G32: =(E32-D32)-I32 -> 0 | H32: =CONVERT(F32,"mn","hr") -> 0 | I32: =H32/24 -> 0
A33: =CHOOSE(WEEKDAY(B33,2),"lundi","mardi","mercredi","jeudi","vendredi","samedi","dimanche") -> mercredi | B33: 44531 | C33: =WEEKNUM(B33,2) -> 49 | G33: =(E33-D33)-I33 -> 0 | H33: =CONVERT(F33,"mn","hr") -> 0 | I33: =H33/24 -> 0
A34: =CHOOSE(WEEKDAY(B34,2),"lundi","mardi","mercredi","jeudi","vendredi","samedi","dimanche") -> jeudi | B34: 44532 | C34: =WEEKNUM(B34,2) -> 49 | G34: =(E34-D34)-I34 -> 0 | H34: =CONVERT(F34,"mn","hr") -> 0 | I34: =H34/24 -> 0
A35: =CHOOSE(WEEKDAY(B35,2),"lundi","mardi","mercredi","jeudi","vendredi","samedi","dimanche") -> vendredi | B35: 44533 | C35: =WEEKNUM(B35,2) -> 49 | G35: =(E35-D35)-I35 -> 0 | H35: =CONVERT(F35,"mn","hr") -> 0 | I35: =H35/24 -> 0
A36: =CHOOSE(WEEKDAY(B36,2),"lundi","mardi","mercredi","jeudi","vendredi","samedi","dimanche") -> samedi | B36: 44534 | C36: =WEEKNUM(B36,2) -> 49 | G36: =(E36-D36)-I36 -> 0 | H36: =CONVERT(F36,"mn","hr") -> 0 | I36: =H36/24 -> 0
A37: =CHOOSE(WEEKDAY(B37,2),"lundi","mardi","mercredi","jeudi","vendredi","samedi","dimanche") -> dimanche | B37: 44535 | C37: =WEEKNUM(B37,2) -> 49 | G37: =(E37-D37)-I37 -> 0 | H37: =CONVERT(F37,"mn","hr") -> 0 | I37: =H37/24 -> 0 | J37: =SUM(G31:G37) -> 0 | K37: =SUMIFS(G3:G37, B3:B37, ">=01-11-21", B3:B37, "<01-12-21") -> 0

Sheet Décembre
A1: Décembre
A2: Jour | B2: Date | C2: Semaine n° | D2: Heure de début | E2: Heure de fin | F2: Temps de pause | G2: Heures prestées | J2: Total semaine | K2: Total octobre
A3: =CHOOSE(WEEKDAY(B3,2),"lundi","mardi","mercredi","jeudi","vendredi","samedi","dimanche") -> lundi | B3: 44529 | C3: =WEEKNUM(B3,2) -> 49 | G3: =(E3-D3)-I3 -> 0 | H3: =CONVERT(F3,"mn","hr") -> 0 | I3: =H3/24 -> 0
A4: =CHOOSE(WEEKDAY(B4,2),"lundi","mardi","mercredi","jeudi","vendredi","samedi","dimanche") -> mardi | B4: 44530 | C4: =WEEKNUM(B4,2) -> 49 | G4: =(E4-D4)-I4 -> 0 | H4: =CONVERT(F4,"mn","hr") -> 0 | I4: =H4/24 -> 0
A5: =CHOOSE(WEEKDAY(B5,2),"lundi","mardi","mercredi","jeudi","vendredi","samedi","dimanche") -> mercredi | B5: 44531 | C5: =WEEKNUM(B5,2) -> 49 | G5: =(E5-D5)-I5 -> 0 | H5: =CONVERT(F5,"mn","hr") -> 0 | I5: =H5/24 -> 0
A6: =CHOOSE(WEEKDAY(B6,2),"lundi","mardi","mercredi","jeudi","vendredi","samedi","dimanche") -> jeudi | B6: 44532 | C6: =WEEKNUM(B6,2) -> 49 | G6: =(E6-D6)-I6 -> 0 | H6: =CONVERT(F6,"mn","hr") -> 0 | I6: =H6/24 -> 0
A7: =CHOOSE(WEEKDAY(B7,2),"lundi","mardi","mercredi","jeudi","vendredi","samedi","dimanche") -> vendredi | B7: 44533 | C7: =WEEKNUM(B7,2) -> 49 | G7: =(E7-D7)-I7 -> 0 | H7: =CONVERT(F7,"mn","hr") -> 0 | I7: =H7/24 -> 0
A8: =CHOOSE(WEEKDAY(B8,2),"lundi","mardi","mercredi","jeudi","vendredi","samedi","dimanche") -> samedi | B8: 44534 | C8: =WEEKNUM(B8,2) -> 49 | G8: =(E8-D8)-I8 -> 0 | H8: =CONVERT(F8,"mn","hr") -> 0 | I8: =H8/24 -> 0
A9: =CHOOSE(WEEKDAY(B9,2),"lundi","mardi","mercredi","jeudi","vendredi","samedi","dimanche") -> dimanche | B9: 44535 | C9: =WEEKNUM(B9,2) -> 49 | G9: =(E9-D9)-I9 -> 0 | H9: =CONVERT(F9,"mn","hr") -> 0 | I9: =H9/24 -> 0 | J9: =SUM(G3:G9) -> 0
A10: =CHOOSE(WEEKDAY(B10,2),"lundi","mardi","mercredi","jeudi","vendredi","samedi","dimanche") -> lundi | B10: 44536 | C10: =WEEKNUM(B10,2) -> 50 | G10: =(E10-D10)-I10 -> 0 | H10: =CONVERT(F10,"mn","hr") -> 0 | I10: =H10/24 -> 0
A11: =CHOOSE(WEEKDAY(B11,2),"lundi","mardi","mercredi","jeudi","vendredi","samedi","dimanche") -> mardi | B11: 44537 | C11: =WEEKNUM(B11,2) -> 50 | G11: =(E11-D11)-I11 -> 0 | H11: =CONVERT(F11,"mn","hr") -> 0 | I11: =H11/24 -> 0
A12: =CHOOSE(WEEKDAY(B12,2),"lundi","mardi","mercredi","jeudi","vendredi","samedi","dimanche") -> mercredi | B12: 44538 | C12: =WEEKNUM(B12,2) -> 50 | G12: =(E12-D12)-I12 -> 0 | H12: =CONVERT(F12,"mn","hr") -> 0 | I12: =H12/24 -> 0
A13: =CHOOSE(WEEKDAY(B13,2),"lundi","mardi","mercredi","jeudi","vendredi","samedi","dimanche") -> jeudi | B13: 44539 | C13: =WEEKNUM(B13,2) -> 50 | G13: =(E13-D13)-I13 -> 0 | H13: =CONVERT(F13,"mn","hr") -> 0 | I13: =H13/24 -> 0
A14: =CHOOSE(WEEKDAY(B14,2),"lundi","mardi","mercredi","jeudi","vendredi","samedi","dimanche") -> vendredi | B14: 44540 | C14: =WEEKNUM(B14,2) -> 50 | G14: =(E14-D14)-I14 -> 0 | H14: =CONVERT(F14,"mn","hr") -> 0 | I14: =H14/24 -> 0
A15: =CHOOSE(WEEKDAY(B15,2),"lundi","mardi","mercredi","jeudi","vendredi","samedi","dimanche") -> samedi | B15: 44541 | C15: =WEEKNUM(B15,2) -> 50 | G15: =(E15-D15)-I15 -> 0 | H15: =CONVERT(F15,"mn","hr") -> 0 | I15: =H15/24 -> 0
A16: =CHOOSE(WEEKDAY(B16,2),"lundi","mardi","mercredi","jeudi","vendredi","samedi","dimanche") -> dimanche | B16: 44542 | C16: =WEEKNUM(B16,2) -> 50 | G16: =(E16-D16)-I16 -> 0 | H16: =CONVERT(F16,"mn","hr") -> 0 | I16: =H16/24 -> 0 | J16: =SUM(G10:G16) -> 0
A17: =CHOOSE(WEEKDAY(B17,2),"lundi","mardi","mercredi","jeudi","vendredi","samedi","dimanche") -> lundi | B17: 44543 | C17: =WEEKNUM(B17,2) -> 51 | G17: =(E17-D17)-I17 -> 0 | H17: =CONVERT(F17,"mn","hr") -> 0 | I17: =H17/24 -> 0
A18: =CHOOSE(WEEKDAY(B18,2),"lundi","mardi","mercredi","jeudi","vendredi","samedi","dimanche") -> mardi | B18: 44544 | C18: =WEEKNUM(B18,2) -> 51 | G18: =(E18-D18)-I18 -> 0 | H18: =CONVERT(F18,"mn","hr") -> 0 | I18: =H18/24 -> 0
A19: =CHOOSE(WEEKDAY(B19,2),"lundi","mardi","mercredi","jeudi","vendredi","samedi","dimanche") -> mercredi | B19: 44545 | C19: =WEEKNUM(B19,2) -> 51 | G19: =(E19-D19)-I19 -> 0 | H19: =CONVERT(F19,"mn","hr") -> 0 | I19: =H19/24 -> 0
A20: =CHOOSE(WEEKDAY(B20,2),"lundi","mardi","mercredi","jeudi","vendredi","samedi","dimanche") -> jeudi | B20: 44546 | C20: =WEEKNUM(B20,2) -> 51 | G20: =(E20-D20)-I20 -> 0 | H20: =CONVERT(F20,"mn","hr") -> 0 | I20: =H20/24 -> 0
A21: =CHOOSE(WEEKDAY(B21,2),"lundi","mardi","mercredi","jeudi","vendredi","samedi","dimanche") -> vendredi | B21: 44547 | C21: =WEEKNUM(B21,2) -> 51 | G21: =(E21-D21)-I21 -> 0 | H21: =CONVERT(F21,"mn","hr") -> 0 | I21: =H21/24 -> 0
A22: =CHOOSE(WEEKDAY(B22,2),"lundi","mardi","mercredi","jeudi","vendredi","samedi","dimanche") -> samedi | B22: 44548 | C22: =WEEKNUM(B22,2) -> 51 | G22: =(E22-D22)-I22 -> 0 | H22: =CONVERT(F22,"mn","hr") -> 0 | I22: =H22/24 -> 0
A23: =CHOOSE(WEEKDAY(B23,2),"lundi","mardi","mercredi","jeudi","vendredi","samedi","dimanche") -> dimanche | B23: 44549 | C23: =WEEKNUM(B23,2) -> 51 | G23: =(E23-D23)-I23 -> 0 | H23: =CONVERT(F23,"mn","hr") -> 0 | I23: =H23/24 -> 0 | J23: =SUM(G17:G23) -> 0
A24: =CHOOSE(WEEKDAY(B24,2),"lundi","mardi","mercredi","jeudi","vendredi","samedi","dimanche") -> lundi | B24: 44550 | C24: =WEEKNUM(B24,2) -> 52 | G24: =(E24-D24)-I24 -> 0 | H24: =CONVERT(F24,"mn","hr") -> 0 | I24: =H24/24 -> 0
A25: =CHOOSE(WEEKDAY(B25,2),"lundi","mardi","mercredi","jeudi","vendredi","samedi","dimanche") -> mardi | B25: 44551 | C25: =WEEKNUM(B25,2) -> 52 | G25: =(E25-D25)-I25 -> 0 | H25: =CONVERT(F25,"mn","hr") -> 0 | I25: =H25/24 -> 0
A26: =CHOOSE(WEEKDAY(B26,2),"lundi","mardi","mercredi","jeudi","vendredi","samedi","dimanche") -> mercredi | B26: 44552 | C26: =WEEKNUM(B26,2) -> 52 | G26: =(E26-D26)-I26 -> 0 | H26: =CONVERT(F26,"mn","hr") -> 0 | I26: =H26/24 -> 0
A27: =CHOOSE(WEEKDAY(B27,2),"lundi","mardi","mercredi","jeudi","vendredi","samedi","dimanche") -> jeudi | B27: 44553 | C27: =WEEKNUM(B27,2) -> 52 | G27: =(E27-D27)-I27 -> 0 | H27: =CONVERT(F27,"mn","hr") -> 0 | I27: =H27/24 -> 0
A28: =CHOOSE(WEEKDAY(B28,2),"lundi","mardi","mercredi","jeudi","vendredi","samedi","dimanche") -> vendredi | B28: 44554 | C28: =WEEKNUM(B28,2) -> 52 | G28: =(E28-D28)-I28 -> 0 | H28: =CONVERT(F28,"mn","hr") -> 0 | I28: =H28/24 -> 0
A29: =CHOOSE(WEEKDAY(B29,2),"lundi","mardi","mercredi","jeudi","vendredi","samedi","dimanche") -> samedi | B29: 44555 | C29: =WEEKNUM(B29,2) -> 52 | G29: =(E29-D29)-I29 -> 0 | H29: =CONVERT(F29,"mn","hr") -> 0 | I29: =H29/24 -> 0
A30: =CHOOSE(WEEKDAY(B30,2),"lundi","mardi","mercredi","jeudi","vendredi","samedi","dimanche") -> dimanche | B30: 44556 | C30: =WEEKNUM(B30,2) -> 52 | G30: =(E30-D30)-I30 -> 0 | H30: =CONVERT(F30,"mn","hr") -> 0 | I30: =H30/24 -> 0 | J30: =SUM(G24:G30) -> 0
A31: =CHOOSE(WEEKDAY(B31,2),"lundi","mardi","mercredi","jeudi","vendredi","samedi","dimanche") -> lundi | B31: 44557 | C31: =WEEKNUM(B31,2) -> 53 | G31: =(E31-D31)-I31 -> 0 | H31: =CONVERT(F31,"mn","hr") -> 0 | I31: =H31/24 -> 0
A32: =CHOOSE(WEEKDAY(B32,2),"lundi","mardi","mercredi","jeudi","vendredi","samedi","dimanche") -> mardi | B32: 44558 | C32: =WEEKNUM(B32,2) -> 53 | G32: =(E32-D32)-I32 -> 0 | H32: =CONVERT(F32,"mn","hr") -> 0 | I32: =H32/24 -> 0
A33: =CHOOSE(WEEKDAY(B33,2),"lundi","mardi","mercredi","jeudi","vendredi","samedi","dimanche") -> mercredi | B33: 44559 | C33: =WEEKNUM(B33,2) -> 53 | G33: =(E33-D33)-I33 -> 0 | H33: =CONVERT(F33,"mn","hr") -> 0 | I33: =H33/24 -> 0
A34: =CHOOSE(WEEKDAY(B34,2),"lundi","mardi","mercredi","jeudi","vendredi","samedi","dimanche") -> jeudi | B34: 44560 | C34: =WEEKNUM(B34,2) -> 53 | G34: =(E34-D34)-I34 -> 0 | H34: =CONVERT(F34,"mn","hr") -> 0 | I34: =H34/24 -> 0
A35: =CHOOSE(WEEKDAY(B35,2),"lundi","mardi","mercredi","jeudi","vendredi","samedi","dimanche") -> vendredi | B35: 44561 | C35: =WEEKNUM(B35,2) -> 53 | G35: =(E35-D35)-I35 -> 0 | H35: =CONVERT(F35,"mn","hr") -> 0 | I35: =H35/24 -> 0
A36: =CHOOSE(WEEKDAY(B36,2),"lundi","mardi","mercredi","jeudi","vendredi","samedi","dimanche") -> samedi | B36: 44562 | C36: =WEEKNUM(B36,2) -> 1 | G36: =(E36-D36)-I36 -> 0 | H36: =CONVERT(F36,"mn","hr") -> 0 | I36: =H36/24 -> 0
A37: =CHOOSE(WEEKDAY(B37,2),"lundi","mardi","mercredi","jeudi","vendredi","samedi","dimanche") -> dimanche | B37: 44563 | C37: =WEEKNUM(B37,2) -> 1 | G37: =(E37-D37)-I37 -> 0 | H37: =CONVERT(F37,"mn","hr") -> 0 | I37: =H37/24 -> 0 | J37: =SUM(G31:G37) -> 0 | K37: =SUMIFS(G3:G37, B3:B37, ">=01-11-21", B3:B37, "<01-12-21") -> 0

Sheet Feuil3
