Workbook

Sheet 5ème
B1: Correction demi-fond
J2: VMA | K2: 6 minutes | M2: 9 minutes | O2: 3 minutes | Q2: Moyenne
J4: 8 | K4: =calcul!D5 -> 90.625 | L4: % | M4: =calcul!G5 -> 91.666667 | N4: % | O4: =calcul!J5 -> 118.75 | P4: % | Q4: =(K4+M4+O4)/3 -> 100.34722 | R4: %
C5: Course de | D5: Tours | E5: Plot | F5: Distance | G5: Vitesse | J5: 8.5 | K5: =calcul!D6 -> 85.294118 | L5: % | M5: =calcul!G6 -> 86.27451 | N5: % | O5: =calcul!J6 -> 111.76471 | P5: % | Q5: =(K5+M5+O5)/3 -> 94.444444 | R5: %
C6: 6 | D6: 3 | E6: 5 | F6: =(D6*200)+(E6*25) -> 725 | G6: =D19/C19&" Km/h" -> 7,25 Km/h | J6: 9 | K6: =calcul!D7 -> 80.555556 | L6: % | M6: =calcul!G7 -> 81.481481 | N6: % | O6: =calcul!J7 -> 105.55556 | P6: % | Q6: =(K6+M6+O6)/3 -> 89.197531 | R6: %
C7: 9 | D7: 5 | E7: 4 | F7: =(D7*200)+(E7*25) -> 1100 | G7: =D20/C20 -> 7.3333333 | J7: 9.5 | K7: =calcul!D8 -> 76.315789 | L7: % | M7: =calcul!G8 -> 77.192982 | N7: % | O7: =calcul!J8 -> 100 | P7: % | Q7: =(K7+M7+O7)/3 -> 84.502924 | R7: %
C8: 3 | D8: 2 | E8: 3 | F8: =(D8*200)+(E8*25) -> 475 | G8: =D21/C21&" Km/h" -> 9,5 Km/h | J8: 10 | K8: =calcul!D9 -> 72.5 | L8: % | M8: =calcul!G9 -> 73.333333 | N8: % | O8: =calcul!J9 -> 95 | P8: % | Q8: =(K8+M8+O8)/3 -> 80.277778 | R8: %
J9: 10.5 | K9: =calcul!D10 -> 69.047619 | L9: % | M9: =calcul!G10 -> 69.84127 | N9: % | O9: =calcul!J10 -> 90.47619 | P9: % | Q9: =(K9+M9+O9)/3 -> 76.455026 | R9: %
E10: Total | F10: =SUM(F6:F8)&"m" -> 2300m | J10: 11 | K10: =calcul!D11 -> 65.909091 | L10: % | M10: =calcul!G11 -> 66.666667 | N10: % | O10: =calcul!J11 -> 86.363636 | P10: % | Q10: =(K10+M10+O10)/3 -> 72.979798 | R10: %
J11: 11.5 | K11: =calcul!D12 -> 63.043478 | L11: % | M11: =calcul!G12 -> 63.768116 | N11: % | O11: =calcul!J12 -> 82.608696 | P11: % | Q11: =(K11+M11+O11)/3 -> 69.806763 | R11: %
C12: 5ème | F12: VMA élève : | H12: 9 | J12: 12 | K12: =calcul!D13 -> 60.416667 | L12: % | M12: =calcul!G13 -> 61.111111 | N12: % | O12: =calcul!J13 -> 79.166667 | P12: % | Q12: =(K12+M12+O12)/3 -> 66.898148 | R12: %
J13: 12.5 | K13: =calcul!D14 -> 58 | L13: % | M13: =calcul!G14 -> 58.666667 | N13: % | O13: =calcul!J14 -> 76 | P13: % | Q13: =(K13+M13+O13)/3 -> 64.222222 | R13: %
J14: 13 | K14: =calcul!D15 -> 55.769231 | L14: % | M14: =calcul!G15 -> 56.410256 | N14: % | O14: =calcul!J15 -> 73.076923 | P14: % | Q14: =(K14+M14+O14)/3 -> 61.752137 | R14: %
J15: 13.5 | K15: =calcul!D16 -> 53.703704 | L15: % | M15: =calcul!G16 -> 54.320988 | N15: % | O15: =calcul!J16 -> 70.37037 | P15: % | Q15: =(K15+M15+O15)/3 -> 59.465021 | R15: %
J16: 14 | K16: =calcul!D17 -> 51.785714 | L16: % | M16: =calcul!G17 -> 52.380952 | N16: % | O16: =calcul!J17 -> 67.857143 | P16: % | Q16: =(K16+M16+O16)/3 -> 57.34127 | R16: %
J17: 14.5 | K17: =calcul!D18 -> 50 | L17: % | M17: =calcul!G18 -> 50.574713 | N17: % | O17: =calcul!J18 -> 65.517241 | P17: % | Q17: =(K17+M17+O17)/3 -> 55.363985 | R17: %
J18: 15 | K18: =calcul!D19 -> 48.333333 | L18: % | M18: =calcul!G19 -> 48.888889 | N18: % | O18: =calcul!J19 -> 63.333333 | P18: % | Q18: =(K18+M18+O18)/3 -> 53.518519 | R18: %
C19: =C6/60 -> 0.1 | D19: =F6/1000 -> 0.725 | E19: Distance | G19: Points | J19: 15.5 | K19: =calcul!D20 -> 46.774194 | L19: % | M19: =calcul!G20 -> 47.311828 | N19: % | O19: =calcul!J20 -> 61.290323 | P19: % | Q19: =(K19+M19+O19)/3 -> 51.792115 | R19: %
C20: =C7/60 -> 0.15 | D20: =F7/1000 -> 1.1 | G20: G | H20: F | J20: 16 | K20: =calcul!D21 -> 45.3125 | L20: % | M20: =calcul!G21 -> 45.833333 | N20: % | O20: =calcul!J21 -> 59.375 | P20: % | Q20: =(K20+M20+O20)/3 -> 50.173611 | R20: %
C21: =C8/60 -> 0.05 | D21: =F8/1000 -> 0.475 | E21: =F10 -> 2300m | J21: 16.5 | K21: =calcul!D22 -> 43.939394 | L21: % | M21: =calcul!G22 -> 44.444444 | N21: % | O21: =calcul!J22 -> 57.575758 | P21: % | Q21: =(K21+M21+O21)/3 -> 48.653199 | R21: %
J22: 17 | K22: =calcul!D23 -> 42.647059 | L22: % | M22: =calcul!G23 -> 43.137255 | N22: % | O22: =calcul!J23 -> 55.882353 | P22: % | Q22: =(K22+M22+O22)/3 -> 47.222222 | R22: %

Sheet 3ème
B1: Correction demi-fond
J2: VMA | K2: 7 minutes | M2: 4 minutes | O2: 2 minutes | Q2: Moyenne
J7: 8 | K7: =calcul!D27 -> 0 | L7: % | M7: =calcul!G27 -> 0 | N7: % | O7: =calcul!J27 -> 0 | P7: % | Q7: =(K7+M7+O7)/3 -> 0 | R7: %
C8: Course de | D8: Tours | E8: Plot | F8: Distance | G8: Vitesse | J8: 8.5 | K8: =calcul!D28 -> 0 | L8: % | M8: =calcul!G28 -> 0 | N8: % | O8: =calcul!J28 -> 0 | P8: % | Q8: =(K8+M8+O8)/3 -> 0 | R8: %
C9: 7 | F9: =(D9*200)+(E9*25) -> 0 | G9: =B15/A15&" Km/h" -> 0 Km/h | J9: 9 | K9: =calcul!D29 -> 0 | L9: % | M9: =calcul!G29 -> 0 | N9: % | O9: =calcul!J29 -> 0 | P9: % | Q9: =(K9+M9+O9)/3 -> 0 | R9: %
C10: 4 | F10: =(D10*200)+(E10*25) -> 0 | G10: =B16/A16&" Km/h" -> 0 Km/h | J10: 9.5 | K10: =calcul!D30 -> 0 | L10: % | M10: =calcul!G30 -> 0 | N10: % | O10: =calcul!J30 -> 0 | P10: % | Q10: =(K10+M10+O10)/3 -> 0 | R10: %
C11: 2 | F11: =(D11*200)+(E11*25) -> 0 | G11: =B17/A17&" Km/h" -> 0 Km/h | J11: 10 | K11: =calcul!D31 -> 0 | L11: % | M11: =calcul!G31 -> 0 | N11: % | O11: =calcul!J31 -> 0 | P11: % | Q11: =(K11+M11+O11)/3 -> 0 | R11: %
J12: 10.5 | K12: =calcul!D32 -> 0 | L12: % | M12: =calcul!G32 -> 0 | N12: % | O12: =calcul!J32 -> 0 | P12: % | Q12: =(K12+M12+O12)/3 -> 0 | R12: %
E13: Total | F13: =SUM(F9:F11)&"m" -> 0m | J13: 11 | K13: =calcul!D33 -> 0 | L13: % | M13: =calcul!G33 -> 0 | N13: % | O13: =calcul!J33 -> 0 | P13: % | Q13: =(K13+M13+O13)/3 -> 0 | R13: %
J14: 11.5 | K14: =calcul!D34 -> 0 | L14: % | M14: =calcul!G34 -> 0 | N14: % | O14: =calcul!J34 -> 0 | P14: % | Q14: =(K14+M14+O14)/3 -> 0 | R14: %
A15: =C9/60 -> 0.11666667 | B15: =F9/1000 -> 0 | C15: 3ème | F15: VMA élève : | J15: 12 | K15: =calcul!D35 -> 0 | L15: % | M15: =calcul!G35 -> 0 | N15: % | O15: =calcul!J35 -> 0 | P15: % | Q15: =(K15+M15+O15)/3 -> 0 | R15: %
A16: =C10/60 -> 0.066666667 | B16: =F10/1000 -> 0 | J16: 12.5 | K16: =calcul!D36 -> 0 | L16: % | M16: =calcul!G36 -> 0 | N16: % | O16: =calcul!J36 -> 0 | P16: % | Q16: =(K16+M16+O16)/3 -> 0 | R16: %
A17: =C11/60 -> 0.033333333 | B17: =F11/1000 -> 0 | J17: 13 | K17: =calcul!D37 -> 0 | L17: % | M17: =calcul!G37 -> 0 | N17: % | O17: =calcul!J37 -> 0 | P17: % | Q17: =(K17+M17+O17)/3 -> 0 | R17: %
J18: 13.5 | K18: =calcul!D38 -> 0 | L18: % | M18: =calcul!G38 -> 0 | N18: % | O18: =calcul!J38 -> 0 | P18: % | Q18: =(K18+M18+O18)/3 -> 0 | R18: %
J19: 14 | K19: =calcul!D39 -> 0 | L19: % | M19: =calcul!G39 -> 0 | N19: % | O19: =calcul!J39 -> 0 | P19: % | Q19: =(K19+M19+O19)/3 -> 0 | R19: %
J20: 14.5 | K20: =calcul!D40 -> 0 | L20: % | M20: =calcul!G40 -> 0 | N20: % | O20: =calcul!J40 -> 0 | P20: % | Q20: =(K20+M20+O20)/3 -> 0 | R20: %
J21: 15 | K21: =calcul!D41 -> 0 | L21: % | M21: =calcul!G41 -> 0 | N21: % | O21: =calcul!J41 -> 0 | P21: % | Q21: =(K21+M21+O21)/3 -> 0 | R21: %
J22: 15.5 | K22: =calcul!D42 -> 0 | L22: % | M22: =calcul!G42 -> 0 | N22: % | O22: =calcul!J42 -> 0 | P22: % | Q22: =(K22+M22+O22)/3 -> 0 | R22: %
J23: 16 | K23: =calcul!D43 -> 0 | L23: % | M23: =calcul!G43 -> 0 | N23: % | O23: =calcul!J43 -> 0 | P23: % | Q23: =(K23+M23+O23)/3 -> 0 | R23: %
J24: 16.5 | K24: =calcul!D44 -> 0 | L24: % | M24: =calcul!G44 -> 0 | N24: % | O24: =calcul!J44 -> 0 | P24: % | Q24: =(K24+M24+O24)/3 -> 0 | R24: %
J25: 17 | K25: =calcul!D45 -> 0 | L25: % | M25: =calcul!G45 -> 0 | N25: % | O25: =calcul!J45 -> 0 | P25: % | Q25: =(K25+M25+O25)/3 -> 0 | R25: %

Sheet calcul
A1: 100
B3: 6 minutes | E3: 9 minutes | H3: 3 minutes
B5: 800 | C5: ='5ème'!$F$6 -> 725 | D5: =($A$1*C5)/B5 -> 90.625 | E5: 1200 | F5: ='5ème'!$F$7 -> 1100 | G5: =($A$1*F5)/E5 -> 91.666667 | H5: 400 | I5: ='5ème'!$F$8 -> 475 | J5: =($A$1*I5)/H5 -> 118.75
B6: 850 | C6: ='5ème'!$F$6 -> 725 | D6: =($A$1*C6)/B6 -> 85.294118 | E6: 1275 | F6: ='5ème'!$F$7 -> 1100 | G6: =($A$1*F6)/E6 -> 86.27451 | H6: 425 | I6: ='5ème'!$F$8 -> 475 | J6: =($A$1*I6)/H6 -> 111.76471
B7: 900 | C7: ='5ème'!$F$6 -> 725 | D7: =($A$1*C7)/B7 -> 80.555556 | E7: 1350 | F7: ='5ème'!$F$7 -> 1100 | G7: =($A$1*F7)/E7 -> 81.481481 | H7: 450 | I7: ='5ème'!$F$8 -> 475 | J7: =($A$1*I7)/H7 -> 105.55556
B8: 950 | C8: ='5ème'!$F$6 -> 725 | D8: =($A$1*C8)/B8 -> 76.315789 | E8: 1425 | F8: ='5ème'!$F$7 -> 1100 | G8: =($A$1*F8)/E8 -> 77.192982 | H8: 475 | I8: ='5ème'!$F$8 -> 475 | J8: =($A$1*I8)/H8 -> 100
B9: 1000 | C9: ='5ème'!$F$6 -> 725 | D9: =($A$1*C9)/B9 -> 72.5 | E9: 1500 | F9: ='5ème'!$F$7 -> 1100 | G9: =($A$1*F9)/E9 -> 73.333333 | H9: 500 | I9: ='5ème'!$F$8 -> 475 | J9: =($A$1*I9)/H9 -> 95
B10: 1050 | C10: ='5ème'!$F$6 -> 725 | D10: =($A$1*C10)/B10 -> 69.047619 | E10: 1575 | F10: ='5ème'!$F$7 -> 1100 | G10: =($A$1*F10)/E10 -> 69.84127 | H10: 525 | I10: ='5ème'!$F$8 -> 475 | J10: =($A$1*I10)/H10 -> 90.47619
B11: 1100 | C11: ='5ème'!$F$6 -> 725 | D11: =($A$1*C11)/B11 -> 65.909091 | E11: 1650 | F11: ='5ème'!$F$7 -> 1100 | G11: =($A$1*F11)/E11 -> 66.666667 | H11: 550 | I11: ='5ème'!$F$8 -> 475 | J11: =($A$1*I11)/H11 -> 86.363636
B12: 1150 | C12: ='5ème'!$F$6 -> 725 | D12: =($A$1*C12)/B12 -> 63.043478 | E12: 1725 | F12: ='5ème'!$F$7 -> 1100 | G12: =($A$1*F12)/E12 -> 63.768116 | H12: 575 | I12: ='5ème'!$F$8 -> 475 | J12: =($A$1*I12)/H12 -> 82.608696
B13: 1200 | C13: ='5ème'!$F$6 -> 725 | D13: =($A$1*C13)/B13 -> 60.416667 | E13: 1800 | F13: ='5ème'!$F$7 -> 1100 | G13: =($A$1*F13)/E13 -> 61.111111 | H13: 600 | I13: ='5ème'!$F$8 -> 475 | J13: =($A$1*I13)/H13 -> 79.166667
B14: 1250 | C14: ='5ème'!$F$6 -> 725 | D14: =($A$1*C14)/B14 -> 58 | E14: 1875 | F14: ='5ème'!$F$7 -> 1100 | G14: =($A$1*F14)/E14 -> 58.666667 | H14: 625 | I14: ='5ème'!$F$8 -> 475 | J14: =($A$1*I14)/H14 -> 76
B15: 1300 | C15: ='5ème'!$F$6 -> 725 | D15: =($A$1*C15)/B15 -> 55.769231 | E15: 1950 | F15: ='5ème'!$F$7 -> 1100 | G15: =($A$1*F15)/E15 -> 56.410256 | H15: 650 | I15: ='5ème'!$F$8 -> 475 | J15: =($A$1*I15)/H15 -> 73.076923
B16: 1350 | C16: ='5ème'!$F$6 -> 725 | D16: =($A$1*C16)/B16 -> 53.703704 | E16: 2025 | F16: ='5ème'!$F$7 -> 1100 | G16: =($A$1*F16)/E16 -> 54.320988 | H16: 675 | I16: ='5ème'!$F$8 -> 475 | J16: =($A$1*I16)/H16 -> 70.37037
... B23: 1700 | C23: ='5ème'!$F$6 -> 725 | D23: =($A$1*C23)/B23 -> 42.647059 | E23: 2550 | F23: ='5ème'!$F$7 -> 1100 | G23: =($A$1*F23)/E23 -> 43.137255 | H23: 850 | I23: ='5ème'!$F$8 -> 475 | J23: =($A$1*I23)/H23 -> 55.882353
B25: 7 minutes | E25: 4 minutes | H25: 2 minutes
B27: 925 | C27: ='3ème'!$F$9 -> 0 | D27: =($A$1*C27)/B27 -> 0 | E27: 525 | F27: ='3ème'!$F$10 -> 0 | G27: =($A$1*F27)/E27 -> 0 | H27: 250 | I27: ='3ème'!$F$11 -> 0 | J27: =($A$1*I27)/H27 -> 0
B28: 1000 | C28: ='3ème'!$F$9 -> 0 | D28: =($A$1*C28)/B28 -> 0 | E28: 575 | F28: ='3ème'!$F$10 -> 0 | G28: =($A$1*F28)/E28 -> 0 | H28: 300 | I28: ='3ème'!$F$11 -> 0 | J28: =($A$1*I28)/H28 -> 0
B29: 1050 | C29: ='3ème'!$F$9 -> 0 | D29: =($A$1*C29)/B29 -> 0 | E29: 600 | F29: ='3ème'!$F$10 -> 0 | G29: =($A$1*F29)/E29 -> 0 | H29: 300 | I29: ='3ème'!$F$11 -> 0 | J29: =($A$1*I29)/H29 -> 0
B30: 1100 | C30: ='3ème'!$F$9 -> 0 | D30: =($A$1*C30)/B30 -> 0 | E30: 625 | F30: ='3ème'!$F$10 -> 0 | G30: =($A$1*F30)/E30 -> 0 | H30: 325 | I30: ='3ème'!$F$11 -> 0 | J30: =($A$1*I30)/H30 -> 0
B31: 1150 | C31: ='3ème'!$F$9 -> 0 | D31: =($A$1*C31)/B31 -> 0 | E31: 675 | F31: ='3ème'!$F$10 -> 0 | G31: =($A$1*F31)/E31 -> 0 | H31: 325 | I31: ='3ème'!$F$11 -> 0 | J31: =($A$1*I31)/H31 -> 0
B32: 1225 | C32: ='3ème'!$F$9 -> 0 | D32: =($A$1*C32)/B32 -> 0 | E32: 700 | F32: ='3ème'!$F$10 -> 0 | G32: =($A$1*F32)/E32 -> 0 | H32: 350 | I32: ='3ème'!$F$11 -> 0 | J32: =($A$1*I32)/H32 -> 0
B33: 1275 | C33: ='3ème'!$F$9 -> 0 | D33: =($A$1*C33)/B33 -> 0 | E33: 725 | F33: ='3ème'!$F$10 -> 0 | G33: =($A$1*F33)/E33 -> 0 | H33: 350 | I33: ='3ème'!$F$11 -> 0 | J33: =($A$1*I33)/H33 -> 0
B34: 1350 | C34: ='3ème'!$F$9 -> 0 | D34: =($A$1*C34)/B34 -> 0 | E34: 775 | F34: ='3ème'!$F$10 -> 0 | G34: =($A$1*F34)/E34 -> 0 | H34: 375 | I34: ='3ème'!$F$11 -> 0 | J34: =($A$1*I34)/H34 -> 0
B35: 1400 | C35: ='3ème'!$F$9 -> 0 | D35: =($A$1*C35)/B35 -> 0 | E35: 800 | F35: ='3ème'!$F$10 -> 0 | G35: =($A$1*F35)/E35 -> 0 | H35: 400 | I35: ='3ème'!$F$11 -> 0 | J35: =($A$1*I35)/H35 -> 0
B36: 1450 | C36: ='3ème'!$F$9 -> 0 | D36: =($A$1*C36)/B36 -> 0 | E36: 825 | F36: ='3ème'!$F$10 -> 0 | G36: =($A$1*F36)/E36 -> 0 | H36: 400 | I36: ='3ème'!$F$11 -> 0 | J36: =($A$1*I36)/H36 -> 0
B37: 1500 | C37: ='3ème'!$F$9 -> 0 | D37: =($A$1*C37)/B37 -> 0 | E37: 850 | F37: ='3ème'!$F$10 -> 0 | G37: =($A$1*F37)/E37 -> 0 | H37: 425 | I37: ='3ème'!$F$11 -> 0 | J37: =($A$1*I37)/H37 -> 0
B38: 1575 | C38: ='3ème'!$F$9 -> 0 | D38: =($A$1*C38)/B38 -> 0 | E38: 900 | F38: ='3ème'!$F$10 -> 0 | G38: =($A$1*F38)/E38 -> 0 | H38: 450 | I38: ='3ème'!$F$11 -> 0 | J38: =($A$1*I38)/H38 -> 0
... B45: 1975 | C45: ='3ème'!$F$9 -> 0 | D45: =($A$1*C45)/B45 -> 0 | E45: 1125 | F45: ='3ème'!$F$10 -> 0 | G45: =($A$1*F45)/E45 -> 0 | H45: 575 | I45: ='3ème'!$F$11 -> 0 | J45: =($A$1*I45)/H45 -> 0

Sheet Feuil1
A1: Correction demi-fond collège Cathelineau
A5: 5ème | E5: Tours | F5: Dernier plot | G5: Distance | H5: Vitesse
C6: 6 | E6: 5 | F6: 2 | G6: =(E6*200)+(F6*25) -> 1050 | H6: =N6/M6 -> 10.5 | M6: =C6/60 -> 0.1 | N6: =G6/1000 -> 1.05
C7: 9 | E7: 9 | F7: 0 | G7: =(E7*200)+(F7*25) -> 1800 | H7: =N7/M7 -> 12 | M7: =C7/60 -> 0.15 | N7: =G7/1000 -> 1.8
C8: 3 | E8: 3 | F8: 0 | G8: =(E8*200)+(F8*25) -> 600 | H8: =N8/M8 -> 12 | M8: =C8/60 -> 0.05 | N8: =G8/1000 -> 0.6
F10: Total | G10: =SUM(G6:G8) -> 3450
A12: 3ème | E12: Tours | F12: Dernier plot | G12: Distance | H12: Vitesse
C13: 7 | E13: 7 | F13: 0 | G13: =(E13*200)+(F13*25) -> 1400 | H13: =N13/M13 -> 12 | M13: =C13/60 -> 0.11666667 | N13: =G13/1000 -> 1.4
C14: 4 | E14: 4 | F14: 0 | G14: =(E14*200)+(F14*25) -> 800 | H14: =N14/M14 -> 12 | M14: =C14/60 -> 0.066666667 | N14: =G14/1000 -> 0.8
C15: 2 | E15: 2 | F15: 0 | G15: =(E15*200)+(F15*25) -> 400 | H15: =N15/M15 -> 12 | M15: =C15/60 -> 0.033333333 | N15: =G15/1000 -> 0.4
F17: Total | G17: =SUM(G13:G15) -> 2600
B22: VMA
C23: 100 | D23: 2 minutes | H23: 4 minutes | L23: 7 minutes | P23: 6 minutes | T23: 9 minutes | X23: 3 minutes
B25: 8 | C25: 250 | D25: =($C$23*F25)/C25 -> 160 | E25: % | F25: =$G$15 -> 400 | G25: 525 | H25: =($C$23*J25)/G25 -> 152.38095 | I25: % | J25: =$G$14 -> 800 | K25: 925 | L25: =($C$23*N25)/K25 -> 151.35135 | M25: % | N25: =$G$13 -> 1400 | O25: 800 | P25: =($C$23*R25)/O25 -> 131.25 | Q25: % | R25: =$G$6 -> 1050 | S25: 1200 | T25: =($C$23*V25)/S25 -> 150 | U25: % | V25: =$G$7 -> 1800 | W25: 400 | X25: =($C$23*Z25)/W25 -> 150 | Y25: % | Z25: =$G$8 -> 600
B26: 8.5 | C26: 300 | D26: =($C$23*F26)/C26 -> 133.33333 | E26: % | F26: =$G$15 -> 400 | G26: 575 | H26: =($C$23*J26)/G26 -> 139.13043 | I26: % | J26: =$G$14 -> 800 | K26: 1000 | L26: =($C$23*N26)/K26 -> 140 | M26: % | N26: =$G$13 -> 1400 | O26: 850 | P26: =($C$23*R26)/O26 -> 123.52941 | Q26: % | R26: =$G$6 -> 1050 | S26: 1275 | T26: =($C$23*V26)/S26 -> 141.17647 | U26: % | V26: =$G$7 -> 1800 | W26: 425 | X26: =($C$23*Z26)/W26 -> 141.17647 | Y26: % | Z26: =$G$8 -> 600
B27: 9 | C27: 300 | D27: =($C$23*F27)/C27 -> 133.33333 | E27: % | F27: =$G$15 -> 400 | G27: 600 | H27: =($C$23*J27)/G27 -> 133.33333 | I27: % | J27: =$G$14 -> 800 | K27: 1050 | L27: =($C$23*N27)/K27 -> 133.33333 | M27: % | N27: =$G$13 -> 1400 | O27: 900 | P27: =($C$23*R27)/O27 -> 116.66667 | Q27: % | R27: =$G$6 -> 1050 | S27: 1350 | T27: =($C$23*V27)/S27 -> 133.33333 | U27: % | V27: =$G$7 -> 1800 | W27: 450 | X27: =($C$23*Z27)/W27 -> 133.33333 | Y27: % | Z27: =$G$8 -> 600
B28: 9.5 | C28: 325 | D28: =($C$23*F28)/C28 -> 123.07692 | E28: % | F28: =$G$15 -> 400 | G28: 625 | H28: =($C$23*J28)/G28 -> 128 | I28: % | J28: =$G$14 -> 800 | K28: 1100 | L28: =($C$23*N28)/K28 -> 127.27273 | M28: % | N28: =$G$13 -> 1400 | O28: 950 | P28: =($C$23*R28)/O28 -> 110.52632 | Q28: % | R28: =$G$6 -> 1050 | S28: 1425 | T28: =($C$23*V28)/S28 -> 126.31579 | U28: % | V28: =$G$7 -> 1800 | W28: 475 | X28: =($C$23*Z28)/W28 -> 126.31579 | Y28: % | Z28: =$G$8 -> 600
B29: 10 | C29: 325 | D29: =($C$23*F29)/C29 -> 123.07692 | E29: % | F29: =$G$15 -> 400 | G29: 675 | H29: =($C$23*J29)/G29 -> 118.51852 | I29: % | J29: =$G$14 -> 800 | K29: 1150 | L29: =($C$23*N29)/K29 -> 121.73913 | M29: % | N29: =$G$13 -> 1400 | O29: 1000 | P29: =($C$23*R29)/O29 -> 105 | Q29: % | R29: =$G$6 -> 1050 | S29: 1500 | T29: =($C$23*V29)/S29 -> 120 | U29: % | V29: =$G$7 -> 1800 | W29: 500 | X29: =($C$23*Z29)/W29 -> 120 | Y29: % | Z29: =$G$8 -> 600
B30: 10.5 | C30: 350 | D30: =($C$23*F30)/C30 -> 114.28571 | E30: % | F30: =$G$15 -> 400 | G30: 700 | H30: =($C$23*J30)/G30 -> 114.28571 | I30: % | J30: =$G$14 -> 800 | K30: 1225 | L30: =($C$23*N30)/K30 -> 114.28571 | M30: % | N30: =$G$13 -> 1400 | O30: 1050 | P30: =($C$23*R30)/O30 -> 100 | Q30: % | R30: =$G$6 -> 1050 | S30: 1575 | T30: =($C$23*V30)/S30 -> 114.28571 | U30: % | V30: =$G$7 -> 1800 | W30: 525 | X30: =($C$23*Z30)/W30 -> 114.28571 | Y30: % | Z30: =$G$8 -> 600
B31: 11 | C31: 350 | D31: =($C$23*F31)/C31 -> 114.28571 | E31: % | F31: =$G$15 -> 400 | G31: 725 | H31: =($C$23*J31)/G31 -> 110.34483 | I31: % | J31: =$G$14 -> 800 | K31: 1275 | L31: =($C$23*N31)/K31 -> 109.80392 | M31: % | N31: =$G$13 -> 1400 | O31: 1100 | P31: =($C$23*R31)/O31 -> 95.454545 | Q31: % | R31: =$G$6 -> 1050 | S31: 1650 | T31: =($C$23*V31)/S31 -> 109.09091 | U31: % | V31: =$G$7 -> 1800 | W31: 550 | X31: =($C$23*Z31)/W31 -> 109.09091 | Y31: % | Z31: =$G$8 -> 600
B32: 11.5 | C32: 375 | D32: =($C$23*F32)/C32 -> 106.66667 | E32: % | F32: =$G$15 -> 400 | G32: 775 | H32: =($C$23*J32)/G32 -> 103.22581 | I32: % | J32: =$G$14 -> 800 | K32: 1350 | L32: =($C$23*N32)/K32 -> 103.7037 | M32: % | N32: =$G$13 -> 1400 | O32: 1150 | P32: =($C$23*R32)/O32 -> 91.304348 | Q32: % | R32: =$G$6 -> 1050 | S32: 1725 | T32: =($C$23*V32)/S32 -> 104.34783 | U32: % | V32: =$G$7 -> 1800 | W32: 575 | X32: =($C$23*Z32)/W32 -> 104.34783 | Y32: % | Z32: =$G$8 -> 600
B33: 12 | C33: 400 | D33: =($C$23*F33)/C33 -> 100 | E33: % | F33: =$G$15 -> 400 | G33: 800 | H33: =($C$23*J33)/G33 -> 100 | I33: % | J33: =$G$14 -> 800 | K33: 1400 | L33: =($C$23*N33)/K33 -> 100 | M33: % | N33: =$G$13 -> 1400 | O33: 1200 | P33: =($C$23*R33)/O33 -> 87.5 | Q33: % | R33: =$G$6 -> 1050 | S33: 1800 | T33: =($C$23*V33)/S33 -> 100 | U33: % | V33: =$G$7 -> 1800 | W33: 600 | X33: =($C$23*Z33)/W33 -> 100 | Y33: % | Z33: =$G$8 -> 600
B34: 12.5 | C34: 400 | D34: =($C$23*F34)/C34 -> 100 | E34: % | F34: =$G$15 -> 400 | G34: 825 | H34: =($C$23*J34)/G34 -> 96.969697 | I34: % | J34: =$G$14 -> 800 | K34: 1450 | L34: =($C$23*N34)/K34 -> 96.551724 | M34: % | N34: =$G$13 -> 1400 | O34: 1250 | P34: =($C$23*R34)/O34 -> 84 | Q34: % | R34: =$G$6 -> 1050 | S34: 1875 | T34: =($C$23*V34)/S34 -> 96 | U34: % | V34: =$G$7 -> 1800 | W34: 625 | X34: =($C$23*Z34)/W34 -> 96 | Y34: % | Z34: =$G$8 -> 600
B35: 13 | C35: 425 | D35: =($C$23*F35)/C35 -> 94.117647 | E35: % | F35: =$G$15 -> 400 | G35: 850 | H35: =($C$23*J35)/G35 -> 94.117647 | I35: % | J35: =$G$14 -> 800 | K35: 1500 | L35: =($C$23*N35)/K35 -> 93.333333 | M35: % | N35: =$G$13 -> 1400 | O35: 1300 | P35: =($C$23*R35)/O35 -> 80.769231 | Q35: % | R35: =$G$6 -> 1050 | S35: 1950 | T35: =($C$23*V35)/S35 -> 92.307692 | U35: % | V35: =$G$7 -> 1800 | W35: 650 | X35: =($C$23*Z35)/W35 -> 92.307692 | Y35: % | Z35: =$G$8 -> 600
B36: 13.5 | C36: 450 | D36: =($C$23*F36)/C36 -> 88.888889 | E36: % | F36: =$G$15 -> 400 | G36: 900 | H36: =($C$23*J36)/G36 -> 88.888889 | I36: % | J36: =$G$14 -> 800 | K36: 1575 | L36: =($C$23*N36)/K36 -> 88.888889 | M36: % | N36: =$G$13 -> 1400 | O36: 1350 | P36: =($C$23*R36)/O36 -> 77.777778 | Q36: % | R36: =$G$6 -> 1050 | S36: 2025 | T36: =($C$23*V36)/S36 -> 88.888889 | U36: % | V36: =$G$7 -> 1800 | W36: 675 | X36: =($C$23*Z36)/W36 -> 88.888889 | Y36: % | Z36: =$G$8 -> 600
... B43: 17 | C43: 575 | D43: =($C$23*F43)/C43 -> 69.565217 | E43: % | F43: =$G$15 -> 400 | G43: 1125 | H43: =($C$23*J43)/G43 -> 71.111111 | I43: % | J43: =$G$14 -> 800 | K43: 1975 | L43: =($C$23*N43)/K43 -> 70.886076 | M43: % | N43: =$G$13 -> 1400 | O43: 1700 | P43: =($C$23*R43)/O43 -> 61.764706 | Q43: % | R43: =$G$6 -> 1050 | S43: 2550 | T43: =($C$23*V43)/S43 -> 70.588235 | U43: % | V43: =$G$7 -> 1800 | W43: 850 | X43: =($C$23*Z43)/W43 -> 70.588235 | Y43: % | Z43: =$G$8 -> 600
