Workbook

Sheet Calendrier
A3: N° MATCH | B3: Journée | C3: Domicile | D3: Colonne1 | E3: Extérieur | F3: Score | G3: Colonne2
A4: 1 | B4: 1 | C4: UFAB | E4: BLMA
A5: 2 | B5: 1 | C5: RVBC | E5: BOURGES
A6: 3 | B6: 1 | C6: FCB | E6: ST AMAND
A7: 4 | B7: 1 | C7: ESBVA | E7: ASVEL
A8: 5 | B8: 1 | C8: TMB | E8: BL
A9: 6 | B9: 1 | C9: TGB | E9: LBB
A10: 7 | B10: 2 | C10: BOURGES | E10: UFAB
A11: 8 | B11: 2 | C11: ST AMAND | E11: RVBC
A12: 9 | B12: 2 | C12: ASVEL | E12: FCB
A13: 10 | B13: 2 | C13: BL | E13: ESBVA
A14: 11 | B14: 2 | C14: LBB | E14: TMB
A15: 12 | B15: 2 | C15: BLMA | E15: TGB
A16: 13 | B16: 3
A17: 14 | B17: 3
A18: 15 | B18: 3
A19: 16 | B19: 3
A20: 17 | B20: 3
A21: 18 | B21: 3
A22: 19
A23: 20
A24: 21
A25: 22
A26: 23
A27: 24
A28: 25
A29: 26
A30: 27
A31: 28
A32: 29
A33: 30
... A267: 264

Sheet UFAB
B3: Pts scorés | C3: Pts encaissés | D3: Tirs réussis | E3: Tirs tentés | F3: eFG % | G3: T2R | H3: T2T | I3: 2 PTS % | J3: T3R | K3: T3T | L3: 3 PTS % | M3: LFR | N3: LFT | O3: LF % | P3: RO | Q3: RD | R3: RTT | S3: PD | T3: BP | U3: INT | V3: Poss | W3: Rent | X3: eFG% | Y3: TO% | Z3: ORB% | AA3: FT %

Sheet BLMA
B3: Pts scorés | C3: Pts encaissés | D3: Tirs réussis | E3: Tirs tentés | F3: eFG % | G3: T2R | H3: T2T | I3: 2 PTS % | J3: T3R | K3: T3T | L3: 3 PTS % | M3: LFR | N3: LFT | O3: LF % | P3: RO | Q3: RD | R3: RTT | S3: PD | T3: BP | U3: INT | V3: Poss | W3: Rent | X3: eFG% | Y3: TO% | Z3: ORB% | AA3: FT %

Sheet RVBC
B3: Pts scorés | C3: Pts encaissés | D3: Tirs réussis | E3: Tirs tentés | F3: eFG % | G3: T2R | H3: T2T | I3: 2 PTS % | J3: T3R | K3: T3T | L3: 3 PTS % | M3: LFR | N3: LFT | O3: LF % | P3: RO | Q3: RD | R3: RTT | S3: PD | T3: BP | U3: INT | V3: Poss | W3: Rent | X3: eFG% | Y3: TO% | Z3: ORB% | AA3: FT %

Sheet BOURGES
B3: Pts scorés | C3: Pts encaissés | D3: Tirs réussis | E3: Tirs tentés | F3: eFG % | G3: T2R | H3: T2T | I3: 2 PTS % | J3: T3R | K3: T3T | L3: 3 PTS % | M3: LFR | N3: LFT | O3: LF % | P3: RO | Q3: RD | R3: RTT | S3: PD | T3: BP | U3: INT | V3: Poss | W3: Rent | X3: eFG% | Y3: TO% | Z3: ORB% | AA3: FT %

Sheet J1
Y1: Four Factors
B2: =Calendrier!A4 -> 1 | Y2: Offensive
B3: Equipe | C3: Pts scorés | D3: Pts encaissés | E3: Tirs réussis | F3: Tirs tentés | G3: eFG % | H3: T2R | I3: T2T | J3: 2 PTS % | K3: T3R | L3: T3T | M3: 3 PTS % | N3: LFR | O3: LFT | P3: LF % | Q3: RO | R3: RD | S3: RTT | T3: PD | U3: BP | V3: INT | W3: Poss | X3: Rent | Y3: eFG% | Z3: TO% | AA3: ORB% | AB3: FT %
B4: =Calendrier!C4 -> UFAB | C4: =H4*2+K4*3+N4 -> 53 | D4: =H5*2+K5*3+N5 -> 59 | E4: =H4+K4 -> 22 | F4: =I4+L4 -> 61 | G4: =IF(ISERROR(E4+0.5*K4/F4)=TRUE,0,(E4/F4)*100) -> 36.065574 | H4: =IF(ISERROR(AJ15),0,VALUE(AJ15)) -> 19 | I4: =IF(ISERROR(AK15),0,VALUE(AK15)) -> 44 | J4: =IF(ISERROR(H4/I4)=TRUE,0,(H4/I4)*100) -> 43.181818 | K4: =IF(ISERROR(AM15),0,VALUE(AM15)) -> 3 | L4: =IF(ISERROR(AN15),0,VALUE(AN15)) -> 17 | M4: =IF(ISERROR(K4/L4)=TRUE,0,(K4/L4)*100) -> 17.647059 | N4: =IF(ISERROR(AP15),0,VALUE(AP15)) -> 6 | O4: =IF(ISERROR(AQ15),0,VALUE(AQ15)) -> 11 | P4: =IF(ISERROR(N4/O4)=TRUE,0,(N4/O4)*100) -> 54.545455 | Q4: =IF(ISERROR(AR15),0,VALUE(AR15)) -> 11 | R4: =IF(ISERROR(AS15),0,VALUE(AS15)) -> 30 | S4: =Q4+R4 -> 41 | T4: =IF(ISERROR(AU15),0,VALUE(AU15)) -> 13 | U4: =IF(ISERROR(AV15),0,VALUE(AV15)) -> 15 | V4: =IF(ISERROR(AW15),0,VALUE(AW15)) -> 5 | W4: =F4+(O4*0.44)+U4-Q4 -> 69.84 | X4: =IF(#REF!=0,0,#REF!/#REF!) -> #REF! | Y4: =IF(ISERROR(E4+0.5*K4/F4)=TRUE,0,(E4/F4)*100) -> 36.065574 | Z4: =IF(ISERROR(U4/#REF!)=TRUE,0,U4/#REF!)*100 -> 0 | AA4: =#REF! -> #REF! | AB4: =N4/F4*100 -> 9.8360656 | AE4: Min | AF4: PTS | AG4: TR | AH4: TT | AI4: TT% | AJ4: 2Pr | AK4: 2PT | AL4: 2P% | AM4: 3PR | AN4: 3PT | AO4: 3P% | AP4: LF | AQ4: LF% | AR4: OR | AS4: DR | AT4: REB | AU4: PD | AV4: BP | AW4: INT | AX4: BS
B5: =Calendrier!E4 -> BLMA | C5: =H5*2+K5*3+N5 -> 59 | D5: =H4*2+K4*3+N4 -> 53 | E5: =H5+K5 -> 19 | F5: =I5+L5 -> 59 | G5: =IF(ISERROR(E5+0.5*K5/F5)=TRUE,0,(E5/F5)*100) -> 32.20339 | H5: =IF(ISERROR(AJ9),0,VALUE(AJ9)) -> 13 | I5: =IF(ISERROR(AK9),0,VALUE(AK9)) -> 38 | J5: =IF(ISERROR(H5/I5)=TRUE,0,(H5/I5)*100) -> 34.210526 | K5: =IF(ISERROR(AM9),0,VALUE(AM9)) -> 6 | L5: =IF(ISERROR(AN9),0,VALUE(AN9)) -> 21 | M5: =IF(ISERROR(K5/L5)=TRUE,0,(K5/L5)*100) -> 28.571429 | N5: =IF(ISERROR(AP9),0,VALUE(AP9)) -> 15 | O5: =IF(ISERROR(AQ9),0,VALUE(AQ9)) -> 25 | P5: =IF(ISERROR(N5/O5)=TRUE,0,(N5/O5)*100) -> 60 | Q5: =IF(ISERROR(AR9),0,VALUE(AR9)) -> 14 | R5: =IF(ISERROR(AS9),0,VALUE(AS9)) -> 30 | S5: =Q5+R5 -> 44 | T5: =IF(ISERROR(AU9),0,VALUE(AU9)) -> 16 | U5: =IF(ISERROR(AV9),0,VALUE(AV9)) -> 13 | V5: =IF(ISERROR(AW9),0,VALUE(AW9)) -> 9 | W5: =F5+(O5*0.44)+U5-Q5 -> 69 | X5: =IF(#REF!=0,0,#REF!/#REF!) -> #REF! | Y5: =IF(ISERROR(E5+0.5*K5/F5)=TRUE,0,(E5/F5)*100) -> 32.20339 | Z5: =IF(ISERROR(U5/#REF!)=TRUE,0,U5/#REF!)*100 -> 0 | AA5: =#REF! -> #REF! | AB5: =N5/F5*100 -> 25.423729 | AE5: =FIND(" ",$D$10) -> 3 | AF5: =FIND(" ",$D$10,AE5+1) -> 9 | AG5: =FIND(" ",$D$10,AF5+1) -> 12 | AH5: =FIND(" ",$D$10,AG5+1) -> 18 | AI5: =FIND(" ",$D$10,AH5+1) -> 21 | AJ5: =FIND(" ",$D$10,AI5+1) -> 26 | AK5: =FIND(" ",$D$10,AJ5+1) -> 29 | AL5: =FIND(" ",$D$10,AK5+1) -> 35 | AM5: =FIND(" ",$D$10,AL5+1) -> 38 | ... AY5: =FIND(" ",$D$10,AX5+1) -> #VALUE!
AE6: =TRIM(MID($D$10,1,AE5-1)) -> 59 | AG6: =TRIM(MID($D$10,AE5,AF5-AE5)) -> 19-59 | AJ6: =TRIM(MID($D$10,AG5,AH5-AG5)) -> 13-38 | AK6: =TRIM(MID($D$10,AH5,AI5-AH5)) -> 34 | AM6: =TRIM(MID($D$10,AI5,AJ5-AI5)) -> 6-21 | AN6: =TRIM(MID($D$10,AJ5,AK5-AJ5)) -> 28 | AP6: =TRIM(MID($D$10,AK5,AL5-AK5)) -> 15-25 | AQ6: =TRIM(MID($D$10,AL5,AM5-AL5)) -> 60 | AR6: =TRIM(MID($D$10,AM5,AN5-AM5)) -> 14 | AS6: =TRIM(MID($D$10,AN5,AO5-AN5)) -> 30 | AT6: =TRIM(MID($D$10,AO5,AP5-AO5)) -> 44 | AU6: =TRIM(MID($D$10,AP5,AQ5-AP5)) -> 16 | AV6: =TRIM(MID($D$10,AQ5,AR5-AQ5)) -> 13 | AW6: =TRIM(MID($D$10,AR5,AS5-AR5)) -> 9 | ... BA6: =TRIM(MID($D$10,AV5,AW5-AV5)) -> #VALUE!
AE7: =FIND("-",AG6) -> 4 | AG7: =FIND("-",AG6) -> 4 | AI7: =FIND("-",AM6) -> 3 | AK7: =FIND("-",AP6) -> 4
C8: Import LiveStats : | AG8: =LEFT(AG6,3) -> 19 | AH8: =RIGHT(AG6,LEN(AG6)-AE7) -> 59 | AJ8: =LEFT(AJ6,AG7-1) -> 13 | AK8: =RIGHT(AJ6,LEN(AJ6)-AG7) -> 38 | AL8: =RIGHT(AK6,LEN(AK6)-AI7) | AM8: =LEFT(AM6,AI7-1) -> 6 | AN8: =RIGHT(AM6,LEN(AM6)-AI7) -> 21 | AP8: =LEFT(AP6,AK7-1) -> 15 | AQ8: =RIGHT(AP6,LEN(AP6)-AK7) -> 25
C9: =B4 -> UFAB | D9: 53 22-61 36 19-44 43 3-17 17 6-11 54 11 30 41 13 15 5 5 3 24 21 58 | I9: BCO | J9: 20 | K9: 13 | L9: 14 | M9: 22 | N9: 69 | AG9: =CLEAN(AG8) -> 19 | AH9: =CLEAN(AH8) -> 59 | AJ9: =CLEAN(AJ8) -> 13 | AK9: =CLEAN(AK8) -> 38 | AL9: =CLEAN(AL8) | AM9: =CLEAN(AM8) -> 6 | AN9: =CLEAN(AN8) -> 21 | AP9: =CLEAN(AP8) -> 15 | AQ9: =CLEAN(AQ8) -> 25 | AR9: =CLEAN(AR6) -> 14 | AS9: =CLEAN(AS6) -> 30 | AT9: =CLEAN(AT6) -> 44 | AU9: =CLEAN(AU6) -> 16 | AV9: =CLEAN(AV6) -> 13 | AW9: =CLEAN(AW6) -> 9 | AX9: =CLEAN(AX6) -> 3 | AY9: =CLEAN(AY6) -> 5 | ... BA9: =CLEAN(BA6) -> #VALUE!
C10: =B5 -> BLMA | D10: 59 19-59 32 13-38 34 6-21 28 15-25 60 14 30 44 16 13 9 3 5 21 | I10: PDC | J10: 14 | K10: 15 | L10: 13 | M10: 14 | N10: 56 | AE10: Min | AF10: PTS | AG10: TR | AH10: TT | AI10: TT% | AJ10: 2Pr | AK10: 2PT | AL10: 2P% | AM10: 3PR | AN10: 3PT | AO10: 3P% | AP10: LF | AQ10: LF% | AR10: OR | AS10: DR | AT10: REB | AU10: PD | AV10: BP | AW10: INT | AX10: BS
AE11: =FIND(" ",$D$9) -> 3 | AF11: =FIND(" ",$D$9,AE11+1) -> 9 | AG11: =FIND(" ",$D$9,AF11+1) -> 12 | AH11: =FIND(" ",$D$9,AG11+1) -> 18 | AI11: =FIND(" ",$D$9,AH11+1) -> 21 | AJ11: =FIND(" ",$D$9,AI11+1) -> 26 | AK11: =FIND(" ",$D$9,AJ11+1) -> 29 | AL11: =FIND(" ",$D$9,AK11+1) -> 34 | AM11: =FIND(" ",$D$9,AL11+1) -> 37 | ... AY11: =FIND(" ",$D$9,AX11+1) -> #VALUE!
AE12: =TRIM(MID($D$9,1,AE11-1)) -> 53 | AG12: =TRIM(MID($D$9,AE11,AF11-AE11)) -> 22-61 | AJ12: =TRIM(MID($D$9,AG11,AH11-AG11)) -> 19-44 | AK12: =TRIM(MID($D$9,AH11,AI11-AH11)) -> 43 | AM12: =TRIM(MID($D$9,AI11,AJ11-AI11)) -> 3-17 | AN12: =TRIM(MID($D$9,AJ11,AK11-AJ11)) -> 17 | AP12: =TRIM(MID($D$9,AK11,AL11-AK11)) -> 6-11 | AQ12: =TRIM(MID($D$9,AL11,AM11-AL11)) -> 54 | AR12: =TRIM(MID($D$9,AM11,AN11-AM11)) -> 11 | AS12: =TRIM(MID($D$9,AN11,AO11-AN11)) -> 30 | AT12: =TRIM(MID($D$9,AO11,AP11-AO11)) -> 41 | AU12: =TRIM(MID($D$9,AP11,AQ11-AP11)) -> 13 | AV12: =TRIM(MID($D$9,AQ11,AR11-AQ11)) -> 15 | AW12: =TRIM(MID($D$9,AR11,AS11-AR11)) -> 5 | ... BA12: =TRIM(MID($D$9,AV11,AW11-AV11)) -> 21
AE13: =FIND("-",AG12) -> 4 | AG13: =FIND("-",AG12) -> 4 | AI13: =FIND("-",AM12) -> 3 | AK13: =FIND("-",AP12) -> 3
B14: Teams Stats | E14: Opp Stats | H14: Nous | I14: Adversaire | AG14: =LEFT(AG12,3) -> 22 | AH14: =RIGHT(AG12,LEN(AG12)-AE13) -> 61 | AJ14: =LEFT(AJ12,AG13-1) -> 19 | AK14: =RIGHT(AJ12,LEN(AJ12)-AG13) -> 44 | AM14: =LEFT(AM12,AI13-1) -> 3 | AN14: =RIGHT(AM12,LEN(AM12)-AI13) -> 17 | AP14: =LEFT(AP12,AK13-1) -> 6 | AQ14: =RIGHT(AP12,LEN(AP12)-AK13) -> 11
B15: Points après balles perdues:29 | E15: Points après balles perdues:10 | G15: Pts / TO | H15: =MID(B15,FIND(":",B15)+1,LEN(B15))*1 -> 29 | I15: =MID(E15,FIND(":",E15)+1,LEN(E15))*1 -> 10 | AG15: =CLEAN(AG14) -> 22 | AH15: =CLEAN(AH14) -> 61 | AJ15: =CLEAN(AJ14) -> 19 | AK15: =CLEAN(AK14) -> 44 | AM15: =CLEAN(AM14) -> 3 | AN15: =CLEAN(AN14) -> 17 | AP15: =CLEAN(AP14) -> 6 | AQ15: =CLEAN(AQ14) -> 11 | AR15: =CLEAN(AR12) -> 11 | AS15: =CLEAN(AS12) -> 30 | AT15: =CLEAN(AT12) -> 41 | AU15: =CLEAN(AU12) -> 13 | AV15: =CLEAN(AV12) -> 15 | AW15: =CLEAN(AW12) -> 5 | AX15: =CLEAN(AX12) -> 5 | AY15: =CLEAN(AY12) -> 3 | ... BA15: =CLEAN(BA12) -> 21
G16: Pts Int | H16: =MID(B17,FIND(":",B17)+1,LEN(B17))*1 -> 38 | I16: =MID(E17,FIND(":",E17)+1,LEN(E17))*1 -> 32
B17: Points intérieurs:38 | E17: Points intérieurs:32 | G17: Pts Reb | H17: =MID(B19,FIND(":",B19)+1,LEN(B19))*1 -> 6 | I17: =MID(E19,FIND(":",E19)+1,LEN(E19))*1 -> 11
G18: Pts CA | H18: =MID(B21,FIND(":",B21)+1,LEN(B21))*1 -> 11 | I18: =MID(E21,FIND(":",E21)+1,LEN(E21))*1 -> 6
B19: Points 2ème chance:6 | E19: Points 2ème chance:11 | G19: Bench Pts | H19: =MID(B23,FIND(":",B23)+1,LEN(B23))*1 -> 17 | I19: =MID(E23,FIND(":",E23)+1,LEN(E23))*1 -> 30
B21: Points en contre-attaque:11 | E21: Points en contre-attaque:6
B23: Points du Banc:17 | E23: Points du Banc:30
B25: Ecart maximum:42 | E25: Ecart maximum:4
B27: Série maximum:17 | E27: Série maximum:6
Y29: Four Factors
B30: =Calendrier!A5 -> 2 | Y30: Offensive
B31: Equipe | C31: Pts scorés | D31: Pts encaissés | E31: Tirs réussis | F31: Tirs tentés | G31: eFG % | H31: T2R | I31: T2T | J31: 2 PTS % | K31: T3R | L31: T3T | M31: 3 PTS % | N31: LFR | O31: LFT | P31: LF % | Q31: RO | R31: RD | S31: RTT | T31: PD | U31: BP | V31: INT | W31: Poss | X31: Rent | Y31: eFG% | Z31: TO% | AA31: ORB% | AB31: FT %
B32: =Calendrier!C5 -> RVBC | C32: =H32*2+K32*3+N32 -> 53 | D32: =H33*2+K33*3+N33 -> 59 | E32: =H32+K32 -> 22 | F32: =I32+L32 -> 61 | G32: =IF(ISERROR(E32+0.5*K32/F32)=TRUE,0,(E32/F32)*100) -> 36.065574 | H32: =IF(ISERROR(AJ43),0,VALUE(AJ43)) -> 19 | I32: =IF(ISERROR(AK43),0,VALUE(AK43)) -> 44 | J32: =IF(ISERROR(H32/I32)=TRUE,0,(H32/I32)*100) -> 43.181818 | K32: =IF(ISERROR(AM43),0,VALUE(AM43)) -> 3 | L32: =IF(ISERROR(AN43),0,VALUE(AN43)) -> 17 | M32: =IF(ISERROR(K32/L32)=TRUE,0,(K32/L32)*100) -> 17.647059 | N32: =IF(ISERROR(AP43),0,VALUE(AP43)) -> 6 | O32: =IF(ISERROR(AQ43),0,VALUE(AQ43)) -> 11 | P32: =IF(ISERROR(N32/O32)=TRUE,0,(N32/O32)*100) -> 54.545455 | Q32: =IF(ISERROR(AR43),0,VALUE(AR43)) -> 11 | R32: =IF(ISERROR(AS43),0,VALUE(AS43)) -> 30 | S32: =Q32+R32 -> 41 | T32: =IF(ISERROR(AU43),0,VALUE(AU43)) -> 13 | U32: =IF(ISERROR(AV43),0,VALUE(AV43)) -> 15 | V32: =IF(ISERROR(AW43),0,VALUE(AW43)) -> 5 | W32: =F32+(O32*0.44)+U32-Q32 -> 69.84 | X32: =IF(#REF!=0,0,#REF!/#REF!) -> #REF! | Y32: =IF(ISERROR(E32+0.5*K32/F32)=TRUE,0,(E32/F32)*100) -> 36.065574 | Z32: =IF(ISERROR(U32/#REF!)=TRUE,0,U32/#REF!)*100 -> 0 | AA32: =#REF! -> #REF! | AB32: =N32/F32*100 -> 9.8360656 | AE32: Min | AF32: PTS | AG32: TR | AH32: TT | AI32: TT% | AJ32: 2Pr | AK32: 2PT | AL32: 2P% | AM32: 3PR | AN32: 3PT | AO32: 3P% | AP32: LF | AQ32: LF% | AR32: OR | AS32: DR | AT32: REB | AU32: PD | AV32: BP | AW32: INT | AX32: BS
B33: =Calendrier!E5 -> BOURGES | C33: =H33*2+K33*3+N33 -> 59 | D33: =H32*2+K32*3+N32 -> 53 | E33: =H33+K33 -> 19 | F33: =I33+L33 -> 59 | G33: =IF(ISERROR(E33+0.5*K33/F33)=TRUE,0,(E33/F33)*100) -> 32.20339 | H33: =IF(ISERROR(AJ37),0,VALUE(AJ37)) -> 13 | I33: =IF(ISERROR(AK37),0,VALUE(AK37)) -> 38 | J33: =IF(ISERROR(H33/I33)=TRUE,0,(H33/I33)*100) -> 34.210526 | K33: =IF(ISERROR(AM37),0,VALUE(AM37)) -> 6 | L33: =IF(ISERROR(AN37),0,VALUE(AN37)) -> 21 | M33: =IF(ISERROR(K33/L33)=TRUE,0,(K33/L33)*100) -> 28.571429 | N33: =IF(ISERROR(AP37),0,VALUE(AP37)) -> 15 | O33: =IF(ISERROR(AQ37),0,VALUE(AQ37)) -> 25 | P33: =IF(ISERROR(N33/O33)=TRUE,0,(N33/O33)*100) -> 60 | Q33: =IF(ISERROR(AR37),0,VALUE(AR37)) -> 14 | R33: =IF(ISERROR(AS37),0,VALUE(AS37)) -> 30 | S33: =Q33+R33 -> 44 | T33: =IF(ISERROR(AU37),0,VALUE(AU37)) -> 16 | U33: =IF(ISERROR(AV37),0,VALUE(AV37)) -> 13 | V33: =IF(ISERROR(AW37),0,VALUE(AW37)) -> 9 | W33: =F33+(O33*0.44)+U33-Q33 -> 69 | X33: =IF(#REF!=0,0,#REF!/#REF!) -> #REF! | Y33: =IF(ISERROR(E33+0.5*K33/F33)=TRUE,0,(E33/F33)*100) -> 32.20339 | Z33: =IF(ISERROR(U33/#REF!)=TRUE,0,U33/#REF!)*100 -> 0 | AA33: =#REF! -> #REF! | AB33: =N33/F33*100 -> 25.423729 | AE33: =FIND(" ",$D$10) -> 3 | AF33: =FIND(" ",$D$10,AE33+1) -> 9 | AG33: =FIND(" ",$D$10,AF33+1) -> 12 | AH33: =FIND(" ",$D$10,AG33+1) -> 18 | AI33: =FIND(" ",$D$10,AH33+1) -> 21 | AJ33: =FIND(" ",$D$10,AI33+1) -> 26 | AK33: =FIND(" ",$D$10,AJ33+1) -> 29 | AL33: =FIND(" ",$D$10,AK33+1) -> 35 | AM33: =FIND(" ",$D$10,AL33+1) -> 38 | ... AY33: =FIND(" ",$D$10,AX33+1) -> #VALUE!
AE34: =TRIM(MID($D$10,1,AE33-1)) -> 59 | AG34: =TRIM(MID($D$10,AE33,AF33-AE33)) -> 19-59 | AJ34: =TRIM(MID($D$10,AG33,AH33-AG33)) -> 13-38 | AK34: =TRIM(MID($D$10,AH33,AI33-AH33)) -> 34 | AM34: =TRIM(MID($D$10,AI33,AJ33-AI33)) -> 6-21 | AN34: =TRIM(MID($D$10,AJ33,AK33-AJ33)) -> 28 | AP34: =TRIM(MID($D$10,AK33,AL33-AK33)) -> 15-25 | AQ34: =TRIM(MID($D$10,AL33,AM33-AL33)) -> 60 | AR34: =TRIM(MID($D$10,AM33,AN33-AM33)) -> 14 | AS34: =TRIM(MID($D$10,AN33,AO33-AN33)) -> 30 | AT34: =TRIM(MID($D$10,AO33,AP33-AO33)) -> 44 | AU34: =TRIM(MID($D$10,AP33,AQ33-AP33)) -> 16 | AV34: =TRIM(MID($D$10,AQ33,AR33-AQ33)) -> 13 | AW34: =TRIM(MID($D$10,AR33,AS33-AR33)) -> 9 | ... BA34: =TRIM(MID($D$10,AV33,AW33-AV33)) -> #VALUE!
AE35: =FIND("-",AG34) -> 4 | AG35: =FIND("-",AG34) -> 4 | AI35: =FIND("-",AM34) -> 3 | AK35: =FIND("-",AP34) -> 4
B36: Import LiveStats : | AG36: =LEFT(AG34,3) -> 19 | AH36: =RIGHT(AG34,LEN(AG34)-AE35) -> 59 | AJ36: =LEFT(AJ34,AG35-1) -> 13 | AK36: =RIGHT(AJ34,LEN(AJ34)-AG35) -> 38 | AL36: =RIGHT(AK34,LEN(AK34)-AI35) | AM36: =LEFT(AM34,AI35-1) -> 6 | AN36: =RIGHT(AM34,LEN(AM34)-AI35) -> 21 | AP36: =LEFT(AP34,AK35-1) -> 15 | AQ36: =RIGHT(AP34,LEN(AP34)-AK35) -> 25
B37: =B32 -> RVBC | C37: 53 22-61 36 19-44 43 3-17 17 6-11 54 11 30 41 13 15 5 5 3 24 21 58 | H37: BCO | I37: 20 | J37: 13 | K37: 14 | L37: 22 | M37: 69 | AG37: =CLEAN(AG36) -> 19 | AH37: =CLEAN(AH36) -> 59 | AJ37: =CLEAN(AJ36) -> 13 | AK37: =CLEAN(AK36) -> 38 | AL37: =CLEAN(AL36) | AM37: =CLEAN(AM36) -> 6 | AN37: =CLEAN(AN36) -> 21 | AP37: =CLEAN(AP36) -> 15 | AQ37: =CLEAN(AQ36) -> 25 | AR37: =CLEAN(AR34) -> 14 | AS37: =CLEAN(AS34) -> 30 | AT37: =CLEAN(AT34) -> 44 | AU37: =CLEAN(AU34) -> 16 | AV37: =CLEAN(AV34) -> 13 | AW37: =CLEAN(AW34) -> 9 | AX37: =CLEAN(AX34) -> 3 | AY37: =CLEAN(AY34) -> 5 | ... BA37: =CLEAN(BA34) -> #VALUE!
B38: =B33 -> BOURGES | C38: 59 19-59 32 13-38 34 6-21 28 15-25 60 14 30 44 16 13 9 3 5 21 | H38: PDC | I38: 14 | J38: 15 | K38: 13 | L38: 14 | M38: 56 | AE38: Min | AF38: PTS | AG38: TR | AH38: TT | AI38: TT% | AJ38: 2Pr | AK38: 2PT | AL38: 2P% | AM38: 3PR | AN38: 3PT | AO38: 3P% | AP38: LF | AQ38: LF% | AR38: OR | AS38: DR | AT38: REB | AU38: PD | AV38: BP | AW38: INT | AX38: BS
AE39: =FIND(" ",$D$9) -> 3 | AF39: =FIND(" ",$D$9,AE39+1) -> 9 | AG39: =FIND(" ",$D$9,AF39+1) -> 12 | AH39: =FIND(" ",$D$9,AG39+1) -> 18 | AI39: =FIND(" ",$D$9,AH39+1) -> 21 | AJ39: =FIND(" ",$D$9,AI39+1) -> 26 | AK39: =FIND(" ",$D$9,AJ39+1) -> 29 | AL39: =FIND(" ",$D$9,AK39+1) -> 34 | AM39: =FIND(" ",$D$9,AL39+1) -> 37 | ... AY39: =FIND(" ",$D$9,AX39+1) -> #VALUE!
AE40: =TRIM(MID($D$9,1,AE39-1)) -> 53 | AG40: =TRIM(MID($D$9,AE39,AF39-AE39)) -> 22-61 | AJ40: =TRIM(MID($D$9,AG39,AH39-AG39)) -> 19-44 | AK40: =TRIM(MID($D$9,AH39,AI39-AH39)) -> 43 | AM40: =TRIM(MID($D$9,AI39,AJ39-AI39)) -> 3-17 | AN40: =TRIM(MID($D$9,AJ39,AK39-AJ39)) -> 17 | AP40: =TRIM(MID($D$9,AK39,AL39-AK39)) -> 6-11 | AQ40: =TRIM(MID($D$9,AL39,AM39-AL39)) -> 54 | AR40: =TRIM(MID($D$9,AM39,AN39-AM39)) -> 11 | AS40: =TRIM(MID($D$9,AN39,AO39-AN39)) -> 30 | AT40: =TRIM(MID($D$9,AO39,AP39-AO39)) -> 41 | AU40: =TRIM(MID($D$9,AP39,AQ39-AP39)) -> 13 | AV40: =TRIM(MID($D$9,AQ39,AR39-AQ39)) -> 15 | AW40: =TRIM(MID($D$9,AR39,AS39-AR39)) -> 5 | ... BA40: =TRIM(MID($D$9,AV39,AW39-AV39)) -> 21
AE41: =FIND("-",AG40) -> 4 | AG41: =FIND("-",AG40) -> 4 | AI41: =FIND("-",AM40) -> 3 | AK41: =FIND("-",AP40) -> 3
B42: Teams Stats | E42: Opp Stats | H42: Nous | I42: Adversaire | AG42: =LEFT(AG40,3) -> 22 | AH42: =RIGHT(AG40,LEN(AG40)-AE41) -> 61 | AJ42: =LEFT(AJ40,AG41-1) -> 19 | AK42: =RIGHT(AJ40,LEN(AJ40)-AG41) -> 44 | AM42: =LEFT(AM40,AI41-1) -> 3 | AN42: =RIGHT(AM40,LEN(AM40)-AI41) -> 17 | AP42: =LEFT(AP40,AK41-1) -> 6 | AQ42: =RIGHT(AP40,LEN(AP40)-AK41) -> 11
B43: Points après balles perdues:29 | E43: Points après balles perdues:10 | G43: Pts / TO | H43: =MID(B43,FIND(":",B43)+1,LEN(B43))*1 -> 29 | I43: =MID(E43,FIND(":",E43)+1,LEN(E43))*1 -> 10 | AG43: =CLEAN(AG42) -> 22 | AH43: =CLEAN(AH42) -> 61 | AJ43: =CLEAN(AJ42) -> 19 | AK43: =CLEAN(AK42) -> 44 | AM43: =CLEAN(AM42) -> 3 | AN43: =CLEAN(AN42) -> 17 | AP43: =CLEAN(AP42) -> 6 | AQ43: =CLEAN(AQ42) -> 11 | AR43: =CLEAN(AR40) -> 11 | AS43: =CLEAN(AS40) -> 30 | AT43: =CLEAN(AT40) -> 41 | AU43: =CLEAN(AU40) -> 13 | AV43: =CLEAN(AV40) -> 15 | AW43: =CLEAN(AW40) -> 5 | AX43: =CLEAN(AX40) -> 5 | AY43: =CLEAN(AY40) -> 3 | ... BA43: =CLEAN(BA40) -> 21
G44: Pts Int | H44: =MID(B45,FIND(":",B45)+1,LEN(B45))*1 -> 38 | I44: =MID(E45,FIND(":",E45)+1,LEN(E45))*1 -> 32
B45: Points intérieurs:38 | E45: Points intérieurs:32 | G45: Pts Reb | H45: =MID(B47,FIND(":",B47)+1,LEN(B47))*1 -> 6 | I45: =MID(E47,FIND(":",E47)+1,LEN(E47))*1 -> 11
G46: Pts CA | H46: =MID(B49,FIND(":",B49)+1,LEN(B49))*1 -> 11 | I46: =MID(E49,FIND(":",E49)+1,LEN(E49))*1 -> 6
B47: Points 2ème chance:6 | E47: Points 2ème chance:11 | G47: Bench Pts | H47: =MID(B51,FIND(":",B51)+1,LEN(B51))*1 -> 17 | I47: =MID(E51,FIND(":",E51)+1,LEN(E51))*1 -> 30
B49: Points en contre-attaque:11 | E49: Points en contre-attaque:6
B51: Points du Banc:17 | E51: Points du Banc:30
B53: Ecart maximum:42 | E53: Ecart maximum:4
B55: Série maximum:17 | E55: Série maximum:6

Sheet J2
D2: =Calendrier!C8 -> TMB | G2: =Calendrier!E8 -> BL
E6: =D25 -> 74 | F6: Score | G6: =D26 -> 53
B7: =I25 -> 16 | C7: / | D7: =J25 -> 28 | E7: =K25 -> 57.142857 | F7: 2 Pts % | G7: =K26 -> 32 | H7: =I26 -> 16 | I7: / | J7: =J26 -> 50
B8: =L25 -> 8 | C8: / | D8: =M25 -> 25 | E8: =N25 -> 32 | F8: 3 Pts % | G8: =N26 -> 15.384615 | H8: =L26 -> 2 | I8: / | J8: =M26 -> 13
B9: =F25 -> 24 | C9: / | D9: =G25 -> 53 | E9: =H25 -> 45.283019 | F9: eFG % | G9: =H26 -> 28.571429 | H9: =F26 -> 18 | I9: / | J9: =G26 -> 63
B10: =O25 -> 18 | C10: / | D10: =P25 -> 23 | E10: =Q25 -> 78.26087 | F10: LF % | G10: =Q26 -> 50 | H10: =O26 -> 15 | I10: / | J10: =P26 -> 30
B11: =R25 -> 8 | C11: / | D11: =(G25+0.44*(P25-O25)-F25) -> 31.2 | E11: =IF(ISERROR(R25/D11)=TRUE,0,(R25/D11)*100) -> 25.641026 | F11: Reb OFF % | G11: =IF(ISERROR(R26/J11)=TRUE,0,(R26/J11)*100) -> 31.007752 | H11: =R26 -> 16 | I11: / | J11: =(G26+0.44*(P26-O26)-F26) -> 51.6
B12: =T25 -> 35 | C12: / | D12: =(G26+0.44*(P26-O26)-F26) -> 51.6 | E12: =IF(ISERROR(T25/D12)=TRUE,0,(T25/D12)*100) -> 67.829457 | F12: Reb DEF % | G12: =IF(ISERROR(T26/J12)=TRUE,0,(T26/J12)*100) -> 73.717949 | H12: =T26 -> 23 | I12: / | J12: =(G25+0.44*(P25-O25)-F25) -> 31.2
D13: =X25 -> 23 | E13: =IF(ISERROR(X25/E16)=TRUE,0,(X25/E16)*100) -> 29.441884 | F13: TO % | G13: =IF(ISERROR(X26/G16)=TRUE,0,(X26/G16)*100) -> 22.020725 | H13: =X26 -> 17
E14: =W25 -> 17 | F14: PD | G14: =W26 -> 11
E15: =100*(E14/(B7+B8)) -> 70.833333 | F15: Ast % | G15: =100*(G14/(H7+H8)) -> 61.111111
E16: =G25+(P25*0.44)+X25-R25 -> 78.12 | F16: Possessions | G16: =G26+(P26*0.44)+X26-R26 -> 77.2
E17: =IF(E6=0,0,E6/E16) -> 0.94726062 | F17: Pts / Poss | G17: =IF(G6=0,0,G6/G16) -> 0.6865285
E18: =100*(P25/G25) -> 43.396226 | F18: FT % | G18: =100*(P26/G26) -> 47.619048
E19: =Y25 -> 24 | F19: Evaluation | G19: =Y26 -> 20
E20: =100*(E6/E16) -> 94.726062 | F20: OFF Rate | G20: =100*(G6/G16) -> 68.65285
E21: =G20 -> 68.65285 | F21: DEF Rate | G21: =E20 -> 94.726062
AB22: Four Factors
B23: Match | AB23: Offensive
B24: Equipe | D24: Pts scorés | E24: Pts encaissés | F24: Tirs réussis | G24: Tirs tentés | H24: eFG % | I24: T2R | J24: T2T | K24: 2 PTS % | L24: T3R | M24: T3T | N24: 3 PTS % | O24: LFR | P24: LFT | Q24: LF % | R24: RO | S24: RO % | T24: RD | U24: RD % | V24: RTT | W24: PD | X24: BP | Y24: Eval | Z24: Poss | AA24: Rent | AB24: eFG% | AC24: TO% | AD24: ORB% | AE24: FT %
B25: Nous | D25: =I25*2+L25*3+O25 -> 74 | E25: =I26*2+L26*3+O26 -> 53 | F25: =I25+L25 -> 24 | G25: =J25+M25 -> 53 | H25: =IF(ISERROR(F25+0.5*L25/G25)=TRUE,0,(F25/G25)*100) -> 45.283019 | I25: =IF(ISERROR(AM30),0,VALUE(AM30)) -> 16 | J25: =IF(ISERROR(AN30),0,VALUE(AN30)) -> 28 | K25: =IF(ISERROR(I25/J25)=TRUE,0,(I25/J25)*100) -> 57.142857 | L25: =IF(ISERROR(AP30),0,VALUE(AP30)) -> 8 | M25: =IF(ISERROR(AQ30),0,VALUE(AQ30)) -> 25 | N25: =IF(ISERROR(L25/M25)=TRUE,0,(L25/M25)*100) -> 32 | O25: =IF(ISERROR(AS30),0,VALUE(AS30)) -> 18 | P25: =IF(ISERROR(AT30),0,VALUE(AT30)) -> 23 | Q25: =IF(ISERROR(O25/P25)=TRUE,0,(O25/P25)*100) -> 78.26087 | R25: =IF(ISERROR(AU30),0,VALUE(AU30)) -> 8 | S25: =IF(ISERROR(R25/(G25+0.44*P25-F25))=TRUE,0,R25/(G25+0.44*P25-F25)*100) -> 20.449898 | T25: =IF(ISERROR(AV30),0,VALUE(AV30)) -> 35 | U25: =IF(ISERROR(T25/(G26+(0.44*P26)-F26))=TRUE,0,T25/(G26+(0.44*P26)-F26)*100) -> 60.137457 | V25: =R25+T25 -> 43 | W25: =IF(ISERROR(AX30),0,VALUE(AX30)) -> 17 | X25: =IF(ISERROR(AY30),0,VALUE(AY30)) -> 23 | Y25: =IF(ISERROR(BC30),0,VALUE(BC30)) -> 24 | Z25: =G25+(P25*0.44)+X25-R25 -> 78.12 | AA25: =IF(E6=0,0,E6/E16) -> 0.94726062 | AB25: =IF(ISERROR(F25+0.5*L25/G25)=TRUE,0,(F25/G25)*100) -> 45.283019 | AC25: =IF(ISERROR(X25/E16)=TRUE,0,X25/E16)*100 -> 29.441884 | AD25: =E11 -> 25.641026 | AE25: =O25/G25*100 -> 33.962264 | AH25: Min | AI25: PTS | AJ25: TR | AK25: TT | AL25: TT% | AM25: 2Pr | AN25: 2PT | AO25: 2P% | AP25: 3PR | AQ25: 3PT | AR25: 3P% | AS25: LF | AT25: LF% | AU25: OU | AV25: DR | AW25: REB | AX25: POUR | AY25: BP | AZ25: INT | BA25: BS
B26: Adversaire | D26: =I26*2+L26*3+O26 -> 53 | E26: =I25*2+L25*3+O25 -> 74 | F26: =I26+L26 -> 18 | G26: =J26+M26 -> 63 | H26: =IF(ISERROR(F26+0.5*L26/G26)=TRUE,0,(F26/G26)*100) -> 28.571429 | I26: =IF(ISERROR(AM36),0,VALUE(AM36)) -> 16 | J26: =IF(ISERROR(AN36),0,VALUE(AN36)) -> 50 | K26: =IF(ISERROR(I26/J26)=TRUE,0,(I26/J26)*100) -> 32 | L26: =IF(ISERROR(AP36),0,VALUE(AP36)) -> 2 | M26: =IF(ISERROR(AQ36),0,VALUE(AQ36)) -> 13 | N26: =IF(ISERROR(L26/M26)=TRUE,0,(L26/M26)*100) -> 15.384615 | O26: =IF(ISERROR(AS36),0,VALUE(AS36)) -> 15 | P26: =IF(ISERROR(AT36),0,VALUE(AT36)) -> 30 | Q26: =IF(ISERROR(O26/P26)=TRUE,0,(O26/P26)*100) -> 50 | R26: =IF(ISERROR(AU36),0,VALUE(AU36)) -> 16 | S26: =IF(ISERROR(R26/(G26+0.44*P26-F26))=TRUE,0,R26/(G26+0.44*P26-F26)*100) -> 27.491409 | T26: =IF(ISERROR(AV36),0,VALUE(AV36)) -> 23 | U26: =IF(ISERROR(T26/(G25+(0.44*P25)-F25))=TRUE,0,T26/(G25+(0.44*P25)-F25)*100) -> 58.793456 | V26: =R26+T26 -> 39 | W26: =IF(ISERROR(AX36),0,VALUE(AX36)) -> 11 | X26: =IF(ISERROR(AY36),0,VALUE(AY36)) -> 17 | Y26: =IF(ISERROR(BC36),0,VALUE(BC36)) -> 20 | Z26: =G26+(P26*0.44)+X26-R26 -> 77.2 | AA26: =IF(G6=0,0,G6/G16) -> 0.6865285 | AB26: =IF(ISERROR(F26+0.5*L26/G26)=TRUE,0,(F26/G26)*100) -> 28.571429 | AC26: =IF(ISERROR(X26/G16)=TRUE,0,X26/G16)*100 -> 22.020725 | AD26: =G11 -> 31.007752 | AE26: =O26/G26*100 -> 23.809524 | AH26: =FIND(" ",$D$31) -> 3 | AI26: =FIND(" ",$D$31,AH26+1) -> 9 | AJ26: =FIND(" ",$D$31,AI26+1) -> 12 | AK26: =FIND(" ",$D$31,AJ26+1) -> 18 | AL26: =FIND(" ",$D$31,AK26+1) -> 21 | AM26: =FIND(" ",$D$31,AL26+1) -> 26 | AN26: =FIND(" ",$D$31,AM26+1) -> 29 | AO26: =FIND(" ",$D$31,AN26+1) -> 35 | AP26: =FIND(" ",$D$31,AO26+1) -> 38 | ... BB26: =FIND(" ",$D$31,BA26+1) -> #VALUE!
AH27: =TRIM(MID($D$31,1,AH26-1)) -> 74 | AJ27: =TRIM(MID($D$31,AH26,AI26-AH26)) -> 24-53 | AM27: =TRIM(MID($D$31,AJ26,AK26-AJ26)) -> 16-28 | AN27: =TRIM(MID($D$31,AK26,AL26-AK26)) -> 57 | AP27: =TRIM(MID($D$31,AL26,AM26-AL26)) -> 8-25 | AQ27: =TRIM(MID($D$31,AM26,AN26-AM26)) -> 32 | AS27: =TRIM(MID($D$31,AN26,AO26-AN26)) -> 18-23 | AT27: =TRIM(MID($D$31,AO26,AP26-AO26)) -> 78 | AU27: =TRIM(MID($D$31,AP26,AQ26-AP26)) -> 8 | AV27: =TRIM(MID($D$31,AQ26,AR26-AQ26)) -> 35 | AW27: =TRIM(MID($D$31,AR26,AS26-AR26)) -> 43 | AX27: =TRIM(MID($D$31,AS26,AT26-AS26)) -> 17 | AY27: =TRIM(MID($D$31,AT26,AU26-AT26)) -> 23 | AZ27: =TRIM(MID($D$31,AU26,AV26-AU26)) -> 9 | ... BD27: =TRIM(MID($D$31,AY26,AZ26-AY26)) -> 19
AH28: =FIND("-",AJ27) -> 4 | AJ28: =FIND("-",AJ27) -> 4 | AL28: =FIND("-",AP27) -> 3 | AN28: =FIND("-",AS27) -> 4
B29: Import LiveStats : | AJ29: =LEFT(AJ27,3) -> 24 | AK29: =RIGHT(AJ27,LEN(AJ27)-AH28) -> 53 | AM29: =LEFT(AM27,AJ28-1) -> 16 | AN29: =RIGHT(AM27,LEN(AM27)-AJ28) -> 28 | AO29: =RIGHT(AN27,LEN(AN27)-AL28) | AP29: =LEFT(AP27,AL28-1) -> 8 | AQ29: =RIGHT(AP27,LEN(AP27)-AL28) -> 25 | AS29: =LEFT(AS27,AN28-1) -> 18 | AT29: =RIGHT(AS27,LEN(AS27)-AN28) -> 23
B30: Adversaire | D30: 53 18-63 28 16-50 32 2-13 15 15-30 50 16 23 39 11 17 11 4 6 20 22 41 | I30: CBC | J30: 23 | K30: 18 | L30: 12 | M30: 21 | N30: 74 | AJ30: =CLEAN(AJ29) -> 24 | AK30: =CLEAN(AK29) -> 53 | AM30: =CLEAN(AM29) -> 16 | AN30: =CLEAN(AN29) -> 28 | AO30: =CLEAN(AO29) | AP30: =CLEAN(AP29) -> 8 | AQ30: =CLEAN(AQ29) -> 25 | AS30: =CLEAN(AS29) -> 18 | AT30: =CLEAN(AT29) -> 23 | AU30: =CLEAN(AU27) -> 8 | AV30: =CLEAN(AV27) -> 35 | AW30: =CLEAN(AW27) -> 43 | AX30: =CLEAN(AX27) -> 17 | AY30: =CLEAN(AY27) -> 23 | AZ30: =CLEAN(AZ27) -> 9 | BA30: =CLEAN(BA27) -> 6 | BB30: =CLEAN(BB27) -> 4 | ... BD30: =CLEAN(BD27) -> 19
B31: Nous | D31: 74 24-53 45 16-28 57 8-25 32 18-23 78 8 35 43 17 23 9 6 4 24 19 92 | I31: BCO | J31: 13 | K31: 8 | L31: 12 | M31: 20 | N31: 53 | AH31: Min | AI31: PTS | AJ31: TR | AK31: TT | AL31: TT% | AM31: 2Pr | AN31: 2PT | AO31: 2P% | AP31: 3PR | AQ31: 3PT | AR31: 3P% | AS31: LF | AT31: LF% | AU31: OU | AV31: DR | AW31: REB | AX31: POUR | AY31: BP | AZ31: INT | BA31: BS
AH32: =FIND(" ",$D$30) -> 3 | AI32: =FIND(" ",$D$30,AH32+1) -> 9 | AJ32: =FIND(" ",$D$30,AI32+1) -> 12 | AK32: =FIND(" ",$D$30,AJ32+1) -> 18 | AL32: =FIND(" ",$D$30,AK32+1) -> 21 | AM32: =FIND(" ",$D$30,AL32+1) -> 26 | AN32: =FIND(" ",$D$30,AM32+1) -> 29 | AO32: =FIND(" ",$D$30,AN32+1) -> 35 | AP32: =FIND(" ",$D$30,AO32+1) -> 38 | ... BB32: =FIND(" ",$D$30,BA32+1) -> #VALUE!
AH33: =TRIM(MID($D$30,1,AH32-1)) -> 53 | AJ33: =TRIM(MID($D$30,AH32,AI32-AH32)) -> 18-63 | AM33: =TRIM(MID($D$30,AJ32,AK32-AJ32)) -> 16-50 | AN33: =TRIM(MID($D$30,AK32,AL32-AK32)) -> 32 | AP33: =TRIM(MID($D$30,AL32,AM32-AL32)) -> 2-13 | AQ33: =TRIM(MID($D$30,AM32,AN32-AM32)) -> 15 | AS33: =TRIM(MID($D$30,AN32,AO32-AN32)) -> 15-30 | AT33: =TRIM(MID($D$30,AO32,AP32-AO32)) -> 50 | AU33: =TRIM(MID($D$30,AP32,AQ32-AP32)) -> 16 | AV33: =TRIM(MID($D$30,AQ32,AR32-AQ32)) -> 23 | AW33: =TRIM(MID($D$30,AR32,AS32-AR32)) -> 39 | AX33: =TRIM(MID($D$30,AS32,AT32-AS32)) -> 11 | AY33: =TRIM(MID($D$30,AT32,AU32-AT32)) -> 17 | AZ33: =TRIM(MID($D$30,AU32,AV32-AU32)) -> 11 | ... BD33: =TRIM(MID($D$30,AY32,AZ32-AY32)) -> 22
AH34: =FIND("-",AJ33) -> 4 | AJ34: =FIND("-",AJ33) -> 4 | AL34: =FIND("-",AP33) -> 3 | AN34: =FIND("-",AS33) -> 4
B35: Teams Stats | F35: Opp Stats | I35: Nous | J35: Adversaire | AJ35: =LEFT(AJ33,3) -> 18 | AK35: =RIGHT(AJ33,LEN(AJ33)-AH34) -> 63 | AM35: =LEFT(AM33,AJ34-1) -> 16 | AN35: =RIGHT(AM33,LEN(AM33)-AJ34) -> 50 | AP35: =LEFT(AP33,AL34-1) -> 2 | AQ35: =RIGHT(AP33,LEN(AP33)-AL34) -> 13 | AS35: =LEFT(AS33,AN34-1) -> 15 | AT35: =RIGHT(AS33,LEN(AS33)-AN34) -> 30
B36: Points après balles perdues:28 | F36: Points après balles perdues:21 | H36: Pts / TO | I36: =MID(B36,FIND(":",B36)+1,LEN(B36))*1 -> 28 | J36: =MID(F36,FIND(":",F36)+1,LEN(F36))*1 -> 21 | AJ36: =CLEAN(AJ35) -> 18 | AK36: =CLEAN(AK35) -> 63 | AM36: =CLEAN(AM35) -> 16 | AN36: =CLEAN(AN35) -> 50 | AP36: =CLEAN(AP35) -> 2 | AQ36: =CLEAN(AQ35) -> 13 | AS36: =CLEAN(AS35) -> 15 | AT36: =CLEAN(AT35) -> 30 | AU36: =CLEAN(AU33) -> 16 | AV36: =CLEAN(AV33) -> 23 | AW36: =CLEAN(AW33) -> 39 | AX36: =CLEAN(AX33) -> 11 | AY36: =CLEAN(AY33) -> 17 | AZ36: =CLEAN(AZ33) -> 11 | BA36: =CLEAN(BA33) -> 4 | BB36: =CLEAN(BB33) -> 6 | ... BD36: =CLEAN(BD33) -> 22
H37: Pts Int | I37: =MID(B38,FIND(":",B38)+1,LEN(B38))*1 -> 24 | J37: =MID(F38,FIND(":",F38)+1,LEN(F38))*1 -> 24
B38: Points intérieurs:24 | F38: Points intérieurs:24 | H38: Pts Reb | I38: =MID(B40,FIND(":",B40)+1,LEN(B40))*1 -> 9 | J38: =MID(F40,FIND(":",F40)+1,LEN(F40))*1 -> 8
H39: Pts CA | I39: =MID(B42,FIND(":",B42)+1,LEN(B42))*1 -> 15 | J39: =MID(F42,FIND(":",F42)+1,LEN(F42))*1 -> 14
B40: Points 2ème chance:9 | F40: Points 2ème chance:8 | H40: Bench Pts | I40: =MID(B44,FIND(":",B44)+1,LEN(B44))*1 -> 23 | J40: =MID(F44,FIND(":",F44)+1,LEN(F44))*1 -> 43
B42: Points en contre-attaque:15 | F42: Points en contre-attaque:14
B44: Points du Banc:23 | F44: Points du Banc:43
B46: Ecart maximum:2 | F46: Ecart maximum:34
B48: Série maximum:9 | F48: Série maximum:11

Sheet J3
D2: =Calendrier!E4 -> BLMA | G2: =Calendrier!C4 -> UFAB
E6: =D25 -> 70 | F6: Score | G6: =D26 -> 67
B7: =I25 -> 19 | C7: / | D7: =J25 -> 36 | E7: =K25 -> 52.777778 | F7: 2 Pts % | G7: =K26 -> 48.837209 | H7: =I26 -> 21 | I7: / | J7: =J26 -> 43
B8: =L25 -> 7 | C8: / | D8: =M25 -> 19 | E8: =N25 -> 36.842105 | F8: 3 Pts % | G8: =N26 -> 31.25 | H8: =L26 -> 5 | I8: / | J8: =M26 -> 16
B9: =F25 -> 26 | C9: / | D9: =G25 -> 55 | E9: =H25 -> 47.272727 | F9: eFG % | G9: =H26 -> 44.067797 | H9: =F26 -> 26 | I9: / | J9: =G26 -> 59
B10: =O25 -> 11 | C10: / | D10: =P25 -> 15 | E10: =Q25 -> 73.333333 | F10: LF % | G10: =Q26 -> 76.923077 | H10: =O26 -> 10 | I10: / | J10: =P26 -> 13
B11: =R25 -> 5 | C11: / | D11: =(G25+0.44*(P25-O25)-F25) -> 30.76 | E11: =IF(ISERROR(R25/D11)=TRUE,0,(R25/D11)*100) -> 16.254876 | F11: Reb OFF % | G11: =IF(ISERROR(R26/J11)=TRUE,0,(R26/J11)*100) -> 20.39627 | H11: =R26 -> 7 | I11: / | J11: =(G26+0.44*(P26-O26)-F26) -> 34.32
B12: =T25 -> 26 | C12: / | D12: =(G26+0.44*(P26-O26)-F26) -> 34.32 | E12: =IF(ISERROR(T25/D12)=TRUE,0,(T25/D12)*100) -> 75.757576 | F12: Reb DEF % | G12: =IF(ISERROR(T26/J12)=TRUE,0,(T26/J12)*100) -> 84.525358 | H12: =T26 -> 26 | I12: / | J12: =(G25+0.44*(P25-O25)-F25) -> 30.76
D13: =X25 -> 14 | E13: =IF(ISERROR(X25/E16)=TRUE,0,(X25/E16)*100) -> 19.830028 | F13: TO % | G13: =IF(ISERROR(X26/G16)=TRUE,0,(X26/G16)*100) -> 17.211704 | H13: =X26 -> 12
E14: =W25 -> 19 | F14: PD | G14: =W26 -> 17
E15: =100*(E14/(B7+B8)) -> 73.076923 | F15: Ast % | G15: =100*(G14/(H7+H8)) -> 65.384615
E16: =G25+(P25*0.44)+X25-R25 -> 70.6 | F16: Possessions | G16: =G26+(P26*0.44)+X26-R26 -> 69.72
E17: =IF(E6=0,0,E6/E16) -> 0.99150142 | F17: Pts / Poss | G17: =IF(G6=0,0,G6/G16) -> 0.9609868
E18: =100*(P25/G25) -> 27.272727 | F18: FT % | G18: =100*(P26/G26) -> 22.033898
E19: =Y25 -> 16 | F19: Evaluation | G19: =Y26 -> 16
E20: =100*(E6/E16) -> 99.150142 | F20: OFF Rate | G20: =100*(G6/G16) -> 96.09868
E21: =G20 -> 96.09868 | F21: DEF Rate | G21: =E20 -> 99.150142
AB22: Four Factors
B23: Match | AB23: Offensive
B24: Equipe | D24: Pts scorés | E24: Pts encaissés | F24: Tirs réussis | G24: Tirs tentés | H24: eFG % | I24: T2R | J24: T2T | K24: 2 PTS % | L24: T3R | M24: T3T | N24: 3 PTS % | O24: LFR | P24: LFT | Q24: LF % | R24: RO | S24: RO % | T24: RD | U24: RD % | V24: RTT | W24: PD | X24: BP | Y24: Eval | Z24: Poss | AA24: Rent | AB24: eFG% | AC24: TO% | AD24: ORB% | AE24: FT %
B25: Nous | D25: =I25*2+L25*3+O25 -> 70 | E25: =I26*2+L26*3+O26 -> 67 | F25: =I25+L25 -> 26 | G25: =J25+M25 -> 55 | H25: =IF(ISERROR(F25+0.5*L25/G25)=TRUE,0,(F25/G25)*100) -> 47.272727 | I25: =IF(ISERROR(AM30),0,VALUE(AM30)) -> 19 | J25: =IF(ISERROR(AN30),0,VALUE(AN30)) -> 36 | K25: =IF(ISERROR(I25/J25)=TRUE,0,(I25/J25)*100) -> 52.777778 | L25: =IF(ISERROR(AP30),0,VALUE(AP30)) -> 7 | M25: =IF(ISERROR(AQ30),0,VALUE(AQ30)) -> 19 | N25: =IF(ISERROR(L25/M25)=TRUE,0,(L25/M25)*100) -> 36.842105 | O25: =IF(ISERROR(AS30),0,VALUE(AS30)) -> 11 | P25: =IF(ISERROR(AT30),0,VALUE(AT30)) -> 15 | Q25: =IF(ISERROR(O25/P25)=TRUE,0,(O25/P25)*100) -> 73.333333 | R25: =IF(ISERROR(AU30),0,VALUE(AU30)) -> 5 | S25: =IF(ISERROR(R25/(G25+0.44*P25-F25))=TRUE,0,R25/(G25+0.44*P25-F25)*100) -> 14.044944 | T25: =IF(ISERROR(AV30),0,VALUE(AV30)) -> 26 | U25: =IF(ISERROR(T25/(G26+(0.44*P26)-F26))=TRUE,0,T25/(G26+(0.44*P26)-F26)*100) -> 67.14876 | V25: =R25+T25 -> 31 | W25: =IF(ISERROR(AX30),0,VALUE(AX30)) -> 19 | X25: =IF(ISERROR(AY30),0,VALUE(AY30)) -> 14 | Y25: =IF(ISERROR(BC30),0,VALUE(BC30)) -> 16 | Z25: =G25+(P25*0.44)+X25-R25 -> 70.6 | AA25: =IF(E6=0,0,E6/E16) -> 0.99150142 | AB25: =IF(ISERROR(F25+0.5*L25/G25)=TRUE,0,(F25/G25)*100) -> 47.272727 | AC25: =IF(ISERROR(X25/E16)=TRUE,0,X25/E16)*100 -> 19.830028 | AD25: =E11 -> 16.254876 | AE25: =O25/G25*100 -> 20 | AH25: Min | AI25: PTS | AJ25: TR | AK25: TT | AL25: TT% | AM25: 2Pr | AN25: 2PT | AO25: 2P% | AP25: 3PR | AQ25: 3PT | AR25: 3P% | AS25: LF | AT25: LF% | AU25: OU | AV25: DR | AW25: REB | AX25: POUR | AY25: BP | AZ25: INT | BA25: BS
B26: Adversaire | D26: =I26*2+L26*3+O26 -> 67 | E26: =I25*2+L25*3+O25 -> 70 | F26: =I26+L26 -> 26 | G26: =J26+M26 -> 59 | H26: =IF(ISERROR(F26+0.5*L26/G26)=TRUE,0,(F26/G26)*100) -> 44.067797 | I26: =IF(ISERROR(AM36),0,VALUE(AM36)) -> 21 | J26: =IF(ISERROR(AN36),0,VALUE(AN36)) -> 43 | K26: =IF(ISERROR(I26/J26)=TRUE,0,(I26/J26)*100) -> 48.837209 | L26: =IF(ISERROR(AP36),0,VALUE(AP36)) -> 5 | M26: =IF(ISERROR(AQ36),0,VALUE(AQ36)) -> 16 | N26: =IF(ISERROR(L26/M26)=TRUE,0,(L26/M26)*100) -> 31.25 | O26: =IF(ISERROR(AS36),0,VALUE(AS36)) -> 10 | P26: =IF(ISERROR(AT36),0,VALUE(AT36)) -> 13 | Q26: =IF(ISERROR(O26/P26)=TRUE,0,(O26/P26)*100) -> 76.923077 | R26: =IF(ISERROR(AU36),0,VALUE(AU36)) -> 7 | S26: =IF(ISERROR(R26/(G26+0.44*P26-F26))=TRUE,0,R26/(G26+0.44*P26-F26)*100) -> 18.078512 | T26: =IF(ISERROR(AV36),0,VALUE(AV36)) -> 26 | U26: =IF(ISERROR(T26/(G25+(0.44*P25)-F25))=TRUE,0,T26/(G25+(0.44*P25)-F25)*100) -> 73.033708 | V26: =R26+T26 -> 33 | W26: =IF(ISERROR(AX36),0,VALUE(AX36)) -> 17 | X26: =IF(ISERROR(AY36),0,VALUE(AY36)) -> 12 | Y26: =IF(ISERROR(BC36),0,VALUE(BC36)) -> 16 | Z26: =G26+(P26*0.44)+X26-R26 -> 69.72 | AA26: =IF(G6=0,0,G6/G16) -> 0.9609868 | AB26: =IF(ISERROR(F26+0.5*L26/G26)=TRUE,0,(F26/G26)*100) -> 44.067797 | AC26: =IF(ISERROR(X26/G16)=TRUE,0,X26/G16)*100 -> 17.211704 | AD26: =G11 -> 20.39627 | AE26: =O26/G26*100 -> 16.949153 | AH26: =FIND(" ",$D$31) -> 3 | AI26: =FIND(" ",$D$31,AH26+1) -> 9 | AJ26: =FIND(" ",$D$31,AI26+1) -> 12 | AK26: =FIND(" ",$D$31,AJ26+1) -> 18 | AL26: =FIND(" ",$D$31,AK26+1) -> 21 | AM26: =FIND(" ",$D$31,AL26+1) -> 26 | AN26: =FIND(" ",$D$31,AM26+1) -> 29 | AO26: =FIND(" ",$D$31,AN26+1) -> 35 | AP26: =FIND(" ",$D$31,AO26+1) -> 38 | ... BB26: =FIND(" ",$D$31,BA26+1) -> #VALUE!
AH27: =TRIM(MID($D$31,1,AH26-1)) -> 70 | AJ27: =TRIM(MID($D$31,AH26,AI26-AH26)) -> 26-55 | AM27: =TRIM(MID($D$31,AJ26,AK26-AJ26)) -> 19-36 | AN27: =TRIM(MID($D$31,AK26,AL26-AK26)) -> 52 | AP27: =TRIM(MID($D$31,AL26,AM26-AL26)) -> 7-19 | AQ27: =TRIM(MID($D$31,AM26,AN26-AM26)) -> 36 | AS27: =TRIM(MID($D$31,AN26,AO26-AN26)) -> 11-15 | AT27: =TRIM(MID($D$31,AO26,AP26-AO26)) -> 73 | AU27: =TRIM(MID($D$31,AP26,AQ26-AP26)) -> 5 | AV27: =TRIM(MID($D$31,AQ26,AR26-AQ26)) -> 26 | AW27: =TRIM(MID($D$31,AR26,AS26-AR26)) -> 31 | AX27: =TRIM(MID($D$31,AS26,AT26-AS26)) -> 19 | AY27: =TRIM(MID($D$31,AT26,AU26-AT26)) -> 14 | AZ27: =TRIM(MID($D$31,AU26,AV26-AU26)) -> 7 | ... BD27: =TRIM(MID($D$31,AY26,AZ26-AY26)) -> 16
AH28: =FIND("-",AJ27) -> 4 | AJ28: =FIND("-",AJ27) -> 4 | AL28: =FIND("-",AP27) -> 3 | AN28: =FIND("-",AS27) -> 4
B29: Import LiveStats : | AJ29: =LEFT(AJ27,3) -> 26 | AK29: =RIGHT(AJ27,LEN(AJ27)-AH28) -> 55 | AM29: =LEFT(AM27,AJ28-1) -> 19 | AN29: =RIGHT(AM27,LEN(AM27)-AJ28) -> 36 | AO29: =RIGHT(AN27,LEN(AN27)-AL28) | AP29: =LEFT(AP27,AL28-1) -> 7 | AQ29: =RIGHT(AP27,LEN(AP27)-AL28) -> 19 | AS29: =LEFT(AS27,AN28-1) -> 11 | AT29: =RIGHT(AS27,LEN(AS27)-AN28) -> 15
B30: Adversaire | D30: 67 26-59 44 21-43 48 5-16 31 10-13 76 7 26 33 17 12 7 0 5 16 16 76 | I30: MPB | J30: 20 | K30: 15 | L30: 17 | M30: 18 | N30: 70 | AJ30: =CLEAN(AJ29) -> 26 | AK30: =CLEAN(AK29) -> 55 | AM30: =CLEAN(AM29) -> 19 | AN30: =CLEAN(AN29) -> 36 | AO30: =CLEAN(AO29) | AP30: =CLEAN(AP29) -> 7 | AQ30: =CLEAN(AQ29) -> 19 | AS30: =CLEAN(AS29) -> 11 | AT30: =CLEAN(AT29) -> 15 | AU30: =CLEAN(AU27) -> 5 | AV30: =CLEAN(AV27) -> 26 | AW30: =CLEAN(AW27) -> 31 | AX30: =CLEAN(AX27) -> 19 | AY30: =CLEAN(AY27) -> 14 | AZ30: =CLEAN(AZ27) -> 7 | BA30: =CLEAN(BA27) -> 5 | BB30: =CLEAN(BB27) -> 0 | ... BD30: =CLEAN(BD27) -> 16
B31: Nous | D31: 70 26-55 47 19-36 52 7-19 36 11-15 73 5 26 31 19 14 7 5 0 16 16 85 | I31: BCO | J31: 19 | K31: 15 | L31: 21 | M31: 12 | N31: 67 | AH31: Min | AI31: PTS | AJ31: TR | AK31: TT | AL31: TT% | AM31: 2Pr | AN31: 2PT | AO31: 2P% | AP31: 3PR | AQ31: 3PT | AR31: 3P% | AS31: LF | AT31: LF% | AU31: OU | AV31: DR | AW31: REB | AX31: POUR | AY31: BP | AZ31: INT | BA31: BS
AH32: =FIND(" ",$D$30) -> 3 | AI32: =FIND(" ",$D$30,AH32+1) -> 9 | AJ32: =FIND(" ",$D$30,AI32+1) -> 12 | AK32: =FIND(" ",$D$30,AJ32+1) -> 18 | AL32: =FIND(" ",$D$30,AK32+1) -> 21 | AM32: =FIND(" ",$D$30,AL32+1) -> 26 | AN32: =FIND(" ",$D$30,AM32+1) -> 29 | AO32: =FIND(" ",$D$30,AN32+1) -> 35 | AP32: =FIND(" ",$D$30,AO32+1) -> 38 | ... BB32: =FIND(" ",$D$30,BA32+1) -> #VALUE!
AH33: =TRIM(MID($D$30,1,AH32-1)) -> 67 | AJ33: =TRIM(MID($D$30,AH32,AI32-AH32)) -> 26-59 | AM33: =TRIM(MID($D$30,AJ32,AK32-AJ32)) -> 21-43 | AN33: =TRIM(MID($D$30,AK32,AL32-AK32)) -> 48 | AP33: =TRIM(MID($D$30,AL32,AM32-AL32)) -> 5-16 | AQ33: =TRIM(MID($D$30,AM32,AN32-AM32)) -> 31 | AS33: =TRIM(MID($D$30,AN32,AO32-AN32)) -> 10-13 | AT33: =TRIM(MID($D$30,AO32,AP32-AO32)) -> 76 | AU33: =TRIM(MID($D$30,AP32,AQ32-AP32)) -> 7 | AV33: =TRIM(MID($D$30,AQ32,AR32-AQ32)) -> 26 | AW33: =TRIM(MID($D$30,AR32,AS32-AR32)) -> 33 | AX33: =TRIM(MID($D$30,AS32,AT32-AS32)) -> 17 | AY33: =TRIM(MID($D$30,AT32,AU32-AT32)) -> 12 | AZ33: =TRIM(MID($D$30,AU32,AV32-AU32)) -> 7 | ... BD33: =TRIM(MID($D$30,AY32,AZ32-AY32)) -> 16
AH34: =FIND("-",AJ33) -> 4 | AJ34: =FIND("-",AJ33) -> 4 | AL34: =FIND("-",AP33) -> 3 | AN34: =FIND("-",AS33) -> 4
B35: Teams Stats | F35: Opp Stats | I35: Nous | J35: Adversaire | AJ35: =LEFT(AJ33,3) -> 26 | AK35: =RIGHT(AJ33,LEN(AJ33)-AH34) -> 59 | AM35: =LEFT(AM33,AJ34-1) -> 21 | AN35: =RIGHT(AM33,LEN(AM33)-AJ34) -> 43 | AP35: =LEFT(AP33,AL34-1) -> 5 | AQ35: =RIGHT(AP33,LEN(AP33)-AL34) -> 16 | AS35: =LEFT(AS33,AN34-1) -> 10 | AT35: =RIGHT(AS33,LEN(AS33)-AN34) -> 13
B36: Points après balles perdues:15 | F36: Points après balles perdues:9 | H36: Pts / TO | I36: =MID(B36,FIND(":",B36)+1,LEN(B36))*1 -> 15 | J36: =MID(F36,FIND(":",F36)+1,LEN(F36))*1 -> 9 | AJ36: =CLEAN(AJ35) -> 26 | AK36: =CLEAN(AK35) -> 59 | AM36: =CLEAN(AM35) -> 21 | AN36: =CLEAN(AN35) -> 43 | AP36: =CLEAN(AP35) -> 5 | AQ36: =CLEAN(AQ35) -> 16 | AS36: =CLEAN(AS35) -> 10 | AT36: =CLEAN(AT35) -> 13 | AU36: =CLEAN(AU33) -> 7 | AV36: =CLEAN(AV33) -> 26 | AW36: =CLEAN(AW33) -> 33 | AX36: =CLEAN(AX33) -> 17 | AY36: =CLEAN(AY33) -> 12 | AZ36: =CLEAN(AZ33) -> 7 | BA36: =CLEAN(BA33) -> 0 | BB36: =CLEAN(BB33) -> 5 | ... BD36: =CLEAN(BD33) -> 16
H37: Pts Int | I37: =MID(B38,FIND(":",B38)+1,LEN(B38))*1 -> 32 | J37: =MID(F38,FIND(":",F38)+1,LEN(F38))*1 -> 32
B38: Points intérieurs:32 | F38: Points intérieurs:32 | H38: Pts Reb | I38: =MID(B40,FIND(":",B40)+1,LEN(B40))*1 -> 8 | J38: =MID(F40,FIND(":",F40)+1,LEN(F40))*1 -> 9
H39: Pts CA | I39: =MID(B42,FIND(":",B42)+1,LEN(B42))*1 -> 7 | J39: =MID(F42,FIND(":",F42)+1,LEN(F42))*1 -> 9
B40: Points 2ème chance:8 | F40: Points 2ème chance:9 | H40: Bench Pts | I40: =MID(B44,FIND(":",B44)+1,LEN(B44))*1 -> 4 | J40: =MID(F44,FIND(":",F44)+1,LEN(F44))*1 -> 18
B42: Points en contre-attaque:7 | F42: Points en contre-attaque:9
B44: Points du Banc:4 | F44: Points du Banc:18
B46: Ecart maximum:8 | F46: Ecart maximum:6
B48: Série maximum:7 | F48: Série maximum:8

Sheet J4
D2: LyonSO | G2: Mulhouse
E6: =D25 -> 73 | F6: Score | G6: =D26 -> 71
B7: =I25 -> 19 | C7: / | D7: =J25 -> 35 | E7: =K25 -> 54.285714 | F7: 2 Pts % | G7: =K26 -> 59.459459 | H7: =I26 -> 22 | I7: / | J7: =J26 -> 37
B8: =L25 -> 6 | C8: / | D8: =M25 -> 22 | E8: =N25 -> 27.272727 | F8: 3 Pts % | G8: =N26 -> 23.809524 | H8: =L26 -> 5 | I8: / | J8: =M26 -> 21
B9: =F25 -> 25 | C9: / | D9: =G25 -> 57 | E9: =H25 -> 43.859649 | F9: eFG % | G9: =H26 -> 46.551724 | H9: =F26 -> 27 | I9: / | J9: =G26 -> 58
B10: =O25 -> 17 | C10: / | D10: =P25 -> 26 | E10: =Q25 -> 65.384615 | F10: LF % | G10: =Q26 -> 60 | H10: =O26 -> 12 | I10: / | J10: =P26 -> 20
B11: =R25 -> 15 | C11: / | D11: =(G25+0.44*(P25-O25)-F25) -> 35.96 | E11: =IF(ISERROR(R25/D11)=TRUE,0,(R25/D11)*100) -> 41.713014 | F11: Reb OFF % | G11: =IF(ISERROR(R26/J11)=TRUE,0,(R26/J11)*100) -> 23.174971 | H11: =R26 -> 8 | I11: / | J11: =(G26+0.44*(P26-O26)-F26) -> 34.52
B12: =T25 -> 28 | C12: / | D12: =(G26+0.44*(P26-O26)-F26) -> 34.52 | E12: =IF(ISERROR(T25/D12)=TRUE,0,(T25/D12)*100) -> 81.112399 | F12: Reb DEF % | G12: =IF(ISERROR(T26/J12)=TRUE,0,(T26/J12)*100) -> 55.617353 | H12: =T26 -> 20 | I12: / | J12: =(G25+0.44*(P25-O25)-F25) -> 35.96
D13: =X25 -> 17 | E13: =IF(ISERROR(X25/E16)=TRUE,0,(X25/E16)*100) -> 24.134015 | F13: TO % | G13: =IF(ISERROR(X26/G16)=TRUE,0,(X26/G16)*100) -> 16.949153 | H13: =X26 -> 12
E14: =W25 -> 12 | F14: PD | G14: =W26 -> 18
E15: =100*(E14/(B7+B8)) -> 48 | F15: Ast % | G15: =100*(G14/(H7+H8)) -> 66.666667
E16: =G25+(P25*0.44)+X25-R25 -> 70.44 | F16: Possessions | G16: =G26+(P26*0.44)+X26-R26 -> 70.8
E17: =IF(E6=0,0,E6/E16) -> 1.036343 | F17: Pts / Poss | G17: =IF(G6=0,0,G6/G16) -> 1.0028249
E18: =100*(P25/G25) -> 45.614035 | F18: FT % | G18: =100*(P26/G26) -> 34.482759
E19: =Y25 -> 21 | F19: Evaluation | G19: =Y26 -> 24
E20: =100*(E6/E16) -> 103.6343 | F20: OFF Rate | G20: =100*(G6/G16) -> 100.28249
E21: =G20 -> 100.28249 | F21: DEF Rate | G21: =E20 -> 103.6343
AB22: Four Factors
B23: Match | AB23: Offensive
B24: Equipe | D24: Pts scorés | E24: Pts encaissés | F24: Tirs réussis | G24: Tirs tentés | H24: eFG % | I24: T2R | J24: T2T | K24: 2 PTS % | L24: T3R | M24: T3T | N24: 3 PTS % | O24: LFR | P24: LFT | Q24: LF % | R24: RO | S24: RO % | T24: RD | U24: RD % | V24: RTT | W24: PD | X24: BP | Y24: Eval | Z24: Poss | AA24: Rent | AB24: eFG% | AC24: TO% | AD24: ORB% | AE24: FT %
B25: Autre | D25: =I25*2+L25*3+O25 -> 73 | E25: =I26*2+L26*3+O26 -> 71 | F25: =I25+L25 -> 25 | G25: =J25+M25 -> 57 | H25: =IF(ISERROR(F25+0.5*L25/G25)=TRUE,0,(F25/G25)*100) -> 43.859649 | I25: =IF(ISERROR(AM30),0,VALUE(AM30)) -> 19 | J25: =IF(ISERROR(AN30),0,VALUE(AN30)) -> 35 | K25: =IF(ISERROR(I25/J25)=TRUE,0,(I25/J25)*100) -> 54.285714 | L25: =IF(ISERROR(AP30),0,VALUE(AP30)) -> 6 | M25: =IF(ISERROR(AQ30),0,VALUE(AQ30)) -> 22 | N25: =IF(ISERROR(L25/M25)=TRUE,0,(L25/M25)*100) -> 27.272727 | O25: =IF(ISERROR(AS30),0,VALUE(AS30)) -> 17 | P25: =IF(ISERROR(AT30),0,VALUE(AT30)) -> 26 | Q25: =IF(ISERROR(O25/P25)=TRUE,0,(O25/P25)*100) -> 65.384615 | R25: =IF(ISERROR(AU30),0,VALUE(AU30)) -> 15 | S25: =IF(ISERROR(R25/(G25+0.44*P25-F25))=TRUE,0,R25/(G25+0.44*P25-F25)*100) -> 34.530387 | T25: =IF(ISERROR(AV30),0,VALUE(AV30)) -> 28 | U25: =IF(ISERROR(T25/(G26+(0.44*P26)-F26))=TRUE,0,T25/(G26+(0.44*P26)-F26)*100) -> 70.351759 | V25: =R25+T25 -> 43 | W25: =IF(ISERROR(AX30),0,VALUE(AX30)) -> 12 | X25: =IF(ISERROR(AY30),0,VALUE(AY30)) -> 17 | Y25: =IF(ISERROR(BC30),0,VALUE(BC30)) -> 21 | Z25: =G25+(P25*0.44)+X25-R25 -> 70.44 | AA25: =IF(E6=0,0,E6/E16) -> 1.036343 | AB25: =IF(ISERROR(F25+0.5*L25/G25)=TRUE,0,(F25/G25)*100) -> 43.859649 | AC25: =IF(ISERROR(X25/E16)=TRUE,0,X25/E16)*100 -> 24.134015 | AD25: =E11 -> 41.713014 | AE25: =O25/G25*100 -> 29.824561 | AH25: Min | AI25: PTS | AJ25: TR | AK25: TT | AL25: TT% | AM25: 2Pr | AN25: 2PT | AO25: 2P% | AP25: 3PR | AQ25: 3PT | AR25: 3P% | AS25: LF | AT25: LF% | AU25: OU | AV25: DR | AW25: REB | AX25: POUR | AY25: BP | AZ25: INT | BA25: BS
B26: Adversaire | D26: =I26*2+L26*3+O26 -> 71 | E26: =I25*2+L25*3+O25 -> 73 | F26: =I26+L26 -> 27 | G26: =J26+M26 -> 58 | H26: =IF(ISERROR(F26+0.5*L26/G26)=TRUE,0,(F26/G26)*100) -> 46.551724 | I26: =IF(ISERROR(AM36),0,VALUE(AM36)) -> 22 | J26: =IF(ISERROR(AN36),0,VALUE(AN36)) -> 37 | K26: =IF(ISERROR(I26/J26)=TRUE,0,(I26/J26)*100) -> 59.459459 | L26: =IF(ISERROR(AP36),0,VALUE(AP36)) -> 5 | M26: =IF(ISERROR(AQ36),0,VALUE(AQ36)) -> 21 | N26: =IF(ISERROR(L26/M26)=TRUE,0,(L26/M26)*100) -> 23.809524 | O26: =IF(ISERROR(AS36),0,VALUE(AS36)) -> 12 | P26: =IF(ISERROR(AT36),0,VALUE(AT36)) -> 20 | Q26: =IF(ISERROR(O26/P26)=TRUE,0,(O26/P26)*100) -> 60 | R26: =IF(ISERROR(AU36),0,VALUE(AU36)) -> 8 | S26: =IF(ISERROR(R26/(G26+0.44*P26-F26))=TRUE,0,R26/(G26+0.44*P26-F26)*100) -> 20.100503 | T26: =IF(ISERROR(AV36),0,VALUE(AV36)) -> 20 | U26: =IF(ISERROR(T26/(G25+(0.44*P25)-F25))=TRUE,0,T26/(G25+(0.44*P25)-F25)*100) -> 46.040516 | V26: =R26+T26 -> 28 | W26: =IF(ISERROR(AX36),0,VALUE(AX36)) -> 18 | X26: =IF(ISERROR(AY36),0,VALUE(AY36)) -> 12 | Y26: =IF(ISERROR(BC36),0,VALUE(BC36)) -> 24 | Z26: =G26+(P26*0.44)+X26-R26 -> 70.8 | AA26: =IF(G6=0,0,G6/G16) -> 1.0028249 | AB26: =IF(ISERROR(F26+0.5*L26/G26)=TRUE,0,(F26/G26)*100) -> 46.551724 | AC26: =IF(ISERROR(X26/G16)=TRUE,0,X26/G16)*100 -> 16.949153 | AD26: =G11 -> 23.174971 | AE26: =O26/G26*100 -> 20.689655 | AH26: =FIND(" ",$D$31) -> 3 | AI26: =FIND(" ",$D$31,AH26+1) -> 9 | AJ26: =FIND(" ",$D$31,AI26+1) -> 12 | AK26: =FIND(" ",$D$31,AJ26+1) -> 18 | AL26: =FIND(" ",$D$31,AK26+1) -> 21 | AM26: =FIND(" ",$D$31,AL26+1) -> 26 | AN26: =FIND(" ",$D$31,AM26+1) -> 29 | AO26: =FIND(" ",$D$31,AN26+1) -> 35 | AP26: =FIND(" ",$D$31,AO26+1) -> 38 | ... BB26: =FIND(" ",$D$31,BA26+1) -> #VALUE!
AH27: =TRIM(MID($D$31,1,AH26-1)) -> 73 | AJ27: =TRIM(MID($D$31,AH26,AI26-AH26)) -> 25-57 | AM27: =TRIM(MID($D$31,AJ26,AK26-AJ26)) -> 19-35 | AN27: =TRIM(MID($D$31,AK26,AL26-AK26)) -> 54 | AP27: =TRIM(MID($D$31,AL26,AM26-AL26)) -> 6-22 | AQ27: =TRIM(MID($D$31,AM26,AN26-AM26)) -> 27 | AS27: =TRIM(MID($D$31,AN26,AO26-AN26)) -> 17-26 | AT27: =TRIM(MID($D$31,AO26,AP26-AO26)) -> 65 | AU27: =TRIM(MID($D$31,AP26,AQ26-AP26)) -> 15 | AV27: =TRIM(MID($D$31,AQ26,AR26-AQ26)) -> 28 | AW27: =TRIM(MID($D$31,AR26,AS26-AR26)) -> 43 | AX27: =TRIM(MID($D$31,AS26,AT26-AS26)) -> 12 | AY27: =TRIM(MID($D$31,AT26,AU26-AT26)) -> 17 | AZ27: =TRIM(MID($D$31,AU26,AV26-AU26)) -> 6 | ... BD27: =TRIM(MID($D$31,AY26,AZ26-AY26)) -> 24
AH28: =FIND("-",AJ27) -> 4 | AJ28: =FIND("-",AJ27) -> 4 | AL28: =FIND("-",AP27) -> 3 | AN28: =FIND("-",AS27) -> 4
B29: Import LiveStats : | AJ29: =LEFT(AJ27,3) -> 25 | AK29: =RIGHT(AJ27,LEN(AJ27)-AH28) -> 57 | AM29: =LEFT(AM27,AJ28-1) -> 19 | AN29: =RIGHT(AM27,LEN(AM27)-AJ28) -> 35 | AO29: =RIGHT(AN27,LEN(AN27)-AL28) | AP29: =LEFT(AP27,AL28-1) -> 6 | AQ29: =RIGHT(AP27,LEN(AP27)-AL28) -> 22 | AS29: =LEFT(AS27,AN28-1) -> 17 | AT29: =RIGHT(AS27,LEN(AS27)-AN28) -> 26
B30: Adversaire | D30: 71 27-58 46 22-37 59 5-21 23 12-20 60 8 20 28 18 12 7 6 0 24 21 79 | I30: SOM | J30: 22 | K30: 14 | L30: 18 | M30: 19 | N30: 73 | AJ30: =CLEAN(AJ29) -> 25 | AK30: =CLEAN(AK29) -> 57 | AM30: =CLEAN(AM29) -> 19 | AN30: =CLEAN(AN29) -> 35 | AO30: =CLEAN(AO29) | AP30: =CLEAN(AP29) -> 6 | AQ30: =CLEAN(AQ29) -> 22 | AS30: =CLEAN(AS29) -> 17 | AT30: =CLEAN(AT29) -> 26 | AU30: =CLEAN(AU27) -> 15 | AV30: =CLEAN(AV27) -> 28 | AW30: =CLEAN(AW27) -> 43 | AX30: =CLEAN(AX27) -> 12 | AY30: =CLEAN(AY27) -> 17 | AZ30: =CLEAN(AZ27) -> 6 | BA30: =CLEAN(BA27) -> 0 | BB30: =CLEAN(BB27) -> 6 | ... BD30: =CLEAN(BD27) -> 24
B31: Autre | D31: 73 25-57 43 19-35 54 6-22 27 17-26 65 15 28 43 12 17 6 0 6 21 24 | I31: BCO | J31: 19 | K31: 11 | L31: 17 | M31: 24 | N31: 71 | AH31: Min | AI31: PTS | AJ31: TR | AK31: TT | AL31: TT% | AM31: 2Pr | AN31: 2PT | AO31: 2P% | AP31: 3PR | AQ31: 3PT | AR31: 3P% | AS31: LF | AT31: LF% | AU31: OU | AV31: DR | AW31: REB | AX31: POUR | AY31: BP | AZ31: INT | BA31: BS
AH32: =FIND(" ",$D$30) -> 3 | AI32: =FIND(" ",$D$30,AH32+1) -> 9 | AJ32: =FIND(" ",$D$30,AI32+1) -> 12 | AK32: =FIND(" ",$D$30,AJ32+1) -> 18 | AL32: =FIND(" ",$D$30,AK32+1) -> 21 | AM32: =FIND(" ",$D$30,AL32+1) -> 26 | AN32: =FIND(" ",$D$30,AM32+1) -> 29 | AO32: =FIND(" ",$D$30,AN32+1) -> 35 | AP32: =FIND(" ",$D$30,AO32+1) -> 38 | ... BB32: =FIND(" ",$D$30,BA32+1) -> #VALUE!
AH33: =TRIM(MID($D$30,1,AH32-1)) -> 71 | AJ33: =TRIM(MID($D$30,AH32,AI32-AH32)) -> 27-58 | AM33: =TRIM(MID($D$30,AJ32,AK32-AJ32)) -> 22-37 | AN33: =TRIM(MID($D$30,AK32,AL32-AK32)) -> 59 | AP33: =TRIM(MID($D$30,AL32,AM32-AL32)) -> 5-21 | AQ33: =TRIM(MID($D$30,AM32,AN32-AM32)) -> 23 | AS33: =TRIM(MID($D$30,AN32,AO32-AN32)) -> 12-20 | AT33: =TRIM(MID($D$30,AO32,AP32-AO32)) -> 60 | AU33: =TRIM(MID($D$30,AP32,AQ32-AP32)) -> 8 | AV33: =TRIM(MID($D$30,AQ32,AR32-AQ32)) -> 20 | AW33: =TRIM(MID($D$30,AR32,AS32-AR32)) -> 28 | AX33: =TRIM(MID($D$30,AS32,AT32-AS32)) -> 18 | AY33: =TRIM(MID($D$30,AT32,AU32-AT32)) -> 12 | AZ33: =TRIM(MID($D$30,AU32,AV32-AU32)) -> 7 | ... BD33: =TRIM(MID($D$30,AY32,AZ32-AY32)) -> 21
AH34: =FIND("-",AJ33) -> 4 | AJ34: =FIND("-",AJ33) -> 4 | AL34: =FIND("-",AP33) -> 3 | AN34: =FIND("-",AS33) -> 4
B35: Adversaires stats | F35: Autres Stats | I35: Nous | J35: Adversaire | AJ35: =LEFT(AJ33,3) -> 27 | AK35: =RIGHT(AJ33,LEN(AJ33)-AH34) -> 58 | AM35: =LEFT(AM33,AJ34-1) -> 22 | AN35: =RIGHT(AM33,LEN(AM33)-AJ34) -> 37 | AP35: =LEFT(AP33,AL34-1) -> 5 | AQ35: =RIGHT(AP33,LEN(AP33)-AL34) -> 21 | AS35: =LEFT(AS33,AN34-1) -> 12 | AT35: =RIGHT(AS33,LEN(AS33)-AN34) -> 20
B36: Points après balles perdues:19 | F36: Points après balles perdues:11 | H36: Pts / TO | I36: =MID(B36,FIND(":",B36)+1,LEN(B36))*1 -> 19 | J36: =MID(F36,FIND(":",F36)+1,LEN(F36))*1 -> 11 | AJ36: =CLEAN(AJ35) -> 27 | AK36: =CLEAN(AK35) -> 58 | AM36: =CLEAN(AM35) -> 22 | AN36: =CLEAN(AN35) -> 37 | AP36: =CLEAN(AP35) -> 5 | AQ36: =CLEAN(AQ35) -> 21 | AS36: =CLEAN(AS35) -> 12 | AT36: =CLEAN(AT35) -> 20 | AU36: =CLEAN(AU33) -> 8 | AV36: =CLEAN(AV33) -> 20 | AW36: =CLEAN(AW33) -> 28 | AX36: =CLEAN(AX33) -> 18 | AY36: =CLEAN(AY33) -> 12 | AZ36: =CLEAN(AZ33) -> 7 | BA36: =CLEAN(BA33) -> 6 | BB36: =CLEAN(BB33) -> 0 | ... BD36: =CLEAN(BD33) -> 21
H37: Pts Int | I37: =MID(B38,FIND(":",B38)+1,LEN(B38))*1 -> 34 | J37: =MID(F38,FIND(":",F38)+1,LEN(F38))*1 -> 32
B38: Points intérieurs:34 | F38: Points intérieurs:32 | H38: Pts Reb | I38: =MID(B40,FIND(":",B40)+1,LEN(B40))*1 -> 7 | J38: =MID(F40,FIND(":",F40)+1,LEN(F40))*1 -> 18
H39: Pts CA | I39: =MID(B42,FIND(":",B42)+1,LEN(B42))*1 -> 11 | J39: =MID(F42,FIND(":",F42)+1,LEN(F42))*1 -> 8
B40: Points 2ème chance:7 | F40: Points 2ème chance:18 | H40: Bench Pts | I40: =MID(B44,FIND(":",B44)+1,LEN(B44))*1 -> 12 | J40: =MID(F44,FIND(":",F44)+1,LEN(F44))*1 -> 6
B42: Points en contre-attaque:11 | F42: Points en contre-attaque:8
B44: Points du Banc:12 | F44: Points du Banc:6
B46: Ecart maximum: | F46: Ecart maximum:12
B48: Série maximum:9 | F48: Série maximum:9
