Workbook
Name AnnéeCalendrier: Janvier!$AK$5
Name AnnéeCalendrier: Janvier!$AK$5
Name AnnéeCalendrier: Janvier!$AK$5
Name AnnéeCalendrier: Février!$AK$5
Name AnnéeCalendrier: Janvier!$AK$5
Name AnnéeCalendrier: Janvier!$AK$5
Name AnnéeCalendrier: Janvier!$AK$5
Name AnnéeCalendrier: Janvier!$AK$5
Name AnnéeCalendrier: Janvier!$AK$5
Name AnnéeCalendrier: Janvier!$AK$5
Name AnnéeCalendrier: Janvier!$AK$5
Name AnnéeCalendrier: Janvier!$AK$5
Name AnnéeCalendrier01: Janvier!$AK$5
Name CléAbsenceJustifiée: Janvier!$Z$3
Name CléCompteEpargneTemps: Janvier!$AD$3
Name CléCongé: Janvier!$C$3
Name CléCongé: Janvier!$C$3
Name CléCongé: Janvier!$C$3
Name CléCongé: Janvier!$C$3
Name CléCongé: Janvier!$C$3
Name CléCongé: Janvier!$C$3
Name CléCongé: Janvier!$C$3
Name CléCongé: Janvier!$C$3
Name CléCongé: Janvier!$C$3
Name CléCongé: Janvier!$C$3
Name CléCongé: Janvier!$C$3
Name CléCongé: Janvier!$C$3
Name CléCongéMalade: Janvier!$S$3
Name CléCongéSpécial: Janvier!$C$2
Name CléDemiCompteEpargneTemps: Janvier!$AD$2
Name CléDemiEnfantMalade: Janvier!$V$2
Name CléDemiRécupération: Janvier!$I$2
Name CléDemiRtt: Janvier!$F$2
Name CléEnfantMalade: Janvier!$V$3
Name CléFormation: Janvier!$M$3
Name CléMaladie: Janvier!#REF!
Name CléMaladie: Janvier!#REF!
Name CléMaladie: Janvier!#REF!
Name CléMaladie: Janvier!#REF!
Name CléMaladie: Janvier!#REF!
Name CléMaladie: Janvier!#REF!
Name CléMaladie: Janvier!#REF!
Name CléMaladie: Janvier!#REF!
Name CléMaladie: Janvier!#REF!
Name CléMaladie: Janvier!#REF!
Name CléMaladie: Janvier!#REF!
Name CléMaladie: Janvier!$S$3
Name CléNonTravaillé: Janvier!$Z$2
Name CléPrésenceExceptionnelle: Janvier!$P$2
Name CléRécupération: Janvier!$I$3
Name CléRTT: Janvier!$F$3
Name CléTélétravail: Janvier!$P$3
Name Enfant_malade: Juin!$AF$3
Name Entrez_l’année: Janvier!$AK$5
Name ÉtiquetteCléAbsenceJustifiée: Janvier!$AA$3
Name ÉtiquetteCléCongé: Janvier!$D$3
Name EtiquetteCléCongéMaladie: Janvier!$T$3
Name ÉtiquetteCléCongéSpécial: Janvier!$D$2
Name EtiquetteCléDemiCompteEpargneTemps: Janvier!$AE$2
Name ÉtiquetteCléDemiEnfantMalade: Janvier!$W$2

Sheet Janvier
B1: Calendrier des absences des employés
C2: CS | D2: Congé spéc. | F2: DRTT | G2: Demi RTT | I2: DREC | J2: Demi récup | P2: PE | Q2: Présence exceptionnelle | V2: DEM | W2: Demi journée EM | Z2: NT | AA2: Non travaillé | AD2: DCET | AE2: Demi épargne temps
B3: Clé de motif d’absence | C3: C | D3: Congé | F3: RTT | G3: RTT | I3: Rec | J3: Récupération | M3: F | N3: Formation | P3: TT | Q3: Télétravail | S3: M | T3: Maladie | V3: EM | W3: Enfant malade | Z3: AJ | AA3: Absence justifiée | AD3: CET | AE3: Compte épargne temps
AK4: Entrez l’année :
B5: Janvier | C5: Dates d’absence | AK5: 2021
C6: =TEXT(WEEKDAY(DATE(AnnéeCalendrier,1,1),1),"jjj") -> ven | D6: =TEXT(WEEKDAY(DATE(AnnéeCalendrier,1,2),1),"jjj") -> sam | E6: =TEXT(WEEKDAY(DATE(AnnéeCalendrier,1,3),1),"jjj") -> dim | F6: =TEXT(WEEKDAY(DATE(AnnéeCalendrier,1,4),1),"jjj") -> lun | G6: =TEXT(WEEKDAY(DATE(AnnéeCalendrier,1,5),1),"jjj") -> mar | H6: =TEXT(WEEKDAY(DATE(AnnéeCalendrier,1,6),1),"jjj") -> mer | I6: =TEXT(WEEKDAY(DATE(AnnéeCalendrier,1,7),1),"jjj") -> jeu | J6: =TEXT(WEEKDAY(DATE(AnnéeCalendrier,1,8),1),"jjj") -> ven | K6: =TEXT(WEEKDAY(DATE(AnnéeCalendrier,1,9),1),"jjj") -> sam | L6: =TEXT(WEEKDAY(DATE(AnnéeCalendrier,1,10),1),"jjj") -> dim | M6: =TEXT(WEEKDAY(DATE(AnnéeCalendrier,1,11),1),"jjj") -> lun | N6: =TEXT(WEEKDAY(DATE(AnnéeCalendrier,1,12),1),"jjj") -> mar | O6: =TEXT(WEEKDAY(DATE(AnnéeCalendrier,1,13),1),"jjj") -> mer | P6: =TEXT(WEEKDAY(DATE(AnnéeCalendrier,1,14),1),"jjj") -> jeu | Q6: =TEXT(WEEKDAY(DATE(AnnéeCalendrier,1,15),1),"jjj") -> ven | R6: =TEXT(WEEKDAY(DATE(AnnéeCalendrier,1,16),1),"jjj") -> sam | S6: =TEXT(WEEKDAY(DATE(AnnéeCalendrier,1,17),1),"jjj") -> dim | T6: =TEXT(WEEKDAY(DATE(AnnéeCalendrier,1,18),1),"jjj") -> lun | U6: =TEXT(WEEKDAY(DATE(AnnéeCalendrier,1,19),1),"jjj") -> mar | V6: =TEXT(WEEKDAY(DATE(AnnéeCalendrier,1,20),1),"jjj") -> mer | W6: =TEXT(WEEKDAY(DATE(AnnéeCalendrier,1,21),1),"jjj") -> jeu | X6: =TEXT(WEEKDAY(DATE(AnnéeCalendrier,1,22),1),"jjj") -> ven | Y6: =TEXT(WEEKDAY(DATE(AnnéeCalendrier,1,23),1),"jjj") -> sam | Z6: =TEXT(WEEKDAY(DATE(AnnéeCalendrier,1,24),1),"jjj") -> dim | AA6: =TEXT(WEEKDAY(DATE(AnnéeCalendrier,1,25),1),"jjj") -> lun | AB6: =TEXT(WEEKDAY(DATE(AnnéeCalendrier,1,26),1),"jjj") -> mar | AC6: =TEXT(WEEKDAY(DATE(AnnéeCalendrier,1,27),1),"jjj") -> mer | AD6: =TEXT(WEEKDAY(DATE(AnnéeCalendrier,1,28),1),"jjj") -> jeu | AE6: =TEXT(WEEKDAY(DATE(AnnéeCalendrier,1,29),1),"jjj") -> ven | AF6: =TEXT(WEEKDAY(DATE(AnnéeCalendrier,1,30),1),"jjj") -> sam | AG6: =TEXT(WEEKDAY(DATE(AnnéeCalendrier,1,31),1),"jjj") -> dim
B7: Nom de l’employé | C7: 1 | D7: 2 | E7: 3 | F7: 4 | G7: 5 | H7: 6 | I7: 7 | J7: 8 | K7: 9 | L7: 10 | M7: 11 | N7: 12 | O7: 13 | P7: 14 | Q7: 15 | R7: 16 | S7: 17 | T7: 18 | U7: 19 | V7: 20 | W7: 21 | X7: 22 | Y7: 23 | Z7: 24 | AA7: 25 | AB7: 26 | AC7: 27 | AD7: 28 | AE7: 29 | AF7: 30 | AG7: 31 | AH7: Total absence | AI7: Dont RTT | AJ7: Dont MALADIE | AK7: Solde RTT disponible au 01/02/2021
B8: Employés 01 | H8: rec | AH8: =(COUNTIF(C8:AG8,"C")+(COUNTIF(C8:AG8,"EM")+COUNTIF(C8:AG8,"RTT")+COUNTIF(C8:AG8,"M")+COUNTIF(C8:AG8,"Rec")+COUNTIF(C8:AG8,"F")+COUNTIF(C8:AG8,"TT"-1)+COUNTIF(C8:AG8,"CS")+COUNTIF(C8:AG8,"PE"-1)+COUNTIF(C8:AG8,"DRTT")/2)+COUNTIF(C8:AG8,"DREC")/2)+COUNTIF(C8:AG8,"DEM")/2 -> 1 | AI8: =COUNTIF(C8:AG8,"RTT")+COUNTIF(C8:AG8,"DRTT")/2 -> 0 | AJ8: =COUNTIF(C8:AG8,"M") -> 0
B9: Employés 02 | F9: rtt | G9: rtt | H9: rec | AH9: =(COUNTIF(C9:AG9,"C")+(COUNTIF(C9:AG9,"EM")+COUNTIF(C9:AG9,"RTT")+COUNTIF(C9:AG9,"M")+COUNTIF(C9:AG9,"Rec")+COUNTIF(C9:AG9,"F")+COUNTIF(C9:AG9,"TT"-1)+COUNTIF(C9:AG9,"CS")+COUNTIF(C9:AG9,"PE"-1)+COUNTIF(C9:AG9,"DRTT")/2)+COUNTIF(C9:AG9,"DREC")/2)+COUNTIF(C9:AG9,"DEM")/2 -> 3 | AI9: =COUNTIF(C9:AG9,"RTT")+COUNTIF(C9:AG9,"DRTT")/2 -> 2 | AJ9: =COUNTIF(C9:AG9,"M") -> 0 | AK9: =5+2-Janvier[[#This Row],[Dont RTT]] -> 5
B10: Employés 03 | AH10: =(COUNTIF(C10:AG10,"C")+(COUNTIF(C10:AG10,"EM")+COUNTIF(C10:AG10,"RTT")+COUNTIF(C10:AG10,"M")+COUNTIF(C10:AG10,"Rec")+COUNTIF(C10:AG10,"F")+COUNTIF(C10:AG10,"TT"-1)+COUNTIF(C10:AG10,"CS")+COUNTIF(C10:AG10,"PE"-1)+COUNTIF(C10:AG10,"DRTT")/2)+COUNTIF(C10:AG10,"DREC")/2)+COUNTIF(C10:AG10,"DEM")/2 -> 0 | AI10: =COUNTIF(C10:AG10,"RTT")+COUNTIF(C10:AG10,"DRTT")/2 -> 0 | AJ10: =COUNTIF(C10:AG10,"M") -> 0 | AK10: =11+2-Janvier[[#This Row],[Dont RTT]] -> 13
B11: Employés 04 | AH11: =(COUNTIF(C11:AG11,"C")+(COUNTIF(C11:AG11,"EM")+COUNTIF(C11:AG11,"RTT")+COUNTIF(C11:AG11,"M")+COUNTIF(C11:AG11,"Rec")+COUNTIF(C11:AG11,"F")+COUNTIF(C11:AG11,"TT"-1)+COUNTIF(C11:AG11,"CS")+COUNTIF(C11:AG11,"PE"-1)+COUNTIF(C11:AG11,"DRTT")/2)+COUNTIF(C11:AG11,"DREC")/2)+COUNTIF(C11:AG11,"DEM")/2 -> 0 | AI11: =COUNTIF(C11:AG11,"RTT")+COUNTIF(C11:AG11,"DRTT")/2 -> 0 | AJ11: =COUNTIF(C11:AG11,"M") -> 0
AH12: =(COUNTIF(C12:AG12,"C")+(COUNTIF(C12:AG12,"EM")+COUNTIF(C12:AG12,"RTT")+COUNTIF(C12:AG12,"M")+COUNTIF(C12:AG12,"Rec")+COUNTIF(C12:AG12,"F")+COUNTIF(C12:AG12,"TT"-1)+COUNTIF(C12:AG12,"CS")+COUNTIF(C12:AG12,"PE"-1)+COUNTIF(C12:AG12,"DRTT")/2)+COUNTIF(C12:AG12,"DREC")/2)+COUNTIF(C12:AG12,"DEM")/2 -> 0 | AI12: =COUNTIF(C12:AG12,"RTT")+COUNTIF(C12:AG12,"DRTT")/2 -> 0 | AJ12: =COUNTIF(C12:AG12,"M") -> 0
AH13: =(COUNTIF(C13:AG13,"C")+(COUNTIF(C13:AG13,"EM")+COUNTIF(C13:AG13,"RTT")+COUNTIF(C13:AG13,"M")+COUNTIF(C13:AG13,"Rec")+COUNTIF(C13:AG13,"F")+COUNTIF(C13:AG13,"TT"-1)+COUNTIF(C13:AG13,"CS")+COUNTIF(C13:AG13,"PE"-1)+COUNTIF(C13:AG13,"DRTT")/2)+COUNTIF(C13:AG13,"DREC")/2)+COUNTIF(C13:AG13,"DEM")/2 -> 0 | AI13: =COUNTIF(C13:AG13,"RTT")+COUNTIF(C13:AG13,"DRTT")/2 -> 0 | AJ13: =COUNTIF(C13:AG13,"M") -> 0 | AK13: =2.93+2-Janvier[[#This Row],[Dont RTT]] -> 4.93
AH14: =(COUNTIF(C14:AG14,"C")+(COUNTIF(C14:AG14,"EM")+COUNTIF(C14:AG14,"RTT")+COUNTIF(C14:AG14,"M")+COUNTIF(C14:AG14,"Rec")+COUNTIF(C14:AG14,"F")+COUNTIF(C14:AG14,"TT"-1)+COUNTIF(C14:AG14,"CS")+COUNTIF(C14:AG14,"PE"-1)+COUNTIF(C14:AG14,"DRTT")/2)+COUNTIF(C14:AG14,"DREC")/2)+COUNTIF(C14:AG14,"DEM")/2 -> 0 | AI14: =COUNTIF(C14:AG14,"RTT")+COUNTIF(C14:AG14,"DRTT")/2 -> 0 | AJ14: =COUNTIF(C14:AG14,"M") -> 0 | AK14: =2.5+2-Janvier[[#This Row],[Dont RTT]] -> 4.5
AH15: =(COUNTIF(C15:AG15,"C")+(COUNTIF(C15:AG15,"EM")+COUNTIF(C15:AG15,"RTT")+COUNTIF(C15:AG15,"M")+COUNTIF(C15:AG15,"Rec")+COUNTIF(C15:AG15,"F")+COUNTIF(C15:AG15,"TT"-1)+COUNTIF(C15:AG15,"CS")+COUNTIF(C15:AG15,"PE"-1)+COUNTIF(C15:AG15,"DRTT")/2)+COUNTIF(C15:AG15,"DREC")/2)+COUNTIF(C15:AG15,"DEM")/2 -> 0 | AI15: =COUNTIF(C15:AG15,"RTT")+COUNTIF(C15:AG15,"DRTT")/2 -> 0 | AJ15: =COUNTIF(C15:AG15,"M") -> 0 | AK15: =5.5+2-Janvier[[#This Row],[Dont RTT]] -> 7.5
AH16: =(COUNTIF(C16:AG16,"C")+(COUNTIF(C16:AG16,"EM")+COUNTIF(C16:AG16,"RTT")+COUNTIF(C16:AG16,"M")+COUNTIF(C16:AG16,"Rec")+COUNTIF(C16:AG16,"F")+COUNTIF(C16:AG16,"TT"-1)+COUNTIF(C16:AG16,"CS")+COUNTIF(C16:AG16,"PE"-1)+COUNTIF(C16:AG16,"DRTT")/2)+COUNTIF(C16:AG16,"DREC")/2)+COUNTIF(C16:AG16,"DEM")/2 -> 0 | AI16: =COUNTIF(C16:AG16,"RTT")+COUNTIF(C16:AG16,"DRTT")/2 -> 0 | AJ16: =COUNTIF(C16:AG16,"M") -> 0 | AK16: =2.16+2-Janvier[[#This Row],[Dont RTT]] -> 4.16
AH17: =(COUNTIF(C17:AG17,"C")+(COUNTIF(C17:AG17,"EM")+COUNTIF(C17:AG17,"RTT")+COUNTIF(C17:AG17,"M")+COUNTIF(C17:AG17,"Rec")+COUNTIF(C17:AG17,"F")+COUNTIF(C17:AG17,"TT"-1)+COUNTIF(C17:AG17,"CS")+COUNTIF(C17:AG17,"PE"-1)+COUNTIF(C17:AG17,"DRTT")/2)+COUNTIF(C17:AG17,"DREC")/2)+COUNTIF(C17:AG17,"DEM")/2 -> 0 | AI17: =COUNTIF(C17:AG17,"RTT")+COUNTIF(C17:AG17,"DRTT")/2 -> 0 | AJ17: =COUNTIF(C17:AG17,"M") -> 0 | AK17: =11+2-Janvier[[#This Row],[Dont RTT]] -> 13
AH18: =(COUNTIF(C18:AG18,"C")+(COUNTIF(C18:AG18,"EM")+COUNTIF(C18:AG18,"RTT")+COUNTIF(C18:AG18,"M")+COUNTIF(C18:AG18,"Rec")+COUNTIF(C18:AG18,"F")+COUNTIF(C18:AG18,"TT"-1)+COUNTIF(C18:AG18,"CS")+COUNTIF(C18:AG18,"PE"-1)+COUNTIF(C18:AG18,"DRTT")/2)+COUNTIF(C18:AG18,"DREC")/2)+COUNTIF(C18:AG18,"DEM")/2 -> 0 | AI18: =COUNTIF(C18:AG18,"RTT")+COUNTIF(C18:AG18,"DRTT")/2 -> 0 | AJ18: =COUNTIF(C18:AG18,"M") -> 0 | AK18: =2.5+2-Janvier[[#This Row],[Dont RTT]] -> 4.5
B19: =NomMois&" Total" -> Janvier Total | C19: =(COUNTIF(C8:C18,"C")+(COUNTIF(C8:C18,"CS")+COUNTIF(C8:C18,"RTT")+(COUNTIF(C8:C18,"DRTT")/2)+COUNTIF(C8:C18,"M")+COUNTIF(C8:C18,"Rec")+(COUNTIF(C8:C18,"Drec")/2)+COUNTIF(C8:C18,"F")+(COUNTIF(C8:C18,"EM")+(COUNTIF(C8:C18,"DEM")/2)))) -> 0 | D19: =(COUNTIF(D8:D18,"C")+(COUNTIF(D8:D18,"CS")+COUNTIF(D8:D18,"RTT")+(COUNTIF(D8:D18,"DRTT")/2)+COUNTIF(D8:D18,"M")+COUNTIF(D8:D18,"Rec")+(COUNTIF(D8:D18,"Drec")/2)+COUNTIF(D8:D18,"F")+(COUNTIF(D8:D18,"EM")+(COUNTIF(D8:D18,"DEM")/2)))) -> 0 | E19: =(COUNTIF(E8:E18,"C")+(COUNTIF(E8:E18,"CS")+COUNTIF(E8:E18,"RTT")+(COUNTIF(E8:E18,"DRTT")/2)+COUNTIF(E8:E18,"M")+COUNTIF(E8:E18,"Rec")+(COUNTIF(E8:E18,"Drec")/2)+COUNTIF(E8:E18,"F")+(COUNTIF(E8:E18,"EM")+(COUNTIF(E8:E18,"DEM")/2)))) -> 0 | F19: =(COUNTIF(F8:F18,"C")+(COUNTIF(F8:F18,"CS")+COUNTIF(F8:F18,"RTT")+(COUNTIF(F8:F18,"DRTT")/2)+COUNTIF(F8:F18,"M")+COUNTIF(F8:F18,"Rec")+(COUNTIF(F8:F18,"Drec")/2)+COUNTIF(F8:F18,"F")+(COUNTIF(F8:F18,"EM")+(COUNTIF(F8:F18,"DEM")/2)))) -> 1 | G19: =(COUNTIF(G8:G18,"C")+(COUNTIF(G8:G18,"CS")+COUNTIF(G8:G18,"RTT")+(COUNTIF(G8:G18,"DRTT")/2)+COUNTIF(G8:G18,"M")+COUNTIF(G8:G18,"Rec")+(COUNTIF(G8:G18,"Drec")/2)+COUNTIF(G8:G18,"F")+(COUNTIF(G8:G18,"EM")+(COUNTIF(G8:G18,"DEM")/2)))) -> 1 | H19: =(COUNTIF(H8:H18,"C")+(COUNTIF(H8:H18,"CS")+COUNTIF(H8:H18,"RTT")+(COUNTIF(H8:H18,"DRTT")/2)+COUNTIF(H8:H18,"M")+COUNTIF(H8:H18,"Rec")+(COUNTIF(H8:H18,"Drec")/2)+COUNTIF(H8:H18,"F")+(COUNTIF(H8:H18,"EM")+(COUNTIF(H8:H18,"DEM")/2)))) -> 2 | I19: =(COUNTIF(I8:I18,"C")+(COUNTIF(I8:I18,"CS")+COUNTIF(I8:I18,"RTT")+(COUNTIF(I8:I18,"DRTT")/2)+COUNTIF(I8:I18,"M")+COUNTIF(I8:I18,"Rec")+(COUNTIF(I8:I18,"Drec")/2)+COUNTIF(I8:I18,"F")+(COUNTIF(I8:I18,"EM")+(COUNTIF(I8:I18,"DEM")/2)))) -> 0 | J19: =(COUNTIF(J8:J18,"C")+(COUNTIF(J8:J18,"CS")+COUNTIF(J8:J18,"RTT")+(COUNTIF(J8:J18,"DRTT")/2)+COUNTIF(J8:J18,"M")+COUNTIF(J8:J18,"Rec")+(COUNTIF(J8:J18,"Drec")/2)+COUNTIF(J8:J18,"F")+(COUNTIF(J8:J18,"EM")+(COUNTIF(J8:J18,"DEM")/2)))) -> 0 | ... AG19: =(COUNTIF(AG8:AG18,"C")+(COUNTIF(AG8:AG18,"CS")+COUNTIF(AG8:AG18,"RTT")+(COUNTIF(AG8:AG18,"DRTT")/2)+COUNTIF(AG8:AG18,"M")+COUNTIF(AG8:AG18,"Rec")+(COUNTIF(AG8:AG18,"Drec")/2)+COUNTIF(AG8:AG18,"F")+(COUNTIF(AG8:AG18,"EM")+(COUNTIF(AG8:AG18,"DEM")/2)))) -> 0 | AH19: =SUBTOTAL(109,Janvier[Total absence]) -> 4 | AI19: =SUBTOTAL(109,Janvier[Dont RTT]) -> 2 | AJ19: =SUBTOTAL(109,Janvier[Dont MALADIE]) -> 0

Sheet Février
B1: =Titre_Absence_Employé -> Calendrier des absences des employés
C2: CS | D2: Congé spéc. | F2: DRTT | G2: Demi RTT | I2: DREC | J2: Demi récup | P2: PE | Q2: Présence exceptionnelle | V2: DEM | W2: Demi journée EM | Z2: NT | AA2: Non travaillé
B3: Clé de motif d’absence | C3: C | D3: Congé | F3: RTT | G3: RTT | I3: Rec | J3: Récupération | M3: F | N3: Formation | P3: TT | Q3: Télétravail | S3: M | T3: Maladie | V3: EM | W3: Enfant malade | Z3: AJ | AA3: Absence justifiée
B5: Février | C5: Dates d’absence | AK5: =AnnéeCalendrier01 -> 2021
C6: =TEXT(WEEKDAY(DATE(AnnéeCalendrier,2,1),1),"jjj") -> lun | D6: =TEXT(WEEKDAY(DATE(AnnéeCalendrier,2,2),1),"jjj") -> mar | E6: =TEXT(WEEKDAY(DATE(AnnéeCalendrier,2,3),1),"jjj") -> mer | F6: =TEXT(WEEKDAY(DATE(AnnéeCalendrier,2,4),1),"jjj") -> jeu | G6: =TEXT(WEEKDAY(DATE(AnnéeCalendrier,2,5),1),"jjj") -> ven | H6: =TEXT(WEEKDAY(DATE(AnnéeCalendrier,2,6),1),"jjj") -> sam | I6: =TEXT(WEEKDAY(DATE(AnnéeCalendrier,2,7),1),"jjj") -> dim | J6: =TEXT(WEEKDAY(DATE(AnnéeCalendrier,2,8),1),"jjj") -> lun | K6: =TEXT(WEEKDAY(DATE(AnnéeCalendrier,2,9),1),"jjj") -> mar | L6: =TEXT(WEEKDAY(DATE(AnnéeCalendrier,2,10),1),"jjj") -> mer | M6: =TEXT(WEEKDAY(DATE(AnnéeCalendrier,2,11),1),"jjj") -> jeu | N6: =TEXT(WEEKDAY(DATE(AnnéeCalendrier,2,12),1),"jjj") -> ven | O6: =TEXT(WEEKDAY(DATE(AnnéeCalendrier,2,13),1),"jjj") -> sam | P6: =TEXT(WEEKDAY(DATE(AnnéeCalendrier,2,14),1),"jjj") -> dim | Q6: =TEXT(WEEKDAY(DATE(AnnéeCalendrier,2,15),1),"jjj") -> lun | R6: =TEXT(WEEKDAY(DATE(AnnéeCalendrier,2,16),1),"jjj") -> mar | S6: =TEXT(WEEKDAY(DATE(AnnéeCalendrier,2,17),1),"jjj") -> mer | T6: =TEXT(WEEKDAY(DATE(AnnéeCalendrier,2,18),1),"jjj") -> jeu | U6: =TEXT(WEEKDAY(DATE(AnnéeCalendrier,2,19),1),"jjj") -> ven | V6: =TEXT(WEEKDAY(DATE(AnnéeCalendrier,2,20),1),"jjj") -> sam | W6: =TEXT(WEEKDAY(DATE(AnnéeCalendrier,2,21),1),"jjj") -> dim | X6: =TEXT(WEEKDAY(DATE(AnnéeCalendrier,2,22),1),"jjj") -> lun | Y6: =TEXT(WEEKDAY(DATE(AnnéeCalendrier,2,23),1),"jjj") -> mar | Z6: =TEXT(WEEKDAY(DATE(AnnéeCalendrier,2,24),1),"jjj") -> mer | AA6: =TEXT(WEEKDAY(DATE(AnnéeCalendrier,2,25),1),"jjj") -> jeu | AB6: =TEXT(WEEKDAY(DATE(AnnéeCalendrier,2,26),1),"jjj") -> ven | AC6: =TEXT(WEEKDAY(DATE(AnnéeCalendrier,2,27),1),"jjj") -> sam | AD6: =TEXT(WEEKDAY(DATE(AnnéeCalendrier,2,28),1),"jjj") -> dim | AE6: =TEXT(WEEKDAY(DATE(AnnéeCalendrier,2,29),1),"jjj") -> lun
B7: Nom de l’employé | C7: 1 | D7: 2 | E7: 3 | F7: 4 | G7: 5 | H7: 6 | I7: 7 | J7: 8 | K7: 9 | L7: 10 | M7: 11 | N7: 12 | O7: 13 | P7: 14 | Q7: 15 | R7: 16 | S7: 17 | T7: 18 | U7: 19 | V7: 20 | W7: 21 | X7: 22 | Y7: 23 | Z7: 24 | AA7: 25 | AB7: 26 | AC7: 27 | AD7: 28 | AE7: 29 | AH7: Total | AI7: Dont RTT | AJ7: Dont MALADIE | AK7: Solde RTT disponible au 01/03/2021
AH8: =(COUNTIF(C8:AG8,"C")+(COUNTIF(C8:AG8,"EM")+COUNTIF(C8:AG8,"RTT")+COUNTIF(C8:AG8,"M")+COUNTIF(C8:AG8,"Rec")+COUNTIF(C8:AG8,"F")+COUNTIF(C8:AG8,"TT"-1)+COUNTIF(C8:AG8,"CS")+COUNTIF(C8:AG8,"PE"-1)+COUNTIF(C8:AG8,"DRTT")/2)+COUNTIF(C8:AG8,"DREC")/2)+COUNTIF(C8:AG8,"DEM")/2 -> 0 | AI8: =COUNTIF(C8:AG8,"RTT")+COUNTIF(C8:AG8,"DRTT")/2 -> 0 | AJ8: =COUNTIF(C8:AG8,"M") -> 0
AH9: =(COUNTIF(C9:AG9,"C")+(COUNTIF(C9:AG9,"EM")+COUNTIF(C9:AG9,"RTT")+COUNTIF(C9:AG9,"M")+COUNTIF(C9:AG9,"Rec")+COUNTIF(C9:AG9,"F")+COUNTIF(C9:AG9,"TT"-1)+COUNTIF(C9:AG9,"CS")+COUNTIF(C9:AG9,"PE"-1)+COUNTIF(C9:AG9,"DRTT")/2)+COUNTIF(C9:AG9,"DREC")/2)+COUNTIF(C9:AG9,"DEM")/2 -> 0 | AI9: =COUNTIF(C9:AG9,"RTT")+COUNTIF(C9:AG9,"DRTT")/2 -> 0 | AJ9: =COUNTIF(C9:AG9,"M") -> 0 | AK9: =Janvier!AK9-Février[[#This Row],[Dont RTT]]+2 -> 7
AH10: =(COUNTIF(C10:AG10,"C")+(COUNTIF(C10:AG10,"EM")+COUNTIF(C10:AG10,"RTT")+COUNTIF(C10:AG10,"M")+COUNTIF(C10:AG10,"Rec")+COUNTIF(C10:AG10,"F")+COUNTIF(C10:AG10,"TT"-1)+COUNTIF(C10:AG10,"CS")+COUNTIF(C10:AG10,"PE"-1)+COUNTIF(C10:AG10,"DRTT")/2)+COUNTIF(C10:AG10,"DREC")/2)+COUNTIF(C10:AG10,"DEM")/2 -> 0 | AI10: =COUNTIF(C10:AG10,"RTT")+COUNTIF(C10:AG10,"DRTT")/2 -> 0 | AJ10: =COUNTIF(C10:AG10,"M") -> 0 | AK10: =Janvier!AK10-Février[[#This Row],[Dont RTT]]+2 -> 15
AH11: =(COUNTIF(C11:AG11,"C")+(COUNTIF(C11:AG11,"EM")+COUNTIF(C11:AG11,"RTT")+COUNTIF(C11:AG11,"M")+COUNTIF(C11:AG11,"Rec")+COUNTIF(C11:AG11,"F")+COUNTIF(C11:AG11,"TT"-1)+COUNTIF(C11:AG11,"CS")+COUNTIF(C11:AG11,"PE"-1)+COUNTIF(C11:AG11,"DRTT")/2)+COUNTIF(C11:AG11,"DREC")/2)+COUNTIF(C11:AG11,"DEM")/2 -> 0 | AI11: =COUNTIF(C11:AG11,"RTT")+COUNTIF(C11:AG11,"DRTT")/2 -> 0 | AJ11: =COUNTIF(C11:AG11,"M") -> 0
AH12: =(COUNTIF(C12:AG12,"C")+(COUNTIF(C12:AG12,"EM")+COUNTIF(C12:AG12,"RTT")+COUNTIF(C12:AG12,"M")+COUNTIF(C12:AG12,"Rec")+COUNTIF(C12:AG12,"F")+COUNTIF(C12:AG12,"TT"-1)+COUNTIF(C12:AG12,"CS")+COUNTIF(C12:AG12,"PE"-1)+COUNTIF(C12:AG12,"DRTT")/2)+COUNTIF(C12:AG12,"DREC")/2)+COUNTIF(C12:AG12,"DEM")/2 -> 0 | AI12: =COUNTIF(C12:AG12,"RTT")+COUNTIF(C12:AG12,"DRTT")/2 -> 0 | AJ12: =COUNTIF(C12:AG12,"M") -> 0
AH13: =(COUNTIF(C13:AG13,"C")+(COUNTIF(C13:AG13,"EM")+COUNTIF(C13:AG13,"RTT")+COUNTIF(C13:AG13,"M")+COUNTIF(C13:AG13,"Rec")+COUNTIF(C13:AG13,"F")+COUNTIF(C13:AG13,"TT"-1)+COUNTIF(C13:AG13,"CS")+COUNTIF(C13:AG13,"PE"-1)+COUNTIF(C13:AG13,"DRTT")/2)+COUNTIF(C13:AG13,"DREC")/2)+COUNTIF(C13:AG13,"DEM")/2 -> 0 | AI13: =COUNTIF(C13:AG13,"RTT")+COUNTIF(C13:AG13,"DRTT")/2 -> 0 | AJ13: =COUNTIF(C13:AG13,"M") -> 0 | AK13: =Janvier!AK13-Février[[#This Row],[Dont RTT]]+2 -> 6.93
AH14: =(COUNTIF(C14:AG14,"C")+(COUNTIF(C14:AG14,"EM")+COUNTIF(C14:AG14,"RTT")+COUNTIF(C14:AG14,"M")+COUNTIF(C14:AG14,"Rec")+COUNTIF(C14:AG14,"F")+COUNTIF(C14:AG14,"TT"-1)+COUNTIF(C14:AG14,"CS")+COUNTIF(C14:AG14,"PE"-1)+COUNTIF(C14:AG14,"DRTT")/2)+COUNTIF(C14:AG14,"DREC")/2)+COUNTIF(C14:AG14,"DEM")/2 -> 0 | AI14: =COUNTIF(C14:AG14,"RTT")+COUNTIF(C14:AG14,"DRTT")/2 -> 0 | AJ14: =COUNTIF(C14:AG14,"M") -> 0 | AK14: =Janvier!AK14-Février[[#This Row],[Dont RTT]]+2 -> 6.5
AH15: =(COUNTIF(C15:AG15,"C")+(COUNTIF(C15:AG15,"EM")+COUNTIF(C15:AG15,"RTT")+COUNTIF(C15:AG15,"M")+COUNTIF(C15:AG15,"Rec")+COUNTIF(C15:AG15,"F")+COUNTIF(C15:AG15,"TT"-1)+COUNTIF(C15:AG15,"CS")+COUNTIF(C15:AG15,"PE"-1)+COUNTIF(C15:AG15,"DRTT")/2)+COUNTIF(C15:AG15,"DREC")/2)+COUNTIF(C15:AG15,"DEM")/2 -> 0 | AI15: =COUNTIF(C15:AG15,"RTT")+COUNTIF(C15:AG15,"DRTT")/2 -> 0 | AJ15: =COUNTIF(C15:AG15,"M") -> 0 | AK15: =Janvier!AK15-Février[[#This Row],[Dont RTT]]+2 -> 9.5
AH16: =(COUNTIF(C16:AG16,"C")+(COUNTIF(C16:AG16,"EM")+COUNTIF(C16:AG16,"RTT")+COUNTIF(C16:AG16,"M")+COUNTIF(C16:AG16,"Rec")+COUNTIF(C16:AG16,"F")+COUNTIF(C16:AG16,"TT"-1)+COUNTIF(C16:AG16,"CS")+COUNTIF(C16:AG16,"PE"-1)+COUNTIF(C16:AG16,"DRTT")/2)+COUNTIF(C16:AG16,"DREC")/2)+COUNTIF(C16:AG16,"DEM")/2 -> 0 | AI16: =COUNTIF(C16:AG16,"RTT")+COUNTIF(C16:AG16,"DRTT")/2 -> 0 | AJ16: =COUNTIF(C16:AG16,"M") -> 0 | AK16: =Janvier!AK16-Février[[#This Row],[Dont RTT]]+2 -> 6.16
AH17: =(COUNTIF(C17:AG17,"C")+(COUNTIF(C17:AG17,"EM")+COUNTIF(C17:AG17,"RTT")+COUNTIF(C17:AG17,"M")+COUNTIF(C17:AG17,"Rec")+COUNTIF(C17:AG17,"F")+COUNTIF(C17:AG17,"TT"-1)+COUNTIF(C17:AG17,"CS")+COUNTIF(C17:AG17,"PE"-1)+COUNTIF(C17:AG17,"DRTT")/2)+COUNTIF(C17:AG17,"DREC")/2)+COUNTIF(C17:AG17,"DEM")/2 -> 0 | AI17: =COUNTIF(C17:AG17,"RTT")+COUNTIF(C17:AG17,"DRTT")/2 -> 0 | AJ17: =COUNTIF(C17:AG17,"M") -> 0 | AK17: =Janvier!AK17-Février[[#This Row],[Dont RTT]]+2 -> 15
AH18: =(COUNTIF(C18:AG18,"C")+(COUNTIF(C18:AG18,"EM")+COUNTIF(C18:AG18,"RTT")+COUNTIF(C18:AG18,"M")+COUNTIF(C18:AG18,"Rec")+COUNTIF(C18:AG18,"F")+COUNTIF(C18:AG18,"TT"-1)+COUNTIF(C18:AG18,"CS")+COUNTIF(C18:AG18,"PE"-1)+COUNTIF(C18:AG18,"DRTT")/2)+COUNTIF(C18:AG18,"DREC")/2)+COUNTIF(C18:AG18,"DEM")/2 -> 0 | AI18: =COUNTIF(C18:AG18,"RTT")+COUNTIF(C18:AG18,"DRTT")/2 -> 0 | AJ18: =COUNTIF(C18:AG18,"M") -> 0 | AK18: =Janvier!AK18-Février[[#This Row],[Dont RTT]]+2 -> 6.5
B19: =NomMois&" Total" -> Février Total | C19: =(COUNTIF(C8:C18,"C")+(COUNTIF(C8:C18,"CS")+COUNTIF(C8:C18,"RTT")+(COUNTIF(C8:C18,"DRTT")/2)+COUNTIF(C8:C18,"M")+COUNTIF(C8:C18,"Rec")+(COUNTIF(C8:C18,"Drec")/2)+COUNTIF(C8:C18,"F")+(COUNTIF(C8:C18,"EM")+(COUNTIF(C8:C18,"DEM")/2)))) -> 0 | D19: =(COUNTIF(D8:D18,"C")+(COUNTIF(D8:D18,"CS")+COUNTIF(D8:D18,"RTT")+(COUNTIF(D8:D18,"DRTT")/2)+COUNTIF(D8:D18,"M")+COUNTIF(D8:D18,"Rec")+(COUNTIF(D8:D18,"Drec")/2)+COUNTIF(D8:D18,"F")+(COUNTIF(D8:D18,"EM")+(COUNTIF(D8:D18,"DEM")/2)))) -> 0 | E19: =(COUNTIF(E8:E18,"C")+(COUNTIF(E8:E18,"CS")+COUNTIF(E8:E18,"RTT")+(COUNTIF(E8:E18,"DRTT")/2)+COUNTIF(E8:E18,"M")+COUNTIF(E8:E18,"Rec")+(COUNTIF(E8:E18,"Drec")/2)+COUNTIF(E8:E18,"F")+(COUNTIF(E8:E18,"EM")+(COUNTIF(E8:E18,"DEM")/2)))) -> 0 | F19: =(COUNTIF(F8:F18,"C")+(COUNTIF(F8:F18,"CS")+COUNTIF(F8:F18,"RTT")+(COUNTIF(F8:F18,"DRTT")/2)+COUNTIF(F8:F18,"M")+COUNTIF(F8:F18,"Rec")+(COUNTIF(F8:F18,"Drec")/2)+COUNTIF(F8:F18,"F")+(COUNTIF(F8:F18,"EM")+(COUNTIF(F8:F18,"DEM")/2)))) -> 0 | G19: =(COUNTIF(G8:G18,"C")+(COUNTIF(G8:G18,"CS")+COUNTIF(G8:G18,"RTT")+(COUNTIF(G8:G18,"DRTT")/2)+COUNTIF(G8:G18,"M")+COUNTIF(G8:G18,"Rec")+(COUNTIF(G8:G18,"Drec")/2)+COUNTIF(G8:G18,"F")+(COUNTIF(G8:G18,"EM")+(COUNTIF(G8:G18,"DEM")/2)))) -> 0 | H19: =(COUNTIF(H8:H18,"C")+(COUNTIF(H8:H18,"CS")+COUNTIF(H8:H18,"RTT")+(COUNTIF(H8:H18,"DRTT")/2)+COUNTIF(H8:H18,"M")+COUNTIF(H8:H18,"Rec")+(COUNTIF(H8:H18,"Drec")/2)+COUNTIF(H8:H18,"F")+(COUNTIF(H8:H18,"EM")+(COUNTIF(H8:H18,"DEM")/2)))) -> 0 | I19: =(COUNTIF(I8:I18,"C")+(COUNTIF(I8:I18,"CS")+COUNTIF(I8:I18,"RTT")+(COUNTIF(I8:I18,"DRTT")/2)+COUNTIF(I8:I18,"M")+COUNTIF(I8:I18,"Rec")+(COUNTIF(I8:I18,"Drec")/2)+COUNTIF(I8:I18,"F")+(COUNTIF(I8:I18,"EM")+(COUNTIF(I8:I18,"DEM")/2)))) -> 0 | J19: =(COUNTIF(J8:J18,"C")+(COUNTIF(J8:J18,"CS")+COUNTIF(J8:J18,"RTT")+(COUNTIF(J8:J18,"DRTT")/2)+COUNTIF(J8:J18,"M")+COUNTIF(J8:J18,"Rec")+(COUNTIF(J8:J18,"Drec")/2)+COUNTIF(J8:J18,"F")+(COUNTIF(J8:J18,"EM")+(COUNTIF(J8:J18,"DEM")/2)))) -> 0 | ... AG19: =(COUNTIF(AG8:AG18,"C")+(COUNTIF(AG8:AG18,"CS")+COUNTIF(AG8:AG18,"RTT")+(COUNTIF(AG8:AG18,"DRTT")/2)+COUNTIF(AG8:AG18,"M")+COUNTIF(AG8:AG18,"Rec")+(COUNTIF(AG8:AG18,"Drec")/2)+COUNTIF(AG8:AG18,"F")+(COUNTIF(AG8:AG18,"EM")+(COUNTIF(AG8:AG18,"DEM")/2)))) -> 0 | AH19: =SUBTOTAL(109,Février[Total]) -> 0 | AI19: =SUBTOTAL(109,Février[Dont RTT]) -> 0 | AJ19: =SUBTOTAL(109,Février[Dont MALADIE]) -> 0

Sheet Mars
B1: =Titre_Absence_Employé -> Calendrier des absences des employés
C2: CS | D2: Congé spéc. | F2: DRTT | G2: Demi RTT | I2: DREC | J2: Demi récup | P2: PE | Q2: Présence exceptionnelle | V2: DEM | W2: Demi journée EM | Z2: NT | AA2: Non travaillé
B3: Clé de motif d’absence | C3: C | D3: Congé | F3: RTT | G3: RTT | I3: Rec | J3: Récupération | M3: F | N3: Formation | P3: TT | Q3: Télétravail | S3: M | T3: Maladie | V3: EM | W3: Enfant malade | Z3: AJ | AA3: Absence justifiée
B5: Mars | C5: Dates d’absence | AK5: =AnnéeCalendrier -> 2021
C6: =TEXT(WEEKDAY(DATE(AnnéeCalendrier,3,1),1),"jjj") -> lun | D6: =TEXT(WEEKDAY(DATE(AnnéeCalendrier,3,2),1),"jjj") -> mar | E6: =TEXT(WEEKDAY(DATE(AnnéeCalendrier,3,3),1),"jjj") -> mer | F6: =TEXT(WEEKDAY(DATE(AnnéeCalendrier,3,4),1),"jjj") -> jeu | G6: =TEXT(WEEKDAY(DATE(AnnéeCalendrier,3,5),1),"jjj") -> ven | H6: =TEXT(WEEKDAY(DATE(AnnéeCalendrier,3,6),1),"jjj") -> sam | I6: =TEXT(WEEKDAY(DATE(AnnéeCalendrier,3,7),1),"jjj") -> dim | J6: =TEXT(WEEKDAY(DATE(AnnéeCalendrier,3,8),1),"jjj") -> lun | K6: =TEXT(WEEKDAY(DATE(AnnéeCalendrier,3,9),1),"jjj") -> mar | L6: =TEXT(WEEKDAY(DATE(AnnéeCalendrier,3,10),1),"jjj") -> mer | M6: =TEXT(WEEKDAY(DATE(AnnéeCalendrier,3,11),1),"jjj") -> jeu | N6: =TEXT(WEEKDAY(DATE(AnnéeCalendrier,3,12),1),"jjj") -> ven | O6: =TEXT(WEEKDAY(DATE(AnnéeCalendrier,3,13),1),"jjj") -> sam | P6: =TEXT(WEEKDAY(DATE(AnnéeCalendrier,3,14),1),"jjj") -> dim | Q6: =TEXT(WEEKDAY(DATE(AnnéeCalendrier,3,15),1),"jjj") -> lun | R6: =TEXT(WEEKDAY(DATE(AnnéeCalendrier,3,16),1),"jjj") -> mar | S6: =TEXT(WEEKDAY(DATE(AnnéeCalendrier,3,17),1),"jjj") -> mer | T6: =TEXT(WEEKDAY(DATE(AnnéeCalendrier,3,18),1),"jjj") -> jeu | U6: =TEXT(WEEKDAY(DATE(AnnéeCalendrier,3,19),1),"jjj") -> ven | V6: =TEXT(WEEKDAY(DATE(AnnéeCalendrier,3,20),1),"jjj") -> sam | W6: =TEXT(WEEKDAY(DATE(AnnéeCalendrier,3,21),1),"jjj") -> dim | X6: =TEXT(WEEKDAY(DATE(AnnéeCalendrier,3,22),1),"jjj") -> lun | Y6: =TEXT(WEEKDAY(DATE(AnnéeCalendrier,3,23),1),"jjj") -> mar | Z6: =TEXT(WEEKDAY(DATE(AnnéeCalendrier,3,24),1),"jjj") -> mer | AA6: =TEXT(WEEKDAY(DATE(AnnéeCalendrier,3,25),1),"jjj") -> jeu | AB6: =TEXT(WEEKDAY(DATE(AnnéeCalendrier,3,26),1),"jjj") -> ven | AC6: =TEXT(WEEKDAY(DATE(AnnéeCalendrier,3,27),1),"jjj") -> sam | AD6: =TEXT(WEEKDAY(DATE(AnnéeCalendrier,3,28),1),"jjj") -> dim | AE6: =TEXT(WEEKDAY(DATE(AnnéeCalendrier,3,29),1),"jjj") -> lun | AF6: =TEXT(WEEKDAY(DATE(AnnéeCalendrier,3,30),1),"jjj") -> mar | AG6: =TEXT(WEEKDAY(DATE(AnnéeCalendrier,3,31),1),"jjj") -> mer
B7: Nom de l’employé | C7: 1 | D7: 2 | E7: 3 | F7: 4 | G7: 5 | H7: 6 | I7: 7 | J7: 8 | K7: 9 | L7: 10 | M7: 11 | N7: 12 | O7: 13 | P7: 14 | Q7: 15 | R7: 16 | S7: 17 | T7: 18 | U7: 19 | V7: 20 | W7: 21 | X7: 22 | Y7: 23 | Z7: 24 | AA7: 25 | AB7: 26 | AC7: 27 | AD7: 28 | AE7: 29 | AF7: 30 | AG7: 31 | AH7: Total absence | AI7: Dont RTT | AJ7: Dont MALADIE | AK7: Solde RTT disponible au 01/04/2021
AH8: =(COUNTIF(C8:AG8,"C")+(COUNTIF(C8:AG8,"EM")+COUNTIF(C8:AG8,"RTT")+COUNTIF(C8:AG8,"M")+COUNTIF(C8:AG8,"Rec")+COUNTIF(C8:AG8,"F")+COUNTIF(C8:AG8,"TT")+COUNTIF(C8:AG8,"CS")+COUNTIF(C8:AG8,"PE"-1)+COUNTIF(C8:AG8,"DRTT")/2)+COUNTIF(C8:AG8,"DREC")/2)+COUNTIF(C8:AG8,"DEM")/2 -> 0 | AI8: =COUNTIF(C8:AG8,"RTT")+COUNTIF(C8:AG8,"DRTT")/2 -> 0 | AJ8: =COUNTIF(C8:AG8,"MALADIE") -> 0
AH9: =(COUNTIF(C9:AG9,"C")+(COUNTIF(C9:AG9,"EM")+COUNTIF(C9:AG9,"RTT")+COUNTIF(C9:AG9,"M")+COUNTIF(C9:AG9,"Rec")+COUNTIF(C9:AG9,"F")+COUNTIF(C9:AG9,"TT")+COUNTIF(C9:AG9,"CS")+COUNTIF(C9:AG9,"PE"-1)+COUNTIF(C9:AG9,"DRTT")/2)+COUNTIF(C9:AG9,"DREC")/2)+COUNTIF(C9:AG9,"DEM")/2 -> 0 | AI9: =COUNTIF(C9:AG9,"RTT")+COUNTIF(C9:AG9,"DRTT")/2 -> 0 | AJ9: =COUNTIF(C9:AG9,"MALADIE") -> 0 | AK9: =Février!AK9-Mars[[#This Row],[Dont RTT]]+2 -> 9
AH10: =(COUNTIF(C10:AG10,"C")+(COUNTIF(C10:AG10,"EM")+COUNTIF(C10:AG10,"RTT")+COUNTIF(C10:AG10,"M")+COUNTIF(C10:AG10,"Rec")+COUNTIF(C10:AG10,"F")+COUNTIF(C10:AG10,"TT")+COUNTIF(C10:AG10,"CS")+COUNTIF(C10:AG10,"PE"-1)+COUNTIF(C10:AG10,"DRTT")/2)+COUNTIF(C10:AG10,"DREC")/2)+COUNTIF(C10:AG10,"DEM")/2 -> 0 | AI10: =COUNTIF(C10:AG10,"RTT")+COUNTIF(C10:AG10,"DRTT")/2 -> 0 | AJ10: =COUNTIF(C10:AG10,"M") -> 0 | AK10: =Février!AK10-Mars[[#This Row],[Dont RTT]]+2 -> 17
AH11: =(COUNTIF(C11:AG11,"C")+(COUNTIF(C11:AG11,"EM")+COUNTIF(C11:AG11,"RTT")+COUNTIF(C11:AG11,"M")+COUNTIF(C11:AG11,"Rec")+COUNTIF(C11:AG11,"F")+COUNTIF(C11:AG11,"TT")+COUNTIF(C11:AG11,"CS")+COUNTIF(C11:AG11,"PE"-1)+COUNTIF(C11:AG11,"DRTT")/2)+COUNTIF(C11:AG11,"DREC")/2)+COUNTIF(C11:AG11,"DEM")/2 -> 0 | AI11: =COUNTIF(C11:AG11,"RTT")+COUNTIF(C11:AG11,"DRTT")/2 -> 0 | AJ11: =COUNTIF(C11:AG11,"M") -> 0
AH12: =(COUNTIF(C12:AG12,"C")+(COUNTIF(C12:AG12,"EM")+COUNTIF(C12:AG12,"RTT")+COUNTIF(C12:AG12,"M")+COUNTIF(C12:AG12,"Rec")+COUNTIF(C12:AG12,"F")+COUNTIF(C12:AG12,"TT")+COUNTIF(C12:AG12,"CS")+COUNTIF(C12:AG12,"PE"-1)+COUNTIF(C12:AG12,"DRTT")/2)+COUNTIF(C12:AG12,"DREC")/2)+COUNTIF(C12:AG12,"DEM")/2 -> 0 | AI12: =COUNTIF(C12:AG12,"RTT")+COUNTIF(C12:AG12,"DRTT")/2 -> 0 | AJ12: =COUNTIF(C12:AG12,"M") -> 0
AH13: =(COUNTIF(C13:AG13,"C")+(COUNTIF(C13:AG13,"EM")+COUNTIF(C13:AG13,"RTT")+COUNTIF(C13:AG13,"M")+COUNTIF(C13:AG13,"Rec")+COUNTIF(C13:AG13,"F")+COUNTIF(C13:AG13,"TT")+COUNTIF(C13:AG13,"CS")+COUNTIF(C13:AG13,"PE"-1)+COUNTIF(C13:AG13,"DRTT")/2)+COUNTIF(C13:AG13,"DREC")/2)+COUNTIF(C13:AG13,"DEM")/2 -> 0 | AI13: =COUNTIF(C13:AG13,"RTT")+COUNTIF(C13:AG13,"DRTT")/2 -> 0 | AJ13: =COUNTIF(C13:AG13,"M") -> 0 | AK13: =Février!AK13-Mars[[#This Row],[Dont RTT]]+2 -> 8.93
AH14: =(COUNTIF(C14:AG14,"C")+(COUNTIF(C14:AG14,"EM")+COUNTIF(C14:AG14,"RTT")+COUNTIF(C14:AG14,"M")+COUNTIF(C14:AG14,"Rec")+COUNTIF(C14:AG14,"F")+COUNTIF(C14:AG14,"TT")+COUNTIF(C14:AG14,"CS")+COUNTIF(C14:AG14,"PE"-1)+COUNTIF(C14:AG14,"DRTT")/2)+COUNTIF(C14:AG14,"DREC")/2)+COUNTIF(C14:AG14,"DEM")/2 -> 0 | AI14: =COUNTIF(C14:AG14,"RTT")+COUNTIF(C14:AG14,"DRTT")/2 -> 0 | AJ14: =COUNTIF(C14:AG14,"M") -> 0 | AK14: =Février!AK14-Mars[[#This Row],[Dont RTT]]+2 -> 8.5
AH15: =(COUNTIF(C15:AG15,"C")+(COUNTIF(C15:AG15,"EM")+COUNTIF(C15:AG15,"RTT")+COUNTIF(C15:AG15,"M")+COUNTIF(C15:AG15,"Rec")+COUNTIF(C15:AG15,"F")+COUNTIF(C15:AG15,"TT")+COUNTIF(C15:AG15,"CS")+COUNTIF(C15:AG15,"PE"-1)+COUNTIF(C15:AG15,"DRTT")/2)+COUNTIF(C15:AG15,"DREC")/2)+COUNTIF(C15:AG15,"DEM")/2 -> 0 | AI15: =COUNTIF(C15:AG15,"RTT")+COUNTIF(C15:AG15,"DRTT")/2 -> 0 | AJ15: =COUNTIF(C15:AG15,"M") -> 0 | AK15: =Février!AK15-Mars[[#This Row],[Dont RTT]]+2 -> 11.5
AH16: =(COUNTIF(C16:AG16,"C")+(COUNTIF(C16:AG16,"EM")+COUNTIF(C16:AG16,"RTT")+COUNTIF(C16:AG16,"M")+COUNTIF(C16:AG16,"Rec")+COUNTIF(C16:AG16,"F")+COUNTIF(C16:AG16,"TT")+COUNTIF(C16:AG16,"CS")+COUNTIF(C16:AG16,"PE"-1)+COUNTIF(C16:AG16,"DRTT")/2)+COUNTIF(C16:AG16,"DREC")/2)+COUNTIF(C16:AG16,"DEM")/2 -> 0 | AI16: =COUNTIF(C16:AG16,"RTT")+COUNTIF(C16:AG16,"DRTT")/2 -> 0 | AJ16: =COUNTIF(C16:AG16,"M") -> 0 | AK16: =Février!AK16-Mars[[#This Row],[Dont RTT]]+2 -> 8.16
AH17: =(COUNTIF(C17:AG17,"C")+(COUNTIF(C17:AG17,"EM")+COUNTIF(C17:AG17,"RTT")+COUNTIF(C17:AG17,"M")+COUNTIF(C17:AG17,"Rec")+COUNTIF(C17:AG17,"F")+COUNTIF(C17:AG17,"TT")+COUNTIF(C17:AG17,"CS")+COUNTIF(C17:AG17,"PE"-1)+COUNTIF(C17:AG17,"DRTT")/2)+COUNTIF(C17:AG17,"DREC")/2)+COUNTIF(C17:AG17,"DEM")/2 -> 0 | AI17: =COUNTIF(C17:AG17,"RTT")+COUNTIF(C17:AG17,"DRTT")/2 -> 0 | AJ17: =COUNTIF(C17:AG17,"M") -> 0 | AK17: =Février!AK17-Mars[[#This Row],[Dont RTT]]+2 -> 17
AH18: =(COUNTIF(C18:AG18,"C")+(COUNTIF(C18:AG18,"EM")+COUNTIF(C18:AG18,"RTT")+COUNTIF(C18:AG18,"M")+COUNTIF(C18:AG18,"Rec")+COUNTIF(C18:AG18,"F")+COUNTIF(C18:AG18,"TT")+COUNTIF(C18:AG18,"CS")+COUNTIF(C18:AG18,"PE"-1)+COUNTIF(C18:AG18,"DRTT")/2)+COUNTIF(C18:AG18,"DREC")/2)+COUNTIF(C18:AG18,"DEM")/2 -> 0 | AI18: =COUNTIF(C18:AG18,"RTT")+COUNTIF(C18:AG18,"DRTT")/2 -> 0 | AJ18: =COUNTIF(C18:AG18,"M") -> 0 | AK18: =Février!AK18-Mars[[#This Row],[Dont RTT]]+2 -> 8.5
B19: =NomMois&" Total" -> Mars Total | C19: =(COUNTIF(C8:C18,"C")+(COUNTIF(C8:C18,"CS")+COUNTIF(C8:C18,"RTT")+(COUNTIF(C8:C18,"DRTT")/2)+COUNTIF(C8:C18,"M")+COUNTIF(C8:C18,"Rec")+(COUNTIF(C8:C18,"Drec")/2)+COUNTIF(C8:C18,"F")+(COUNTIF(C8:C18,"EM")+(COUNTIF(C8:C18,"DEM")/2)))) -> 0 | D19: =(COUNTIF(D8:D18,"C")+(COUNTIF(D8:D18,"CS")+COUNTIF(D8:D18,"RTT")+(COUNTIF(D8:D18,"DRTT")/2)+COUNTIF(D8:D18,"M")+COUNTIF(D8:D18,"Rec")+(COUNTIF(D8:D18,"Drec")/2)+COUNTIF(D8:D18,"F")+(COUNTIF(D8:D18,"EM")+(COUNTIF(D8:D18,"DEM")/2)))) -> 0 | E19: =(COUNTIF(E8:E18,"C")+(COUNTIF(E8:E18,"CS")+COUNTIF(E8:E18,"RTT")+(COUNTIF(E8:E18,"DRTT")/2)+COUNTIF(E8:E18,"M")+COUNTIF(E8:E18,"Rec")+(COUNTIF(E8:E18,"Drec")/2)+COUNTIF(E8:E18,"F")+(COUNTIF(E8:E18,"EM")+(COUNTIF(E8:E18,"DEM")/2)))) -> 0 | F19: =(COUNTIF(F8:F18,"C")+(COUNTIF(F8:F18,"CS")+COUNTIF(F8:F18,"RTT")+(COUNTIF(F8:F18,"DRTT")/2)+COUNTIF(F8:F18,"M")+COUNTIF(F8:F18,"Rec")+(COUNTIF(F8:F18,"Drec")/2)+COUNTIF(F8:F18,"F")+(COUNTIF(F8:F18,"EM")+(COUNTIF(F8:F18,"DEM")/2)))) -> 0 | G19: =(COUNTIF(G8:G18,"C")+(COUNTIF(G8:G18,"CS")+COUNTIF(G8:G18,"RTT")+(COUNTIF(G8:G18,"DRTT")/2)+COUNTIF(G8:G18,"M")+COUNTIF(G8:G18,"Rec")+(COUNTIF(G8:G18,"Drec")/2)+COUNTIF(G8:G18,"F")+(COUNTIF(G8:G18,"EM")+(COUNTIF(G8:G18,"DEM")/2)))) -> 0 | H19: =(COUNTIF(H8:H18,"C")+(COUNTIF(H8:H18,"CS")+COUNTIF(H8:H18,"RTT")+(COUNTIF(H8:H18,"DRTT")/2)+COUNTIF(H8:H18,"M")+COUNTIF(H8:H18,"Rec")+(COUNTIF(H8:H18,"Drec")/2)+COUNTIF(H8:H18,"F")+(COUNTIF(H8:H18,"EM")+(COUNTIF(H8:H18,"DEM")/2)))) -> 0 | I19: =(COUNTIF(I8:I18,"C")+(COUNTIF(I8:I18,"CS")+COUNTIF(I8:I18,"RTT")+(COUNTIF(I8:I18,"DRTT")/2)+COUNTIF(I8:I18,"M")+COUNTIF(I8:I18,"Rec")+(COUNTIF(I8:I18,"Drec")/2)+COUNTIF(I8:I18,"F")+(COUNTIF(I8:I18,"EM")+(COUNTIF(I8:I18,"DEM")/2)))) -> 0 | J19: =(COUNTIF(J8:J18,"C")+(COUNTIF(J8:J18,"CS")+COUNTIF(J8:J18,"RTT")+(COUNTIF(J8:J18,"DRTT")/2)+COUNTIF(J8:J18,"M")+COUNTIF(J8:J18,"Rec")+(COUNTIF(J8:J18,"Drec")/2)+COUNTIF(J8:J18,"F")+(COUNTIF(J8:J18,"EM")+(COUNTIF(J8:J18,"DEM")/2)))) -> 0 | ... AG19: =(COUNTIF(AG8:AG18,"C")+(COUNTIF(AG8:AG18,"CS")+COUNTIF(AG8:AG18,"RTT")+(COUNTIF(AG8:AG18,"DRTT")/2)+COUNTIF(AG8:AG18,"M")+COUNTIF(AG8:AG18,"Rec")+(COUNTIF(AG8:AG18,"Drec")/2)+COUNTIF(AG8:AG18,"F")+(COUNTIF(AG8:AG18,"EM")+(COUNTIF(AG8:AG18,"DEM")/2)))) -> 0 | AH19: =SUBTOTAL(109,Mars[Total absence]) -> 0 | AI19: =SUBTOTAL(109,Mars[Dont RTT]) -> 0 | AJ19: =SUBTOTAL(109,Mars[Dont MALADIE]) -> 0

Sheet Avril
B1: =Titre_Absence_Employé -> Calendrier des absences des employés
C2: CS | D2: Congé spéc. | F2: DRTT | G2: Demi RTT | I2: DREC | J2: Demi récup | P2: PE | Q2: Présence exceptionnelle | V2: DEM | W2: Demi journée EM | Z2: NT | AA2: Non travaillé
B3: Clé de motif d’absence | C3: C | D3: Congé | F3: RTT | G3: RTT | I3: Rec | J3: Récupération | M3: F | N3: Formation | P3: TT | Q3: Télétravail | S3: M | T3: Maladie | V3: EM | W3: Enfant malade | Z3: AJ | AA3: Absence justifiée
B5: Avril | C5: Dates d’absence | AK5: =AnnéeCalendrier -> 2021
C6: =TEXT(WEEKDAY(DATE(AnnéeCalendrier,4,1),1),"jjj") -> jeu | D6: =TEXT(WEEKDAY(DATE(AnnéeCalendrier,4,2),1),"jjj") -> ven | E6: =TEXT(WEEKDAY(DATE(AnnéeCalendrier,4,3),1),"jjj") -> sam | F6: =TEXT(WEEKDAY(DATE(AnnéeCalendrier,4,4),1),"jjj") -> dim | G6: =TEXT(WEEKDAY(DATE(AnnéeCalendrier,4,5),1),"jjj") -> lun | H6: =TEXT(WEEKDAY(DATE(AnnéeCalendrier,4,6),1),"jjj") -> mar | I6: =TEXT(WEEKDAY(DATE(AnnéeCalendrier,4,7),1),"jjj") -> mer | J6: =TEXT(WEEKDAY(DATE(AnnéeCalendrier,4,8),1),"jjj") -> jeu | K6: =TEXT(WEEKDAY(DATE(AnnéeCalendrier,4,9),1),"jjj") -> ven | L6: =TEXT(WEEKDAY(DATE(AnnéeCalendrier,4,10),1),"jjj") -> sam | M6: =TEXT(WEEKDAY(DATE(AnnéeCalendrier,4,11),1),"jjj") -> dim | N6: =TEXT(WEEKDAY(DATE(AnnéeCalendrier,4,12),1),"jjj") -> lun | O6: =TEXT(WEEKDAY(DATE(AnnéeCalendrier,4,13),1),"jjj") -> mar | P6: =TEXT(WEEKDAY(DATE(AnnéeCalendrier,4,14),1),"jjj") -> mer | Q6: =TEXT(WEEKDAY(DATE(AnnéeCalendrier,4,15),1),"jjj") -> jeu | R6: =TEXT(WEEKDAY(DATE(AnnéeCalendrier,4,16),1),"jjj") -> ven | S6: =TEXT(WEEKDAY(DATE(AnnéeCalendrier,4,17),1),"jjj") -> sam | T6: =TEXT(WEEKDAY(DATE(AnnéeCalendrier,4,18),1),"jjj") -> dim | U6: =TEXT(WEEKDAY(DATE(AnnéeCalendrier,4,19),1),"jjj") -> lun | V6: =TEXT(WEEKDAY(DATE(AnnéeCalendrier,4,20),1),"jjj") -> mar | W6: =TEXT(WEEKDAY(DATE(AnnéeCalendrier,4,21),1),"jjj") -> mer | X6: =TEXT(WEEKDAY(DATE(AnnéeCalendrier,4,22),1),"jjj") -> jeu | Y6: =TEXT(WEEKDAY(DATE(AnnéeCalendrier,4,23),1),"jjj") -> ven | Z6: =TEXT(WEEKDAY(DATE(AnnéeCalendrier,4,24),1),"jjj") -> sam | AA6: =TEXT(WEEKDAY(DATE(AnnéeCalendrier,4,25),1),"jjj") -> dim | AB6: =TEXT(WEEKDAY(DATE(AnnéeCalendrier,4,26),1),"jjj") -> lun | AC6: =TEXT(WEEKDAY(DATE(AnnéeCalendrier,4,27),1),"jjj") -> mar | AD6: =TEXT(WEEKDAY(DATE(AnnéeCalendrier,4,28),1),"jjj") -> mer | AE6: =TEXT(WEEKDAY(DATE(AnnéeCalendrier,4,29),1),"jjj") -> jeu | AF6: =TEXT(WEEKDAY(DATE(AnnéeCalendrier,4,30),1),"jjj") -> ven
B7: Nom de l’employé | C7: 1 | D7: 2 | E7: 3 | F7: 4 | G7: 5 | H7: 6 | I7: 7 | J7: 8 | K7: 9 | L7: 10 | M7: 11 | N7: 12 | O7: 13 | P7: 14 | Q7: 15 | R7: 16 | S7: 17 | T7: 18 | U7: 19 | V7: 20 | W7: 21 | X7: 22 | Y7: 23 | Z7: 24 | AA7: 25 | AB7: 26 | AC7: 27 | AD7: 28 | AE7: 29 | AF7: 30 | AH7: Total absence | AI7: Dont RTT | AJ7: Dont MALADIE | AK7: Solde RTT disponible au 01/05/2021
AH8: =(COUNTIF(C8:AG8,"C")+(COUNTIF(C8:AG8,"EM")+COUNTIF(C8:AG8,"RTT")+COUNTIF(C8:AG8,"M")+COUNTIF(C8:AG8,"Rec")+COUNTIF(C8:AG8,"F")+COUNTIF(C8:AG8,"TT"-1)+COUNTIF(C8:AG8,"CS")+COUNTIF(C8:AG8,"PE"-1)+COUNTIF(C8:AG8,"DRTT")/2)+COUNTIF(C8:AG8,"DREC")/2)+COUNTIF(C8:AG8,"DEM")/2 -> 0 | AI8: =COUNTIF(C8:AG8,"RTT")+COUNTIF(C8:AG8,"DRTT")/2 -> 0 | AJ8: =COUNTIF(C8:AG8,"MALADIE") -> 0
AH9: =(COUNTIF(C9:AG9,"C")+(COUNTIF(C9:AG9,"EM")+COUNTIF(C9:AG9,"RTT")+COUNTIF(C9:AG9,"M")+COUNTIF(C9:AG9,"Rec")+COUNTIF(C9:AG9,"F")+COUNTIF(C9:AG9,"TT"-1)+COUNTIF(C9:AG9,"CS")+COUNTIF(C9:AG9,"PE"-1)+COUNTIF(C9:AG9,"DRTT")/2)+COUNTIF(C9:AG9,"DREC")/2)+COUNTIF(C9:AG9,"DEM")/2 -> 0 | AI9: =COUNTIF(C9:AG9,"RTT")+COUNTIF(C9:AG9,"DRTT")/2 -> 0 | AJ9: =COUNTIF(C9:AG9,"MALADIE") -> 0 | AK9: =Mars!AK9-Avril[[#This Row],[Dont RTT]]+2 -> 11
AH10: =(COUNTIF(C10:AG10,"C")+(COUNTIF(C10:AG10,"EM")+COUNTIF(C10:AG10,"RTT")+COUNTIF(C10:AG10,"M")+COUNTIF(C10:AG10,"Rec")+COUNTIF(C10:AG10,"F")+COUNTIF(C10:AG10,"TT"-1)+COUNTIF(C10:AG10,"CS")+COUNTIF(C10:AG10,"PE"-1)+COUNTIF(C10:AG10,"DRTT")/2)+COUNTIF(C10:AG10,"DREC")/2)+COUNTIF(C10:AG10,"DEM")/2 -> 0 | AI10: =COUNTIF(C10:AG10,"RTT")+COUNTIF(C10:AG10,"DRTT")/2 -> 0 | AJ10: =COUNTIF(C10:AG10,"M") -> 0 | AK10: =Mars!AK10-Avril[[#This Row],[Dont RTT]]+2 -> 19
AH11: =(COUNTIF(C11:AG11,"C")+(COUNTIF(C11:AG11,"EM")+COUNTIF(C11:AG11,"RTT")+COUNTIF(C11:AG11,"M")+COUNTIF(C11:AG11,"Rec")+COUNTIF(C11:AG11,"F")+COUNTIF(C11:AG11,"TT"-1)+COUNTIF(C11:AG11,"CS")+COUNTIF(C11:AG11,"PE"-1)+COUNTIF(C11:AG11,"DRTT")/2)+COUNTIF(C11:AG11,"DREC")/2)+COUNTIF(C11:AG11,"DEM")/2 -> 0 | AI11: =COUNTIF(C11:AG11,"RTT")+COUNTIF(C11:AG11,"DRTT")/2 -> 0 | AJ11: =COUNTIF(C11:AG11,"M") -> 0
AH12: =(COUNTIF(C12:AG12,"C")+(COUNTIF(C12:AG12,"EM")+COUNTIF(C12:AG12,"RTT")+COUNTIF(C12:AG12,"M")+COUNTIF(C12:AG12,"Rec")+COUNTIF(C12:AG12,"F")+COUNTIF(C12:AG12,"TT"-1)+COUNTIF(C12:AG12,"CS")+COUNTIF(C12:AG12,"PE"-1)+COUNTIF(C12:AG12,"DRTT")/2)+COUNTIF(C12:AG12,"DREC")/2)+COUNTIF(C12:AG12,"DEM")/2 -> 0 | AI12: =COUNTIF(C12:AG12,"RTT")+COUNTIF(C12:AG12,"DRTT")/2 -> 0 | AJ12: =COUNTIF(C12:AG12,"M") -> 0
AH13: =(COUNTIF(C13:AG13,"C")+(COUNTIF(C13:AG13,"EM")+COUNTIF(C13:AG13,"RTT")+COUNTIF(C13:AG13,"M")+COUNTIF(C13:AG13,"Rec")+COUNTIF(C13:AG13,"F")+COUNTIF(C13:AG13,"TT"-1)+COUNTIF(C13:AG13,"CS")+COUNTIF(C13:AG13,"PE"-1)+COUNTIF(C13:AG13,"DRTT")/2)+COUNTIF(C13:AG13,"DREC")/2)+COUNTIF(C13:AG13,"DEM")/2 -> 0 | AI13: =COUNTIF(C13:AG13,"RTT")+COUNTIF(C13:AG13,"DRTT")/2 -> 0 | AJ13: =COUNTIF(C13:AG13,"M") -> 0 | AK13: =Mars!AK13-Avril[[#This Row],[Dont RTT]]+2 -> 10.93
AH14: =(COUNTIF(C14:AG14,"C")+(COUNTIF(C14:AG14,"EM")+COUNTIF(C14:AG14,"RTT")+COUNTIF(C14:AG14,"M")+COUNTIF(C14:AG14,"Rec")+COUNTIF(C14:AG14,"F")+COUNTIF(C14:AG14,"TT"-1)+COUNTIF(C14:AG14,"CS")+COUNTIF(C14:AG14,"PE"-1)+COUNTIF(C14:AG14,"DRTT")/2)+COUNTIF(C14:AG14,"DREC")/2)+COUNTIF(C14:AG14,"DEM")/2 -> 0 | AI14: =COUNTIF(C14:AG14,"RTT")+COUNTIF(C14:AG14,"DRTT")/2 -> 0 | AJ14: =COUNTIF(C14:AG14,"M") -> 0 | AK14: =Mars!AK14-Avril[[#This Row],[Dont RTT]]+2 -> 10.5
AH15: =(COUNTIF(C15:AG15,"C")+(COUNTIF(C15:AG15,"EM")+COUNTIF(C15:AG15,"RTT")+COUNTIF(C15:AG15,"M")+COUNTIF(C15:AG15,"Rec")+COUNTIF(C15:AG15,"F")+COUNTIF(C15:AG15,"TT"-1)+COUNTIF(C15:AG15,"CS")+COUNTIF(C15:AG15,"PE"-1)+COUNTIF(C15:AG15,"DRTT")/2)+COUNTIF(C15:AG15,"DREC")/2)+COUNTIF(C15:AG15,"DEM")/2 -> 0 | AI15: =COUNTIF(C15:AG15,"RTT")+COUNTIF(C15:AG15,"DRTT")/2 -> 0 | AJ15: =COUNTIF(C15:AG15,"M") -> 0 | AK15: =Mars!AK15-Avril[[#This Row],[Dont RTT]]+2 -> 13.5
AH16: =(COUNTIF(C16:AG16,"C")+(COUNTIF(C16:AG16,"EM")+COUNTIF(C16:AG16,"RTT")+COUNTIF(C16:AG16,"M")+COUNTIF(C16:AG16,"Rec")+COUNTIF(C16:AG16,"F")+COUNTIF(C16:AG16,"TT"-1)+COUNTIF(C16:AG16,"CS")+COUNTIF(C16:AG16,"PE"-1)+COUNTIF(C16:AG16,"DRTT")/2)+COUNTIF(C16:AG16,"DREC")/2)+COUNTIF(C16:AG16,"DEM")/2 -> 0 | AI16: =COUNTIF(C16:AG16,"RTT")+COUNTIF(C16:AG16,"DRTT")/2 -> 0 | AJ16: =COUNTIF(C16:AG16,"M") -> 0 | AK16: =Mars!AK16-Avril[[#This Row],[Dont RTT]]+2 -> 10.16
AH17: =(COUNTIF(C17:AG17,"C")+(COUNTIF(C17:AG17,"EM")+COUNTIF(C17:AG17,"RTT")+COUNTIF(C17:AG17,"M")+COUNTIF(C17:AG17,"Rec")+COUNTIF(C17:AG17,"F")+COUNTIF(C17:AG17,"TT"-1)+COUNTIF(C17:AG17,"CS")+COUNTIF(C17:AG17,"PE"-1)+COUNTIF(C17:AG17,"DRTT")/2)+COUNTIF(C17:AG17,"DREC")/2)+COUNTIF(C17:AG17,"DEM")/2 -> 0 | AI17: =COUNTIF(C17:AG17,"RTT")+COUNTIF(C17:AG17,"DRTT")/2 -> 0 | AJ17: =COUNTIF(C17:AG17,"M") -> 0 | AK17: =Mars!AK17-Avril[[#This Row],[Dont RTT]]+2 -> 19
AH18: =(COUNTIF(C18:AG18,"C")+(COUNTIF(C18:AG18,"EM")+COUNTIF(C18:AG18,"RTT")+COUNTIF(C18:AG18,"M")+COUNTIF(C18:AG18,"Rec")+COUNTIF(C18:AG18,"F")+COUNTIF(C18:AG18,"TT"-1)+COUNTIF(C18:AG18,"CS")+COUNTIF(C18:AG18,"PE"-1)+COUNTIF(C18:AG18,"DRTT")/2)+COUNTIF(C18:AG18,"DREC")/2)+COUNTIF(C18:AG18,"DEM")/2 -> 0 | AI18: =COUNTIF(C18:AG18,"RTT")+COUNTIF(C18:AG18,"DRTT")/2 -> 0 | AJ18: =COUNTIF(C18:AG18,"M") -> 0 | AK18: =Mars!AK18-Avril[[#This Row],[Dont RTT]]+2 -> 10.5
B19: =NomMois&" Total" -> Avril Total | C19: =(COUNTIF(C8:C18,"C")+(COUNTIF(C8:C18,"CS")+COUNTIF(C8:C18,"RTT")+(COUNTIF(C8:C18,"DRTT")/2)+COUNTIF(C8:C18,"M")+COUNTIF(C8:C18,"Rec")+(COUNTIF(C8:C18,"Drec")/2)+COUNTIF(C8:C18,"F")+(COUNTIF(C8:C18,"EM")+(COUNTIF(C8:C18,"DEM")/2)))) -> 0 | D19: =(COUNTIF(D8:D18,"C")+(COUNTIF(D8:D18,"CS")+COUNTIF(D8:D18,"RTT")+(COUNTIF(D8:D18,"DRTT")/2)+COUNTIF(D8:D18,"M")+COUNTIF(D8:D18,"Rec")+(COUNTIF(D8:D18,"Drec")/2)+COUNTIF(D8:D18,"F")+(COUNTIF(D8:D18,"EM")+(COUNTIF(D8:D18,"DEM")/2)))) -> 0 | E19: =(COUNTIF(E8:E18,"C")+(COUNTIF(E8:E18,"CS")+COUNTIF(E8:E18,"RTT")+(COUNTIF(E8:E18,"DRTT")/2)+COUNTIF(E8:E18,"M")+COUNTIF(E8:E18,"Rec")+(COUNTIF(E8:E18,"Drec")/2)+COUNTIF(E8:E18,"F")+(COUNTIF(E8:E18,"EM")+(COUNTIF(E8:E18,"DEM")/2)))) -> 0 | F19: =(COUNTIF(F8:F18,"C")+(COUNTIF(F8:F18,"CS")+COUNTIF(F8:F18,"RTT")+(COUNTIF(F8:F18,"DRTT")/2)+COUNTIF(F8:F18,"M")+COUNTIF(F8:F18,"Rec")+(COUNTIF(F8:F18,"Drec")/2)+COUNTIF(F8:F18,"F")+(COUNTIF(F8:F18,"EM")+(COUNTIF(F8:F18,"DEM")/2)))) -> 0 | G19: =(COUNTIF(G8:G18,"C")+(COUNTIF(G8:G18,"CS")+COUNTIF(G8:G18,"RTT")+(COUNTIF(G8:G18,"DRTT")/2)+COUNTIF(G8:G18,"M")+COUNTIF(G8:G18,"Rec")+(COUNTIF(G8:G18,"Drec")/2)+COUNTIF(G8:G18,"F")+(COUNTIF(G8:G18,"EM")+(COUNTIF(G8:G18,"DEM")/2)))) -> 0 | H19: =(COUNTIF(H8:H18,"C")+(COUNTIF(H8:H18,"CS")+COUNTIF(H8:H18,"RTT")+(COUNTIF(H8:H18,"DRTT")/2)+COUNTIF(H8:H18,"M")+COUNTIF(H8:H18,"Rec")+(COUNTIF(H8:H18,"Drec")/2)+COUNTIF(H8:H18,"F")+(COUNTIF(H8:H18,"EM")+(COUNTIF(H8:H18,"DEM")/2)))) -> 0 | I19: =(COUNTIF(I8:I18,"C")+(COUNTIF(I8:I18,"CS")+COUNTIF(I8:I18,"RTT")+(COUNTIF(I8:I18,"DRTT")/2)+COUNTIF(I8:I18,"M")+COUNTIF(I8:I18,"Rec")+(COUNTIF(I8:I18,"Drec")/2)+COUNTIF(I8:I18,"F")+(COUNTIF(I8:I18,"EM")+(COUNTIF(I8:I18,"DEM")/2)))) -> 0 | J19: =(COUNTIF(J8:J18,"C")+(COUNTIF(J8:J18,"CS")+COUNTIF(J8:J18,"RTT")+(COUNTIF(J8:J18,"DRTT")/2)+COUNTIF(J8:J18,"M")+COUNTIF(J8:J18,"Rec")+(COUNTIF(J8:J18,"Drec")/2)+COUNTIF(J8:J18,"F")+(COUNTIF(J8:J18,"EM")+(COUNTIF(J8:J18,"DEM")/2)))) -> 0 | ... AG19: =(COUNTIF(AG8:AG18,"C")+(COUNTIF(AG8:AG18,"CS")+COUNTIF(AG8:AG18,"RTT")+(COUNTIF(AG8:AG18,"DRTT")/2)+COUNTIF(AG8:AG18,"M")+COUNTIF(AG8:AG18,"Rec")+(COUNTIF(AG8:AG18,"Drec")/2)+COUNTIF(AG8:AG18,"F")+(COUNTIF(AG8:AG18,"EM")+(COUNTIF(AG8:AG18,"DEM")/2)))) -> 0 | AH19: =SUBTOTAL(109,Avril[Total absence]) -> 0 | AI19: =SUBTOTAL(109,Avril[Dont RTT]) -> 0 | AJ19: =SUBTOTAL(109,Avril[Dont MALADIE]) -> 0

Sheet Mai
B1: =Titre_Absence_Employé -> Calendrier des absences des employés
C2: CS | D2: Congé spéc. | F2: DRTT | G2: Demi RTT | I2: DREC | J2: Demi récup | P2: PE | Q2: Présence exceptionnelle | V2: DEM | W2: Demi journée EM | Z2: NT | AA2: Non travaillé
B3: Clé de motif d’absence | C3: C | D3: Congé | F3: RTT | G3: RTT | I3: Rec | J3: Récupération | M3: F | N3: Formation | P3: TT | Q3: Télétravail | S3: M | T3: Maladie | V3: EM | W3: Enfant malade | Z3: AJ | AA3: Absence justifiée
B5: Mai | C5: Dates d’absence | AK5: =AnnéeCalendrier -> 2021
C6: =TEXT(WEEKDAY(DATE(AnnéeCalendrier,5,1),1),"jjj") -> sam | D6: =TEXT(WEEKDAY(DATE(AnnéeCalendrier,5,2),1),"jjj") -> dim | E6: =TEXT(WEEKDAY(DATE(AnnéeCalendrier,5,3),1),"jjj") -> lun | F6: =TEXT(WEEKDAY(DATE(AnnéeCalendrier,5,4),1),"jjj") -> mar | G6: =TEXT(WEEKDAY(DATE(AnnéeCalendrier,5,5),1),"jjj") -> mer | H6: =TEXT(WEEKDAY(DATE(AnnéeCalendrier,5,6),1),"jjj") -> jeu | I6: =TEXT(WEEKDAY(DATE(AnnéeCalendrier,5,7),1),"jjj") -> ven | J6: =TEXT(WEEKDAY(DATE(AnnéeCalendrier,5,8),1),"jjj") -> sam | K6: =TEXT(WEEKDAY(DATE(AnnéeCalendrier,5,9),1),"jjj") -> dim | L6: =TEXT(WEEKDAY(DATE(AnnéeCalendrier,5,10),1),"jjj") -> lun | M6: =TEXT(WEEKDAY(DATE(AnnéeCalendrier,5,11),1),"jjj") -> mar | N6: =TEXT(WEEKDAY(DATE(AnnéeCalendrier,5,12),1),"jjj") -> mer | O6: =TEXT(WEEKDAY(DATE(AnnéeCalendrier,5,13),1),"jjj") -> jeu | P6: =TEXT(WEEKDAY(DATE(AnnéeCalendrier,5,14),1),"jjj") -> ven | Q6: =TEXT(WEEKDAY(DATE(AnnéeCalendrier,5,15),1),"jjj") -> sam | R6: =TEXT(WEEKDAY(DATE(AnnéeCalendrier,5,16),1),"jjj") -> dim | S6: =TEXT(WEEKDAY(DATE(AnnéeCalendrier,5,17),1),"jjj") -> lun | T6: =TEXT(WEEKDAY(DATE(AnnéeCalendrier,5,18),1),"jjj") -> mar | U6: =TEXT(WEEKDAY(DATE(AnnéeCalendrier,5,19),1),"jjj") -> mer | V6: =TEXT(WEEKDAY(DATE(AnnéeCalendrier,5,20),1),"jjj") -> jeu | W6: =TEXT(WEEKDAY(DATE(AnnéeCalendrier,5,21),1),"jjj") -> ven | X6: =TEXT(WEEKDAY(DATE(AnnéeCalendrier,5,22),1),"jjj") -> sam | Y6: =TEXT(WEEKDAY(DATE(AnnéeCalendrier,5,23),1),"jjj") -> dim | Z6: =TEXT(WEEKDAY(DATE(AnnéeCalendrier,5,24),1),"jjj") -> lun | AA6: =TEXT(WEEKDAY(DATE(AnnéeCalendrier,5,25),1),"jjj") -> mar | AB6: =TEXT(WEEKDAY(DATE(AnnéeCalendrier,5,26),1),"jjj") -> mer | AC6: =TEXT(WEEKDAY(DATE(AnnéeCalendrier,5,27),1),"jjj") -> jeu | AD6: =TEXT(WEEKDAY(DATE(AnnéeCalendrier,5,28),1),"jjj") -> ven | AE6: =TEXT(WEEKDAY(DATE(AnnéeCalendrier,5,29),1),"jjj") -> sam | AF6: =TEXT(WEEKDAY(DATE(AnnéeCalendrier,5,30),1),"jjj") -> dim | AG6: =TEXT(WEEKDAY(DATE(AnnéeCalendrier,5,31),1),"jjj") -> lun
B7: Nom de l’employé | C7: 1 | D7: 2 | E7: 3 | F7: 4 | G7: 5 | H7: 6 | I7: 7 | J7: 8 | K7: 9 | L7: 10 | M7: 11 | N7: 12 | O7: 13 | P7: 14 | Q7: 15 | R7: 16 | S7: 17 | T7: 18 | U7: 19 | V7: 20 | W7: 21 | X7: 22 | Y7: 23 | Z7: 24 | AA7: 25 | AB7: 26 | AC7: 27 | AD7: 28 | AE7: 29 | AF7: 30 | AG7: 31 | AH7: Total absence | AI7: Dont RTT | AJ7: Dont MALADIE | AK7: Solde RTT disponible au 01/06/2021
AH8: =(COUNTIF(C8:AG8,"C")+(COUNTIF(C8:AG8,"EM")+COUNTIF(C8:AG8,"RTT")+COUNTIF(C8:AG8,"M")+COUNTIF(C8:AG8,"Rec")+COUNTIF(C8:AG8,"F")+COUNTIF(C8:AG8,"TT"-1)+COUNTIF(C8:AG8,"CS")+COUNTIF(C8:AG8,"PE"-1)+COUNTIF(C8:AG8,"DRTT")/2)+COUNTIF(C8:AG8,"DREC")/2)+COUNTIF(C8:AG8,"DEM")/2 -> 0 | AI8: =COUNTIF(C8:AG8,"RTT")+COUNTIF(C8:AG8,"DRTT")/2 -> 0 | AJ8: =COUNTIF(C8:AG8,"MALADIE") -> 0
AH9: =(COUNTIF(C9:AG9,"C")+(COUNTIF(C9:AG9,"EM")+COUNTIF(C9:AG9,"RTT")+COUNTIF(C9:AG9,"M")+COUNTIF(C9:AG9,"Rec")+COUNTIF(C9:AG9,"F")+COUNTIF(C9:AG9,"TT"-1)+COUNTIF(C9:AG9,"CS")+COUNTIF(C9:AG9,"PE"-1)+COUNTIF(C9:AG9,"DRTT")/2)+COUNTIF(C9:AG9,"DREC")/2)+COUNTIF(C9:AG9,"DEM")/2 -> 0 | AI9: =COUNTIF(C9:AG9,"RTT")+COUNTIF(C9:AG9,"DRTT")/2 -> 0 | AJ9: =COUNTIF(C9:AG9,"MALADIE") -> 0 | AK9: =Avril!AK9-Mai[[#This Row],[Dont RTT]]+2 -> 13
AH10: =(COUNTIF(C10:AG10,"C")+(COUNTIF(C10:AG10,"EM")+COUNTIF(C10:AG10,"RTT")+COUNTIF(C10:AG10,"M")+COUNTIF(C10:AG10,"Rec")+COUNTIF(C10:AG10,"F")+COUNTIF(C10:AG10,"TT"-1)+COUNTIF(C10:AG10,"CS")+COUNTIF(C10:AG10,"PE"-1)+COUNTIF(C10:AG10,"DRTT")/2)+COUNTIF(C10:AG10,"DREC")/2)+COUNTIF(C10:AG10,"DEM")/2 -> 0 | AI10: =COUNTIF(C10:AG10,"RTT")+COUNTIF(C10:AG10,"DRTT")/2 -> 0 | AJ10: =COUNTIF(C10:AG10,"M") -> 0 | AK10: =Avril!AK10-Mai[[#This Row],[Dont RTT]]+2 -> 21
AH11: =(COUNTIF(C11:AG11,"C")+(COUNTIF(C11:AG11,"EM")+COUNTIF(C11:AG11,"RTT")+COUNTIF(C11:AG11,"M")+COUNTIF(C11:AG11,"Rec")+COUNTIF(C11:AG11,"F")+COUNTIF(C11:AG11,"TT"-1)+COUNTIF(C11:AG11,"CS")+COUNTIF(C11:AG11,"PE"-1)+COUNTIF(C11:AG11,"DRTT")/2)+COUNTIF(C11:AG11,"DREC")/2)+COUNTIF(C11:AG11,"DEM")/2 -> 0 | AI11: =COUNTIF(C11:AG11,"RTT")+COUNTIF(C11:AG11,"DRTT")/2 -> 0 | AJ11: =COUNTIF(C11:AG11,"M") -> 0
AH12: =(COUNTIF(C12:AG12,"C")+(COUNTIF(C12:AG12,"EM")+COUNTIF(C12:AG12,"RTT")+COUNTIF(C12:AG12,"M")+COUNTIF(C12:AG12,"Rec")+COUNTIF(C12:AG12,"F")+COUNTIF(C12:AG12,"TT"-1)+COUNTIF(C12:AG12,"CS")+COUNTIF(C12:AG12,"PE"-1)+COUNTIF(C12:AG12,"DRTT")/2)+COUNTIF(C12:AG12,"DREC")/2)+COUNTIF(C12:AG12,"DEM")/2 -> 0 | AI12: =COUNTIF(C12:AG12,"RTT")+COUNTIF(C12:AG12,"DRTT")/2 -> 0 | AJ12: =COUNTIF(C12:AG12,"M") -> 0
AH13: =(COUNTIF(C13:AG13,"C")+(COUNTIF(C13:AG13,"EM")+COUNTIF(C13:AG13,"RTT")+COUNTIF(C13:AG13,"M")+COUNTIF(C13:AG13,"Rec")+COUNTIF(C13:AG13,"F")+COUNTIF(C13:AG13,"TT"-1)+COUNTIF(C13:AG13,"CS")+COUNTIF(C13:AG13,"PE"-1)+COUNTIF(C13:AG13,"DRTT")/2)+COUNTIF(C13:AG13,"DREC")/2)+COUNTIF(C13:AG13,"DEM")/2 -> 0 | AI13: =COUNTIF(C13:AG13,"RTT")+COUNTIF(C13:AG13,"DRTT")/2 -> 0 | AJ13: =COUNTIF(C13:AG13,"M") -> 0 | AK13: =Avril!AK13-Mai[[#This Row],[Dont RTT]]+2 -> 12.93
AH14: =(COUNTIF(C14:AG14,"C")+(COUNTIF(C14:AG14,"EM")+COUNTIF(C14:AG14,"RTT")+COUNTIF(C14:AG14,"M")+COUNTIF(C14:AG14,"Rec")+COUNTIF(C14:AG14,"F")+COUNTIF(C14:AG14,"TT"-1)+COUNTIF(C14:AG14,"CS")+COUNTIF(C14:AG14,"PE"-1)+COUNTIF(C14:AG14,"DRTT")/2)+COUNTIF(C14:AG14,"DREC")/2)+COUNTIF(C14:AG14,"DEM")/2 -> 0 | AI14: =COUNTIF(C14:AG14,"RTT")+COUNTIF(C14:AG14,"DRTT")/2 -> 0 | AJ14: =COUNTIF(C14:AG14,"M") -> 0 | AK14: =Avril!AK14-Mai[[#This Row],[Dont RTT]]+2 -> 12.5
AH15: =(COUNTIF(C15:AG15,"C")+(COUNTIF(C15:AG15,"EM")+COUNTIF(C15:AG15,"RTT")+COUNTIF(C15:AG15,"M")+COUNTIF(C15:AG15,"Rec")+COUNTIF(C15:AG15,"F")+COUNTIF(C15:AG15,"TT"-1)+COUNTIF(C15:AG15,"CS")+COUNTIF(C15:AG15,"PE"-1)+COUNTIF(C15:AG15,"DRTT")/2)+COUNTIF(C15:AG15,"DREC")/2)+COUNTIF(C15:AG15,"DEM")/2 -> 0 | AI15: =COUNTIF(C15:AG15,"RTT")+COUNTIF(C15:AG15,"DRTT")/2 -> 0 | AJ15: =COUNTIF(C15:AG15,"M") -> 0 | AK15: =Avril!AK15-Mai[[#This Row],[Dont RTT]]+2 -> 15.5
AH16: =(COUNTIF(C16:AG16,"C")+(COUNTIF(C16:AG16,"EM")+COUNTIF(C16:AG16,"RTT")+COUNTIF(C16:AG16,"M")+COUNTIF(C16:AG16,"Rec")+COUNTIF(C16:AG16,"F")+COUNTIF(C16:AG16,"TT"-1)+COUNTIF(C16:AG16,"CS")+COUNTIF(C16:AG16,"PE"-1)+COUNTIF(C16:AG16,"DRTT")/2)+COUNTIF(C16:AG16,"DREC")/2)+COUNTIF(C16:AG16,"DEM")/2 -> 0 | AI16: =COUNTIF(C16:AG16,"RTT")+COUNTIF(C16:AG16,"DRTT")/2 -> 0 | AJ16: =COUNTIF(C16:AG16,"M") -> 0 | AK16: =Avril!AK16-Mai[[#This Row],[Dont RTT]]+2 -> 12.16
AH17: =(COUNTIF(C17:AG17,"C")+(COUNTIF(C17:AG17,"EM")+COUNTIF(C17:AG17,"RTT")+COUNTIF(C17:AG17,"M")+COUNTIF(C17:AG17,"Rec")+COUNTIF(C17:AG17,"F")+COUNTIF(C17:AG17,"TT"-1)+COUNTIF(C17:AG17,"CS")+COUNTIF(C17:AG17,"PE"-1)+COUNTIF(C17:AG17,"DRTT")/2)+COUNTIF(C17:AG17,"DREC")/2)+COUNTIF(C17:AG17,"DEM")/2 -> 0 | AI17: =COUNTIF(C17:AG17,"RTT")+COUNTIF(C17:AG17,"DRTT")/2 -> 0 | AJ17: =COUNTIF(C17:AG17,"M") -> 0 | AK17: =Avril!AK17-Mai[[#This Row],[Dont RTT]]+2 -> 21
AH18: =(COUNTIF(C18:AG18,"C")+(COUNTIF(C18:AG18,"EM")+COUNTIF(C18:AG18,"RTT")+COUNTIF(C18:AG18,"M")+COUNTIF(C18:AG18,"Rec")+COUNTIF(C18:AG18,"F")+COUNTIF(C18:AG18,"TT"-1)+COUNTIF(C18:AG18,"CS")+COUNTIF(C18:AG18,"PE"-1)+COUNTIF(C18:AG18,"DRTT")/2)+COUNTIF(C18:AG18,"DREC")/2)+COUNTIF(C18:AG18,"DEM")/2 -> 0 | AI18: =COUNTIF(C18:AG18,"RTT")+COUNTIF(C18:AG18,"DRTT")/2 -> 0 | AJ18: =COUNTIF(C18:AG18,"M") -> 0 | AK18: =Avril!AK18-Mai[[#This Row],[Dont RTT]]+2 -> 12.5
B19: =NomMois&" Total" -> Mai Total | C19: =(COUNTIF(C8:C18,"C")+(COUNTIF(C8:C18,"CS")+COUNTIF(C8:C18,"RTT")+(COUNTIF(C8:C18,"DRTT")/2)+COUNTIF(C8:C18,"M")+COUNTIF(C8:C18,"Rec")+(COUNTIF(C8:C18,"Drec")/2)+COUNTIF(C8:C18,"F")+(COUNTIF(C8:C18,"EM")+(COUNTIF(C8:C18,"DEM")/2)))) -> 0 | D19: =(COUNTIF(D8:D18,"C")+(COUNTIF(D8:D18,"CS")+COUNTIF(D8:D18,"RTT")+(COUNTIF(D8:D18,"DRTT")/2)+COUNTIF(D8:D18,"M")+COUNTIF(D8:D18,"Rec")+(COUNTIF(D8:D18,"Drec")/2)+COUNTIF(D8:D18,"F")+(COUNTIF(D8:D18,"EM")+(COUNTIF(D8:D18,"DEM")/2)))) -> 0 | E19: =(COUNTIF(E8:E18,"C")+(COUNTIF(E8:E18,"CS")+COUNTIF(E8:E18,"RTT")+(COUNTIF(E8:E18,"DRTT")/2)+COUNTIF(E8:E18,"M")+COUNTIF(E8:E18,"Rec")+(COUNTIF(E8:E18,"Drec")/2)+COUNTIF(E8:E18,"F")+(COUNTIF(E8:E18,"EM")+(COUNTIF(E8:E18,"DEM")/2)))) -> 0 | F19: =(COUNTIF(F8:F18,"C")+(COUNTIF(F8:F18,"CS")+COUNTIF(F8:F18,"RTT")+(COUNTIF(F8:F18,"DRTT")/2)+COUNTIF(F8:F18,"M")+COUNTIF(F8:F18,"Rec")+(COUNTIF(F8:F18,"Drec")/2)+COUNTIF(F8:F18,"F")+(COUNTIF(F8:F18,"EM")+(COUNTIF(F8:F18,"DEM")/2)))) -> 0 | G19: =(COUNTIF(G8:G18,"C")+(COUNTIF(G8:G18,"CS")+COUNTIF(G8:G18,"RTT")+(COUNTIF(G8:G18,"DRTT")/2)+COUNTIF(G8:G18,"M")+COUNTIF(G8:G18,"Rec")+(COUNTIF(G8:G18,"Drec")/2)+COUNTIF(G8:G18,"F")+(COUNTIF(G8:G18,"EM")+(COUNTIF(G8:G18,"DEM")/2)))) -> 0 | H19: =(COUNTIF(H8:H18,"C")+(COUNTIF(H8:H18,"CS")+COUNTIF(H8:H18,"RTT")+(COUNTIF(H8:H18,"DRTT")/2)+COUNTIF(H8:H18,"M")+COUNTIF(H8:H18,"Rec")+(COUNTIF(H8:H18,"Drec")/2)+COUNTIF(H8:H18,"F")+(COUNTIF(H8:H18,"EM")+(COUNTIF(H8:H18,"DEM")/2)))) -> 0 | I19: =(COUNTIF(I8:I18,"C")+(COUNTIF(I8:I18,"CS")+COUNTIF(I8:I18,"RTT")+(COUNTIF(I8:I18,"DRTT")/2)+COUNTIF(I8:I18,"M")+COUNTIF(I8:I18,"Rec")+(COUNTIF(I8:I18,"Drec")/2)+COUNTIF(I8:I18,"F")+(COUNTIF(I8:I18,"EM")+(COUNTIF(I8:I18,"DEM")/2)))) -> 0 | J19: =(COUNTIF(J8:J18,"C")+(COUNTIF(J8:J18,"CS")+COUNTIF(J8:J18,"RTT")+(COUNTIF(J8:J18,"DRTT")/2)+COUNTIF(J8:J18,"M")+COUNTIF(J8:J18,"Rec")+(COUNTIF(J8:J18,"Drec")/2)+COUNTIF(J8:J18,"F")+(COUNTIF(J8:J18,"EM")+(COUNTIF(J8:J18,"DEM")/2)))) -> 0 | ... AG19: =(COUNTIF(AG8:AG18,"C")+(COUNTIF(AG8:AG18,"CS")+COUNTIF(AG8:AG18,"RTT")+(COUNTIF(AG8:AG18,"DRTT")/2)+COUNTIF(AG8:AG18,"M")+COUNTIF(AG8:AG18,"Rec")+(COUNTIF(AG8:AG18,"Drec")/2)+COUNTIF(AG8:AG18,"F")+(COUNTIF(AG8:AG18,"EM")+(COUNTIF(AG8:AG18,"DEM")/2)))) -> 0 | AH19: =SUBTOTAL(109,Mai[Total absence]) -> 0 | AI19: =SUBTOTAL(109,Mai[Dont RTT]) -> 0 | AJ19: =SUBTOTAL(109,Mai[Dont MALADIE]) -> 0

Sheet Juin
B1: =Titre_Absence_Employé -> Calendrier des absences des employés
C2: CS | D2: Congé spéc. | F2: DRTT | G2: Demi RTT | I2: DREC | J2: Demi récup | P2: PE | Q2: Présence exceptionnelle | V2: DEM | W2: Demi journée EM | Z2: NT | AA2: Non travaillé
B3: Clé de motif d’absence | C3: C | D3: Congé | F3: RTT | G3: RTT | I3: Rec | J3: Récupération | M3: F | N3: Formation | P3: TT | Q3: Télétravail | S3: M | T3: Maladie | V3: EM | W3: Enfant malade | Z3: AJ | AA3: Absence justifiée
B5: Juin | C5: Dates d’absence | AK5: =AnnéeCalendrier -> 2021
C6: =TEXT(WEEKDAY(DATE(AnnéeCalendrier,6,1),1),"jjj") -> mar | D6: =TEXT(WEEKDAY(DATE(AnnéeCalendrier,6,2),1),"jjj") -> mer | E6: =TEXT(WEEKDAY(DATE(AnnéeCalendrier,6,3),1),"jjj") -> jeu | F6: =TEXT(WEEKDAY(DATE(AnnéeCalendrier,6,4),1),"jjj") -> ven | G6: =TEXT(WEEKDAY(DATE(AnnéeCalendrier,6,5),1),"jjj") -> sam | H6: =TEXT(WEEKDAY(DATE(AnnéeCalendrier,6,6),1),"jjj") -> dim | I6: =TEXT(WEEKDAY(DATE(AnnéeCalendrier,6,7),1),"jjj") -> lun | J6: =TEXT(WEEKDAY(DATE(AnnéeCalendrier,6,8),1),"jjj") -> mar | K6: =TEXT(WEEKDAY(DATE(AnnéeCalendrier,6,9),1),"jjj") -> mer | L6: =TEXT(WEEKDAY(DATE(AnnéeCalendrier,6,10),1),"jjj") -> jeu | M6: =TEXT(WEEKDAY(DATE(AnnéeCalendrier,6,11),1),"jjj") -> ven | N6: =TEXT(WEEKDAY(DATE(AnnéeCalendrier,6,12),1),"jjj") -> sam | O6: =TEXT(WEEKDAY(DATE(AnnéeCalendrier,6,13),1),"jjj") -> dim | P6: =TEXT(WEEKDAY(DATE(AnnéeCalendrier,6,14),1),"jjj") -> lun | Q6: =TEXT(WEEKDAY(DATE(AnnéeCalendrier,6,15),1),"jjj") -> mar | R6: =TEXT(WEEKDAY(DATE(AnnéeCalendrier,6,16),1),"jjj") -> mer | S6: =TEXT(WEEKDAY(DATE(AnnéeCalendrier,6,17),1),"jjj") -> jeu | T6: =TEXT(WEEKDAY(DATE(AnnéeCalendrier,6,18),1),"jjj") -> ven | U6: =TEXT(WEEKDAY(DATE(AnnéeCalendrier,6,19),1),"jjj") -> sam | V6: =TEXT(WEEKDAY(DATE(AnnéeCalendrier,6,20),1),"jjj") -> dim | W6: =TEXT(WEEKDAY(DATE(AnnéeCalendrier,6,21),1),"jjj") -> lun | X6: =TEXT(WEEKDAY(DATE(AnnéeCalendrier,6,22),1),"jjj") -> mar | Y6: =TEXT(WEEKDAY(DATE(AnnéeCalendrier,6,23),1),"jjj") -> mer | Z6: =TEXT(WEEKDAY(DATE(AnnéeCalendrier,6,24),1),"jjj") -> jeu | AA6: =TEXT(WEEKDAY(DATE(AnnéeCalendrier,6,25),1),"jjj") -> ven | AB6: =TEXT(WEEKDAY(DATE(AnnéeCalendrier,6,26),1),"jjj") -> sam | AC6: =TEXT(WEEKDAY(DATE(AnnéeCalendrier,6,27),1),"jjj") -> dim | AD6: =TEXT(WEEKDAY(DATE(AnnéeCalendrier,6,28),1),"jjj") -> lun | AE6: =TEXT(WEEKDAY(DATE(AnnéeCalendrier,6,29),1),"jjj") -> mar | AF6: =TEXT(WEEKDAY(DATE(AnnéeCalendrier,6,30),1),"jjj") -> mer
B7: Nom de l’employé | C7: 1 | D7: 2 | E7: 3 | F7: 4 | G7: 5 | H7: 6 | I7: 7 | J7: 8 | K7: 9 | L7: 10 | M7: 11 | N7: 12 | O7: 13 | P7: 14 | Q7: 15 | R7: 16 | S7: 17 | T7: 18 | U7: 19 | V7: 20 | W7: 21 | X7: 22 | Y7: 23 | Z7: 24 | AA7: 25 | AB7: 26 | AC7: 27 | AD7: 28 | AE7: 29 | AF7: 30 | AH7: Total absence | AI7: Dont RTT | AJ7: Dont MALADIE | AK7: Solde RTT disponible au 01/07/2021
AH8: =(COUNTIF(C8:AG8,"C")+(COUNTIF(C8:AG8,"EM")+COUNTIF(C8:AG8,"RTT")+COUNTIF(C8:AG8,"M")+COUNTIF(C8:AG8,"Rec")+COUNTIF(C8:AG8,"F")+COUNTIF(C8:AG8,"TT"-1)+COUNTIF(C8:AG8,"CS")+COUNTIF(C8:AG8,"PE"-1)+COUNTIF(C8:AG8,"DRTT")/2)+COUNTIF(C8:AG8,"DREC")/2)+COUNTIF(C8:AG8,"DEM")/2 -> 0 | AI8: =COUNTIF(C8:AG8,"RTT")+COUNTIF(C8:AG8,"DRTT")/2 -> 0 | AJ8: =COUNTIF(C8:AG8,"MALADIE") -> 0
AH9: =(COUNTIF(C9:AG9,"C")+(COUNTIF(C9:AG9,"EM")+COUNTIF(C9:AG9,"RTT")+COUNTIF(C9:AG9,"M")+COUNTIF(C9:AG9,"Rec")+COUNTIF(C9:AG9,"F")+COUNTIF(C9:AG9,"TT"-1)+COUNTIF(C9:AG9,"CS")+COUNTIF(C9:AG9,"PE"-1)+COUNTIF(C9:AG9,"DRTT")/2)+COUNTIF(C9:AG9,"DREC")/2)+COUNTIF(C9:AG9,"DEM")/2 -> 0 | AI9: =COUNTIF(C9:AG9,"RTT")+COUNTIF(C9:AG9,"DRTT")/2 -> 0 | AJ9: =COUNTIF(C9:AG9,"MALADIE") -> 0 | AK9: =Mai!AK9-Juin[[#This Row],[Dont RTT]]+2 -> 15
AH10: =(COUNTIF(C10:AG10,"C")+(COUNTIF(C10:AG10,"EM")+COUNTIF(C10:AG10,"RTT")+COUNTIF(C10:AG10,"M")+COUNTIF(C10:AG10,"Rec")+COUNTIF(C10:AG10,"F")+COUNTIF(C10:AG10,"TT"-1)+COUNTIF(C10:AG10,"CS")+COUNTIF(C10:AG10,"PE"-1)+COUNTIF(C10:AG10,"DRTT")/2)+COUNTIF(C10:AG10,"DREC")/2)+COUNTIF(C10:AG10,"DEM")/2 -> 0 | AI10: =COUNTIF(C10:AG10,"RTT")+COUNTIF(C10:AG10,"DRTT")/2 -> 0 | AJ10: =COUNTIF(C10:AG10,"M") -> 0 | AK10: =Mai!AK10-Juin[[#This Row],[Dont RTT]]+2 -> 23
AH11: =(COUNTIF(C11:AG11,"C")+(COUNTIF(C11:AG11,"EM")+COUNTIF(C11:AG11,"RTT")+COUNTIF(C11:AG11,"M")+COUNTIF(C11:AG11,"Rec")+COUNTIF(C11:AG11,"F")+COUNTIF(C11:AG11,"TT"-1)+COUNTIF(C11:AG11,"CS")+COUNTIF(C11:AG11,"PE"-1)+COUNTIF(C11:AG11,"DRTT")/2)+COUNTIF(C11:AG11,"DREC")/2)+COUNTIF(C11:AG11,"DEM")/2 -> 0 | AI11: =COUNTIF(C11:AG11,"RTT")+COUNTIF(C11:AG11,"DRTT")/2 -> 0 | AJ11: =COUNTIF(C11:AG11,"M") -> 0
AH12: =(COUNTIF(C12:AG12,"C")+(COUNTIF(C12:AG12,"EM")+COUNTIF(C12:AG12,"RTT")+COUNTIF(C12:AG12,"M")+COUNTIF(C12:AG12,"Rec")+COUNTIF(C12:AG12,"F")+COUNTIF(C12:AG12,"TT"-1)+COUNTIF(C12:AG12,"CS")+COUNTIF(C12:AG12,"PE"-1)+COUNTIF(C12:AG12,"DRTT")/2)+COUNTIF(C12:AG12,"DREC")/2)+COUNTIF(C12:AG12,"DEM")/2 -> 0 | AI12: =COUNTIF(C12:AG12,"RTT")+COUNTIF(C12:AG12,"DRTT")/2 -> 0 | AJ12: =COUNTIF(C12:AG12,"M") -> 0
AH13: =(COUNTIF(C13:AG13,"C")+(COUNTIF(C13:AG13,"EM")+COUNTIF(C13:AG13,"RTT")+COUNTIF(C13:AG13,"M")+COUNTIF(C13:AG13,"Rec")+COUNTIF(C13:AG13,"F")+COUNTIF(C13:AG13,"TT"-1)+COUNTIF(C13:AG13,"CS")+COUNTIF(C13:AG13,"PE"-1)+COUNTIF(C13:AG13,"DRTT")/2)+COUNTIF(C13:AG13,"DREC")/2)+COUNTIF(C13:AG13,"DEM")/2 -> 0 | AI13: =COUNTIF(C13:AG13,"RTT")+COUNTIF(C13:AG13,"DRTT")/2 -> 0 | AJ13: =COUNTIF(C13:AG13,"M") -> 0 | AK13: =Mai!AK13-Juin[[#This Row],[Dont RTT]]+2 -> 14.93
AH14: =(COUNTIF(C14:AG14,"C")+(COUNTIF(C14:AG14,"EM")+COUNTIF(C14:AG14,"RTT")+COUNTIF(C14:AG14,"M")+COUNTIF(C14:AG14,"Rec")+COUNTIF(C14:AG14,"F")+COUNTIF(C14:AG14,"TT"-1)+COUNTIF(C14:AG14,"CS")+COUNTIF(C14:AG14,"PE"-1)+COUNTIF(C14:AG14,"DRTT")/2)+COUNTIF(C14:AG14,"DREC")/2)+COUNTIF(C14:AG14,"DEM")/2 -> 0 | AI14: =COUNTIF(C14:AG14,"RTT")+COUNTIF(C14:AG14,"DRTT")/2 -> 0 | AJ14: =COUNTIF(C14:AG14,"M") -> 0 | AK14: =Mai!AK14-Juin[[#This Row],[Dont RTT]]+2 -> 14.5
AH15: =(COUNTIF(C15:AG15,"C")+(COUNTIF(C15:AG15,"EM")+COUNTIF(C15:AG15,"RTT")+COUNTIF(C15:AG15,"M")+COUNTIF(C15:AG15,"Rec")+COUNTIF(C15:AG15,"F")+COUNTIF(C15:AG15,"TT"-1)+COUNTIF(C15:AG15,"CS")+COUNTIF(C15:AG15,"PE"-1)+COUNTIF(C15:AG15,"DRTT")/2)+COUNTIF(C15:AG15,"DREC")/2)+COUNTIF(C15:AG15,"DEM")/2 -> 0 | AI15: =COUNTIF(C15:AG15,"RTT")+COUNTIF(C15:AG15,"DRTT")/2 -> 0 | AJ15: =COUNTIF(C15:AG15,"M") -> 0 | AK15: =Mai!AK15-Juin[[#This Row],[Dont RTT]]+2 -> 17.5
AH16: =(COUNTIF(C16:AG16,"C")+(COUNTIF(C16:AG16,"EM")+COUNTIF(C16:AG16,"RTT")+COUNTIF(C16:AG16,"M")+COUNTIF(C16:AG16,"Rec")+COUNTIF(C16:AG16,"F")+COUNTIF(C16:AG16,"TT"-1)+COUNTIF(C16:AG16,"CS")+COUNTIF(C16:AG16,"PE"-1)+COUNTIF(C16:AG16,"DRTT")/2)+COUNTIF(C16:AG16,"DREC")/2)+COUNTIF(C16:AG16,"DEM")/2 -> 0 | AI16: =COUNTIF(C16:AG16,"RTT")+COUNTIF(C16:AG16,"DRTT")/2 -> 0 | AJ16: =COUNTIF(C16:AG16,"M") -> 0 | AK16: =Mai!AK16-Juin[[#This Row],[Dont RTT]]+2 -> 14.16
