Workbook

Sheet Réponses au formulaire 2
A1: Horodateur | B1: Adresse e-mail | C1: TEST | D1: Compteur EA --> USINE | E1: Compteur EA --> ER | F1: Compteur EI --> ER | G1: Chaine A | H1: Chaine B | I1: EO --> CH5 | J1: AD 2A | K1: AD 1A | L1: AD 2B | M1: AD 1B | N1: Entrée Osmoseur | O1: Sortie Osmoseur | P1: Cpt horaire osmoseur | Q1: Saumure | R1: Générale Utilisation | S1: Sékurit | T1: Forage 1 | U1: Forage 2 | V1: Centrale EST | W1: Incendie | X1: Sécheur 1 : Pression d'entrée | Y1: Sécheur 1 : Pression de sortie | Z1: Sécheur 1 : Point de rosée | AA1: Sécheur 2 : Pression d'entrée | AB1: Sécheur 2 : Pression de sortie | AC1: Sécheur 2 : Point de rosée | AD1: Sécheur F450 : Pression d'entrée | AE1: Sécheur F450 : Pression de sortie | AF1: Sécheur F450 : Point de rosée | AG1: Compresseur C50 : Débit d'air | AH1: Compresseur C50 : Heures en charge | AI1: Compresseur C49 : Débit d'air | AJ1: Compresseur C49 : Heures en charge | AK1: Compresseur C1 : Heures en charge | AL1: Compresseur C2 : Heures en charge | AM1: Compresseur C41 : Débit d'air | AN1: Compresseur C41 : Heures en charge | AO1: Compresseur C47 : Débit d'air | AP1: Compresseur C47 : Heures en charge | AQ1: CH6 : Compteur Gaz | AR1: CH6 : Compteur horaire
A2: 44469.736 | B2: x
A3: 44469.736 | B3: x
A4: 44470.467 | B4: x
A5: 44473.397 | B5: x | C5: 2
A6: 44475.382 | B6: x | C6: 19999
A11: Quand je remplis le google forms et que j'envoie la réponse, celle-ci vient crée une ligne donc à la ligne existante 7 mais mes formules (voir onglet TEST) se décaleront et donneront maintenant pour le 06/10 K8-K6 ....

Sheet TEST
C3: TEST
B4: 44475 | C4: ='Réponses au formulaire 2'!K7-'Réponses au formulaire 2'!K6 -> 0
B5: 44476 | C5: ='Réponses au formulaire 2'!K8-'Réponses au formulaire 2'!K7 -> 0
B6: 44477 | C6: ='Réponses au formulaire 2'!K9-'Réponses au formulaire 2'!K8 -> 0
B7: 44478 | C7: ='Réponses au formulaire 2'!K10-'Réponses au formulaire 2'!K9 -> 0
B8: 44479 | C8: ='Réponses au formulaire 2'!K11-'Réponses au formulaire 2'!K10 -> 0
B9: 44480 | C9: ='Réponses au formulaire 2'!K12-'Réponses au formulaire 2'!K11 -> 0
B10: 44481 | C10: ='Réponses au formulaire 2'!K13-'Réponses au formulaire 2'!K12 -> 0
B11: 44482 | C11: ='Réponses au formulaire 2'!K14-'Réponses au formulaire 2'!K13 -> 0
B12: 44483 | C12: ='Réponses au formulaire 2'!K15-'Réponses au formulaire 2'!K14 -> 0
B13: 44484 | C13: ='Réponses au formulaire 2'!K16-'Réponses au formulaire 2'!K15 -> 0
B14: 44485 | C14: ='Réponses au formulaire 2'!K17-'Réponses au formulaire 2'!K16 -> 0
B15: 44486 | C15: ='Réponses au formulaire 2'!K18-'Réponses au formulaire 2'!K17 -> 0
... B90: 44561 | C90: ='Réponses au formulaire 2'!K93-'Réponses au formulaire 2'!K92 -> 0
