Workbook
Name Ciblés: #REF!

Sheet Base Forums 2021-2022
A1: Programme réceptionnaire | B1: Date reception | C1: A répondre avant le | D1: Type d'action | E1: Type forum | F1: Etablissement | G1: Ville | H1: Dpt | I1: UAI | J1: Région | K1: Public cible | L1: Date forum | M1: Horaires | N1: Statut forum | O1: Contact 1 | P1: Fonction 1 | Q1: Email 1 | R1: Tél 1 | S1: Contact 2 | T1: Fonction 2 | U1: Email 2 | V1: Tél 2 | W1: Ingénieur | X1: LP / EED | Y1: Bachelor / Master | Z1: BTS | AA1: Agricadre | AB1: Commentaires SCO
A2: INGENIEUR | B2: =IFERROR(IF(VLOOKUP(Tableau23[[#This Row],[UAI ]],[2]!SuiviForumLyceeCibles[[UAI]:[Tél contact 2]],5,0)="","",VLOOKUP(Tableau23[[#This Row],[UAI ]],[2]!SuiviForumLyceeCibles[[UAI]:[Tél contact 2]],5,0)),"") -> 44449 | C2: =IFERROR(IF(VLOOKUP(Tableau23[[#This Row],[UAI ]],[2]!SuiviForumLyceeCibles[[UAI]:[Tél contact 2]],6,0)="","",VLOOKUP(Tableau23[[#This Row],[UAI ]],[2]!SuiviForumLyceeCibles[[UAI]:[Tél contact 2]],6,0)),"") | D2: =IFERROR(VLOOKUP(Tableau23[[#This Row],[UAI ]],[2]!SuiviForumLyceeCibles[[UAI]:[Tél contact 2]],2,0),"") -> Forum d'orientation | E2: =IFERROR(VLOOKUP(Tableau23[[#This Row],[UAI ]],[2]!SuiviForumLyceeCibles[[UAI]:[Tél contact 2]],3,0),"") -> Lycées partenaires | F2: Fycnj Qutqt Zclf Hjp Atmdp | G2: WYBZL | H2: 41 | I2: 6467735D | J2: =IFERROR(VLOOKUP(Tableau23[[#This Row],[Dpt]],'Table régions'!$A$2:$C$102,3,0),"") -> Centre-Val de Loire | K2: =IFERROR(IF(VLOOKUP(Tableau23[[#This Row],[UAI ]],[2]!SuiviForumLyceeCibles[[UAI]:[Tél contact 2]],4,0)="","",VLOOKUP(Tableau23[[#This Row],[UAI ]],[2]!SuiviForumLyceeCibles[[UAI]:[Tél contact 2]],4,0)),"") -> Terminale | L2: =IFERROR(IF(VLOOKUP(Tableau23[[#This Row],[UAI ]],[2]!SuiviForumLyceeCibles[[UAI]:[Tél contact 2]],7,0)="","",VLOOKUP(Tableau23[[#This Row],[UAI ]],[2]!SuiviForumLyceeCibles[[UAI]:[Tél contact 2]],7,0)),"") -> 44520 | M2: =IFERROR(IF(VLOOKUP(Tableau23[[#This Row],[UAI ]],[2]!SuiviForumLyceeCibles[[UAI]:[Tél contact 2]],9,0)="","",VLOOKUP(Tableau23[[#This Row],[UAI ]],[2]!SuiviForumLyceeCibles[[UAI]:[Tél contact 2]],9,0)),"") -> matin | N2: =IFERROR(IF(VLOOKUP(Tableau23[[#This Row],[UAI ]],[2]!SuiviForumLyceeCibles[[UAI]:[Tél contact 2]],10,0)="","",VLOOKUP(Tableau23[[#This Row],[UAI ]],[2]!SuiviForumLyceeCibles[[UAI]:[Tél contact 2]],10,0)),"") -> Demande d'absence en cours | O2: =IFERROR(IF(VLOOKUP(Tableau23[[#This Row],[UAI ]],[2]!SuiviForumLyceeCibles[[UAI]:[Tél contact 2]],17,0)="","",VLOOKUP(Tableau23[[#This Row],[UAI ]],[2]!SuiviForumLyceeCibles[[UAI]:[Tél contact 2]],17,0)),"") | P2: =IFERROR(IF(VLOOKUP(Tableau23[[#This Row],[UAI ]],[2]!SuiviForumLyceeCibles[[UAI]:[Tél contact 2]],18,0)="","",VLOOKUP(Tableau23[[#This Row],[UAI ]],[2]!SuiviForumLyceeCibles[[UAI]:[Tél contact 2]],18,0)),"") | Q2: =IFERROR(IF(VLOOKUP(Tableau23[[#This Row],[UAI ]],[2]!SuiviForumLyceeCibles[[UAI]:[Tél contact 2]],19,0)="","",VLOOKUP(Tableau23[[#This Row],[UAI ]],[2]!SuiviForumLyceeCibles[[UAI]:[Tél contact 2]],19,0)),"") | R2: =IFERROR(IF(VLOOKUP(Tableau23[[#This Row],[UAI ]],[2]!SuiviForumLyceeCibles[[UAI]:[Tél contact 2]],20,0)="","",VLOOKUP(Tableau23[[#This Row],[UAI ]],[2]!SuiviForumLyceeCibles[[UAI]:[Tél contact 2]],20,0)),"") | S2: =IFERROR(IF(VLOOKUP(Tableau23[[#This Row],[UAI ]],[2]!SuiviForumLyceeCibles[[UAI]:[Tél contact 2]],21,0)="","",VLOOKUP(Tableau23[[#This Row],[UAI ]],[2]!SuiviForumLyceeCibles[[UAI]:[Tél contact 2]],21,0)),"") | T2: =IFERROR(IF(VLOOKUP(Tableau23[[#This Row],[UAI ]],[2]!SuiviForumLyceeCibles[[UAI]:[Tél contact 2]],22,0)="","",VLOOKUP(Tableau23[[#This Row],[UAI ]],[2]!SuiviForumLyceeCibles[[UAI]:[Tél contact 2]],22,0)),"") | U2: =IFERROR(IF(VLOOKUP(Tableau23[[#This Row],[UAI ]],[2]!SuiviForumLyceeCibles[[UAI]:[Tél contact 2]],23,0)="","",VLOOKUP(Tableau23[[#This Row],[UAI ]],[2]!SuiviForumLyceeCibles[[UAI]:[Tél contact 2]],23,0)),"") | V2: =IFERROR(IF(VLOOKUP(Tableau23[[#This Row],[UAI ]],[2]!SuiviForumLyceeCibles[[UAI]:[Tél contact 2]],24,0)="","",VLOOKUP(Tableau23[[#This Row],[UAI ]],[2]!SuiviForumLyceeCibles[[UAI]:[Tél contact 2]],24,0)),"") | W2: =IFERROR(IF(VLOOKUP(Tableau23[[#This Row],[UAI ]],[2]!SuiviForumLyceeCibles[[UAI]:[Tél contact 2]],11,0)="","",VLOOKUP(Tableau23[[#This Row],[UAI ]],[2]!SuiviForumLyceeCibles[[UAI]:[Tél contact 2]],11,0)),"") -> Oui lycée ciblé ingénieur, la DPI organise sa présence
A3: INGENIEUR | B3: =IFERROR(IF(VLOOKUP(Tableau23[[#This Row],[UAI ]],[2]!SuiviForumLyceeCibles[[UAI]:[Tél contact 2]],5,0)="","",VLOOKUP(Tableau23[[#This Row],[UAI ]],[2]!SuiviForumLyceeCibles[[UAI]:[Tél contact 2]],5,0)),"") -> 44446 | C3: =IFERROR(IF(VLOOKUP(Tableau23[[#This Row],[UAI ]],[2]!SuiviForumLyceeCibles[[UAI]:[Tél contact 2]],6,0)="","",VLOOKUP(Tableau23[[#This Row],[UAI ]],[2]!SuiviForumLyceeCibles[[UAI]:[Tél contact 2]],6,0)),"") -> 44460 | D3: =IFERROR(VLOOKUP(Tableau23[[#This Row],[UAI ]],[2]!SuiviForumLyceeCibles[[UAI]:[Tél contact 2]],2,0),"") -> Forum d'orientation | E3: =IFERROR(VLOOKUP(Tableau23[[#This Row],[UAI ]],[2]!SuiviForumLyceeCibles[[UAI]:[Tél contact 2]],3,0),"") -> Lycées partenaires | F3: Imqdb Re Tcqyjx | G3: FGLFCUT-AHPIW-SIAHOU | H3: 44 | I3: 8414800C | J3: =IFERROR(VLOOKUP(Tableau23[[#This Row],[Dpt]],'Table régions'!$A$2:$C$102,3,0),"") -> Pays de la Loire | K3: =IFERROR(IF(VLOOKUP(Tableau23[[#This Row],[UAI ]],[2]!SuiviForumLyceeCibles[[UAI]:[Tél contact 2]],4,0)="","",VLOOKUP(Tableau23[[#This Row],[UAI ]],[2]!SuiviForumLyceeCibles[[UAI]:[Tél contact 2]],4,0)),"") -> Terminale | L3: =IFERROR(IF(VLOOKUP(Tableau23[[#This Row],[UAI ]],[2]!SuiviForumLyceeCibles[[UAI]:[Tél contact 2]],7,0)="","",VLOOKUP(Tableau23[[#This Row],[UAI ]],[2]!SuiviForumLyceeCibles[[UAI]:[Tél contact 2]],7,0)),"") -> 44526 | M3: =IFERROR(IF(VLOOKUP(Tableau23[[#This Row],[UAI ]],[2]!SuiviForumLyceeCibles[[UAI]:[Tél contact 2]],9,0)="","",VLOOKUP(Tableau23[[#This Row],[UAI ]],[2]!SuiviForumLyceeCibles[[UAI]:[Tél contact 2]],9,0)),"") -> après-midi | N3: =IFERROR(IF(VLOOKUP(Tableau23[[#This Row],[UAI ]],[2]!SuiviForumLyceeCibles[[UAI]:[Tél contact 2]],10,0)="","",VLOOKUP(Tableau23[[#This Row],[UAI ]],[2]!SuiviForumLyceeCibles[[UAI]:[Tél contact 2]],10,0)),"") -> Demande d'absence en cours | O3: =IFERROR(IF(VLOOKUP(Tableau23[[#This Row],[UAI ]],[2]!SuiviForumLyceeCibles[[UAI]:[Tél contact 2]],17,0)="","",VLOOKUP(Tableau23[[#This Row],[UAI ]],[2]!SuiviForumLyceeCibles[[UAI]:[Tél contact 2]],17,0)),"") | P3: =IFERROR(IF(VLOOKUP(Tableau23[[#This Row],[UAI ]],[2]!SuiviForumLyceeCibles[[UAI]:[Tél contact 2]],18,0)="","",VLOOKUP(Tableau23[[#This Row],[UAI ]],[2]!SuiviForumLyceeCibles[[UAI]:[Tél contact 2]],18,0)),"") | Q3: =IFERROR(IF(VLOOKUP(Tableau23[[#This Row],[UAI ]],[2]!SuiviForumLyceeCibles[[UAI]:[Tél contact 2]],19,0)="","",VLOOKUP(Tableau23[[#This Row],[UAI ]],[2]!SuiviForumLyceeCibles[[UAI]:[Tél contact 2]],19,0)),"") | R3: =IFERROR(IF(VLOOKUP(Tableau23[[#This Row],[UAI ]],[2]!SuiviForumLyceeCibles[[UAI]:[Tél contact 2]],20,0)="","",VLOOKUP(Tableau23[[#This Row],[UAI ]],[2]!SuiviForumLyceeCibles[[UAI]:[Tél contact 2]],20,0)),"") | S3: =IFERROR(IF(VLOOKUP(Tableau23[[#This Row],[UAI ]],[2]!SuiviForumLyceeCibles[[UAI]:[Tél contact 2]],21,0)="","",VLOOKUP(Tableau23[[#This Row],[UAI ]],[2]!SuiviForumLyceeCibles[[UAI]:[Tél contact 2]],21,0)),"") | T3: =IFERROR(IF(VLOOKUP(Tableau23[[#This Row],[UAI ]],[2]!SuiviForumLyceeCibles[[UAI]:[Tél contact 2]],22,0)="","",VLOOKUP(Tableau23[[#This Row],[UAI ]],[2]!SuiviForumLyceeCibles[[UAI]:[Tél contact 2]],22,0)),"") | U3: =IFERROR(IF(VLOOKUP(Tableau23[[#This Row],[UAI ]],[2]!SuiviForumLyceeCibles[[UAI]:[Tél contact 2]],23,0)="","",VLOOKUP(Tableau23[[#This Row],[UAI ]],[2]!SuiviForumLyceeCibles[[UAI]:[Tél contact 2]],23,0)),"") | V3: =IFERROR(IF(VLOOKUP(Tableau23[[#This Row],[UAI ]],[2]!SuiviForumLyceeCibles[[UAI]:[Tél contact 2]],24,0)="","",VLOOKUP(Tableau23[[#This Row],[UAI ]],[2]!SuiviForumLyceeCibles[[UAI]:[Tél contact 2]],24,0)),"") | W3: =IFERROR(IF(VLOOKUP(Tableau23[[#This Row],[UAI ]],[2]!SuiviForumLyceeCibles[[UAI]:[Tél contact 2]],11,0)="","",VLOOKUP(Tableau23[[#This Row],[UAI ]],[2]!SuiviForumLyceeCibles[[UAI]:[Tél contact 2]],11,0)),"") -> Oui lycée ciblé ingénieur, la DPI organise sa présence
A4: INGENIEUR | B4: =IFERROR(IF(VLOOKUP(Tableau23[[#This Row],[UAI ]],[2]!SuiviForumLyceeCibles[[UAI]:[Tél contact 2]],5,0)="","",VLOOKUP(Tableau23[[#This Row],[UAI ]],[2]!SuiviForumLyceeCibles[[UAI]:[Tél contact 2]],5,0)),"") | C4: =IFERROR(IF(VLOOKUP(Tableau23[[#This Row],[UAI ]],[2]!SuiviForumLyceeCibles[[UAI]:[Tél contact 2]],6,0)="","",VLOOKUP(Tableau23[[#This Row],[UAI ]],[2]!SuiviForumLyceeCibles[[UAI]:[Tél contact 2]],6,0)),"") | D4: =IFERROR(VLOOKUP(Tableau23[[#This Row],[UAI ]],[2]!SuiviForumLyceeCibles[[UAI]:[Tél contact 2]],2,0),"") -> Forum d'orientation | E4: =IFERROR(VLOOKUP(Tableau23[[#This Row],[UAI ]],[2]!SuiviForumLyceeCibles[[UAI]:[Tél contact 2]],3,0),"") -> Lycées partenaires | F4: WAB xhmwe Flaeb-Xsusj Oq Fgzcq | G4: TWPLHF | H4: 49 | I4: 9295472C | J4: =IFERROR(VLOOKUP(Tableau23[[#This Row],[Dpt]],'Table régions'!$A$2:$C$102,3,0),"") -> Pays de la Loire | K4: =IFERROR(IF(VLOOKUP(Tableau23[[#This Row],[UAI ]],[2]!SuiviForumLyceeCibles[[UAI]:[Tél contact 2]],4,0)="","",VLOOKUP(Tableau23[[#This Row],[UAI ]],[2]!SuiviForumLyceeCibles[[UAI]:[Tél contact 2]],4,0)),"") -> Terminale | L4: =IFERROR(IF(VLOOKUP(Tableau23[[#This Row],[UAI ]],[2]!SuiviForumLyceeCibles[[UAI]:[Tél contact 2]],7,0)="","",VLOOKUP(Tableau23[[#This Row],[UAI ]],[2]!SuiviForumLyceeCibles[[UAI]:[Tél contact 2]],7,0)),"") -> 44574 | M4: =IFERROR(IF(VLOOKUP(Tableau23[[#This Row],[UAI ]],[2]!SuiviForumLyceeCibles[[UAI]:[Tél contact 2]],9,0)="","",VLOOKUP(Tableau23[[#This Row],[UAI ]],[2]!SuiviForumLyceeCibles[[UAI]:[Tél contact 2]],9,0)),"") -> après-midi | N4: =IFERROR(IF(VLOOKUP(Tableau23[[#This Row],[UAI ]],[2]!SuiviForumLyceeCibles[[UAI]:[Tél contact 2]],10,0)="","",VLOOKUP(Tableau23[[#This Row],[UAI ]],[2]!SuiviForumLyceeCibles[[UAI]:[Tél contact 2]],10,0)),"") -> Demande d'absence en cours | O4: =IFERROR(IF(VLOOKUP(Tableau23[[#This Row],[UAI ]],[2]!SuiviForumLyceeCibles[[UAI]:[Tél contact 2]],17,0)="","",VLOOKUP(Tableau23[[#This Row],[UAI ]],[2]!SuiviForumLyceeCibles[[UAI]:[Tél contact 2]],17,0)),"") | P4: =IFERROR(IF(VLOOKUP(Tableau23[[#This Row],[UAI ]],[2]!SuiviForumLyceeCibles[[UAI]:[Tél contact 2]],18,0)="","",VLOOKUP(Tableau23[[#This Row],[UAI ]],[2]!SuiviForumLyceeCibles[[UAI]:[Tél contact 2]],18,0)),"") | Q4: =IFERROR(IF(VLOOKUP(Tableau23[[#This Row],[UAI ]],[2]!SuiviForumLyceeCibles[[UAI]:[Tél contact 2]],19,0)="","",VLOOKUP(Tableau23[[#This Row],[UAI ]],[2]!SuiviForumLyceeCibles[[UAI]:[Tél contact 2]],19,0)),"") | R4: =IFERROR(IF(VLOOKUP(Tableau23[[#This Row],[UAI ]],[2]!SuiviForumLyceeCibles[[UAI]:[Tél contact 2]],20,0)="","",VLOOKUP(Tableau23[[#This Row],[UAI ]],[2]!SuiviForumLyceeCibles[[UAI]:[Tél contact 2]],20,0)),"") | S4: =IFERROR(IF(VLOOKUP(Tableau23[[#This Row],[UAI ]],[2]!SuiviForumLyceeCibles[[UAI]:[Tél contact 2]],21,0)="","",VLOOKUP(Tableau23[[#This Row],[UAI ]],[2]!SuiviForumLyceeCibles[[UAI]:[Tél contact 2]],21,0)),"") | T4: =IFERROR(IF(VLOOKUP(Tableau23[[#This Row],[UAI ]],[2]!SuiviForumLyceeCibles[[UAI]:[Tél contact 2]],22,0)="","",VLOOKUP(Tableau23[[#This Row],[UAI ]],[2]!SuiviForumLyceeCibles[[UAI]:[Tél contact 2]],22,0)),"") | U4: =IFERROR(IF(VLOOKUP(Tableau23[[#This Row],[UAI ]],[2]!SuiviForumLyceeCibles[[UAI]:[Tél contact 2]],23,0)="","",VLOOKUP(Tableau23[[#This Row],[UAI ]],[2]!SuiviForumLyceeCibles[[UAI]:[Tél contact 2]],23,0)),"") | V4: =IFERROR(IF(VLOOKUP(Tableau23[[#This Row],[UAI ]],[2]!SuiviForumLyceeCibles[[UAI]:[Tél contact 2]],24,0)="","",VLOOKUP(Tableau23[[#This Row],[UAI ]],[2]!SuiviForumLyceeCibles[[UAI]:[Tél contact 2]],24,0)),"") | W4: =IFERROR(IF(VLOOKUP(Tableau23[[#This Row],[UAI ]],[2]!SuiviForumLyceeCibles[[UAI]:[Tél contact 2]],11,0)="","",VLOOKUP(Tableau23[[#This Row],[UAI ]],[2]!SuiviForumLyceeCibles[[UAI]:[Tél contact 2]],11,0)),"") -> Oui lycée ciblé ingénieur, la DPI organise sa présence
A5: INGENIEUR | B5: =IFERROR(IF(VLOOKUP(Tableau23[[#This Row],[UAI ]],[2]!SuiviForumLyceeCibles[[UAI]:[Tél contact 2]],5,0)="","",VLOOKUP(Tableau23[[#This Row],[UAI ]],[2]!SuiviForumLyceeCibles[[UAI]:[Tél contact 2]],5,0)),"") | C5: =IFERROR(IF(VLOOKUP(Tableau23[[#This Row],[UAI ]],[2]!SuiviForumLyceeCibles[[UAI]:[Tél contact 2]],6,0)="","",VLOOKUP(Tableau23[[#This Row],[UAI ]],[2]!SuiviForumLyceeCibles[[UAI]:[Tél contact 2]],6,0)),"") | D5: =IFERROR(VLOOKUP(Tableau23[[#This Row],[UAI ]],[2]!SuiviForumLyceeCibles[[UAI]:[Tél contact 2]],2,0),"") -> Forum d'orientation | E5: =IFERROR(VLOOKUP(Tableau23[[#This Row],[UAI ]],[2]!SuiviForumLyceeCibles[[UAI]:[Tél contact 2]],3,0),"") -> Lycées partenaires | F5: Qvrxc imkcpvo sgvjy Kboih Ajiccg Ypfq Raoacshacc | G5: QPMBWP | H5: 49 | I5: 1966028D | J5: =IFERROR(VLOOKUP(Tableau23[[#This Row],[Dpt]],'Table régions'!$A$2:$C$102,3,0),"") -> Pays de la Loire | K5: =IFERROR(IF(VLOOKUP(Tableau23[[#This Row],[UAI ]],[2]!SuiviForumLyceeCibles[[UAI]:[Tél contact 2]],4,0)="","",VLOOKUP(Tableau23[[#This Row],[UAI ]],[2]!SuiviForumLyceeCibles[[UAI]:[Tél contact 2]],4,0)),"") -> Terminale | L5: =IFERROR(IF(VLOOKUP(Tableau23[[#This Row],[UAI ]],[2]!SuiviForumLyceeCibles[[UAI]:[Tél contact 2]],7,0)="","",VLOOKUP(Tableau23[[#This Row],[UAI ]],[2]!SuiviForumLyceeCibles[[UAI]:[Tél contact 2]],7,0)),"") -> 44527 | M5: =IFERROR(IF(VLOOKUP(Tableau23[[#This Row],[UAI ]],[2]!SuiviForumLyceeCibles[[UAI]:[Tél contact 2]],9,0)="","",VLOOKUP(Tableau23[[#This Row],[UAI ]],[2]!SuiviForumLyceeCibles[[UAI]:[Tél contact 2]],9,0)),"") | N5: =IFERROR(IF(VLOOKUP(Tableau23[[#This Row],[UAI ]],[2]!SuiviForumLyceeCibles[[UAI]:[Tél contact 2]],10,0)="","",VLOOKUP(Tableau23[[#This Row],[UAI ]],[2]!SuiviForumLyceeCibles[[UAI]:[Tél contact 2]],10,0)),"") -> Présence confirmée | O5: =IFERROR(IF(VLOOKUP(Tableau23[[#This Row],[UAI ]],[2]!SuiviForumLyceeCibles[[UAI]:[Tél contact 2]],17,0)="","",VLOOKUP(Tableau23[[#This Row],[UAI ]],[2]!SuiviForumLyceeCibles[[UAI]:[Tél contact 2]],17,0)),"") | P5: =IFERROR(IF(VLOOKUP(Tableau23[[#This Row],[UAI ]],[2]!SuiviForumLyceeCibles[[UAI]:[Tél contact 2]],18,0)="","",VLOOKUP(Tableau23[[#This Row],[UAI ]],[2]!SuiviForumLyceeCibles[[UAI]:[Tél contact 2]],18,0)),"") | Q5: =IFERROR(IF(VLOOKUP(Tableau23[[#This Row],[UAI ]],[2]!SuiviForumLyceeCibles[[UAI]:[Tél contact 2]],19,0)="","",VLOOKUP(Tableau23[[#This Row],[UAI ]],[2]!SuiviForumLyceeCibles[[UAI]:[Tél contact 2]],19,0)),"") | R5: =IFERROR(IF(VLOOKUP(Tableau23[[#This Row],[UAI ]],[2]!SuiviForumLyceeCibles[[UAI]:[Tél contact 2]],20,0)="","",VLOOKUP(Tableau23[[#This Row],[UAI ]],[2]!SuiviForumLyceeCibles[[UAI]:[Tél contact 2]],20,0)),"") | S5: =IFERROR(IF(VLOOKUP(Tableau23[[#This Row],[UAI ]],[2]!SuiviForumLyceeCibles[[UAI]:[Tél contact 2]],21,0)="","",VLOOKUP(Tableau23[[#This Row],[UAI ]],[2]!SuiviForumLyceeCibles[[UAI]:[Tél contact 2]],21,0)),"") | T5: =IFERROR(IF(VLOOKUP(Tableau23[[#This Row],[UAI ]],[2]!SuiviForumLyceeCibles[[UAI]:[Tél contact 2]],22,0)="","",VLOOKUP(Tableau23[[#This Row],[UAI ]],[2]!SuiviForumLyceeCibles[[UAI]:[Tél contact 2]],22,0)),"") | U5: =IFERROR(IF(VLOOKUP(Tableau23[[#This Row],[UAI ]],[2]!SuiviForumLyceeCibles[[UAI]:[Tél contact 2]],23,0)="","",VLOOKUP(Tableau23[[#This Row],[UAI ]],[2]!SuiviForumLyceeCibles[[UAI]:[Tél contact 2]],23,0)),"") | V5: =IFERROR(IF(VLOOKUP(Tableau23[[#This Row],[UAI ]],[2]!SuiviForumLyceeCibles[[UAI]:[Tél contact 2]],24,0)="","",VLOOKUP(Tableau23[[#This Row],[UAI ]],[2]!SuiviForumLyceeCibles[[UAI]:[Tél contact 2]],24,0)),"") | W5: =IFERROR(IF(VLOOKUP(Tableau23[[#This Row],[UAI ]],[2]!SuiviForumLyceeCibles[[UAI]:[Tél contact 2]],11,0)="","",VLOOKUP(Tableau23[[#This Row],[UAI ]],[2]!SuiviForumLyceeCibles[[UAI]:[Tél contact 2]],11,0)),"") -> Oui lycée ciblé ingénieur, la DPI organise sa présence
A6: INGENIEUR | B6: =IFERROR(IF(VLOOKUP(Tableau23[[#This Row],[UAI ]],[2]!SuiviForumLyceeCibles[[UAI]:[Tél contact 2]],5,0)="","",VLOOKUP(Tableau23[[#This Row],[UAI ]],[2]!SuiviForumLyceeCibles[[UAI]:[Tél contact 2]],5,0)),"") -> 44454 | C6: =IFERROR(IF(VLOOKUP(Tableau23[[#This Row],[UAI ]],[2]!SuiviForumLyceeCibles[[UAI]:[Tél contact 2]],6,0)="","",VLOOKUP(Tableau23[[#This Row],[UAI ]],[2]!SuiviForumLyceeCibles[[UAI]:[Tél contact 2]],6,0)),"") | D6: =IFERROR(VLOOKUP(Tableau23[[#This Row],[UAI ]],[2]!SuiviForumLyceeCibles[[UAI]:[Tél contact 2]],2,0),"") -> Forum d'orientation | E6: =IFERROR(VLOOKUP(Tableau23[[#This Row],[UAI ]],[2]!SuiviForumLyceeCibles[[UAI]:[Tél contact 2]],3,0),"") -> Lycées partenaires | F6: Gjkza izfkh owmuc | G6: EJFJAXYWHM | H6: 49 | I6: 9184879E | J6: =IFERROR(VLOOKUP(Tableau23[[#This Row],[Dpt]],'Table régions'!$A$2:$C$102,3,0),"") -> Pays de la Loire | K6: =IFERROR(IF(VLOOKUP(Tableau23[[#This Row],[UAI ]],[2]!SuiviForumLyceeCibles[[UAI]:[Tél contact 2]],4,0)="","",VLOOKUP(Tableau23[[#This Row],[UAI ]],[2]!SuiviForumLyceeCibles[[UAI]:[Tél contact 2]],4,0)),"") -> Terminale | L6: =IFERROR(IF(VLOOKUP(Tableau23[[#This Row],[UAI ]],[2]!SuiviForumLyceeCibles[[UAI]:[Tél contact 2]],7,0)="","",VLOOKUP(Tableau23[[#This Row],[UAI ]],[2]!SuiviForumLyceeCibles[[UAI]:[Tél contact 2]],7,0)),"") -> 44537 | M6: =IFERROR(IF(VLOOKUP(Tableau23[[#This Row],[UAI ]],[2]!SuiviForumLyceeCibles[[UAI]:[Tél contact 2]],9,0)="","",VLOOKUP(Tableau23[[#This Row],[UAI ]],[2]!SuiviForumLyceeCibles[[UAI]:[Tél contact 2]],9,0)),"") -> après-midi | N6: =IFERROR(IF(VLOOKUP(Tableau23[[#This Row],[UAI ]],[2]!SuiviForumLyceeCibles[[UAI]:[Tél contact 2]],10,0)="","",VLOOKUP(Tableau23[[#This Row],[UAI ]],[2]!SuiviForumLyceeCibles[[UAI]:[Tél contact 2]],10,0)),"") -> Invitation reçue | O6: =IFERROR(IF(VLOOKUP(Tableau23[[#This Row],[UAI ]],[2]!SuiviForumLyceeCibles[[UAI]:[Tél contact 2]],17,0)="","",VLOOKUP(Tableau23[[#This Row],[UAI ]],[2]!SuiviForumLyceeCibles[[UAI]:[Tél contact 2]],17,0)),"") | P6: =IFERROR(IF(VLOOKUP(Tableau23[[#This Row],[UAI ]],[2]!SuiviForumLyceeCibles[[UAI]:[Tél contact 2]],18,0)="","",VLOOKUP(Tableau23[[#This Row],[UAI ]],[2]!SuiviForumLyceeCibles[[UAI]:[Tél contact 2]],18,0)),"") | Q6: =IFERROR(IF(VLOOKUP(Tableau23[[#This Row],[UAI ]],[2]!SuiviForumLyceeCibles[[UAI]:[Tél contact 2]],19,0)="","",VLOOKUP(Tableau23[[#This Row],[UAI ]],[2]!SuiviForumLyceeCibles[[UAI]:[Tél contact 2]],19,0)),"") | R6: =IFERROR(IF(VLOOKUP(Tableau23[[#This Row],[UAI ]],[2]!SuiviForumLyceeCibles[[UAI]:[Tél contact 2]],20,0)="","",VLOOKUP(Tableau23[[#This Row],[UAI ]],[2]!SuiviForumLyceeCibles[[UAI]:[Tél contact 2]],20,0)),"") | S6: =IFERROR(IF(VLOOKUP(Tableau23[[#This Row],[UAI ]],[2]!SuiviForumLyceeCibles[[UAI]:[Tél contact 2]],21,0)="","",VLOOKUP(Tableau23[[#This Row],[UAI ]],[2]!SuiviForumLyceeCibles[[UAI]:[Tél contact 2]],21,0)),"") | T6: =IFERROR(IF(VLOOKUP(Tableau23[[#This Row],[UAI ]],[2]!SuiviForumLyceeCibles[[UAI]:[Tél contact 2]],22,0)="","",VLOOKUP(Tableau23[[#This Row],[UAI ]],[2]!SuiviForumLyceeCibles[[UAI]:[Tél contact 2]],22,0)),"") | U6: =IFERROR(IF(VLOOKUP(Tableau23[[#This Row],[UAI ]],[2]!SuiviForumLyceeCibles[[UAI]:[Tél contact 2]],23,0)="","",VLOOKUP(Tableau23[[#This Row],[UAI ]],[2]!SuiviForumLyceeCibles[[UAI]:[Tél contact 2]],23,0)),"") | V6: =IFERROR(IF(VLOOKUP(Tableau23[[#This Row],[UAI ]],[2]!SuiviForumLyceeCibles[[UAI]:[Tél contact 2]],24,0)="","",VLOOKUP(Tableau23[[#This Row],[UAI ]],[2]!SuiviForumLyceeCibles[[UAI]:[Tél contact 2]],24,0)),"") | W6: =IFERROR(IF(VLOOKUP(Tableau23[[#This Row],[UAI ]],[2]!SuiviForumLyceeCibles[[UAI]:[Tél contact 2]],11,0)="","",VLOOKUP(Tableau23[[#This Row],[UAI ]],[2]!SuiviForumLyceeCibles[[UAI]:[Tél contact 2]],11,0)),"") -> Oui lycée ciblé ingénieur, la DPI organise sa présence
A7: INGENIEUR | B7: =IFERROR(IF(VLOOKUP(Tableau23[[#This Row],[UAI ]],[2]!SuiviForumLyceeCibles[[UAI]:[Tél contact 2]],5,0)="","",VLOOKUP(Tableau23[[#This Row],[UAI ]],[2]!SuiviForumLyceeCibles[[UAI]:[Tél contact 2]],5,0)),"") -> 44447 | C7: =IFERROR(IF(VLOOKUP(Tableau23[[#This Row],[UAI ]],[2]!SuiviForumLyceeCibles[[UAI]:[Tél contact 2]],6,0)="","",VLOOKUP(Tableau23[[#This Row],[UAI ]],[2]!SuiviForumLyceeCibles[[UAI]:[Tél contact 2]],6,0)),"") -> 44473 | D7: =IFERROR(VLOOKUP(Tableau23[[#This Row],[UAI ]],[2]!SuiviForumLyceeCibles[[UAI]:[Tél contact 2]],2,0),"") -> Forum d'orientation | E7: =IFERROR(VLOOKUP(Tableau23[[#This Row],[UAI ]],[2]!SuiviForumLyceeCibles[[UAI]:[Tél contact 2]],3,0),"") -> Lycées partenaires | F7: Bbubbsqh | G7: LPWOLJ | H7: 49 | I7: 6560332Y | J7: =IFERROR(VLOOKUP(Tableau23[[#This Row],[Dpt]],'Table régions'!$A$2:$C$102,3,0),"") -> Pays de la Loire | K7: =IFERROR(IF(VLOOKUP(Tableau23[[#This Row],[UAI ]],[2]!SuiviForumLyceeCibles[[UAI]:[Tél contact 2]],4,0)="","",VLOOKUP(Tableau23[[#This Row],[UAI ]],[2]!SuiviForumLyceeCibles[[UAI]:[Tél contact 2]],4,0)),"") -> Terminale | L7: =IFERROR(IF(VLOOKUP(Tableau23[[#This Row],[UAI ]],[2]!SuiviForumLyceeCibles[[UAI]:[Tél contact 2]],7,0)="","",VLOOKUP(Tableau23[[#This Row],[UAI ]],[2]!SuiviForumLyceeCibles[[UAI]:[Tél contact 2]],7,0)),"") -> 44517 | M7: =IFERROR(IF(VLOOKUP(Tableau23[[#This Row],[UAI ]],[2]!SuiviForumLyceeCibles[[UAI]:[Tél contact 2]],9,0)="","",VLOOKUP(Tableau23[[#This Row],[UAI ]],[2]!SuiviForumLyceeCibles[[UAI]:[Tél contact 2]],9,0)),"") -> 15h30 -17h15 | N7: =IFERROR(IF(VLOOKUP(Tableau23[[#This Row],[UAI ]],[2]!SuiviForumLyceeCibles[[UAI]:[Tél contact 2]],10,0)="","",VLOOKUP(Tableau23[[#This Row],[UAI ]],[2]!SuiviForumLyceeCibles[[UAI]:[Tél contact 2]],10,0)),"") -> Présence confirmée | O7: =IFERROR(IF(VLOOKUP(Tableau23[[#This Row],[UAI ]],[2]!SuiviForumLyceeCibles[[UAI]:[Tél contact 2]],17,0)="","",VLOOKUP(Tableau23[[#This Row],[UAI ]],[2]!SuiviForumLyceeCibles[[UAI]:[Tél contact 2]],17,0)),"") | P7: =IFERROR(IF(VLOOKUP(Tableau23[[#This Row],[UAI ]],[2]!SuiviForumLyceeCibles[[UAI]:[Tél contact 2]],18,0)="","",VLOOKUP(Tableau23[[#This Row],[UAI ]],[2]!SuiviForumLyceeCibles[[UAI]:[Tél contact 2]],18,0)),"") | Q7: =IFERROR(IF(VLOOKUP(Tableau23[[#This Row],[UAI ]],[2]!SuiviForumLyceeCibles[[UAI]:[Tél contact 2]],19,0)="","",VLOOKUP(Tableau23[[#This Row],[UAI ]],[2]!SuiviForumLyceeCibles[[UAI]:[Tél contact 2]],19,0)),"") | R7: =IFERROR(IF(VLOOKUP(Tableau23[[#This Row],[UAI ]],[2]!SuiviForumLyceeCibles[[UAI]:[Tél contact 2]],20,0)="","",VLOOKUP(Tableau23[[#This Row],[UAI ]],[2]!SuiviForumLyceeCibles[[UAI]:[Tél contact 2]],20,0)),"") | S7: =IFERROR(IF(VLOOKUP(Tableau23[[#This Row],[UAI ]],[2]!SuiviForumLyceeCibles[[UAI]:[Tél contact 2]],21,0)="","",VLOOKUP(Tableau23[[#This Row],[UAI ]],[2]!SuiviForumLyceeCibles[[UAI]:[Tél contact 2]],21,0)),"") | T7: =IFERROR(IF(VLOOKUP(Tableau23[[#This Row],[UAI ]],[2]!SuiviForumLyceeCibles[[UAI]:[Tél contact 2]],22,0)="","",VLOOKUP(Tableau23[[#This Row],[UAI ]],[2]!SuiviForumLyceeCibles[[UAI]:[Tél contact 2]],22,0)),"") | U7: =IFERROR(IF(VLOOKUP(Tableau23[[#This Row],[UAI ]],[2]!SuiviForumLyceeCibles[[UAI]:[Tél contact 2]],23,0)="","",VLOOKUP(Tableau23[[#This Row],[UAI ]],[2]!SuiviForumLyceeCibles[[UAI]:[Tél contact 2]],23,0)),"") | V7: =IFERROR(IF(VLOOKUP(Tableau23[[#This Row],[UAI ]],[2]!SuiviForumLyceeCibles[[UAI]:[Tél contact 2]],24,0)="","",VLOOKUP(Tableau23[[#This Row],[UAI ]],[2]!SuiviForumLyceeCibles[[UAI]:[Tél contact 2]],24,0)),"") | W7: =IFERROR(IF(VLOOKUP(Tableau23[[#This Row],[UAI ]],[2]!SuiviForumLyceeCibles[[UAI]:[Tél contact 2]],11,0)="","",VLOOKUP(Tableau23[[#This Row],[UAI ]],[2]!SuiviForumLyceeCibles[[UAI]:[Tél contact 2]],11,0)),"") -> Oui lycée ciblé ingénieur, la DPI organise sa présence
A8: INGENIEUR | B8: =IFERROR(IF(VLOOKUP(Tableau23[[#This Row],[UAI ]],[2]!SuiviForumLyceeCibles[[UAI]:[Tél contact 2]],5,0)="","",VLOOKUP(Tableau23[[#This Row],[UAI ]],[2]!SuiviForumLyceeCibles[[UAI]:[Tél contact 2]],5,0)),"") | C8: =IFERROR(IF(VLOOKUP(Tableau23[[#This Row],[UAI ]],[2]!SuiviForumLyceeCibles[[UAI]:[Tél contact 2]],6,0)="","",VLOOKUP(Tableau23[[#This Row],[UAI ]],[2]!SuiviForumLyceeCibles[[UAI]:[Tél contact 2]],6,0)),"") | D8: =IFERROR(VLOOKUP(Tableau23[[#This Row],[UAI ]],[2]!SuiviForumLyceeCibles[[UAI]:[Tél contact 2]],2,0),"") -> Forum d'orientation | E8: =IFERROR(VLOOKUP(Tableau23[[#This Row],[UAI ]],[2]!SuiviForumLyceeCibles[[UAI]:[Tél contact 2]],3,0),"") -> Lycées partenaires | F8: Ohflt Ssuj ze Eoxegm Nkyxosris | G8: MMXZXNONT | H8: 49 | I8: 4719327F | J8: =IFERROR(VLOOKUP(Tableau23[[#This Row],[Dpt]],'Table régions'!$A$2:$C$102,3,0),"") -> Pays de la Loire | K8: =IFERROR(IF(VLOOKUP(Tableau23[[#This Row],[UAI ]],[2]!SuiviForumLyceeCibles[[UAI]:[Tél contact 2]],4,0)="","",VLOOKUP(Tableau23[[#This Row],[UAI ]],[2]!SuiviForumLyceeCibles[[UAI]:[Tél contact 2]],4,0)),"") -> Terminale | L8: =IFERROR(IF(VLOOKUP(Tableau23[[#This Row],[UAI ]],[2]!SuiviForumLyceeCibles[[UAI]:[Tél contact 2]],7,0)="","",VLOOKUP(Tableau23[[#This Row],[UAI ]],[2]!SuiviForumLyceeCibles[[UAI]:[Tél contact 2]],7,0)),"") | M8: =IFERROR(IF(VLOOKUP(Tableau23[[#This Row],[UAI ]],[2]!SuiviForumLyceeCibles[[UAI]:[Tél contact 2]],9,0)="","",VLOOKUP(Tableau23[[#This Row],[UAI ]],[2]!SuiviForumLyceeCibles[[UAI]:[Tél contact 2]],9,0)),"") | N8: =IFERROR(IF(VLOOKUP(Tableau23[[#This Row],[UAI ]],[2]!SuiviForumLyceeCibles[[UAI]:[Tél contact 2]],10,0)="","",VLOOKUP(Tableau23[[#This Row],[UAI ]],[2]!SuiviForumLyceeCibles[[UAI]:[Tél contact 2]],10,0)),"") -> Pas de retour étudiant | O8: =IFERROR(IF(VLOOKUP(Tableau23[[#This Row],[UAI ]],[2]!SuiviForumLyceeCibles[[UAI]:[Tél contact 2]],17,0)="","",VLOOKUP(Tableau23[[#This Row],[UAI ]],[2]!SuiviForumLyceeCibles[[UAI]:[Tél contact 2]],17,0)),"") | P8: =IFERROR(IF(VLOOKUP(Tableau23[[#This Row],[UAI ]],[2]!SuiviForumLyceeCibles[[UAI]:[Tél contact 2]],18,0)="","",VLOOKUP(Tableau23[[#This Row],[UAI ]],[2]!SuiviForumLyceeCibles[[UAI]:[Tél contact 2]],18,0)),"") | Q8: =IFERROR(IF(VLOOKUP(Tableau23[[#This Row],[UAI ]],[2]!SuiviForumLyceeCibles[[UAI]:[Tél contact 2]],19,0)="","",VLOOKUP(Tableau23[[#This Row],[UAI ]],[2]!SuiviForumLyceeCibles[[UAI]:[Tél contact 2]],19,0)),"") | R8: =IFERROR(IF(VLOOKUP(Tableau23[[#This Row],[UAI ]],[2]!SuiviForumLyceeCibles[[UAI]:[Tél contact 2]],20,0)="","",VLOOKUP(Tableau23[[#This Row],[UAI ]],[2]!SuiviForumLyceeCibles[[UAI]:[Tél contact 2]],20,0)),"") | S8: =IFERROR(IF(VLOOKUP(Tableau23[[#This Row],[UAI ]],[2]!SuiviForumLyceeCibles[[UAI]:[Tél contact 2]],21,0)="","",VLOOKUP(Tableau23[[#This Row],[UAI ]],[2]!SuiviForumLyceeCibles[[UAI]:[Tél contact 2]],21,0)),"") | T8: =IFERROR(IF(VLOOKUP(Tableau23[[#This Row],[UAI ]],[2]!SuiviForumLyceeCibles[[UAI]:[Tél contact 2]],22,0)="","",VLOOKUP(Tableau23[[#This Row],[UAI ]],[2]!SuiviForumLyceeCibles[[UAI]:[Tél contact 2]],22,0)),"") | U8: =IFERROR(IF(VLOOKUP(Tableau23[[#This Row],[UAI ]],[2]!SuiviForumLyceeCibles[[UAI]:[Tél contact 2]],23,0)="","",VLOOKUP(Tableau23[[#This Row],[UAI ]],[2]!SuiviForumLyceeCibles[[UAI]:[Tél contact 2]],23,0)),"") | V8: =IFERROR(IF(VLOOKUP(Tableau23[[#This Row],[UAI ]],[2]!SuiviForumLyceeCibles[[UAI]:[Tél contact 2]],24,0)="","",VLOOKUP(Tableau23[[#This Row],[UAI ]],[2]!SuiviForumLyceeCibles[[UAI]:[Tél contact 2]],24,0)),"") | W8: =IFERROR(IF(VLOOKUP(Tableau23[[#This Row],[UAI ]],[2]!SuiviForumLyceeCibles[[UAI]:[Tél contact 2]],11,0)="","",VLOOKUP(Tableau23[[#This Row],[UAI ]],[2]!SuiviForumLyceeCibles[[UAI]:[Tél contact 2]],11,0)),"") -> Oui lycée ciblé ingénieur, la DPI organise sa présence
A9: INGENIEUR | B9: =IFERROR(IF(VLOOKUP(Tableau23[[#This Row],[UAI ]],[2]!SuiviForumLyceeCibles[[UAI]:[Tél contact 2]],5,0)="","",VLOOKUP(Tableau23[[#This Row],[UAI ]],[2]!SuiviForumLyceeCibles[[UAI]:[Tél contact 2]],5,0)),"") | C9: =IFERROR(IF(VLOOKUP(Tableau23[[#This Row],[UAI ]],[2]!SuiviForumLyceeCibles[[UAI]:[Tél contact 2]],6,0)="","",VLOOKUP(Tableau23[[#This Row],[UAI ]],[2]!SuiviForumLyceeCibles[[UAI]:[Tél contact 2]],6,0)),"") | D9: =IFERROR(VLOOKUP(Tableau23[[#This Row],[UAI ]],[2]!SuiviForumLyceeCibles[[UAI]:[Tél contact 2]],2,0),"") -> Forum d'orientation | E9: =IFERROR(VLOOKUP(Tableau23[[#This Row],[UAI ]],[2]!SuiviForumLyceeCibles[[UAI]:[Tél contact 2]],3,0),"") -> Lycées partenaires | F9: Gremm Fa Zevc | G9: ZEGBPQ | H9: 56 | I9: 2996921P | J9: =IFERROR(VLOOKUP(Tableau23[[#This Row],[Dpt]],'Table régions'!$A$2:$C$102,3,0),"") -> Bretagne | K9: =IFERROR(IF(VLOOKUP(Tableau23[[#This Row],[UAI ]],[2]!SuiviForumLyceeCibles[[UAI]:[Tél contact 2]],4,0)="","",VLOOKUP(Tableau23[[#This Row],[UAI ]],[2]!SuiviForumLyceeCibles[[UAI]:[Tél contact 2]],4,0)),"") -> Terminale | L9: =IFERROR(IF(VLOOKUP(Tableau23[[#This Row],[UAI ]],[2]!SuiviForumLyceeCibles[[UAI]:[Tél contact 2]],7,0)="","",VLOOKUP(Tableau23[[#This Row],[UAI ]],[2]!SuiviForumLyceeCibles[[UAI]:[Tél contact 2]],7,0)),"") -> 44540 | M9: =IFERROR(IF(VLOOKUP(Tableau23[[#This Row],[UAI ]],[2]!SuiviForumLyceeCibles[[UAI]:[Tél contact 2]],9,0)="","",VLOOKUP(Tableau23[[#This Row],[UAI ]],[2]!SuiviForumLyceeCibles[[UAI]:[Tél contact 2]],9,0)),"") -> 10h45 - 11h45 | N9: =IFERROR(IF(VLOOKUP(Tableau23[[#This Row],[UAI ]],[2]!SuiviForumLyceeCibles[[UAI]:[Tél contact 2]],10,0)="","",VLOOKUP(Tableau23[[#This Row],[UAI ]],[2]!SuiviForumLyceeCibles[[UAI]:[Tél contact 2]],10,0)),"") -> Demande d'absence en cours | O9: =IFERROR(IF(VLOOKUP(Tableau23[[#This Row],[UAI ]],[2]!SuiviForumLyceeCibles[[UAI]:[Tél contact 2]],17,0)="","",VLOOKUP(Tableau23[[#This Row],[UAI ]],[2]!SuiviForumLyceeCibles[[UAI]:[Tél contact 2]],17,0)),"") | P9: =IFERROR(IF(VLOOKUP(Tableau23[[#This Row],[UAI ]],[2]!SuiviForumLyceeCibles[[UAI]:[Tél contact 2]],18,0)="","",VLOOKUP(Tableau23[[#This Row],[UAI ]],[2]!SuiviForumLyceeCibles[[UAI]:[Tél contact 2]],18,0)),"") | Q9: =IFERROR(IF(VLOOKUP(Tableau23[[#This Row],[UAI ]],[2]!SuiviForumLyceeCibles[[UAI]:[Tél contact 2]],19,0)="","",VLOOKUP(Tableau23[[#This Row],[UAI ]],[2]!SuiviForumLyceeCibles[[UAI]:[Tél contact 2]],19,0)),"") | R9: =IFERROR(IF(VLOOKUP(Tableau23[[#This Row],[UAI ]],[2]!SuiviForumLyceeCibles[[UAI]:[Tél contact 2]],20,0)="","",VLOOKUP(Tableau23[[#This Row],[UAI ]],[2]!SuiviForumLyceeCibles[[UAI]:[Tél contact 2]],20,0)),"") | S9: =IFERROR(IF(VLOOKUP(Tableau23[[#This Row],[UAI ]],[2]!SuiviForumLyceeCibles[[UAI]:[Tél contact 2]],21,0)="","",VLOOKUP(Tableau23[[#This Row],[UAI ]],[2]!SuiviForumLyceeCibles[[UAI]:[Tél contact 2]],21,0)),"") | T9: =IFERROR(IF(VLOOKUP(Tableau23[[#This Row],[UAI ]],[2]!SuiviForumLyceeCibles[[UAI]:[Tél contact 2]],22,0)="","",VLOOKUP(Tableau23[[#This Row],[UAI ]],[2]!SuiviForumLyceeCibles[[UAI]:[Tél contact 2]],22,0)),"") | U9: =IFERROR(IF(VLOOKUP(Tableau23[[#This Row],[UAI ]],[2]!SuiviForumLyceeCibles[[UAI]:[Tél contact 2]],23,0)="","",VLOOKUP(Tableau23[[#This Row],[UAI ]],[2]!SuiviForumLyceeCibles[[UAI]:[Tél contact 2]],23,0)),"") | V9: =IFERROR(IF(VLOOKUP(Tableau23[[#This Row],[UAI ]],[2]!SuiviForumLyceeCibles[[UAI]:[Tél contact 2]],24,0)="","",VLOOKUP(Tableau23[[#This Row],[UAI ]],[2]!SuiviForumLyceeCibles[[UAI]:[Tél contact 2]],24,0)),"") | W9: =IFERROR(IF(VLOOKUP(Tableau23[[#This Row],[UAI ]],[2]!SuiviForumLyceeCibles[[UAI]:[Tél contact 2]],11,0)="","",VLOOKUP(Tableau23[[#This Row],[UAI ]],[2]!SuiviForumLyceeCibles[[UAI]:[Tél contact 2]],11,0)),"") -> Oui lycée ciblé ingénieur, la DPI organise sa présence
E10: Lycées non pré-ciblés | J10: =IFERROR(VLOOKUP(Tableau23[[#This Row],[Dpt]],'Table régions'!$A$2:$C$102,3,0),"")
E11: Lycées non pré-ciblés | J11: =IFERROR(VLOOKUP(Tableau23[[#This Row],[Dpt]],'Table régions'!$A$2:$C$102,3,0),"")
E12: Lycées non pré-ciblés | J12: =IFERROR(VLOOKUP(Tableau23[[#This Row],[Dpt]],'Table régions'!$A$2:$C$102,3,0),"")
E13: Lycées non pré-ciblés | J13: =IFERROR(VLOOKUP(Tableau23[[#This Row],[Dpt]],'Table régions'!$A$2:$C$102,3,0),"")
E14: Lycées non pré-ciblés | J14: =IFERROR(VLOOKUP(Tableau23[[#This Row],[Dpt]],'Table régions'!$A$2:$C$102,3,0),"")
E15: Lycées non pré-ciblés | J15: =IFERROR(VLOOKUP(Tableau23[[#This Row],[Dpt]],'Table régions'!$A$2:$C$102,3,0),"")
E16: Lycées non pré-ciblés | J16: =IFERROR(VLOOKUP(Tableau23[[#This Row],[Dpt]],'Table régions'!$A$2:$C$102,3,0),"")
E17: Lycées non pré-ciblés | J17: =IFERROR(VLOOKUP(Tableau23[[#This Row],[Dpt]],'Table régions'!$A$2:$C$102,3,0),"")
E18: Lycées non pré-ciblés | J18: =IFERROR(VLOOKUP(Tableau23[[#This Row],[Dpt]],'Table régions'!$A$2:$C$102,3,0),"")
E19: Lycées non pré-ciblés | J19: =IFERROR(VLOOKUP(Tableau23[[#This Row],[Dpt]],'Table régions'!$A$2:$C$102,3,0),"")
E20: Lycées non pré-ciblés | J20: =IFERROR(VLOOKUP(Tableau23[[#This Row],[Dpt]],'Table régions'!$A$2:$C$102,3,0),"")
E21: Lycées non pré-ciblés | J21: =IFERROR(VLOOKUP(Tableau23[[#This Row],[Dpt]],'Table régions'!$A$2:$C$102,3,0),"")
... E49: Lycées non pré-ciblés | J49: =IFERROR(VLOOKUP(Tableau23[[#This Row],[Dpt]],'Table régions'!$A$2:$C$102,3,0),"")
A50: INGENIEUR | B50: =IFERROR(IF(VLOOKUP(Tableau23[[#This Row],[UAI ]],[2]!SuiviForumLyceeCibles[[UAI]:[Tél contact 2]],5,0)="","",VLOOKUP(Tableau23[[#This Row],[UAI ]],[2]!SuiviForumLyceeCibles[[UAI]:[Tél contact 2]],5,0)),"") | C50: =IFERROR(IF(VLOOKUP(Tableau23[[#This Row],[UAI ]],[2]!SuiviForumLyceeCibles[[UAI]:[Tél contact 2]],6,0)="","",VLOOKUP(Tableau23[[#This Row],[UAI ]],[2]!SuiviForumLyceeCibles[[UAI]:[Tél contact 2]],6,0)),"") | D50: =IFERROR(VLOOKUP(Tableau23[[#This Row],[UAI ]],[2]!SuiviForumLyceeCibles[[UAI]:[Tél contact 2]],2,0),"") -> Forum d'orientation | E50: =IFERROR(VLOOKUP(Tableau23[[#This Row],[UAI ]],[2]!SuiviForumLyceeCibles[[UAI]:[Tél contact 2]],3,0),"") -> Lycées ciblés Ingénieur | F50: Qxamz Ttlan- Xakx rn Bh Ksgnv | G50: AZPCY SXMRTZD | H50: 2 | I50: 4946255S | J50: =IFERROR(VLOOKUP(Tableau23[[#This Row],[Dpt]],'Table régions'!$A$2:$C$102,3,0),"") -> Hauts-de-France | K50: =IFERROR(IF(VLOOKUP(Tableau23[[#This Row],[UAI ]],[2]!SuiviForumLyceeCibles[[UAI]:[Tél contact 2]],4,0)="","",VLOOKUP(Tableau23[[#This Row],[UAI ]],[2]!SuiviForumLyceeCibles[[UAI]:[Tél contact 2]],4,0)),"") -> Terminale | L50: =IFERROR(IF(VLOOKUP(Tableau23[[#This Row],[UAI ]],[2]!SuiviForumLyceeCibles[[UAI]:[Tél contact 2]],7,0)="","",VLOOKUP(Tableau23[[#This Row],[UAI ]],[2]!SuiviForumLyceeCibles[[UAI]:[Tél contact 2]],7,0)),"") | M50: =IFERROR(IF(VLOOKUP(Tableau23[[#This Row],[UAI ]],[2]!SuiviForumLyceeCibles[[UAI]:[Tél contact 2]],9,0)="","",VLOOKUP(Tableau23[[#This Row],[UAI ]],[2]!SuiviForumLyceeCibles[[UAI]:[Tél contact 2]],9,0)),"") | N50: =IFERROR(IF(VLOOKUP(Tableau23[[#This Row],[UAI ]],[2]!SuiviForumLyceeCibles[[UAI]:[Tél contact 2]],10,0)="","",VLOOKUP(Tableau23[[#This Row],[UAI ]],[2]!SuiviForumLyceeCibles[[UAI]:[Tél contact 2]],10,0)),"") -> Pas de retour étudiant | O50: =IFERROR(IF(VLOOKUP(Tableau23[[#This Row],[UAI ]],[2]!SuiviForumLyceeCibles[[UAI]:[Tél contact 2]],17,0)="","",VLOOKUP(Tableau23[[#This Row],[UAI ]],[2]!SuiviForumLyceeCibles[[UAI]:[Tél contact 2]],17,0)),"") | P50: =IFERROR(IF(VLOOKUP(Tableau23[[#This Row],[UAI ]],[2]!SuiviForumLyceeCibles[[UAI]:[Tél contact 2]],18,0)="","",VLOOKUP(Tableau23[[#This Row],[UAI ]],[2]!SuiviForumLyceeCibles[[UAI]:[Tél contact 2]],18,0)),"") | Q50: =IFERROR(IF(VLOOKUP(Tableau23[[#This Row],[UAI ]],[2]!SuiviForumLyceeCibles[[UAI]:[Tél contact 2]],19,0)="","",VLOOKUP(Tableau23[[#This Row],[UAI ]],[2]!SuiviForumLyceeCibles[[UAI]:[Tél contact 2]],19,0)),"") | R50: =IFERROR(IF(VLOOKUP(Tableau23[[#This Row],[UAI ]],[2]!SuiviForumLyceeCibles[[UAI]:[Tél contact 2]],20,0)="","",VLOOKUP(Tableau23[[#This Row],[UAI ]],[2]!SuiviForumLyceeCibles[[UAI]:[Tél contact 2]],20,0)),"") | S50: =IFERROR(IF(VLOOKUP(Tableau23[[#This Row],[UAI ]],[2]!SuiviForumLyceeCibles[[UAI]:[Tél contact 2]],21,0)="","",VLOOKUP(Tableau23[[#This Row],[UAI ]],[2]!SuiviForumLyceeCibles[[UAI]:[Tél contact 2]],21,0)),"") | T50: =IFERROR(IF(VLOOKUP(Tableau23[[#This Row],[UAI ]],[2]!SuiviForumLyceeCibles[[UAI]:[Tél contact 2]],22,0)="","",VLOOKUP(Tableau23[[#This Row],[UAI ]],[2]!SuiviForumLyceeCibles[[UAI]:[Tél contact 2]],22,0)),"") | U50: =IFERROR(IF(VLOOKUP(Tableau23[[#This Row],[UAI ]],[2]!SuiviForumLyceeCibles[[UAI]:[Tél contact 2]],23,0)="","",VLOOKUP(Tableau23[[#This Row],[UAI ]],[2]!SuiviForumLyceeCibles[[UAI]:[Tél contact 2]],23,0)),"") | V50: =IFERROR(IF(VLOOKUP(Tableau23[[#This Row],[UAI ]],[2]!SuiviForumLyceeCibles[[UAI]:[Tél contact 2]],24,0)="","",VLOOKUP(Tableau23[[#This Row],[UAI ]],[2]!SuiviForumLyceeCibles[[UAI]:[Tél contact 2]],24,0)),"") | W50: =IFERROR(IF(VLOOKUP(Tableau23[[#This Row],[UAI ]],[2]!SuiviForumLyceeCibles[[UAI]:[Tél contact 2]],11,0)="","",VLOOKUP(Tableau23[[#This Row],[UAI ]],[2]!SuiviForumLyceeCibles[[UAI]:[Tél contact 2]],11,0)),"") -> Oui lycée ciblé ingénieur, la DPI organise sa présence
A51: INGENIEUR | B51: =IFERROR(IF(VLOOKUP(Tableau23[[#This Row],[UAI ]],[2]!SuiviForumLyceeCibles[[UAI]:[Tél contact 2]],5,0)="","",VLOOKUP(Tableau23[[#This Row],[UAI ]],[2]!SuiviForumLyceeCibles[[UAI]:[Tél contact 2]],5,0)),"") | C51: =IFERROR(IF(VLOOKUP(Tableau23[[#This Row],[UAI ]],[2]!SuiviForumLyceeCibles[[UAI]:[Tél contact 2]],6,0)="","",VLOOKUP(Tableau23[[#This Row],[UAI ]],[2]!SuiviForumLyceeCibles[[UAI]:[Tél contact 2]],6,0)),"") | D51: =IFERROR(VLOOKUP(Tableau23[[#This Row],[UAI ]],[2]!SuiviForumLyceeCibles[[UAI]:[Tél contact 2]],2,0),"") -> Forum d'orientation | E51: =IFERROR(VLOOKUP(Tableau23[[#This Row],[UAI ]],[2]!SuiviForumLyceeCibles[[UAI]:[Tél contact 2]],3,0),"") -> Lycées ciblés Ingénieur | F51: Coofn Qu Nqzmgs | G51: RWJMJ NHGOXX | H51: 22 | I51: 7709730I | J51: =IFERROR(VLOOKUP(Tableau23[[#This Row],[Dpt]],'Table régions'!$A$2:$C$102,3,0),"") -> Bretagne | K51: =IFERROR(IF(VLOOKUP(Tableau23[[#This Row],[UAI ]],[2]!SuiviForumLyceeCibles[[UAI]:[Tél contact 2]],4,0)="","",VLOOKUP(Tableau23[[#This Row],[UAI ]],[2]!SuiviForumLyceeCibles[[UAI]:[Tél contact 2]],4,0)),"") -> Terminale | L51: =IFERROR(IF(VLOOKUP(Tableau23[[#This Row],[UAI ]],[2]!SuiviForumLyceeCibles[[UAI]:[Tél contact 2]],7,0)="","",VLOOKUP(Tableau23[[#This Row],[UAI ]],[2]!SuiviForumLyceeCibles[[UAI]:[Tél contact 2]],7,0)),"") | M51: =IFERROR(IF(VLOOKUP(Tableau23[[#This Row],[UAI ]],[2]!SuiviForumLyceeCibles[[UAI]:[Tél contact 2]],9,0)="","",VLOOKUP(Tableau23[[#This Row],[UAI ]],[2]!SuiviForumLyceeCibles[[UAI]:[Tél contact 2]],9,0)),"") | N51: =IFERROR(IF(VLOOKUP(Tableau23[[#This Row],[UAI ]],[2]!SuiviForumLyceeCibles[[UAI]:[Tél contact 2]],10,0)="","",VLOOKUP(Tableau23[[#This Row],[UAI ]],[2]!SuiviForumLyceeCibles[[UAI]:[Tél contact 2]],10,0)),"") -> Pas de retour étudiant | O51: =IFERROR(IF(VLOOKUP(Tableau23[[#This Row],[UAI ]],[2]!SuiviForumLyceeCibles[[UAI]:[Tél contact 2]],17,0)="","",VLOOKUP(Tableau23[[#This Row],[UAI ]],[2]!SuiviForumLyceeCibles[[UAI]:[Tél contact 2]],17,0)),"") | P51: =IFERROR(IF(VLOOKUP(Tableau23[[#This Row],[UAI ]],[2]!SuiviForumLyceeCibles[[UAI]:[Tél contact 2]],18,0)="","",VLOOKUP(Tableau23[[#This Row],[UAI ]],[2]!SuiviForumLyceeCibles[[UAI]:[Tél contact 2]],18,0)),"") | Q51: =IFERROR(IF(VLOOKUP(Tableau23[[#This Row],[UAI ]],[2]!SuiviForumLyceeCibles[[UAI]:[Tél contact 2]],19,0)="","",VLOOKUP(Tableau23[[#This Row],[UAI ]],[2]!SuiviForumLyceeCibles[[UAI]:[Tél contact 2]],19,0)),"") | R51: =IFERROR(IF(VLOOKUP(Tableau23[[#This Row],[UAI ]],[2]!SuiviForumLyceeCibles[[UAI]:[Tél contact 2]],20,0)="","",VLOOKUP(Tableau23[[#This Row],[UAI ]],[2]!SuiviForumLyceeCibles[[UAI]:[Tél contact 2]],20,0)),"") | S51: =IFERROR(IF(VLOOKUP(Tableau23[[#This Row],[UAI ]],[2]!SuiviForumLyceeCibles[[UAI]:[Tél contact 2]],21,0)="","",VLOOKUP(Tableau23[[#This Row],[UAI ]],[2]!SuiviForumLyceeCibles[[UAI]:[Tél contact 2]],21,0)),"") | T51: =IFERROR(IF(VLOOKUP(Tableau23[[#This Row],[UAI ]],[2]!SuiviForumLyceeCibles[[UAI]:[Tél contact 2]],22,0)="","",VLOOKUP(Tableau23[[#This Row],[UAI ]],[2]!SuiviForumLyceeCibles[[UAI]:[Tél contact 2]],22,0)),"") | U51: =IFERROR(IF(VLOOKUP(Tableau23[[#This Row],[UAI ]],[2]!SuiviForumLyceeCibles[[UAI]:[Tél contact 2]],23,0)="","",VLOOKUP(Tableau23[[#This Row],[UAI ]],[2]!SuiviForumLyceeCibles[[UAI]:[Tél contact 2]],23,0)),"") | V51: =IFERROR(IF(VLOOKUP(Tableau23[[#This Row],[UAI ]],[2]!SuiviForumLyceeCibles[[UAI]:[Tél contact 2]],24,0)="","",VLOOKUP(Tableau23[[#This Row],[UAI ]],[2]!SuiviForumLyceeCibles[[UAI]:[Tél contact 2]],24,0)),"") | W51: =IFERROR(IF(VLOOKUP(Tableau23[[#This Row],[UAI ]],[2]!SuiviForumLyceeCibles[[UAI]:[Tél contact 2]],11,0)="","",VLOOKUP(Tableau23[[#This Row],[UAI ]],[2]!SuiviForumLyceeCibles[[UAI]:[Tél contact 2]],11,0)),"") -> Oui lycée ciblé ingénieur, la DPI organise sa présence
A52: INGENIEUR | B52: =IFERROR(IF(VLOOKUP(Tableau23[[#This Row],[UAI ]],[2]!SuiviForumLyceeCibles[[UAI]:[Tél contact 2]],5,0)="","",VLOOKUP(Tableau23[[#This Row],[UAI ]],[2]!SuiviForumLyceeCibles[[UAI]:[Tél contact 2]],5,0)),"") | C52: =IFERROR(IF(VLOOKUP(Tableau23[[#This Row],[UAI ]],[2]!SuiviForumLyceeCibles[[UAI]:[Tél contact 2]],6,0)="","",VLOOKUP(Tableau23[[#This Row],[UAI ]],[2]!SuiviForumLyceeCibles[[UAI]:[Tél contact 2]],6,0)),"") | D52: =IFERROR(VLOOKUP(Tableau23[[#This Row],[UAI ]],[2]!SuiviForumLyceeCibles[[UAI]:[Tél contact 2]],2,0),"") -> Forum d'orientation | E52: =IFERROR(VLOOKUP(Tableau23[[#This Row],[UAI ]],[2]!SuiviForumLyceeCibles[[UAI]:[Tél contact 2]],3,0),"") -> Lycées ciblés Ingénieur | F52: Qlmoi Sqzvh Ingn Vu Ddtjojtzp | G52: MVMVOGAFA | H52: 22 | I52: 4390451V | J52: =IFERROR(VLOOKUP(Tableau23[[#This Row],[Dpt]],'Table régions'!$A$2:$C$102,3,0),"") -> Bretagne | K52: =IFERROR(IF(VLOOKUP(Tableau23[[#This Row],[UAI ]],[2]!SuiviForumLyceeCibles[[UAI]:[Tél contact 2]],4,0)="","",VLOOKUP(Tableau23[[#This Row],[UAI ]],[2]!SuiviForumLyceeCibles[[UAI]:[Tél contact 2]],4,0)),"") -> Terminale | L52: =IFERROR(IF(VLOOKUP(Tableau23[[#This Row],[UAI ]],[2]!SuiviForumLyceeCibles[[UAI]:[Tél contact 2]],7,0)="","",VLOOKUP(Tableau23[[#This Row],[UAI ]],[2]!SuiviForumLyceeCibles[[UAI]:[Tél contact 2]],7,0)),"") | M52: =IFERROR(IF(VLOOKUP(Tableau23[[#This Row],[UAI ]],[2]!SuiviForumLyceeCibles[[UAI]:[Tél contact 2]],9,0)="","",VLOOKUP(Tableau23[[#This Row],[UAI ]],[2]!SuiviForumLyceeCibles[[UAI]:[Tél contact 2]],9,0)),"") | N52: =IFERROR(IF(VLOOKUP(Tableau23[[#This Row],[UAI ]],[2]!SuiviForumLyceeCibles[[UAI]:[Tél contact 2]],10,0)="","",VLOOKUP(Tableau23[[#This Row],[UAI ]],[2]!SuiviForumLyceeCibles[[UAI]:[Tél contact 2]],10,0)),"") -> Pas de retour étudiant | O52: =IFERROR(IF(VLOOKUP(Tableau23[[#This Row],[UAI ]],[2]!SuiviForumLyceeCibles[[UAI]:[Tél contact 2]],17,0)="","",VLOOKUP(Tableau23[[#This Row],[UAI ]],[2]!SuiviForumLyceeCibles[[UAI]:[Tél contact 2]],17,0)),"") | P52: =IFERROR(IF(VLOOKUP(Tableau23[[#This Row],[UAI ]],[2]!SuiviForumLyceeCibles[[UAI]:[Tél contact 2]],18,0)="","",VLOOKUP(Tableau23[[#This Row],[UAI ]],[2]!SuiviForumLyceeCibles[[UAI]:[Tél contact 2]],18,0)),"") | Q52: =IFERROR(IF(VLOOKUP(Tableau23[[#This Row],[UAI ]],[2]!SuiviForumLyceeCibles[[UAI]:[Tél contact 2]],19,0)="","",VLOOKUP(Tableau23[[#This Row],[UAI ]],[2]!SuiviForumLyceeCibles[[UAI]:[Tél contact 2]],19,0)),"") | R52: =IFERROR(IF(VLOOKUP(Tableau23[[#This Row],[UAI ]],[2]!SuiviForumLyceeCibles[[UAI]:[Tél contact 2]],20,0)="","",VLOOKUP(Tableau23[[#This Row],[UAI ]],[2]!SuiviForumLyceeCibles[[UAI]:[Tél contact 2]],20,0)),"") | S52: =IFERROR(IF(VLOOKUP(Tableau23[[#This Row],[UAI ]],[2]!SuiviForumLyceeCibles[[UAI]:[Tél contact 2]],21,0)="","",VLOOKUP(Tableau23[[#This Row],[UAI ]],[2]!SuiviForumLyceeCibles[[UAI]:[Tél contact 2]],21,0)),"") | T52: =IFERROR(IF(VLOOKUP(Tableau23[[#This Row],[UAI ]],[2]!SuiviForumLyceeCibles[[UAI]:[Tél contact 2]],22,0)="","",VLOOKUP(Tableau23[[#This Row],[UAI ]],[2]!SuiviForumLyceeCibles[[UAI]:[Tél contact 2]],22,0)),"") | U52: =IFERROR(IF(VLOOKUP(Tableau23[[#This Row],[UAI ]],[2]!SuiviForumLyceeCibles[[UAI]:[Tél contact 2]],23,0)="","",VLOOKUP(Tableau23[[#This Row],[UAI ]],[2]!SuiviForumLyceeCibles[[UAI]:[Tél contact 2]],23,0)),"") | V52: =IFERROR(IF(VLOOKUP(Tableau23[[#This Row],[UAI ]],[2]!SuiviForumLyceeCibles[[UAI]:[Tél contact 2]],24,0)="","",VLOOKUP(Tableau23[[#This Row],[UAI ]],[2]!SuiviForumLyceeCibles[[UAI]:[Tél contact 2]],24,0)),"") | W52: =IFERROR(IF(VLOOKUP(Tableau23[[#This Row],[UAI ]],[2]!SuiviForumLyceeCibles[[UAI]:[Tél contact 2]],11,0)="","",VLOOKUP(Tableau23[[#This Row],[UAI ]],[2]!SuiviForumLyceeCibles[[UAI]:[Tél contact 2]],11,0)),"") -> Oui lycée ciblé ingénieur, la DPI organise sa présence
A53: INGENIEUR | B53: =IFERROR(IF(VLOOKUP(Tableau23[[#This Row],[UAI ]],[2]!SuiviForumLyceeCibles[[UAI]:[Tél contact 2]],5,0)="","",VLOOKUP(Tableau23[[#This Row],[UAI ]],[2]!SuiviForumLyceeCibles[[UAI]:[Tél contact 2]],5,0)),"") | C53: =IFERROR(IF(VLOOKUP(Tableau23[[#This Row],[UAI ]],[2]!SuiviForumLyceeCibles[[UAI]:[Tél contact 2]],6,0)="","",VLOOKUP(Tableau23[[#This Row],[UAI ]],[2]!SuiviForumLyceeCibles[[UAI]:[Tél contact 2]],6,0)),"") | D53: =IFERROR(VLOOKUP(Tableau23[[#This Row],[UAI ]],[2]!SuiviForumLyceeCibles[[UAI]:[Tél contact 2]],2,0),"") -> Forum d'orientation | E53: =IFERROR(VLOOKUP(Tableau23[[#This Row],[UAI ]],[2]!SuiviForumLyceeCibles[[UAI]:[Tél contact 2]],3,0),"") -> Lycées ciblés Ingénieur | F53: Tyivm Zkycpizi Jolil | G53: RV ZMTPT SQGIJ | H53: 22 | I53: 1204795D | J53: =IFERROR(VLOOKUP(Tableau23[[#This Row],[Dpt]],'Table régions'!$A$2:$C$102,3,0),"") -> Bretagne | K53: =IFERROR(IF(VLOOKUP(Tableau23[[#This Row],[UAI ]],[2]!SuiviForumLyceeCibles[[UAI]:[Tél contact 2]],4,0)="","",VLOOKUP(Tableau23[[#This Row],[UAI ]],[2]!SuiviForumLyceeCibles[[UAI]:[Tél contact 2]],4,0)),"") -> Terminale | L53: =IFERROR(IF(VLOOKUP(Tableau23[[#This Row],[UAI ]],[2]!SuiviForumLyceeCibles[[UAI]:[Tél contact 2]],7,0)="","",VLOOKUP(Tableau23[[#This Row],[UAI ]],[2]!SuiviForumLyceeCibles[[UAI]:[Tél contact 2]],7,0)),"") | M53: =IFERROR(IF(VLOOKUP(Tableau23[[#This Row],[UAI ]],[2]!SuiviForumLyceeCibles[[UAI]:[Tél contact 2]],9,0)="","",VLOOKUP(Tableau23[[#This Row],[UAI ]],[2]!SuiviForumLyceeCibles[[UAI]:[Tél contact 2]],9,0)),"") | N53: =IFERROR(IF(VLOOKUP(Tableau23[[#This Row],[UAI ]],[2]!SuiviForumLyceeCibles[[UAI]:[Tél contact 2]],10,0)="","",VLOOKUP(Tableau23[[#This Row],[UAI ]],[2]!SuiviForumLyceeCibles[[UAI]:[Tél contact 2]],10,0)),"") -> Pas de retour étudiant | O53: =IFERROR(IF(VLOOKUP(Tableau23[[#This Row],[UAI ]],[2]!SuiviForumLyceeCibles[[UAI]:[Tél contact 2]],17,0)="","",VLOOKUP(Tableau23[[#This Row],[UAI ]],[2]!SuiviForumLyceeCibles[[UAI]:[Tél contact 2]],17,0)),"") | P53: =IFERROR(IF(VLOOKUP(Tableau23[[#This Row],[UAI ]],[2]!SuiviForumLyceeCibles[[UAI]:[Tél contact 2]],18,0)="","",VLOOKUP(Tableau23[[#This Row],[UAI ]],[2]!SuiviForumLyceeCibles[[UAI]:[Tél contact 2]],18,0)),"") | Q53: =IFERROR(IF(VLOOKUP(Tableau23[[#This Row],[UAI ]],[2]!SuiviForumLyceeCibles[[UAI]:[Tél contact 2]],19,0)="","",VLOOKUP(Tableau23[[#This Row],[UAI ]],[2]!SuiviForumLyceeCibles[[UAI]:[Tél contact 2]],19,0)),"") | R53: =IFERROR(IF(VLOOKUP(Tableau23[[#This Row],[UAI ]],[2]!SuiviForumLyceeCibles[[UAI]:[Tél contact 2]],20,0)="","",VLOOKUP(Tableau23[[#This Row],[UAI ]],[2]!SuiviForumLyceeCibles[[UAI]:[Tél contact 2]],20,0)),"") | S53: =IFERROR(IF(VLOOKUP(Tableau23[[#This Row],[UAI ]],[2]!SuiviForumLyceeCibles[[UAI]:[Tél contact 2]],21,0)="","",VLOOKUP(Tableau23[[#This Row],[UAI ]],[2]!SuiviForumLyceeCibles[[UAI]:[Tél contact 2]],21,0)),"") | T53: =IFERROR(IF(VLOOKUP(Tableau23[[#This Row],[UAI ]],[2]!SuiviForumLyceeCibles[[UAI]:[Tél contact 2]],22,0)="","",VLOOKUP(Tableau23[[#This Row],[UAI ]],[2]!SuiviForumLyceeCibles[[UAI]:[Tél contact 2]],22,0)),"") | U53: =IFERROR(IF(VLOOKUP(Tableau23[[#This Row],[UAI ]],[2]!SuiviForumLyceeCibles[[UAI]:[Tél contact 2]],23,0)="","",VLOOKUP(Tableau23[[#This Row],[UAI ]],[2]!SuiviForumLyceeCibles[[UAI]:[Tél contact 2]],23,0)),"") | V53: =IFERROR(IF(VLOOKUP(Tableau23[[#This Row],[UAI ]],[2]!SuiviForumLyceeCibles[[UAI]:[Tél contact 2]],24,0)="","",VLOOKUP(Tableau23[[#This Row],[UAI ]],[2]!SuiviForumLyceeCibles[[UAI]:[Tél contact 2]],24,0)),"") | W53: =IFERROR(IF(VLOOKUP(Tableau23[[#This Row],[UAI ]],[2]!SuiviForumLyceeCibles[[UAI]:[Tél contact 2]],11,0)="","",VLOOKUP(Tableau23[[#This Row],[UAI ]],[2]!SuiviForumLyceeCibles[[UAI]:[Tél contact 2]],11,0)),"") -> Oui lycée ciblé ingénieur, la DPI organise sa présence
A54: INGENIEUR | B54: =IFERROR(IF(VLOOKUP(Tableau23[[#This Row],[UAI ]],[2]!SuiviForumLyceeCibles[[UAI]:[Tél contact 2]],5,0)="","",VLOOKUP(Tableau23[[#This Row],[UAI ]],[2]!SuiviForumLyceeCibles[[UAI]:[Tél contact 2]],5,0)),"") | C54: =IFERROR(IF(VLOOKUP(Tableau23[[#This Row],[UAI ]],[2]!SuiviForumLyceeCibles[[UAI]:[Tél contact 2]],6,0)="","",VLOOKUP(Tableau23[[#This Row],[UAI ]],[2]!SuiviForumLyceeCibles[[UAI]:[Tél contact 2]],6,0)),"") | D54: =IFERROR(VLOOKUP(Tableau23[[#This Row],[UAI ]],[2]!SuiviForumLyceeCibles[[UAI]:[Tél contact 2]],2,0),"") -> Forum d'orientation | E54: =IFERROR(VLOOKUP(Tableau23[[#This Row],[UAI ]],[2]!SuiviForumLyceeCibles[[UAI]:[Tél contact 2]],3,0),"") -> Lycées ciblés Ingénieur | F54: Vbvqa Si Lw Xqiemlgv Byy Ymdp | G54: APTMU | H54: 22 | I54: 7502825L | J54: =IFERROR(VLOOKUP(Tableau23[[#This Row],[Dpt]],'Table régions'!$A$2:$C$102,3,0),"") -> Bretagne | K54: =IFERROR(IF(VLOOKUP(Tableau23[[#This Row],[UAI ]],[2]!SuiviForumLyceeCibles[[UAI]:[Tél contact 2]],4,0)="","",VLOOKUP(Tableau23[[#This Row],[UAI ]],[2]!SuiviForumLyceeCibles[[UAI]:[Tél contact 2]],4,0)),"") -> Terminale | L54: =IFERROR(IF(VLOOKUP(Tableau23[[#This Row],[UAI ]],[2]!SuiviForumLyceeCibles[[UAI]:[Tél contact 2]],7,0)="","",VLOOKUP(Tableau23[[#This Row],[UAI ]],[2]!SuiviForumLyceeCibles[[UAI]:[Tél contact 2]],7,0)),"") | M54: =IFERROR(IF(VLOOKUP(Tableau23[[#This Row],[UAI ]],[2]!SuiviForumLyceeCibles[[UAI]:[Tél contact 2]],9,0)="","",VLOOKUP(Tableau23[[#This Row],[UAI ]],[2]!SuiviForumLyceeCibles[[UAI]:[Tél contact 2]],9,0)),"") | N54: =IFERROR(IF(VLOOKUP(Tableau23[[#This Row],[UAI ]],[2]!SuiviForumLyceeCibles[[UAI]:[Tél contact 2]],10,0)="","",VLOOKUP(Tableau23[[#This Row],[UAI ]],[2]!SuiviForumLyceeCibles[[UAI]:[Tél contact 2]],10,0)),"") -> Pas de retour étudiant | O54: =IFERROR(IF(VLOOKUP(Tableau23[[#This Row],[UAI ]],[2]!SuiviForumLyceeCibles[[UAI]:[Tél contact 2]],17,0)="","",VLOOKUP(Tableau23[[#This Row],[UAI ]],[2]!SuiviForumLyceeCibles[[UAI]:[Tél contact 2]],17,0)),"") | P54: =IFERROR(IF(VLOOKUP(Tableau23[[#This Row],[UAI ]],[2]!SuiviForumLyceeCibles[[UAI]:[Tél contact 2]],18,0)="","",VLOOKUP(Tableau23[[#This Row],[UAI ]],[2]!SuiviForumLyceeCibles[[UAI]:[Tél contact 2]],18,0)),"") | Q54: =IFERROR(IF(VLOOKUP(Tableau23[[#This Row],[UAI ]],[2]!SuiviForumLyceeCibles[[UAI]:[Tél contact 2]],19,0)="","",VLOOKUP(Tableau23[[#This Row],[UAI ]],[2]!SuiviForumLyceeCibles[[UAI]:[Tél contact 2]],19,0)),"") | R54: =IFERROR(IF(VLOOKUP(Tableau23[[#This Row],[UAI ]],[2]!SuiviForumLyceeCibles[[UAI]:[Tél contact 2]],20,0)="","",VLOOKUP(Tableau23[[#This Row],[UAI ]],[2]!SuiviForumLyceeCibles[[UAI]:[Tél contact 2]],20,0)),"") | S54: =IFERROR(IF(VLOOKUP(Tableau23[[#This Row],[UAI ]],[2]!SuiviForumLyceeCibles[[UAI]:[Tél contact 2]],21,0)="","",VLOOKUP(Tableau23[[#This Row],[UAI ]],[2]!SuiviForumLyceeCibles[[UAI]:[Tél contact 2]],21,0)),"") | T54: =IFERROR(IF(VLOOKUP(Tableau23[[#This Row],[UAI ]],[2]!SuiviForumLyceeCibles[[UAI]:[Tél contact 2]],22,0)="","",VLOOKUP(Tableau23[[#This Row],[UAI ]],[2]!SuiviForumLyceeCibles[[UAI]:[Tél contact 2]],22,0)),"") | U54: =IFERROR(IF(VLOOKUP(Tableau23[[#This Row],[UAI ]],[2]!SuiviForumLyceeCibles[[UAI]:[Tél contact 2]],23,0)="","",VLOOKUP(Tableau23[[#This Row],[UAI ]],[2]!SuiviForumLyceeCibles[[UAI]:[Tél contact 2]],23,0)),"") | V54: =IFERROR(IF(VLOOKUP(Tableau23[[#This Row],[UAI ]],[2]!SuiviForumLyceeCibles[[UAI]:[Tél contact 2]],24,0)="","",VLOOKUP(Tableau23[[#This Row],[UAI ]],[2]!SuiviForumLyceeCibles[[UAI]:[Tél contact 2]],24,0)),"") | W54: =IFERROR(IF(VLOOKUP(Tableau23[[#This Row],[UAI ]],[2]!SuiviForumLyceeCibles[[UAI]:[Tél contact 2]],11,0)="","",VLOOKUP(Tableau23[[#This Row],[UAI ]],[2]!SuiviForumLyceeCibles[[UAI]:[Tél contact 2]],11,0)),"") -> Oui lycée ciblé ingénieur, la DPI organise sa présence
A55: INGENIEUR | B55: =IFERROR(IF(VLOOKUP(Tableau23[[#This Row],[UAI ]],[2]!SuiviForumLyceeCibles[[UAI]:[Tél contact 2]],5,0)="","",VLOOKUP(Tableau23[[#This Row],[UAI ]],[2]!SuiviForumLyceeCibles[[UAI]:[Tél contact 2]],5,0)),"") | C55: =IFERROR(IF(VLOOKUP(Tableau23[[#This Row],[UAI ]],[2]!SuiviForumLyceeCibles[[UAI]:[Tél contact 2]],6,0)="","",VLOOKUP(Tableau23[[#This Row],[UAI ]],[2]!SuiviForumLyceeCibles[[UAI]:[Tél contact 2]],6,0)),"") | D55: =IFERROR(VLOOKUP(Tableau23[[#This Row],[UAI ]],[2]!SuiviForumLyceeCibles[[UAI]:[Tél contact 2]],2,0),"") -> Forum d'orientation | E55: =IFERROR(VLOOKUP(Tableau23[[#This Row],[UAI ]],[2]!SuiviForumLyceeCibles[[UAI]:[Tél contact 2]],3,0),"") -> Lycées ciblés Ingénieur | F55: Rpjkw Cdlfhrf Kgmxr | G55: HIUQTLDR | H55: 22 | I55: 7508208G | J55: =IFERROR(VLOOKUP(Tableau23[[#This Row],[Dpt]],'Table régions'!$A$2:$C$102,3,0),"") -> Bretagne | K55: =IFERROR(IF(VLOOKUP(Tableau23[[#This Row],[UAI ]],[2]!SuiviForumLyceeCibles[[UAI]:[Tél contact 2]],4,0)="","",VLOOKUP(Tableau23[[#This Row],[UAI ]],[2]!SuiviForumLyceeCibles[[UAI]:[Tél contact 2]],4,0)),"") -> Terminale | L55: =IFERROR(IF(VLOOKUP(Tableau23[[#This Row],[UAI ]],[2]!SuiviForumLyceeCibles[[UAI]:[Tél contact 2]],7,0)="","",VLOOKUP(Tableau23[[#This Row],[UAI ]],[2]!SuiviForumLyceeCibles[[UAI]:[Tél contact 2]],7,0)),"") | M55: =IFERROR(IF(VLOOKUP(Tableau23[[#This Row],[UAI ]],[2]!SuiviForumLyceeCibles[[UAI]:[Tél contact 2]],9,0)="","",VLOOKUP(Tableau23[[#This Row],[UAI ]],[2]!SuiviForumLyceeCibles[[UAI]:[Tél contact 2]],9,0)),"") | N55: =IFERROR(IF(VLOOKUP(Tableau23[[#This Row],[UAI ]],[2]!SuiviForumLyceeCibles[[UAI]:[Tél contact 2]],10,0)="","",VLOOKUP(Tableau23[[#This Row],[UAI ]],[2]!SuiviForumLyceeCibles[[UAI]:[Tél contact 2]],10,0)),"") -> Pas de retour étudiant | O55: =IFERROR(IF(VLOOKUP(Tableau23[[#This Row],[UAI ]],[2]!SuiviForumLyceeCibles[[UAI]:[Tél contact 2]],17,0)="","",VLOOKUP(Tableau23[[#This Row],[UAI ]],[2]!SuiviForumLyceeCibles[[UAI]:[Tél contact 2]],17,0)),"") | P55: =IFERROR(IF(VLOOKUP(Tableau23[[#This Row],[UAI ]],[2]!SuiviForumLyceeCibles[[UAI]:[Tél contact 2]],18,0)="","",VLOOKUP(Tableau23[[#This Row],[UAI ]],[2]!SuiviForumLyceeCibles[[UAI]:[Tél contact 2]],18,0)),"") | Q55: =IFERROR(IF(VLOOKUP(Tableau23[[#This Row],[UAI ]],[2]!SuiviForumLyceeCibles[[UAI]:[Tél contact 2]],19,0)="","",VLOOKUP(Tableau23[[#This Row],[UAI ]],[2]!SuiviForumLyceeCibles[[UAI]:[Tél contact 2]],19,0)),"") | R55: =IFERROR(IF(VLOOKUP(Tableau23[[#This Row],[UAI ]],[2]!SuiviForumLyceeCibles[[UAI]:[Tél contact 2]],20,0)="","",VLOOKUP(Tableau23[[#This Row],[UAI ]],[2]!SuiviForumLyceeCibles[[UAI]:[Tél contact 2]],20,0)),"") | S55: =IFERROR(IF(VLOOKUP(Tableau23[[#This Row],[UAI ]],[2]!SuiviForumLyceeCibles[[UAI]:[Tél contact 2]],21,0)="","",VLOOKUP(Tableau23[[#This Row],[UAI ]],[2]!SuiviForumLyceeCibles[[UAI]:[Tél contact 2]],21,0)),"") | T55: =IFERROR(IF(VLOOKUP(Tableau23[[#This Row],[UAI ]],[2]!SuiviForumLyceeCibles[[UAI]:[Tél contact 2]],22,0)="","",VLOOKUP(Tableau23[[#This Row],[UAI ]],[2]!SuiviForumLyceeCibles[[UAI]:[Tél contact 2]],22,0)),"") | U55: =IFERROR(IF(VLOOKUP(Tableau23[[#This Row],[UAI ]],[2]!SuiviForumLyceeCibles[[UAI]:[Tél contact 2]],23,0)="","",VLOOKUP(Tableau23[[#This Row],[UAI ]],[2]!SuiviForumLyceeCibles[[UAI]:[Tél contact 2]],23,0)),"") | V55: =IFERROR(IF(VLOOKUP(Tableau23[[#This Row],[UAI ]],[2]!SuiviForumLyceeCibles[[UAI]:[Tél contact 2]],24,0)="","",VLOOKUP(Tableau23[[#This Row],[UAI ]],[2]!SuiviForumLyceeCibles[[UAI]:[Tél contact 2]],24,0)),"") | W55: =IFERROR(IF(VLOOKUP(Tableau23[[#This Row],[UAI ]],[2]!SuiviForumLyceeCibles[[UAI]:[Tél contact 2]],11,0)="","",VLOOKUP(Tableau23[[#This Row],[UAI ]],[2]!SuiviForumLyceeCibles[[UAI]:[Tél contact 2]],11,0)),"") -> Oui lycée ciblé ingénieur, la DPI organise sa présence
A56: INGENIEUR | B56: =IFERROR(IF(VLOOKUP(Tableau23[[#This Row],[UAI ]],[2]!SuiviForumLyceeCibles[[UAI]:[Tél contact 2]],5,0)="","",VLOOKUP(Tableau23[[#This Row],[UAI ]],[2]!SuiviForumLyceeCibles[[UAI]:[Tél contact 2]],5,0)),"") | C56: =IFERROR(IF(VLOOKUP(Tableau23[[#This Row],[UAI ]],[2]!SuiviForumLyceeCibles[[UAI]:[Tél contact 2]],6,0)="","",VLOOKUP(Tableau23[[#This Row],[UAI ]],[2]!SuiviForumLyceeCibles[[UAI]:[Tél contact 2]],6,0)),"") | D56: =IFERROR(VLOOKUP(Tableau23[[#This Row],[UAI ]],[2]!SuiviForumLyceeCibles[[UAI]:[Tél contact 2]],2,0),"") -> Forum d'orientation | E56: =IFERROR(VLOOKUP(Tableau23[[#This Row],[UAI ]],[2]!SuiviForumLyceeCibles[[UAI]:[Tél contact 2]],3,0),"") -> Lycées ciblés Ingénieur | F56: Bpail Rilj BFOHR | G56: YLEQTHE | H56: 22 | I56: 2994549V | J56: =IFERROR(VLOOKUP(Tableau23[[#This Row],[Dpt]],'Table régions'!$A$2:$C$102,3,0),"") -> Bretagne | K56: =IFERROR(IF(VLOOKUP(Tableau23[[#This Row],[UAI ]],[2]!SuiviForumLyceeCibles[[UAI]:[Tél contact 2]],4,0)="","",VLOOKUP(Tableau23[[#This Row],[UAI ]],[2]!SuiviForumLyceeCibles[[UAI]:[Tél contact 2]],4,0)),"") -> Terminale | L56: =IFERROR(IF(VLOOKUP(Tableau23[[#This Row],[UAI ]],[2]!SuiviForumLyceeCibles[[UAI]:[Tél contact 2]],7,0)="","",VLOOKUP(Tableau23[[#This Row],[UAI ]],[2]!SuiviForumLyceeCibles[[UAI]:[Tél contact 2]],7,0)),"") | M56: =IFERROR(IF(VLOOKUP(Tableau23[[#This Row],[UAI ]],[2]!SuiviForumLyceeCibles[[UAI]:[Tél contact 2]],9,0)="","",VLOOKUP(Tableau23[[#This Row],[UAI ]],[2]!SuiviForumLyceeCibles[[UAI]:[Tél contact 2]],9,0)),"") | N56: =IFERROR(IF(VLOOKUP(Tableau23[[#This Row],[UAI ]],[2]!SuiviForumLyceeCibles[[UAI]:[Tél contact 2]],10,0)="","",VLOOKUP(Tableau23[[#This Row],[UAI ]],[2]!SuiviForumLyceeCibles[[UAI]:[Tél contact 2]],10,0)),"") -> Pas de retour étudiant | O56: =IFERROR(IF(VLOOKUP(Tableau23[[#This Row],[UAI ]],[2]!SuiviForumLyceeCibles[[UAI]:[Tél contact 2]],17,0)="","",VLOOKUP(Tableau23[[#This Row],[UAI ]],[2]!SuiviForumLyceeCibles[[UAI]:[Tél contact 2]],17,0)),"") | P56: =IFERROR(IF(VLOOKUP(Tableau23[[#This Row],[UAI ]],[2]!SuiviForumLyceeCibles[[UAI]:[Tél contact 2]],18,0)="","",VLOOKUP(Tableau23[[#This Row],[UAI ]],[2]!SuiviForumLyceeCibles[[UAI]:[Tél contact 2]],18,0)),"") | Q56: =IFERROR(IF(VLOOKUP(Tableau23[[#This Row],[UAI ]],[2]!SuiviForumLyceeCibles[[UAI]:[Tél contact 2]],19,0)="","",VLOOKUP(Tableau23[[#This Row],[UAI ]],[2]!SuiviForumLyceeCibles[[UAI]:[Tél contact 2]],19,0)),"") | R56: =IFERROR(IF(VLOOKUP(Tableau23[[#This Row],[UAI ]],[2]!SuiviForumLyceeCibles[[UAI]:[Tél contact 2]],20,0)="","",VLOOKUP(Tableau23[[#This Row],[UAI ]],[2]!SuiviForumLyceeCibles[[UAI]:[Tél contact 2]],20,0)),"") | S56: =IFERROR(IF(VLOOKUP(Tableau23[[#This Row],[UAI ]],[2]!SuiviForumLyceeCibles[[UAI]:[Tél contact 2]],21,0)="","",VLOOKUP(Tableau23[[#This Row],[UAI ]],[2]!SuiviForumLyceeCibles[[UAI]:[Tél contact 2]],21,0)),"") | T56: =IFERROR(IF(VLOOKUP(Tableau23[[#This Row],[UAI ]],[2]!SuiviForumLyceeCibles[[UAI]:[Tél contact 2]],22,0)="","",VLOOKUP(Tableau23[[#This Row],[UAI ]],[2]!SuiviForumLyceeCibles[[UAI]:[Tél contact 2]],22,0)),"") | U56: =IFERROR(IF(VLOOKUP(Tableau23[[#This Row],[UAI ]],[2]!SuiviForumLyceeCibles[[UAI]:[Tél contact 2]],23,0)="","",VLOOKUP(Tableau23[[#This Row],[UAI ]],[2]!SuiviForumLyceeCibles[[UAI]:[Tél contact 2]],23,0)),"") | V56: =IFERROR(IF(VLOOKUP(Tableau23[[#This Row],[UAI ]],[2]!SuiviForumLyceeCibles[[UAI]:[Tél contact 2]],24,0)="","",VLOOKUP(Tableau23[[#This Row],[UAI ]],[2]!SuiviForumLyceeCibles[[UAI]:[Tél contact 2]],24,0)),"") | W56: =IFERROR(IF(VLOOKUP(Tableau23[[#This Row],[UAI ]],[2]!SuiviForumLyceeCibles[[UAI]:[Tél contact 2]],11,0)="","",VLOOKUP(Tableau23[[#This Row],[UAI ]],[2]!SuiviForumLyceeCibles[[UAI]:[Tél contact 2]],11,0)),"") -> Oui lycée ciblé ingénieur, la DPI organise sa présence
