Workbook
Name Ciblés: #REF!

Sheet Base Forums 2021-2022
A1: Programme réceptionnaire | B1: Date reception | C1: A répondre avant le | D1: Type d'action | E1: Type forum | F1: Etablissement | G1: Ville | H1: Dpt | I1: UAI | J1: Région | K1: Public cible | L1: Date forum | M1: Horaires | N1: Statut forum | O1: Contact 1 | P1: Fonction 1 | Q1: Email 1 | R1: Tél 1 | S1: Contact 2 | T1: Fonction 2 | U1: Email 2 | V1: Tél 2 | W1: Ingénieur | X1: LP / EED | Y1: Bachelor / Master | Z1: BTS | AA1: Agricadre | AB1: Commentaires SCO
A2: INGENIEUR | B2: =IFERROR(IF(VLOOKUP(Tableau23[[#This Row],[UAI ]],[2]!SuiviForumLyceeCibles[[UAI]:[Tél contact 2]],5,0)="","",VLOOKUP(Tableau23[[#This Row],[UAI ]],[2]!SuiviForumLyceeCibles[[UAI]:[Tél contact 2]],5,0)),"") -> 44449 | C2: =IFERROR(IF(VLOOKUP(Tableau23[[#This Row],[UAI ]],[2]!SuiviForumLyceeCibles[[UAI]:[Tél contact 2]],6,0)="","",VLOOKUP(Tableau23[[#This Row],[UAI ]],[2]!SuiviForumLyceeCibles[[UAI]:[Tél contact 2]],6,0)),"") | D2: =IFERROR(VLOOKUP(Tableau23[[#This Row],[UAI ]],[2]!SuiviForumLyceeCibles[[UAI]:[Tél contact 2]],2,0),"") -> Forum d'orientation | E2: =IFERROR(VLOOKUP(Tableau23[[#This Row],[UAI ]],[2]!SuiviForumLyceeCibles[[UAI]:[Tél contact 2]],3,0),"") -> Lycées partenaires | F2: Fycnj Qutqt Zclf Hjp Atmdp | G2: WYBZL | H2: 41 | I2: 6467735D | J2: =IFERROR(VLOOKUP(Tableau23[[#This Row],[Dpt]],'Table régions'!$A$2:$C$102,3,0),"") -> Centre-Val de Loire | K2: =IFERROR(IF(VLOOKUP(Tableau23[[#This Row],[UAI ]],[2]!SuiviForumLyceeCibles[[UAI]:[Tél contact 2]],4,0)="","",VLOOKUP(Tableau23[[#This Row],[UAI ]],[2]!SuiviForumLyceeCibles[[UAI]:[Tél contact 2]],4,0)),"") -> Terminale | L2: =IFERROR(IF(VLOOKUP(Tableau23[[#This Row],[UAI ]],[2]!SuiviForumLyceeCibles[[UAI]:[Tél contact 2]],7,0)="","",VLOOKUP(Tableau23[[#This Row],[UAI ]],[2]!SuiviForumLyceeCibles[[UAI]:[Tél contact 2]],7,0)),"") -> 44520 | M2: =IFERROR(IF(VLOOKUP(Tableau23[[#This Row],[UAI ]],[2]!SuiviForumLyceeCibles[[UAI]:[Tél contact 2]],9,0)="","",VLOOKUP(Tableau23[[#This Row],[UAI ]],[2]!SuiviForumLyceeCibles[[UAI]:[Tél contact 2]],9,0)),"") -> matin | N2: =IFERROR(IF(VLOOKUP(Tableau23[[#This Row],[UAI ]],[2]!SuiviForumLyceeCibles[[UAI]:[Tél contact 2]],10,0)="","",VLOOKUP(Tableau23[[#This Row],[UAI ]],[2]!SuiviForumLyceeCibles[[UAI]:[Tél contact 2]],10,0)),"") -> Demande d'absence en cours | O2: =IFERROR(IF(VLOOKUP(Tableau23[[#This Row],[UAI ]],[2]!SuiviForumLyceeCibles[[UAI]:[Tél contact 2]],17,0)="","",VLOOKUP(Tableau23[[#This Row],[UAI ]],[2]!SuiviForumLyceeCibles[[UAI]:[Tél contact 2]],17,0)),"") | P2: =IFERROR(IF(VLOOKUP(Tableau23[[#This Row],[UAI ]],[2]!SuiviForumLyceeCibles[[UAI]:[Tél contact 2]],18,0)="","",VLOOKUP(Tableau23[[#This Row],[UAI ]],[2]!SuiviForumLyceeCibles[[UAI]:[Tél contact 2]],18,0)),"") | Q2: =IFERROR(IF(VLOOKUP(Tableau23[[#This Row],[UAI ]],[2]!SuiviForumLyceeCibles[[UAI]:[Tél contact 2]],19,0)="","",VLOOKUP(Tableau23[[#This Row],[UAI ]],[2]!SuiviForumLyceeCibles[[UAI]:[Tél contact 2]],19,0)),"") | R2: =IFERROR(IF(VLOOKUP(Tableau23[[#This Row],[UAI ]],[2]!SuiviForumLyceeCibles[[UAI]:[Tél contact 2]],20,0)="","",VLOOKUP(Tableau23[[#This Row],[UAI ]],[2]!SuiviForumLyceeCibles[[UAI]:[Tél contact 2]],20,0)),"") | S2: =IFERROR(IF(VLOOKUP(Tableau23[[#This Row],[UAI ]],[2]!SuiviForumLyceeCibles[[UAI]:[Tél contact 2]],21,0)="","",VLOOKUP(Tableau23[[#This Row],[UAI ]],[2]!SuiviForumLyceeCibles[[UAI]:[Tél contact 2]],21,0)),"") | T2: =IFERROR(IF(VLOOKUP(Tableau23[[#This Row],[UAI ]],[2]!SuiviForumLyceeCibles[[UAI]:[Tél contact 2]],22,0)="","",VLOOKUP(Tableau23[[#This Row],[UAI ]],[2]!SuiviForumLyceeCibles[[UAI]:[Tél contact 2]],22,0)),"") | U2: =IFERROR(IF(VLOOKUP(Tableau23[[#This Row],[UAI ]],[2]!SuiviForumLyceeCibles[[UAI]:[Tél contact 2]],23,0)="","",VLOOKUP(Tableau23[[#This Row],[UAI ]],[2]!SuiviForumLyceeCibles[[UAI]:[Tél contact 2]],23,0)),"") | V2: =IFERROR(IF(VLOOKUP(Tableau23[[#This Row],[UAI ]],[2]!SuiviForumLyceeCibles[[UAI]:[Tél contact 2]],24,0)="","",VLOOKUP(Tableau23[[#This Row],[UAI ]],[2]!SuiviForumLyceeCibles[[UAI]:[Tél contact 2]],24,0)),"") | W2: =IFERROR(IF(VLOOKUP(Tableau23[[#This Row],[UAI ]],[2]!SuiviForumLyceeCibles[[UAI]:[Tél contact 2]],11,0)="","",VLOOKUP(Tableau23[[#This Row],[UAI ]],[2]!SuiviForumLyceeCibles[[UAI]:[Tél contact 2]],11,0)),"") -> Oui lycée ciblé ingénieur, la DPI organise sa présence
A3: INGENIEUR | B3: =IFERROR(IF(VLOOKUP(Tableau23[[#This Row],[UAI ]],[2]!SuiviForumLyceeCibles[[UAI]:[Tél contact 2]],5,0)="","",VLOOKUP(Tableau23[[#This Row],[UAI ]],[2]!SuiviForumLyceeCibles[[UAI]:[Tél contact 2]],5,0)),"") -> 44446 | C3: =IFERROR(IF(VLOOKUP(Tableau23[[#This Row],[UAI ]],[2]!SuiviForumLyceeCibles[[UAI]:[Tél contact 2]],6,0)="","",VLOOKUP(Tableau23[[#This Row],[UAI ]],[2]!SuiviForumLyceeCibles[[UAI]:[Tél contact 2]],6,0)),"") -> 44460 | D3: =IFERROR(VLOOKUP(Tableau23[[#This Row],[UAI ]],[2]!SuiviForumLyceeCibles[[UAI]:[Tél contact 2]],2,0),"") -> Forum d'orientation | E3: =IFERROR(VLOOKUP(Tableau23[[#This Row],[UAI ]],[2]!SuiviForumLyceeCibles[[UAI]:[Tél contact 2]],3,0),"") -> Lycées partenaires | F3: Imqdb Re Tcqyjx | G3: FGLFCUT-AHPIW-SIAHOU | H3: 44 | I3: 8414800C | J3: =IFERROR(VLOOKUP(Tableau23[[#This Row],[Dpt]],'Table régions'!$A$2:$C$102,3,0),"") -> Pays de la Loire | K3: =IFERROR(IF(VLOOKUP(Tableau23[[#This Row],[UAI ]],[2]!SuiviForumLyceeCibles[[UAI]:[Tél contact 2]],4,0)="","",VLOOKUP(Tableau23[[#This Row],[UAI ]],[2]!SuiviForumLyceeCibles[[UAI]:[Tél contact 2]],4,0)),"") -> Terminale | L3: =IFERROR(IF(VLOOKUP(Tableau23[[#This Row],[UAI ]],[2]!SuiviForumLyceeCibles[[UAI]:[Tél contact 2]],7,0)="","",VLOOKUP(Tableau23[[#This Row],[UAI ]],[2]!SuiviForumLyceeCibles[[UAI]:[Tél contact 2]],7,0)),"") -> 44526 | M3: =IFERROR(IF(VLOOKUP(Tableau23[[#This Row],[UAI ]],[2]!SuiviForumLyceeCibles[[UAI]:[Tél contact 2]],9,0)="","",VLOOKUP(Tableau23[[#This Row],[UAI ]],[2]!SuiviForumLyceeCibles[[UAI]:[Tél contact 2]],9,0)),"") -> après-midi | N3: =IFERROR(IF(VLOOKUP(Tableau23[[#This Row],[UAI ]],[2]!SuiviForumLyceeCibles[[UAI]:[Tél contact 2]],10,0)="","",VLOOKUP(Tableau23[[#This Row],[UAI ]],[2]!SuiviForumLyceeCibles[[UAI]:[Tél contact 2]],10,0)),"") -> Demande d'absence en cours | O3: =IFERROR(IF(VLOOKUP(Tableau23[[#This Row],[UAI ]],[2]!SuiviForumLyceeCibles[[UAI]:[Tél contact 2]],17,0)="","",VLOOKUP(Tableau23[[#This Row],[UAI ]],[2]!SuiviForumLyceeCibles[[UAI]:[Tél contact 2]],17,0)),"") | P3: =IFERROR(IF(VLOOKUP(Tableau23[[#This Row],[UAI ]],[2]!SuiviForumLyceeCibles[[UAI]:[Tél contact 2]],18,0)="","",VLOOKUP(Tableau23[[#This Row],[UAI ]],[2]!SuiviForumLyceeCibles[[UAI]:[Tél contact 2]],18,0)),"") | Q3: =IFERROR(IF(VLOOKUP(Tableau23[[#This Row],[UAI ]],[2]!SuiviForumLyceeCibles[[UAI]:[Tél contact 2]],19,0)="","",VLOOKUP(Tableau23[[#This Row],[UAI ]],[2]!SuiviForumLyceeCibles[[UAI]:[Tél contact 2]],19,0)),"") | R3: =IFERROR(IF(VLOOKUP(Tableau23[[#This Row],[UAI ]],[2]!SuiviForumLyceeCibles[[UAI]:[Tél contact 2]],20,0)="","",VLOOKUP(Tableau23[[#This Row],[UAI ]],[2]!SuiviForumLyceeCibles[[UAI]:[Tél contact 2]],20,0)),"") | S3: =IFERROR(IF(VLOOKUP(Tableau23[[#This Row],[UAI ]],[2]!SuiviForumLyceeCibles[[UAI]:[Tél contact 2]],21,0)="","",VLOOKUP(Tableau23[[#This Row],[UAI ]],[2]!SuiviForumLyceeCibles[[UAI]:[Tél contact 2]],21,0)),"") | T3: =IFERROR(IF(VLOOKUP(Tableau23[[#This Row],[UAI ]],[2]!SuiviForumLyceeCibles[[UAI]:[Tél contact 2]],22,0)="","",VLOOKUP(Tableau23[[#This Row],[UAI ]],[2]!SuiviForumLyceeCibles[[UAI]:[Tél contact 2]],22,0)),"") | U3: =IFERROR(IF(VLOOKUP(Tableau23[[#This Row],[UAI ]],[2]!SuiviForumLyceeCibles[[UAI]:[Tél contact 2]],23,0)="","",VLOOKUP(Tableau23[[#This Row],[UAI ]],[2]!SuiviForumLyceeCibles[[UAI]:[Tél contact 2]],23,0)),"") | V3: =IFERROR(IF(VLOOKUP(Tableau23[[#This Row],[UAI ]],[2]!SuiviForumLyceeCibles[[UAI]:[Tél contact 2]],24,0)="","",VLOOKUP(Tableau23[[#This Row],[UAI ]],[2]!SuiviForumLyceeCibles[[UAI]:[Tél contact 2]],24,0)),"") | W3: =IFERROR(IF(VLOOKUP(Tableau23[[#This Row],[UAI ]],[2]!SuiviForumLyceeCibles[[UAI]:[Tél contact 2]],11,0)="","",VLOOKUP(Tableau23[[#This Row],[UAI ]],[2]!SuiviForumLyceeCibles[[UAI]:[Tél contact 2]],11,0)),"") -> Oui lycée ciblé ingénieur, la DPI organise sa présence
A4: INGENIEUR | B4: =IFERROR(IF(VLOOKUP(Tableau23[[#This Row],[UAI ]],[2]!SuiviForumLyceeCibles[[UAI]:[Tél contact 2]],5,0)="","",VLOOKUP(Tableau23[[#This Row],[UAI ]],[2]!SuiviForumLyceeCibles[[UAI]:[Tél contact 2]],5,0)),"") | C4: =IFERROR(IF(VLOOKUP(Tableau23[[#This Row],[UAI ]],[2]!SuiviForumLyceeCibles[[UAI]:[Tél contact 2]],6,0)="","",VLOOKUP(Tableau23[[#This Row],[UAI ]],[2]!SuiviForumLyceeCibles[[UAI]:[Tél contact 2]],6,0)),"") | D4: =IFERROR(VLOOKUP(Tableau23[[#This Row],[UAI ]],[2]!SuiviForumLyceeCibles[[UAI]:[Tél contact 2]],2,0),"") -> Forum d'orientation | E4: =IFERROR(VLOOKUP(Tableau23[[#This Row],[UAI ]],[2]!SuiviForumLyceeCibles[[UAI]:[Tél contact 2]],3,0),"") -> Lycées partenaires | F4: WAB xhmwe Flaeb-Xsusj Oq Fgzcq | G4: TWPLHF | H4: 49 | I4: 9295472C | J4: =IFERROR(VLOOKUP(Tableau23[[#This Row],[Dpt]],'Table régions'!$A$2:$C$102,3,0),"") -> Pays de la Loire | K4: =IFERROR(IF(VLOOKUP(Tableau23[[#This Row],[UAI ]],[2]!SuiviForumLyceeCibles[[UAI]:[Tél contact 2]],4,0)="","",VLOOKUP(Tableau23[[#This Row],[UAI ]],[2]!SuiviForumLyceeCibles[[UAI]:[Tél contact 2]],4,0)),"") -> Terminale | L4: =IFERROR(IF(VLOOKUP(Tableau23[[#This Row],[UAI ]],[2]!SuiviForumLyceeCibles[[UAI]:[Tél contact 2]],7,0)="","",VLOOKUP(Tableau23[[#This Row],[UAI ]],[2]!SuiviForumLyceeCibles[[UAI]:[Tél contact 2]],7,0)),"") -> 44574 | M4: =IFERROR(IF(VLOOKUP(Tableau23[[#This Row],[UAI ]],[2]!SuiviForumLyceeCibles[[UAI]:[Tél contact 2]],9,0)="","",VLOOKUP(Tableau23[[#This Row],[UAI ]],[2]!SuiviForumLyceeCibles[[UAI]:[Tél contact 2]],9,0)),"") -> après-midi | N4: =IFERROR(IF(VLOOKUP(Tableau23[[#This Row],[UAI ]],[2]!SuiviForumLyceeCibles[[UAI]:[Tél contact 2]],10,0)="","",VLOOKUP(Tableau23[[#This Row],[UAI ]],[2]!SuiviForumLyceeCibles[[UAI]:[Tél contact 2]],10,0)),"") -> Demande d'absence en cours | O4: =IFERROR(IF(VLOOKUP(Tableau23[[#This Row],[UAI ]],[2]!SuiviForumLyceeCibles[[UAI]:[Tél contact 2]],17,0)="","",VLOOKUP(Tableau23[[#This Row],[UAI ]],[2]!SuiviForumLyceeCibles[[UAI]:[Tél contact 2]],17,0)),"") | P4: =IFERROR(IF(VLOOKUP(Tableau23[[#This Row],[UAI ]],[2]!SuiviForumLyceeCibles[[UAI]:[Tél contact 2]],18,0)="","",VLOOKUP(Tableau23[[#This Row],[UAI ]],[2]!SuiviForumLyceeCibles[[UAI]:[Tél contact 2]],18,0)),"") | Q4: =IFERROR(IF(VLOOKUP(Tableau23[[#This Row],[UAI ]],[2]!SuiviForumLyceeCibles[[UAI]:[Tél contact 2]],19,0)="","",VLOOKUP(Tableau23[[#This Row],[UAI ]],[2]!SuiviForumLyceeCibles[[UAI]:[Tél contact 2]],19,0)),"") | R4: =IFERROR(IF(VLOOKUP(Tableau23[[#This Row],[UAI ]],[2]!SuiviForumLyceeCibles[[UAI]:[Tél contact 2]],20,0)="","",VLOOKUP(Tableau23[[#This Row],[UAI ]],[2]!SuiviForumLyceeCibles[[UAI]:[Tél contact 2]],20,0)),"") | S4: =IFERROR(IF(VLOOKUP(Tableau23[[#This Row],[UAI ]],[2]!SuiviForumLyceeCibles[[UAI]:[Tél contact 2]],21,0)="","",VLOOKUP(Tableau23[[#This Row],[UAI ]],[2]!SuiviForumLyceeCibles[[UAI]:[Tél contact 2]],21,0)),"") | T4: =IFERROR(IF(VLOOKUP(Tableau23[[#This Row],[UAI ]],[2]!SuiviForumLyceeCibles[[UAI]:[Tél contact 2]],22,0)="","",VLOOKUP(Tableau23[[#This Row],[UAI ]],[2]!SuiviForumLyceeCibles[[UAI]:[Tél contact 2]],22,0)),"") | U4: =IFERROR(IF(VLOOKUP(Tableau23[[#This Row],[UAI ]],[2]!SuiviForumLyceeCibles[[UAI]:[Tél contact 2]],23,0)="","",VLOOKUP(Tableau23[[#This Row],[UAI ]],[2]!SuiviForumLyceeCibles[[UAI]:[Tél contact 2]],23,0)),"") | V4: =IFERROR(IF(VLOOKUP(Tableau23[[#This Row],[UAI ]],[2]!SuiviForumLyceeCibles[[UAI]:[Tél contact 2]],24,0)="","",VLOOKUP(Tableau23[[#This Row],[UAI ]],[2]!SuiviForumLyceeCibles[[UAI]:[Tél contact 2]],24,0)),"") | W4: =IFERROR(IF(VLOOKUP(Tableau23[[#This Row],[UAI ]],[2]!SuiviForumLyceeCibles[[UAI]:[Tél contact 2]],11,0)="","",VLOOKUP(Tableau23[[#This Row],[UAI ]],[2]!SuiviForumLyceeCibles[[UAI]:[Tél contact 2]],11,0)),"") -> Oui lycée ciblé ingénieur, la DPI organise sa présence
A5: INGENIEUR | B5: =IFERROR(IF(VLOOKUP(Tableau23[[#This Row],[UAI ]],[2]!SuiviForumLyceeCibles[[UAI]:[Tél contact 2]],5,0)="","",VLOOKUP(Tableau23[[#This Row],[UAI ]],[2]!SuiviForumLyceeCibles[[UAI]:[Tél contact 2]],5,0)),"") | C5: =IFERROR(IF(VLOOKUP(Tableau23[[#This Row],[UAI ]],[2]!SuiviForumLyceeCibles[[UAI]:[Tél contact 2]],6,0)="","",VLOOKUP(Tableau23[[#This Row],[UAI ]],[2]!SuiviForumLyceeCibles[[UAI]:[Tél contact 2]],6,0)),"") | D5: =IFERROR(VLOOKUP(Tableau23[[#This Row],[UAI ]],[2]!SuiviForumLyceeCibles[[UAI]:[Tél contact 2]],2,0),"") -> Forum d'orientation | E5: =IFERROR(VLOOKUP(Tableau23[[#This Row],[UAI ]],[2]!SuiviForumLyceeCibles[[UAI]:[Tél contact 2]],3,0),"") -> Lycées partenaires | F5: Qvrxc imkcpvo sgvjy Kboih Ajiccg Ypfq Raoacshacc | G5: QPMBWP | H5: 49 | I5: 1966028D | J5: =IFERROR(VLOOKUP(Tableau23[[#This Row],[Dpt]],'Table régions'!$A$2:$C$102,3,0),"") -> Pays de la Loire | K5: =IFERROR(IF(VLOOKUP(Tableau23[[#This Row],[UAI ]],[2]!SuiviForumLyceeCibles[[UAI]:[Tél contact 2]],4,0)="","",VLOOKUP(Tableau23[[#This Row],[UAI ]],[2]!SuiviForumLyceeCibles[[UAI]:[Tél contact 2]],4,0)),"") -> Terminale | L5: =IFERROR(IF(VLOOKUP(Tableau23[[#This Row],[UAI ]],[2]!SuiviForumLyceeCibles[[UAI]:[Tél contact 2]],7,0)="","",VLOOKUP(Tableau23[[#This Row],[UAI ]],[2]!SuiviForumLyceeCibles[[UAI]:[Tél contact 2]],7,0)),"") -> 44527 | M5: =IFERROR(IF(VLOOKUP(Tableau23[[#This Row],[UAI ]],[2]!SuiviForumLyceeCibles[[UAI]:[Tél contact 2]],9,0)="","",VLOOKUP(Tableau23[[#This Row],[UAI ]],[2]!SuiviForumLyceeCibles[[UAI]:[Tél contact 2]],9,0)),"") | N5: =IFERROR(IF(VLOOKUP(Tableau23[[#This Row],[UAI ]],[2]!SuiviForumLyceeCibles[[UAI]:[Tél contact 2]],10,0)="","",VLOOKUP(Tableau23[[#This Row],[UAI ]],[2]!SuiviForumLyceeCibles[[UAI]:[Tél contact 2]],10,0)),"") -> Présence confirmée | O5: =IFERROR(IF(VLOOKUP(Tableau23[[#This Row],[UAI ]],[2]!SuiviForumLyceeCibles[[UAI]:[Tél contact 2]],17,0)="","",VLOOKUP(Tableau23[[#This Row],[UAI ]],[2]!SuiviForumLyceeCibles[[UAI]:[Tél contact 2]],17,0)),"") | P5: =IFERROR(IF(VLOOKUP(Tableau23[[#This Row],[UAI ]],[2]!SuiviForumLyceeCibles[[UAI]:[Tél contact 2]],18,0)="","",VLOOKUP(Tableau23[[#This Row],[UAI ]],[2]!SuiviForumLyceeCibles[[UAI]:[Tél contact 2]],18,0)),"") | Q5: =IFERROR(IF(VLOOKUP(Tableau23[[#This Row],[UAI ]],[2]!SuiviForumLyceeCibles[[UAI]:[Tél contact 2]],19,0)="","",VLOOKUP(Tableau23[[#This Row],[UAI ]],[2]!SuiviForumLyceeCibles[[UAI]:[Tél contact 2]],19,0)),"") | R5: =IFERROR(IF(VLOOKUP(Tableau23[[#This Row],[UAI ]],[2]!SuiviForumLyceeCibles[[UAI]:[Tél contact 2]],20,0)="","",VLOOKUP(Tableau23[[#This Row],[UAI ]],[2]!SuiviForumLyceeCibles[[UAI]:[Tél contact 2]],20,0)),"") | S5: =IFERROR(IF(VLOOKUP(Tableau23[[#This Row],[UAI ]],[2]!SuiviForumLyceeCibles[[UAI]:[Tél contact 2]],21,0)="","",VLOOKUP(Tableau23[[#This Row],[UAI ]],[2]!SuiviForumLyceeCibles[[UAI]:[Tél contact 2]],21,0)),"") | T5: =IFERROR(IF(VLOOKUP(Tableau23[[#This Row],[UAI ]],[2]!SuiviForumLyceeCibles[[UAI]:[Tél contact 2]],22,0)="","",VLOOKUP(Tableau23[[#This Row],[UAI ]],[2]!SuiviForumLyceeCibles[[UAI]:[Tél contact 2]],22,0)),"") | U5: =IFERROR(IF(VLOOKUP(Tableau23[[#This Row],[UAI ]],[2]!SuiviForumLyceeCibles[[UAI]:[Tél contact 2]],23,0)="","",VLOOKUP(Tableau23[[#This Row],[UAI ]],[2]!SuiviForumLyceeCibles[[UAI]:[Tél contact 2]],23,0)),"") | V5: =IFERROR(IF(VLOOKUP(Tableau23[[#This Row],[UAI ]],[2]!SuiviForumLyceeCibles[[UAI]:[Tél contact 2]],24,0)="","",VLOOKUP(Tableau23[[#This Row],[UAI ]],[2]!SuiviForumLyceeCibles[[UAI]:[Tél contact 2]],24,0)),"") | W5: =IFERROR(IF(VLOOKUP(Tableau23[[#This Row],[UAI ]],[2]!SuiviForumLyceeCibles[[UAI]:[Tél contact 2]],11,0)="","",VLOOKUP(Tableau23[[#This Row],[UAI ]],[2]!SuiviForumLyceeCibles[[UAI]:[Tél contact 2]],11,0)),"") -> Oui lycée ciblé ingénieur, la DPI organise sa présence
A6: INGENIEUR | B6: =IFERROR(IF(VLOOKUP(Tableau23[[#This Row],[UAI ]],[2]!SuiviForumLyceeCibles[[UAI]:[Tél contact 2]],5,0)="","",VLOOKUP(Tableau23[[#This Row],[UAI ]],[2]!SuiviForumLyceeCibles[[UAI]:[Tél contact 2]],5,0)),"") -> 44454 | C6: =IFERROR(IF(VLOOKUP(Tableau23[[#This Row],[UAI ]],[2]!SuiviForumLyceeCibles[[UAI]:[Tél contact 2]],6,0)="","",VLOOKUP(Tableau23[[#This Row],[UAI ]],[2]!SuiviForumLyceeCibles[[UAI]:[Tél contact 2]],6,0)),"") | D6: =IFERROR(VLOOKUP(Tableau23[[#This Row],[UAI ]],[2]!SuiviForumLyceeCibles[[UAI]:[Tél contact 2]],2,0),"") -> Forum d'orientation | E6: =IFERROR(VLOOKUP(Tableau23[[#This Row],[UAI ]],[2]!SuiviForumLyceeCibles[[UAI]:[Tél contact 2]],3,0),"") -> Lycées partenaires | F6: Gjkza izfkh owmuc | G6: EJFJAXYWHM | H6: 49 | I6: 9184879E | J6: =IFERROR(VLOOKUP(Tableau23[[#This Row],[Dpt]],'Table régions'!$A$2:$C$102,3,0),"") -> Pays de la Loire | K6: =IFERROR(IF(VLOOKUP(Tableau23[[#This Row],[UAI ]],[2]!SuiviForumLyceeCibles[[UAI]:[Tél contact 2]],4,0)="","",VLOOKUP(Tableau23[[#This Row],[UAI ]],[2]!SuiviForumLyceeCibles[[UAI]:[Tél contact 2]],4,0)),"") -> Terminale | L6: =IFERROR(IF(VLOOKUP(Tableau23[[#This Row],[UAI ]],[2]!SuiviForumLyceeCibles[[UAI]:[Tél contact 2]],7,0)="","",VLOOKUP(Tableau23[[#This Row],[UAI ]],[2]!SuiviForumLyceeCibles[[UAI]:[Tél contact 2]],7,0)),"") -> 44537 | M6: =IFERROR(IF(VLOOKUP(Tableau23[[#This Row],[UAI ]],[2]!SuiviForumLyceeCibles[[UAI]:[Tél contact 2]],9,0)="","",VLOOKUP(Tableau23[[#This Row],[UAI ]],[2]!SuiviForumLyceeCibles[[UAI]:[Tél contact 2]],9,0)),"") -> après-midi | N6: =IFERROR(IF(VLOOKUP(Tableau23[[#This Row],[UAI ]],[2]!SuiviForumLyceeCibles[[UAI]:[Tél contact 2]],10,0)="","",VLOOKUP(Tableau23[[#This Row],[UAI ]],[2]!SuiviForumLyceeCibles[[UAI]:[Tél contact 2]],10,0)),"") -> Invitation reçue | O6: =IFERROR(IF(VLOOKUP(Tableau23[[#This Row],[UAI ]],[2]!SuiviForumLyceeCibles[[UAI]:[Tél contact 2]],17,0)="","",VLOOKUP(Tableau23[[#This Row],[UAI ]],[2]!SuiviForumLyceeCibles[[UAI]:[Tél contact 2]],17,0)),"") | P6: =IFERROR(IF(VLOOKUP(Tableau23[[#This Row],[UAI ]],[2]!SuiviForumLyceeCibles[[UAI]:[Tél contact 2]],18,0)="","",VLOOKUP(Tableau23[[#This Row],[UAI ]],[2]!SuiviForumLyceeCibles[[UAI]:[Tél contact 2]],18,0)),"") | Q6: =IFERROR(IF(VLOOKUP(Tableau23[[#This Row],[UAI ]],[2]!SuiviForumLyceeCibles[[UAI]:[Tél contact 2]],19,0)="","",VLOOKUP(Tableau23[[#This Row],[UAI ]],[2]!SuiviForumLyceeCibles[[UAI]:[Tél contact 2]],19,0)),"") | R6: =IFERROR(IF(VLOOKUP(Tableau23[[#This Row],[UAI ]],[2]!SuiviForumLyceeCibles[[UAI]:[Tél contact 2]],20,0)="","",VLOOKUP(Tableau23[[#This Row],[UAI ]],[2]!SuiviForumLyceeCibles[[UAI]:[Tél contact 2]],20,0)),"") | S6: =IFERROR(IF(VLOOKUP(Tableau23[[#This Row],[UAI ]],[2]!SuiviForumLyceeCibles[[UAI]:[Tél contact 2]],21,0)="","",VLOOKUP(Tableau23[[#This Row],[UAI ]],[2]!SuiviForumLyceeCibles[[UAI]:[Tél contact 2]],21,0)),"") | T6: =IFERROR(IF(VLOOKUP(Tableau23[[#This Row],[UAI ]],[2]!SuiviForumLyceeCibles[[UAI]:[Tél contact 2]],22,0)="","",VLOOKUP(Tableau23[[#This Row],[UAI ]],[2]!SuiviForumLyceeCibles[[UAI]:[Tél contact 2]],22,0)),"") | U6: =IFERROR(IF(VLOOKUP(Tableau23[[#This Row],[UAI ]],[2]!SuiviForumLyceeCibles[[UAI]:[Tél contact 2]],23,0)="","",VLOOKUP(Tableau23[[#This Row],[UAI ]],[2]!SuiviForumLyceeCibles[[UAI]:[Tél contact 2]],23,0)),"") | V6: =IFERROR(IF(VLOOKUP(Tableau23[[#This Row],[UAI ]],[2]!SuiviForumLyceeCibles[[UAI]:[Tél contact 2]],24,0)="","",VLOOKUP(Tableau23[[#This Row],[UAI ]],[2]!SuiviForumLyceeCibles[[UAI]:[Tél contact 2]],24,0)),"") | W6: =IFERROR(IF(VLOOKUP(Tableau23[[#This Row],[UAI ]],[2]!SuiviForumLyceeCibles[[UAI]:[Tél contact 2]],11,0)="","",VLOOKUP(Tableau23[[#This Row],[UAI ]],[2]!SuiviForumLyceeCibles[[UAI]:[Tél contact 2]],11,0)),"") -> Oui lycée ciblé ingénieur, la DPI organise sa présence
A7: INGENIEUR | B7: =IFERROR(IF(VLOOKUP(Tableau23[[#This Row],[UAI ]],[2]!SuiviForumLyceeCibles[[UAI]:[Tél contact 2]],5,0)="","",VLOOKUP(Tableau23[[#This Row],[UAI ]],[2]!SuiviForumLyceeCibles[[UAI]:[Tél contact 2]],5,0)),"") -> 44447 | C7: =IFERROR(IF(VLOOKUP(Tableau23[[#This Row],[UAI ]],[2]!SuiviForumLyceeCibles[[UAI]:[Tél contact 2]],6,0)="","",VLOOKUP(Tableau23[[#This Row],[UAI ]],[2]!SuiviForumLyceeCibles[[UAI]:[Tél contact 2]],6,0)),"") -> 44473 | D7: =IFERROR(VLOOKUP(Tableau23[[#This Row],[UAI ]],[2]!SuiviForumLyceeCibles[[UAI]:[Tél contact 2]],2,0),"") -> Forum d'orientation | E7: =IFERROR(VLOOKUP(Tableau23[[#This Row],[UAI ]],[2]!SuiviForumLyceeCibles[[UAI]:[Tél contact 2]],3,0),"") -> Lycées partenaires | F7: Bbubbsqh | G7: LPWOLJ | H7: 49 | I7: 6560332Y | J7: =IFERROR(VLOOKUP(Tableau23[[#This Row],[Dpt]],'Table régions'!$A$2:$C$102,3,0),"") -> Pays de la Loire | K7: =IFERROR(IF(VLOOKUP(Tableau23[[#This Row],[UAI ]],[2]!SuiviForumLyceeCibles[[UAI]:[Tél contact 2]],4,0)="","",VLOOKUP(Tableau23[[#This Row],[UAI ]],[2]!SuiviForumLyceeCibles[[UAI]:[Tél contact 2]],4,0)),"") -> Terminale | L7: =IFERROR(IF(VLOOKUP(Tableau23[[#This Row],[UAI ]],[2]!SuiviForumLyceeCibles[[UAI]:[Tél contact 2]],7,0)="","",VLOOKUP(Tableau23[[#This Row],[UAI ]],[2]!SuiviForumLyceeCibles[[UAI]:[Tél contact 2]],7,0)),"") -> 44517 | M7: =IFERROR(IF(VLOOKUP(Tableau23[[#This Row],[UAI ]],[2]!SuiviForumLyceeCibles[[UAI]:[Tél contact 2]],9,0)="","",VLOOKUP(Tableau23[[#This Row],[UAI ]],[2]!SuiviForumLyceeCibles[[UAI]:[Tél contact 2]],9,0)),"") -> 15h30 -17h15 | N7: =IFERROR(IF(VLOOKUP(Tableau23[[#This Row],[UAI ]],[2]!SuiviForumLyceeCibles[[UAI]:[Tél contact 2]],10,0)="","",VLOOKUP(Tableau23[[#This Row],[UAI ]],[2]!SuiviForumLyceeCibles[[UAI]:[Tél contact 2]],10,0)),"") -> Présence confirmée | O7: =IFERROR(IF(VLOOKUP(Tableau23[[#This Row],[UAI ]],[2]!SuiviForumLyceeCibles[[UAI]:[Tél contact 2]],17,0)="","",VLOOKUP(Tableau23[[#This Row],[UAI ]],[2]!SuiviForumLyceeCibles[[UAI]:[Tél contact 2]],17,0)),"") | P7: =IFERROR(IF(VLOOKUP(Tableau23[[#This Row],[UAI ]],[2]!SuiviForumLyceeCibles[[UAI]:[Tél contact 2]],18,0)="","",VLOOKUP(Tableau23[[#This Row],[UAI ]],[2]!SuiviForumLyceeCibles[[UAI]:[Tél contact 2]],18,0)),"") | Q7: =IFERROR(IF(VLOOKUP(Tableau23[[#This Row],[UAI ]],[2]!SuiviForumLyceeCibles[[UAI]:[Tél contact 2]],19,0)="","",VLOOKUP(Tableau23[[#This Row],[UAI ]],[2]!SuiviForumLyceeCibles[[UAI]:[Tél contact 2]],19,0)),"") | R7: =IFERROR(IF(VLOOKUP(Tableau23[[#This Row],[UAI ]],[2]!SuiviForumLyceeCibles[[UAI]:[Tél contact 2]],20,0)="","",VLOOKUP(Tableau23[[#This Row],[UAI ]],[2]!SuiviForumLyceeCibles[[UAI]:[Tél contact 2]],20,0)),"") | S7: =IFERROR(IF(VLOOKUP(Tableau23[[#This Row],[UAI ]],[2]!SuiviForumLyceeCibles[[UAI]:[Tél contact 2]],21,0)="","",VLOOKUP(Tableau23[[#This Row],[UAI ]],[2]!SuiviForumLyceeCibles[[UAI]:[Tél contact 2]],21,0)),"") | T7: =IFERROR(IF(VLOOKUP(Tableau23[[#This Row],[UAI ]],[2]!SuiviForumLyceeCibles[[UAI]:[Tél contact 2]],22,0)="","",VLOOKUP(Tableau23[[#This Row],[UAI ]],[2]!SuiviForumLyceeCibles[[UAI]:[Tél contact 2]],22,0)),"") | U7: =IFERROR(IF(VLOOKUP(Tableau23[[#This Row],[UAI ]],[2]!SuiviForumLyceeCibles[[UAI]:[Tél contact 2]],23,0)="","",VLOOKUP(Tableau23[[#This Row],[UAI ]],[2]!SuiviForumLyceeCibles[[UAI]:[Tél contact 2]],23,0)),"") | V7: =IFERROR(IF(VLOOKUP(Tableau23[[#This Row],[UAI ]],[2]!SuiviForumLyceeCibles[[UAI]:[Tél contact 2]],24,0)="","",VLOOKUP(Tableau23[[#This Row],[UAI ]],[2]!SuiviForumLyceeCibles[[UAI]:[Tél contact 2]],24,0)),"") | W7: =IFERROR(IF(VLOOKUP(Tableau23[[#This Row],[UAI ]],[2]!SuiviForumLyceeCibles[[UAI]:[Tél contact 2]],11,0)="","",VLOOKUP(Tableau23[[#This Row],[UAI ]],[2]!SuiviForumLyceeCibles[[UAI]:[Tél contact 2]],11,0)),"") -> Oui lycée ciblé ingénieur, la DPI organise sa présence
A8: INGENIEUR | B8: =IFERROR(IF(VLOOKUP(Tableau23[[#This Row],[UAI ]],[2]!SuiviForumLyceeCibles[[UAI]:[Tél contact 2]],5,0)="","",VLOOKUP(Tableau23[[#This Row],[UAI ]],[2]!SuiviForumLyceeCibles[[UAI]:[Tél contact 2]],5,0)),"") | C8: =IFERROR(IF(VLOOKUP(Tableau23[[#This Row],[UAI ]],[2]!SuiviForumLyceeCibles[[UAI]:[Tél contact 2]],6,0)="","",VLOOKUP(Tableau23[[#This Row],[UAI ]],[2]!SuiviForumLyceeCibles[[UAI]:[Tél contact 2]],6,0)),"") | D8: =IFERROR(VLOOKUP(Tableau23[[#This Row],[UAI ]],[2]!SuiviForumLyceeCibles[[UAI]:[Tél contact 2]],2,0),"") -> Forum d'orientation | E8: =IFERROR(VLOOKUP(Tableau23[[#This Row],[UAI ]],[2]!SuiviForumLyceeCibles[[UAI]:[Tél contact 2]],3,0),"") -> Lycées partenaires | F8: Ohflt Ssuj ze Eoxegm Nkyxosris | G8: MMXZXNONT | H8: 49 | I8: 4719327F | J8: =IFERROR(VLOOKUP(Tableau23[[#This Row],[Dpt]],'Table régions'!$A$2:$C$102,3,0),"") -> Pays de la Loire | K8: =IFERROR(IF(VLOOKUP(Tableau23[[#This Row],[UAI ]],[2]!SuiviForumLyceeCibles[[UAI]:[Tél contact 2]],4,0)="","",VLOOKUP(Tableau23[[#This Row],[UAI ]],[2]!SuiviForumLyceeCibles[[UAI]:[Tél contact 2]],4,0)),"") -> Terminale | L8: =IFERROR(IF(VLOOKUP(Tableau23[[#This Row],[UAI ]],[2]!SuiviForumLyceeCibles[[UAI]:[Tél contact 2]],7,0)="","",VLOOKUP(Tableau23[[#This Row],[UAI ]],[2]!SuiviForumLyceeCibles[[UAI]:[Tél contact 2]],7,0)),"") | M8: =IFERROR(IF(VLOOKUP(Tableau23[[#This Row],[UAI ]],[2]!SuiviForumLyceeCibles[[UAI]:[Tél contact 2]],9,0)="","",VLOOKUP(Tableau23[[#This Row],[UAI ]],[2]!SuiviForumLyceeCibles[[UAI]:[Tél contact 2]],9,0)),"") | N8: =IFERROR(IF(VLOOKUP(Tableau23[[#This Row],[UAI ]],[2]!SuiviForumLyceeCibles[[UAI]:[Tél contact 2]],10,0)="","",VLOOKUP(Tableau23[[#This Row],[UAI ]],[2]!SuiviForumLyceeCibles[[UAI]:[Tél contact 2]],10,0)),"") -> Pas de retour étudiant | O8: =IFERROR(IF(VLOOKUP(Tableau23[[#This Row],[UAI ]],[2]!SuiviForumLyceeCibles[[UAI]:[Tél contact 2]],17,0)="","",VLOOKUP(Tableau23[[#This Row],[UAI ]],[2]!SuiviForumLyceeCibles[[UAI]:[Tél contact 2]],17,0)),"") | P8: =IFERROR(IF(VLOOKUP(Tableau23[[#This Row],[UAI ]],[2]!SuiviForumLyceeCibles[[UAI]:[Tél contact 2]],18,0)="","",VLOOKUP(Tableau23[[#This Row],[UAI ]],[2]!SuiviForumLyceeCibles[[UAI]:[Tél contact 2]],18,0)),"") | Q8: =IFERROR(IF(VLOOKUP(Tableau23[[#This Row],[UAI ]],[2]!SuiviForumLyceeCibles[[UAI]:[Tél contact 2]],19,0)="","",VLOOKUP(Tableau23[[#This Row],[UAI ]],[2]!SuiviForumLyceeCibles[[UAI]:[Tél contact 2]],19,0)),"") | R8: =IFERROR(IF(VLOOKUP(Tableau23[[#This Row],[UAI ]],[2]!SuiviForumLyceeCibles[[UAI]:[Tél contact 2]],20,0)="","",VLOOKUP(Tableau23[[#This Row],[UAI ]],[2]!SuiviForumLyceeCibles[[UAI]:[Tél contact 2]],20,0)),"") | S8: =IFERROR(IF(VLOOKUP(Tableau23[[#This Row],[UAI ]],[2]!SuiviForumLyceeCibles[[UAI]:[Tél contact 2]],21,0)="","",VLOOKUP(Tableau23[[#This Row],[UAI ]],[2]!SuiviForumLyceeCibles[[UAI]:[Tél contact 2]],21,0)),"") | T8: =IFERROR(IF(VLOOKUP(Tableau23[[#This Row],[UAI ]],[2]!SuiviForumLyceeCibles[[UAI]:[Tél contact 2]],22,0)="","",VLOOKUP(Tableau23[[#This Row],[UAI ]],[2]!SuiviForumLyceeCibles[[UAI]:[Tél contact 2]],22,0)),"") | U8: =IFERROR(IF(VLOOKUP(Tableau23[[#This Row],[UAI ]],[2]!SuiviForumLyceeCibles[[UAI]:[Tél contact 2]],23,0)="","",VLOOKUP(Tableau23[[#This Row],[UAI ]],[2]!SuiviForumLyceeCibles[[UAI]:[Tél contact 2]],23,0)),"") | V8: =IFERROR(IF(VLOOKUP(Tableau23[[#This Row],[UAI ]],[2]!SuiviForumLyceeCibles[[UAI]:[Tél contact 2]],24,0)="","",VLOOKUP(Tableau23[[#This Row],[UAI ]],[2]!SuiviForumLyceeCibles[[UAI]:[Tél contact 2]],24,0)),"") | W8: =IFERROR(IF(VLOOKUP(Tableau23[[#This Row],[UAI ]],[2]!SuiviForumLyceeCibles[[UAI]:[Tél contact 2]],11,0)="","",VLOOKUP(Tableau23[[#This Row],[UAI ]],[2]!SuiviForumLyceeCibles[[UAI]:[Tél contact 2]],11,0)),"") -> Oui lycée ciblé ingénieur, la DPI organise sa présence
A9: INGENIEUR | B9: =IFERROR(IF(VLOOKUP(Tableau23[[#This Row],[UAI ]],[2]!SuiviForumLyceeCibles[[UAI]:[Tél contact 2]],5,0)="","",VLOOKUP(Tableau23[[#This Row],[UAI ]],[2]!SuiviForumLyceeCibles[[UAI]:[Tél contact 2]],5,0)),"") | C9: =IFERROR(IF(VLOOKUP(Tableau23[[#This Row],[UAI ]],[2]!SuiviForumLyceeCibles[[UAI]:[Tél contact 2]],6,0)="","",VLOOKUP(Tableau23[[#This Row],[UAI ]],[2]!SuiviForumLyceeCibles[[UAI]:[Tél contact 2]],6,0)),"") | D9: =IFERROR(VLOOKUP(Tableau23[[#This Row],[UAI ]],[2]!SuiviForumLyceeCibles[[UAI]:[Tél contact 2]],2,0),"") -> Forum d'orientation | E9: =IFERROR(VLOOKUP(Tableau23[[#This Row],[UAI ]],[2]!SuiviForumLyceeCibles[[UAI]:[Tél contact 2]],3,0),"") -> Lycées partenaires | F9: Gremm Fa Zevc | G9: ZEGBPQ | H9: 56 | I9: 2996921P | J9: =IFERROR(VLOOKUP(Tableau23[[#This Row],[Dpt]],'Table régions'!$A$2:$C$102,3,0),"") -> Bretagne | K9: =IFERROR(IF(VLOOKUP(Tableau23[[#This Row],[UAI ]],[2]!SuiviForumLyceeCibles[[UAI]:[Tél contact 2]],4,0)="","",VLOOKUP(Tableau23[[#This Row],[UAI ]],[2]!SuiviForumLyceeCibles[[UAI]:[Tél contact 2]],4,0)),"") -> Terminale | L9: =IFERROR(IF(VLOOKUP(Tableau23[[#This Row],[UAI ]],[2]!SuiviForumLyceeCibles[[UAI]:[Tél contact 2]],7,0)="","",VLOOKUP(Tableau23[[#This Row],[UAI ]],[2]!SuiviForumLyceeCibles[[UAI]:[Tél contact 2]],7,0)),"") -> 44540 | M9: =IFERROR(IF(VLOOKUP(Tableau23[[#This Row],[UAI ]],[2]!SuiviForumLyceeCibles[[UAI]:[Tél contact 2]],9,0)="","",VLOOKUP(Tableau23[[#This Row],[UAI ]],[2]!SuiviForumLyceeCibles[[UAI]:[Tél contact 2]],9,0)),"") -> 10h45 - 11h45 | N9: =IFERROR(IF(VLOOKUP(Tableau23[[#This Row],[UAI ]],[2]!SuiviForumLyceeCibles[[UAI]:[Tél contact 2]],10,0)="","",VLOOKUP(Tableau23[[#This Row],[UAI ]],[2]!SuiviForumLyceeCibles[[UAI]:[Tél contact 2]],10,0)),"") -> Demande d'absence en cours | O9: =IFERROR(IF(VLOOKUP(Tableau23[[#This Row],[UAI ]],[2]!SuiviForumLyceeCibles[[UAI]:[Tél contact 2]],17,0)="","",VLOOKUP(Tableau23[[#This Row],[UAI ]],[2]!SuiviForumLyceeCibles[[UAI]:[Tél contact 2]],17,0)),"") | P9: =IFERROR(IF(VLOOKUP(Tableau23[[#This Row],[UAI ]],[2]!SuiviForumLyceeCibles[[UAI]:[Tél contact 2]],18,0)="","",VLOOKUP(Tableau23[[#This Row],[UAI ]],[2]!SuiviForumLyceeCibles[[UAI]:[Tél contact 2]],18,0)),"") | Q9: =IFERROR(IF(VLOOKUP(Tableau23[[#This Row],[UAI ]],[2]!SuiviForumLyceeCibles[[UAI]:[Tél contact 2]],19,0)="","",VLOOKUP(Tableau23[[#This Row],[UAI ]],[2]!SuiviForumLyceeCibles[[UAI]:[Tél contact 2]],19,0)),"") | R9: =IFERROR(IF(VLOOKUP(Tableau23[[#This Row],[UAI ]],[2]!SuiviForumLyceeCibles[[UAI]:[Tél contact 2]],20,0)="","",VLOOKUP(Tableau23[[#This Row],[UAI ]],[2]!SuiviForumLyceeCibles[[UAI]:[Tél contact 2]],20,0)),"") | S9: =IFERROR(IF(VLOOKUP(Tableau23[[#This Row],[UAI ]],[2]!SuiviForumLyceeCibles[[UAI]:[Tél contact 2]],21,0)="","",VLOOKUP(Tableau23[[#This Row],[UAI ]],[2]!SuiviForumLyceeCibles[[UAI]:[Tél contact 2]],21,0)),"") | T9: =IFERROR(IF(VLOOKUP(Tableau23[[#This Row],[UAI ]],[2]!SuiviForumLyceeCibles[[UAI]:[Tél contact 2]],22,0)="","",VLOOKUP(Tableau23[[#This Row],[UAI ]],[2]!SuiviForumLyceeCibles[[UAI]:[Tél contact 2]],22,0)),"") | U9: =IFERROR(IF(VLOOKUP(Tableau23[[#This Row],[UAI ]],[2]!SuiviForumLyceeCibles[[UAI]:[Tél contact 2]],23,0)="","",VLOOKUP(Tableau23[[#This Row],[UAI ]],[2]!SuiviForumLyceeCibles[[UAI]:[Tél contact 2]],23,0)),"") | V9: =IFERROR(IF(VLOOKUP(Tableau23[[#This Row],[UAI ]],[2]!SuiviForumLyceeCibles[[UAI]:[Tél contact 2]],24,0)="","",VLOOKUP(Tableau23[[#This Row],[UAI ]],[2]!SuiviForumLyceeCibles[[UAI]:[Tél contact 2]],24,0)),"") | W9: =IFERROR(IF(VLOOKUP(Tableau23[[#This Row],[UAI ]],[2]!SuiviForumLyceeCibles[[UAI]:[Tél contact 2]],11,0)="","",VLOOKUP(Tableau23[[#This Row],[UAI ]],[2]!SuiviForumLyceeCibles[[UAI]:[Tél contact 2]],11,0)),"") -> Oui lycée ciblé ingénieur, la DPI organise sa présence
E10: Lycées non pré-ciblés | J10: =IFERROR(VLOOKUP(Tableau23[[#This Row],[Dpt]],'Table régions'!$A$2:$C$102,3,0),"")
E11: Lycées non pré-ciblés | J11: =IFERROR(VLOOKUP(Tableau23[[#This Row],[Dpt]],'Table régions'!$A$2:$C$102,3,0),"")
E12: Lycées non pré-ciblés | J12: =IFERROR(VLOOKUP(Tableau23[[#This Row],[Dpt]],'Table régions'!$A$2:$C$102,3,0),"")
E13: Lycées non pré-ciblés | J13: =IFERROR(VLOOKUP(Tableau23[[#This Row],[Dpt]],'Table régions'!$A$2:$C$102,3,0),"")
E14: Lycées non pré-ciblés | J14: =IFERROR(VLOOKUP(Tableau23[[#This Row],[Dpt]],'Table régions'!$A$2:$C$102,3,0),"")
E15: Lycées non pré-ciblés | J15: =IFERROR(VLOOKUP(Tableau23[[#This Row],[Dpt]],'Table régions'!$A$2:$C$102,3,0),"")
E16: Lycées non pré-ciblés | J16: =IFERROR(VLOOKUP(Tableau23[[#This Row],[Dpt]],'Table régions'!$A$2:$C$102,3,0),"")
E17: Lycées non pré-ciblés | J17: =IFERROR(VLOOKUP(Tableau23[[#This Row],[Dpt]],'Table régions'!$A$2:$C$102,3,0),"")
E18: Lycées non pré-ciblés | J18: =IFERROR(VLOOKUP(Tableau23[[#This Row],[Dpt]],'Table régions'!$A$2:$C$102,3,0),"")
E19: Lycées non pré-ciblés | J19: =IFERROR(VLOOKUP(Tableau23[[#This Row],[Dpt]],'Table régions'!$A$2:$C$102,3,0),"")
E20: Lycées non pré-ciblés | J20: =IFERROR(VLOOKUP(Tableau23[[#This Row],[Dpt]],'Table régions'!$A$2:$C$102,3,0),"")
E21: Lycées non pré-ciblés | J21: =IFERROR(VLOOKUP(Tableau23[[#This Row],[Dpt]],'Table régions'!$A$2:$C$102,3,0),"")
... E49: Lycées non pré-ciblés | J49: =IFERROR(VLOOKUP(Tableau23[[#This Row],[Dpt]],'Table régions'!$A$2:$C$102,3,0),"")
A50: INGENIEUR | B50: =IFERROR(IF(VLOOKUP(Tableau23[[#This Row],[UAI ]],[2]!SuiviForumLyceeCibles[[UAI]:[Tél contact 2]],5,0)="","",VLOOKUP(Tableau23[[#This Row],[UAI ]],[2]!SuiviForumLyceeCibles[[UAI]:[Tél contact 2]],5,0)),"") | C50: =IFERROR(IF(VLOOKUP(Tableau23[[#This Row],[UAI ]],[2]!SuiviForumLyceeCibles[[UAI]:[Tél contact 2]],6,0)="","",VLOOKUP(Tableau23[[#This Row],[UAI ]],[2]!SuiviForumLyceeCibles[[UAI]:[Tél contact 2]],6,0)),"") | D50: =IFERROR(VLOOKUP(Tableau23[[#This Row],[UAI ]],[2]!SuiviForumLyceeCibles[[UAI]:[Tél contact 2]],2,0),"") -> Forum d'orientation | E50: =IFERROR(VLOOKUP(Tableau23[[#This Row],[UAI ]],[2]!SuiviForumLyceeCibles[[UAI]:[Tél contact 2]],3,0),"") -> Lycées ciblés Ingénieur | F50: Qxamz Ttlan- Xakx rn Bh Ksgnv | G50: AZPCY SXMRTZD | H50: 2 | I50: 4946255S | J50: =IFERROR(VLOOKUP(Tableau23[[#This Row],[Dpt]],'Table régions'!$A$2:$C$102,3,0),"") -> Hauts-de-France | K50: =IFERROR(IF(VLOOKUP(Tableau23[[#This Row],[UAI ]],[2]!SuiviForumLyceeCibles[[UAI]:[Tél contact 2]],4,0)="","",VLOOKUP(Tableau23[[#This Row],[UAI ]],[2]!SuiviForumLyceeCibles[[UAI]:[Tél contact 2]],4,0)),"") -> Terminale | L50: =IFERROR(IF(VLOOKUP(Tableau23[[#This Row],[UAI ]],[2]!SuiviForumLyceeCibles[[UAI]:[Tél contact 2]],7,0)="","",VLOOKUP(Tableau23[[#This Row],[UAI ]],[2]!SuiviForumLyceeCibles[[UAI]:[Tél contact 2]],7,0)),"") | M50: =IFERROR(IF(VLOOKUP(Tableau23[[#This Row],[UAI ]],[2]!SuiviForumLyceeCibles[[UAI]:[Tél contact 2]],9,0)="","",VLOOKUP(Tableau23[[#This Row],[UAI ]],[2]!SuiviForumLyceeCibles[[UAI]:[Tél contact 2]],9,0)),"") | N50: =IFERROR(IF(VLOOKUP(Tableau23[[#This Row],[UAI ]],[2]!SuiviForumLyceeCibles[[UAI]:[Tél contact 2]],10,0)="","",VLOOKUP(Tableau23[[#This Row],[UAI ]],[2]!SuiviForumLyceeCibles[[UAI]:[Tél contact 2]],10,0)),"") -> Pas de retour étudiant | O50: =IFERROR(IF(VLOOKUP(Tableau23[[#This Row],[UAI ]],[2]!SuiviForumLyceeCibles[[UAI]:[Tél contact 2]],17,0)="","",VLOOKUP(Tableau23[[#This Row],[UAI ]],[2]!SuiviForumLyceeCibles[[UAI]:[Tél contact 2]],17,0)),"") | P50: =IFERROR(IF(VLOOKUP(Tableau23[[#This Row],[UAI ]],[2]!SuiviForumLyceeCibles[[UAI]:[Tél contact 2]],18,0)="","",VLOOKUP(Tableau23[[#This Row],[UAI ]],[2]!SuiviForumLyceeCibles[[UAI]:[Tél contact 2]],18,0)),"") | Q50: =IFERROR(IF(VLOOKUP(Tableau23[[#This Row],[UAI ]],[2]!SuiviForumLyceeCibles[[UAI]:[Tél contact 2]],19,0)="","",VLOOKUP(Tableau23[[#This Row],[UAI ]],[2]!SuiviForumLyceeCibles[[UAI]:[Tél contact 2]],19,0)),"") | R50: =IFERROR(IF(VLOOKUP(Tableau23[[#This Row],[UAI ]],[2]!SuiviForumLyceeCibles[[UAI]:[Tél contact 2]],20,0)="","",VLOOKUP(Tableau23[[#This Row],[UAI ]],[2]!SuiviForumLyceeCibles[[UAI]:[Tél contact 2]],20,0)),"") | S50: =IFERROR(IF(VLOOKUP(Tableau23[[#This Row],[UAI ]],[2]!SuiviForumLyceeCibles[[UAI]:[Tél contact 2]],21,0)="","",VLOOKUP(Tableau23[[#This Row],[UAI ]],[2]!SuiviForumLyceeCibles[[UAI]:[Tél contact 2]],21,0)),"") | T50: =IFERROR(IF(VLOOKUP(Tableau23[[#This Row],[UAI ]],[2]!SuiviForumLyceeCibles[[UAI]:[Tél contact 2]],22,0)="","",VLOOKUP(Tableau23[[#This Row],[UAI ]],[2]!SuiviForumLyceeCibles[[UAI]:[Tél contact 2]],22,0)),"") | U50: =IFERROR(IF(VLOOKUP(Tableau23[[#This Row],[UAI ]],[2]!SuiviForumLyceeCibles[[UAI]:[Tél contact 2]],23,0)="","",VLOOKUP(Tableau23[[#This Row],[UAI ]],[2]!SuiviForumLyceeCibles[[UAI]:[Tél contact 2]],23,0)),"") | V50: =IFERROR(IF(VLOOKUP(Tableau23[[#This Row],[UAI ]],[2]!SuiviForumLyceeCibles[[UAI]:[Tél contact 2]],24,0)="","",VLOOKUP(Tableau23[[#This Row],[UAI ]],[2]!SuiviForumLyceeCibles[[UAI]:[Tél contact 2]],24,0)),"") | W50: =IFERROR(IF(VLOOKUP(Tableau23[[#This Row],[UAI ]],[2]!SuiviForumLyceeCibles[[UAI]:[Tél contact 2]],11,0)="","",VLOOKUP(Tableau23[[#This Row],[UAI ]],[2]!SuiviForumLyceeCibles[[UAI]:[Tél contact 2]],11,0)),"") -> Oui lycée ciblé ingénieur, la DPI organise sa présence
A51: INGENIEUR | B51: =IFERROR(IF(VLOOKUP(Tableau23[[#This Row],[UAI ]],[2]!SuiviForumLyceeCibles[[UAI]:[Tél contact 2]],5,0)="","",VLOOKUP(Tableau23[[#This Row],[UAI ]],[2]!SuiviForumLyceeCibles[[UAI]:[Tél contact 2]],5,0)),"") | C51: =IFERROR(IF(VLOOKUP(Tableau23[[#This Row],[UAI ]],[2]!SuiviForumLyceeCibles[[UAI]:[Tél contact 2]],6,0)="","",VLOOKUP(Tableau23[[#This Row],[UAI ]],[2]!SuiviForumLyceeCibles[[UAI]:[Tél contact 2]],6,0)),"") | D51: =IFERROR(VLOOKUP(Tableau23[[#This Row],[UAI ]],[2]!SuiviForumLyceeCibles[[UAI]:[Tél contact 2]],2,0),"") -> Forum d'orientation | E51: =IFERROR(VLOOKUP(Tableau23[[#This Row],[UAI ]],[2]!SuiviForumLyceeCibles[[UAI]:[Tél contact 2]],3,0),"") -> Lycées ciblés Ingénieur | F51: Coofn Qu Nqzmgs | G51: RWJMJ NHGOXX | H51: 22 | I51: 7709730I | J51: =IFERROR(VLOOKUP(Tableau23[[#This Row],[Dpt]],'Table régions'!$A$2:$C$102,3,0),"") -> Bretagne | K51: =IFERROR(IF(VLOOKUP(Tableau23[[#This Row],[UAI ]],[2]!SuiviForumLyceeCibles[[UAI]:[Tél contact 2]],4,0)="","",VLOOKUP(Tableau23[[#This Row],[UAI ]],[2]!SuiviForumLyceeCibles[[UAI]:[Tél contact 2]],4,0)),"") -> Terminale | L51: =IFERROR(IF(VLOOKUP(Tableau23[[#This Row],[UAI ]],[2]!SuiviForumLyceeCibles[[UAI]:[Tél contact 2]],7,0)="","",VLOOKUP(Tableau23[[#This Row],[UAI ]],[2]!SuiviForumLyceeCibles[[UAI]:[Tél contact 2]],7,0)),"") | M51: =IFERROR(IF(VLOOKUP(Tableau23[[#This Row],[UAI ]],[2]!SuiviForumLyceeCibles[[UAI]:[Tél contact 2]],9,0)="","",VLOOKUP(Tableau23[[#This Row],[UAI ]],[2]!SuiviForumLyceeCibles[[UAI]:[Tél contact 2]],9,0)),"") | N51: =IFERROR(IF(VLOOKUP(Tableau23[[#This Row],[UAI ]],[2]!SuiviForumLyceeCibles[[UAI]:[Tél contact 2]],10,0)="","",VLOOKUP(Tableau23[[#This Row],[UAI ]],[2]!SuiviForumLyceeCibles[[UAI]:[Tél contact 2]],10,0)),"") -> Pas de retour étudiant | O51: =IFERROR(IF(VLOOKUP(Tableau23[[#This Row],[UAI ]],[2]!SuiviForumLyceeCibles[[UAI]:[Tél contact 2]],17,0)="","",VLOOKUP(Tableau23[[#This Row],[UAI ]],[2]!SuiviForumLyceeCibles[[UAI]:[Tél contact 2]],17,0)),"") | P51: =IFERROR(IF(VLOOKUP(Tableau23[[#This Row],[UAI ]],[2]!SuiviForumLyceeCibles[[UAI]:[Tél contact 2]],18,0)="","",VLOOKUP(Tableau23[[#This Row],[UAI ]],[2]!SuiviForumLyceeCibles[[UAI]:[Tél contact 2]],18,0)),"") | Q51: =IFERROR(IF(VLOOKUP(Tableau23[[#This Row],[UAI ]],[2]!SuiviForumLyceeCibles[[UAI]:[Tél contact 2]],19,0)="","",VLOOKUP(Tableau23[[#This Row],[UAI ]],[2]!SuiviForumLyceeCibles[[UAI]:[Tél contact 2]],19,0)),"") | R51: =IFERROR(IF(VLOOKUP(Tableau23[[#This Row],[UAI ]],[2]!SuiviForumLyceeCibles[[UAI]:[Tél contact 2]],20,0)="","",VLOOKUP(Tableau23[[#This Row],[UAI ]],[2]!SuiviForumLyceeCibles[[UAI]:[Tél contact 2]],20,0)),"") | S51: =IFERROR(IF(VLOOKUP(Tableau23[[#This Row],[UAI ]],[2]!SuiviForumLyceeCibles[[UAI]:[Tél contact 2]],21,0)="","",VLOOKUP(Tableau23[[#This Row],[UAI ]],[2]!SuiviForumLyceeCibles[[UAI]:[Tél contact 2]],21,0)),"") | T51: =IFERROR(IF(VLOOKUP(Tableau23[[#This Row],[UAI ]],[2]!SuiviForumLyceeCibles[[UAI]:[Tél contact 2]],22,0)="","",VLOOKUP(Tableau23[[#This Row],[UAI ]],[2]!SuiviForumLyceeCibles[[UAI]:[Tél contact 2]],22,0)),"") | U51: =IFERROR(IF(VLOOKUP(Tableau23[[#This Row],[UAI ]],[2]!SuiviForumLyceeCibles[[UAI]:[Tél contact 2]],23,0)="","",VLOOKUP(Tableau23[[#This Row],[UAI ]],[2]!SuiviForumLyceeCibles[[UAI]:[Tél contact 2]],23,0)),"") | V51: =IFERROR(IF(VLOOKUP(Tableau23[[#This Row],[UAI ]],[2]!SuiviForumLyceeCibles[[UAI]:[Tél contact 2]],24,0)="","",VLOOKUP(Tableau23[[#This Row],[UAI ]],[2]!SuiviForumLyceeCibles[[UAI]:[Tél contact 2]],24,0)),"") | W51: =IFERROR(IF(VLOOKUP(Tableau23[[#This Row],[UAI ]],[2]!SuiviForumLyceeCibles[[UAI]:[Tél contact 2]],11,0)="","",VLOOKUP(Tableau23[[#This Row],[UAI ]],[2]!SuiviForumLyceeCibles[[UAI]:[Tél contact 2]],11,0)),"") -> Oui lycée ciblé ingénieur, la DPI organise sa présence
A52: INGENIEUR | B52: =IFERROR(IF(VLOOKUP(Tableau23[[#This Row],[UAI ]],[2]!SuiviForumLyceeCibles[[UAI]:[Tél contact 2]],5,0)="","",VLOOKUP(Tableau23[[#This Row],[UAI ]],[2]!SuiviForumLyceeCibles[[UAI]:[Tél contact 2]],5,0)),"") | C52: =IFERROR(IF(VLOOKUP(Tableau23[[#This Row],[UAI ]],[2]!SuiviForumLyceeCibles[[UAI]:[Tél contact 2]],6,0)="","",VLOOKUP(Tableau23[[#This Row],[UAI ]],[2]!SuiviForumLyceeCibles[[UAI]:[Tél contact 2]],6,0)),"") | D52: =IFERROR(VLOOKUP(Tableau23[[#This Row],[UAI ]],[2]!SuiviForumLyceeCibles[[UAI]:[Tél contact 2]],2,0),"") -> Forum d'orientation | E52: =IFERROR(VLOOKUP(Tableau23[[#This Row],[UAI ]],[2]!SuiviForumLyceeCibles[[UAI]:[Tél contact 2]],3,0),"") -> Lycées ciblés Ingénieur | F52: Qlmoi Sqzvh Ingn Vu Ddtjojtzp | G52: MVMVOGAFA | H52: 22 | I52: 4390451V | J52: =IFERROR(VLOOKUP(Tableau23[[#This Row],[Dpt]],'Table régions'!$A$2:$C$102,3,0),"") -> Bretagne | K52: =IFERROR(IF(VLOOKUP(Tableau23[[#This Row],[UAI ]],[2]!SuiviForumLyceeCibles[[UAI]:[Tél contact 2]],4,0)="","",VLOOKUP(Tableau23[[#This Row],[UAI ]],[2]!SuiviForumLyceeCibles[[UAI]:[Tél contact 2]],4,0)),"") -> Terminale | L52: =IFERROR(IF(VLOOKUP(Tableau23[[#This Row],[UAI ]],[2]!SuiviForumLyceeCibles[[UAI]:[Tél contact 2]],7,0)="","",VLOOKUP(Tableau23[[#This Row],[UAI ]],[2]!SuiviForumLyceeCibles[[UAI]:[Tél contact 2]],7,0)),"") | M52: =IFERROR(IF(VLOOKUP(Tableau23[[#This Row],[UAI ]],[2]!SuiviForumLyceeCibles[[UAI]:[Tél contact 2]],9,0)="","",VLOOKUP(Tableau23[[#This Row],[UAI ]],[2]!SuiviForumLyceeCibles[[UAI]:[Tél contact 2]],9,0)),"") | N52: =IFERROR(IF(VLOOKUP(Tableau23[[#This Row],[UAI ]],[2]!SuiviForumLyceeCibles[[UAI]:[Tél contact 2]],10,0)="","",VLOOKUP(Tableau23[[#This Row],[UAI ]],[2]!SuiviForumLyceeCibles[[UAI]:[Tél contact 2]],10,0)),"") -> Pas de retour étudiant | O52: =IFERROR(IF(VLOOKUP(Tableau23[[#This Row],[UAI ]],[2]!SuiviForumLyceeCibles[[UAI]:[Tél contact 2]],17,0)="","",VLOOKUP(Tableau23[[#This Row],[UAI ]],[2]!SuiviForumLyceeCibles[[UAI]:[Tél contact 2]],17,0)),"") | P52: =IFERROR(IF(VLOOKUP(Tableau23[[#This Row],[UAI ]],[2]!SuiviForumLyceeCibles[[UAI]:[Tél contact 2]],18,0)="","",VLOOKUP(Tableau23[[#This Row],[UAI ]],[2]!SuiviForumLyceeCibles[[UAI]:[Tél contact 2]],18,0)),"") | Q52: =IFERROR(IF(VLOOKUP(Tableau23[[#This Row],[UAI ]],[2]!SuiviForumLyceeCibles[[UAI]:[Tél contact 2]],19,0)="","",VLOOKUP(Tableau23[[#This Row],[UAI ]],[2]!SuiviForumLyceeCibles[[UAI]:[Tél contact 2]],19,0)),"") | R52: =IFERROR(IF(VLOOKUP(Tableau23[[#This Row],[UAI ]],[2]!SuiviForumLyceeCibles[[UAI]:[Tél contact 2]],20,0)="","",VLOOKUP(Tableau23[[#This Row],[UAI ]],[2]!SuiviForumLyceeCibles[[UAI]:[Tél contact 2]],20,0)),"") | S52: =IFERROR(IF(VLOOKUP(Tableau23[[#This Row],[UAI ]],[2]!SuiviForumLyceeCibles[[UAI]:[Tél contact 2]],21,0)="","",VLOOKUP(Tableau23[[#This Row],[UAI ]],[2]!SuiviForumLyceeCibles[[UAI]:[Tél contact 2]],21,0)),"") | T52: =IFERROR(IF(VLOOKUP(Tableau23[[#This Row],[UAI ]],[2]!SuiviForumLyceeCibles[[UAI]:[Tél contact 2]],22,0)="","",VLOOKUP(Tableau23[[#This Row],[UAI ]],[2]!SuiviForumLyceeCibles[[UAI]:[Tél contact 2]],22,0)),"") | U52: =IFERROR(IF(VLOOKUP(Tableau23[[#This Row],[UAI ]],[2]!SuiviForumLyceeCibles[[UAI]:[Tél contact 2]],23,0)="","",VLOOKUP(Tableau23[[#This Row],[UAI ]],[2]!SuiviForumLyceeCibles[[UAI]:[Tél contact 2]],23,0)),"") | V52: =IFERROR(IF(VLOOKUP(Tableau23[[#This Row],[UAI ]],[2]!SuiviForumLyceeCibles[[UAI]:[Tél contact 2]],24,0)="","",VLOOKUP(Tableau23[[#This Row],[UAI ]],[2]!SuiviForumLyceeCibles[[UAI]:[Tél contact 2]],24,0)),"") | W52: =IFERROR(IF(VLOOKUP(Tableau23[[#This Row],[UAI ]],[2]!SuiviForumLyceeCibles[[UAI]:[Tél contact 2]],11,0)="","",VLOOKUP(Tableau23[[#This Row],[UAI ]],[2]!SuiviForumLyceeCibles[[UAI]:[Tél contact 2]],11,0)),"") -> Oui lycée ciblé ingénieur, la DPI organise sa présence
A53: INGENIEUR | B53: =IFERROR(IF(VLOOKUP(Tableau23[[#This Row],[UAI ]],[2]!SuiviForumLyceeCibles[[UAI]:[Tél contact 2]],5,0)="","",VLOOKUP(Tableau23[[#This Row],[UAI ]],[2]!SuiviForumLyceeCibles[[UAI]:[Tél contact 2]],5,0)),"") | C53: =IFERROR(IF(VLOOKUP(Tableau23[[#This Row],[UAI ]],[2]!SuiviForumLyceeCibles[[UAI]:[Tél contact 2]],6,0)="","",VLOOKUP(Tableau23[[#This Row],[UAI ]],[2]!SuiviForumLyceeCibles[[UAI]:[Tél contact 2]],6,0)),"") | D53: =IFERROR(VLOOKUP(Tableau23[[#This Row],[UAI ]],[2]!SuiviForumLyceeCibles[[UAI]:[Tél contact 2]],2,0),"") -> Forum d'orientation | E53: =IFERROR(VLOOKUP(Tableau23[[#This Row],[UAI ]],[2]!SuiviForumLyceeCibles[[UAI]:[Tél contact 2]],3,0),"") -> Lycées ciblés Ingénieur | F53: Tyivm Zkycpizi Jolil | G53: RV ZMTPT SQGIJ | H53: 22 | I53: 1204795D | J53: =IFERROR(VLOOKUP(Tableau23[[#This Row],[Dpt]],'Table régions'!$A$2:$C$102,3,0),"") -> Bretagne | K53: =IFERROR(IF(VLOOKUP(Tableau23[[#This Row],[UAI ]],[2]!SuiviForumLyceeCibles[[UAI]:[Tél contact 2]],4,0)="","",VLOOKUP(Tableau23[[#This Row],[UAI ]],[2]!SuiviForumLyceeCibles[[UAI]:[Tél contact 2]],4,0)),"") -> Terminale | L53: =IFERROR(IF(VLOOKUP(Tableau23[[#This Row],[UAI ]],[2]!SuiviForumLyceeCibles[[UAI]:[Tél contact 2]],7,0)="","",VLOOKUP(Tableau23[[#This Row],[UAI ]],[2]!SuiviForumLyceeCibles[[UAI]:[Tél contact 2]],7,0)),"") | M53: =IFERROR(IF(VLOOKUP(Tableau23[[#This Row],[UAI ]],[2]!SuiviForumLyceeCibles[[UAI]:[Tél contact 2]],9,0)="","",VLOOKUP(Tableau23[[#This Row],[UAI ]],[2]!SuiviForumLyceeCibles[[UAI]:[Tél contact 2]],9,0)),"") | N53: =IFERROR(IF(VLOOKUP(Tableau23[[#This Row],[UAI ]],[2]!SuiviForumLyceeCibles[[UAI]:[Tél contact 2]],10,0)="","",VLOOKUP(Tableau23[[#This Row],[UAI ]],[2]!SuiviForumLyceeCibles[[UAI]:[Tél contact 2]],10,0)),"") -> Pas de retour étudiant | O53: =IFERROR(IF(VLOOKUP(Tableau23[[#This Row],[UAI ]],[2]!SuiviForumLyceeCibles[[UAI]:[Tél contact 2]],17,0)="","",VLOOKUP(Tableau23[[#This Row],[UAI ]],[2]!SuiviForumLyceeCibles[[UAI]:[Tél contact 2]],17,0)),"") | P53: =IFERROR(IF(VLOOKUP(Tableau23[[#This Row],[UAI ]],[2]!SuiviForumLyceeCibles[[UAI]:[Tél contact 2]],18,0)="","",VLOOKUP(Tableau23[[#This Row],[UAI ]],[2]!SuiviForumLyceeCibles[[UAI]:[Tél contact 2]],18,0)),"") | Q53: =IFERROR(IF(VLOOKUP(Tableau23[[#This Row],[UAI ]],[2]!SuiviForumLyceeCibles[[UAI]:[Tél contact 2]],19,0)="","",VLOOKUP(Tableau23[[#This Row],[UAI ]],[2]!SuiviForumLyceeCibles[[UAI]:[Tél contact 2]],19,0)),"") | R53: =IFERROR(IF(VLOOKUP(Tableau23[[#This Row],[UAI ]],[2]!SuiviForumLyceeCibles[[UAI]:[Tél contact 2]],20,0)="","",VLOOKUP(Tableau23[[#This Row],[UAI ]],[2]!SuiviForumLyceeCibles[[UAI]:[Tél contact 2]],20,0)),"") | S53: =IFERROR(IF(VLOOKUP(Tableau23[[#This Row],[UAI ]],[2]!SuiviForumLyceeCibles[[UAI]:[Tél contact 2]],21,0)="","",VLOOKUP(Tableau23[[#This Row],[UAI ]],[2]!SuiviForumLyceeCibles[[UAI]:[Tél contact 2]],21,0)),"") | T53: =IFERROR(IF(VLOOKUP(Tableau23[[#This Row],[UAI ]],[2]!SuiviForumLyceeCibles[[UAI]:[Tél contact 2]],22,0)="","",VLOOKUP(Tableau23[[#This Row],[UAI ]],[2]!SuiviForumLyceeCibles[[UAI]:[Tél contact 2]],22,0)),"") | U53: =IFERROR(IF(VLOOKUP(Tableau23[[#This Row],[UAI ]],[2]!SuiviForumLyceeCibles[[UAI]:[Tél contact 2]],23,0)="","",VLOOKUP(Tableau23[[#This Row],[UAI ]],[2]!SuiviForumLyceeCibles[[UAI]:[Tél contact 2]],23,0)),"") | V53: =IFERROR(IF(VLOOKUP(Tableau23[[#This Row],[UAI ]],[2]!SuiviForumLyceeCibles[[UAI]:[Tél contact 2]],24,0)="","",VLOOKUP(Tableau23[[#This Row],[UAI ]],[2]!SuiviForumLyceeCibles[[UAI]:[Tél contact 2]],24,0)),"") | W53: =IFERROR(IF(VLOOKUP(Tableau23[[#This Row],[UAI ]],[2]!SuiviForumLyceeCibles[[UAI]:[Tél contact 2]],11,0)="","",VLOOKUP(Tableau23[[#This Row],[UAI ]],[2]!SuiviForumLyceeCibles[[UAI]:[Tél contact 2]],11,0)),"") -> Oui lycée ciblé ingénieur, la DPI organise sa présence
A54: INGENIEUR | B54: =IFERROR(IF(VLOOKUP(Tableau23[[#This Row],[UAI ]],[2]!SuiviForumLyceeCibles[[UAI]:[Tél contact 2]],5,0)="","",VLOOKUP(Tableau23[[#This Row],[UAI ]],[2]!SuiviForumLyceeCibles[[UAI]:[Tél contact 2]],5,0)),"") | C54: =IFERROR(IF(VLOOKUP(Tableau23[[#This Row],[UAI ]],[2]!SuiviForumLyceeCibles[[UAI]:[Tél contact 2]],6,0)="","",VLOOKUP(Tableau23[[#This Row],[UAI ]],[2]!SuiviForumLyceeCibles[[UAI]:[Tél contact 2]],6,0)),"") | D54: =IFERROR(VLOOKUP(Tableau23[[#This Row],[UAI ]],[2]!SuiviForumLyceeCibles[[UAI]:[Tél contact 2]],2,0),"") -> Forum d'orientation | E54: =IFERROR(VLOOKUP(Tableau23[[#This Row],[UAI ]],[2]!SuiviForumLyceeCibles[[UAI]:[Tél contact 2]],3,0),"") -> Lycées ciblés Ingénieur | F54: Vbvqa Si Lw Xqiemlgv Byy Ymdp | G54: APTMU | H54: 22 | I54: 7502825L | J54: =IFERROR(VLOOKUP(Tableau23[[#This Row],[Dpt]],'Table régions'!$A$2:$C$102,3,0),"") -> Bretagne | K54: =IFERROR(IF(VLOOKUP(Tableau23[[#This Row],[UAI ]],[2]!SuiviForumLyceeCibles[[UAI]:[Tél contact 2]],4,0)="","",VLOOKUP(Tableau23[[#This Row],[UAI ]],[2]!SuiviForumLyceeCibles[[UAI]:[Tél contact 2]],4,0)),"") -> Terminale | L54: =IFERROR(IF(VLOOKUP(Tableau23[[#This Row],[UAI ]],[2]!SuiviForumLyceeCibles[[UAI]:[Tél contact 2]],7,0)="","",VLOOKUP(Tableau23[[#This Row],[UAI ]],[2]!SuiviForumLyceeCibles[[UAI]:[Tél contact 2]],7,0)),"") | M54: =IFERROR(IF(VLOOKUP(Tableau23[[#This Row],[UAI ]],[2]!SuiviForumLyceeCibles[[UAI]:[Tél contact 2]],9,0)="","",VLOOKUP(Tableau23[[#This Row],[UAI ]],[2]!SuiviForumLyceeCibles[[UAI]:[Tél contact 2]],9,0)),"") | N54: =IFERROR(IF(VLOOKUP(Tableau23[[#This Row],[UAI ]],[2]!SuiviForumLyceeCibles[[UAI]:[Tél contact 2]],10,0)="","",VLOOKUP(Tableau23[[#This Row],[UAI ]],[2]!SuiviForumLyceeCibles[[UAI]:[Tél contact 2]],10,0)),"") -> Pas de retour étudiant | O54: =IFERROR(IF(VLOOKUP(Tableau23[[#This Row],[UAI ]],[2]!SuiviForumLyceeCibles[[UAI]:[Tél contact 2]],17,0)="","",VLOOKUP(Tableau23[[#This Row],[UAI ]],[2]!SuiviForumLyceeCibles[[UAI]:[Tél contact 2]],17,0)),"") | P54: =IFERROR(IF(VLOOKUP(Tableau23[[#This Row],[UAI ]],[2]!SuiviForumLyceeCibles[[UAI]:[Tél contact 2]],18,0)="","",VLOOKUP(Tableau23[[#This Row],[UAI ]],[2]!SuiviForumLyceeCibles[[UAI]:[Tél contact 2]],18,0)),"") | Q54: =IFERROR(IF(VLOOKUP(Tableau23[[#This Row],[UAI ]],[2]!SuiviForumLyceeCibles[[UAI]:[Tél contact 2]],19,0)="","",VLOOKUP(Tableau23[[#This Row],[UAI ]],[2]!SuiviForumLyceeCibles[[UAI]:[Tél contact 2]],19,0)),"") | R54: =IFERROR(IF(VLOOKUP(Tableau23[[#This Row],[UAI ]],[2]!SuiviForumLyceeCibles[[UAI]:[Tél contact 2]],20,0)="","",VLOOKUP(Tableau23[[#This Row],[UAI ]],[2]!SuiviForumLyceeCibles[[UAI]:[Tél contact 2]],20,0)),"") | S54: =IFERROR(IF(VLOOKUP(Tableau23[[#This Row],[UAI ]],[2]!SuiviForumLyceeCibles[[UAI]:[Tél contact 2]],21,0)="","",VLOOKUP(Tableau23[[#This Row],[UAI ]],[2]!SuiviForumLyceeCibles[[UAI]:[Tél contact 2]],21,0)),"") | T54: =IFERROR(IF(VLOOKUP(Tableau23[[#This Row],[UAI ]],[2]!SuiviForumLyceeCibles[[UAI]:[Tél contact 2]],22,0)="","",VLOOKUP(Tableau23[[#This Row],[UAI ]],[2]!SuiviForumLyceeCibles[[UAI]:[Tél contact 2]],22,0)),"") | U54: =IFERROR(IF(VLOOKUP(Tableau23[[#This Row],[UAI ]],[2]!SuiviForumLyceeCibles[[UAI]:[Tél contact 2]],23,0)="","",VLOOKUP(Tableau23[[#This Row],[UAI ]],[2]!SuiviForumLyceeCibles[[UAI]:[Tél contact 2]],23,0)),"") | V54: =IFERROR(IF(VLOOKUP(Tableau23[[#This Row],[UAI ]],[2]!SuiviForumLyceeCibles[[UAI]:[Tél contact 2]],24,0)="","",VLOOKUP(Tableau23[[#This Row],[UAI ]],[2]!SuiviForumLyceeCibles[[UAI]:[Tél contact 2]],24,0)),"") | W54: =IFERROR(IF(VLOOKUP(Tableau23[[#This Row],[UAI ]],[2]!SuiviForumLyceeCibles[[UAI]:[Tél contact 2]],11,0)="","",VLOOKUP(Tableau23[[#This Row],[UAI ]],[2]!SuiviForumLyceeCibles[[UAI]:[Tél contact 2]],11,0)),"") -> Oui lycée ciblé ingénieur, la DPI organise sa présence
A55: INGENIEUR | B55: =IFERROR(IF(VLOOKUP(Tableau23[[#This Row],[UAI ]],[2]!SuiviForumLyceeCibles[[UAI]:[Tél contact 2]],5,0)="","",VLOOKUP(Tableau23[[#This Row],[UAI ]],[2]!SuiviForumLyceeCibles[[UAI]:[Tél contact 2]],5,0)),"") | C55: =IFERROR(IF(VLOOKUP(Tableau23[[#This Row],[UAI ]],[2]!SuiviForumLyceeCibles[[UAI]:[Tél contact 2]],6,0)="","",VLOOKUP(Tableau23[[#This Row],[UAI ]],[2]!SuiviForumLyceeCibles[[UAI]:[Tél contact 2]],6,0)),"") | D55: =IFERROR(VLOOKUP(Tableau23[[#This Row],[UAI ]],[2]!SuiviForumLyceeCibles[[UAI]:[Tél contact 2]],2,0),"") -> Forum d'orientation | E55: =IFERROR(VLOOKUP(Tableau23[[#This Row],[UAI ]],[2]!SuiviForumLyceeCibles[[UAI]:[Tél contact 2]],3,0),"") -> Lycées ciblés Ingénieur | F55: Rpjkw Cdlfhrf Kgmxr | G55: HIUQTLDR | H55: 22 | I55: 7508208G | J55: =IFERROR(VLOOKUP(Tableau23[[#This Row],[Dpt]],'Table régions'!$A$2:$C$102,3,0),"") -> Bretagne | K55: =IFERROR(IF(VLOOKUP(Tableau23[[#This Row],[UAI ]],[2]!SuiviForumLyceeCibles[[UAI]:[Tél contact 2]],4,0)="","",VLOOKUP(Tableau23[[#This Row],[UAI ]],[2]!SuiviForumLyceeCibles[[UAI]:[Tél contact 2]],4,0)),"") -> Terminale | L55: =IFERROR(IF(VLOOKUP(Tableau23[[#This Row],[UAI ]],[2]!SuiviForumLyceeCibles[[UAI]:[Tél contact 2]],7,0)="","",VLOOKUP(Tableau23[[#This Row],[UAI ]],[2]!SuiviForumLyceeCibles[[UAI]:[Tél contact 2]],7,0)),"") | M55: =IFERROR(IF(VLOOKUP(Tableau23[[#This Row],[UAI ]],[2]!SuiviForumLyceeCibles[[UAI]:[Tél contact 2]],9,0)="","",VLOOKUP(Tableau23[[#This Row],[UAI ]],[2]!SuiviForumLyceeCibles[[UAI]:[Tél contact 2]],9,0)),"") | N55: =IFERROR(IF(VLOOKUP(Tableau23[[#This Row],[UAI ]],[2]!SuiviForumLyceeCibles[[UAI]:[Tél contact 2]],10,0)="","",VLOOKUP(Tableau23[[#This Row],[UAI ]],[2]!SuiviForumLyceeCibles[[UAI]:[Tél contact 2]],10,0)),"") -> Pas de retour étudiant | O55: =IFERROR(IF(VLOOKUP(Tableau23[[#This Row],[UAI ]],[2]!SuiviForumLyceeCibles[[UAI]:[Tél contact 2]],17,0)="","",VLOOKUP(Tableau23[[#This Row],[UAI ]],[2]!SuiviForumLyceeCibles[[UAI]:[Tél contact 2]],17,0)),"") | P55: =IFERROR(IF(VLOOKUP(Tableau23[[#This Row],[UAI ]],[2]!SuiviForumLyceeCibles[[UAI]:[Tél contact 2]],18,0)="","",VLOOKUP(Tableau23[[#This Row],[UAI ]],[2]!SuiviForumLyceeCibles[[UAI]:[Tél contact 2]],18,0)),"") | Q55: =IFERROR(IF(VLOOKUP(Tableau23[[#This Row],[UAI ]],[2]!SuiviForumLyceeCibles[[UAI]:[Tél contact 2]],19,0)="","",VLOOKUP(Tableau23[[#This Row],[UAI ]],[2]!SuiviForumLyceeCibles[[UAI]:[Tél contact 2]],19,0)),"") | R55: =IFERROR(IF(VLOOKUP(Tableau23[[#This Row],[UAI ]],[2]!SuiviForumLyceeCibles[[UAI]:[Tél contact 2]],20,0)="","",VLOOKUP(Tableau23[[#This Row],[UAI ]],[2]!SuiviForumLyceeCibles[[UAI]:[Tél contact 2]],20,0)),"") | S55: =IFERROR(IF(VLOOKUP(Tableau23[[#This Row],[UAI ]],[2]!SuiviForumLyceeCibles[[UAI]:[Tél contact 2]],21,0)="","",VLOOKUP(Tableau23[[#This Row],[UAI ]],[2]!SuiviForumLyceeCibles[[UAI]:[Tél contact 2]],21,0)),"") | T55: =IFERROR(IF(VLOOKUP(Tableau23[[#This Row],[UAI ]],[2]!SuiviForumLyceeCibles[[UAI]:[Tél contact 2]],22,0)="","",VLOOKUP(Tableau23[[#This Row],[UAI ]],[2]!SuiviForumLyceeCibles[[UAI]:[Tél contact 2]],22,0)),"") | U55: =IFERROR(IF(VLOOKUP(Tableau23[[#This Row],[UAI ]],[2]!SuiviForumLyceeCibles[[UAI]:[Tél contact 2]],23,0)="","",VLOOKUP(Tableau23[[#This Row],[UAI ]],[2]!SuiviForumLyceeCibles[[UAI]:[Tél contact 2]],23,0)),"") | V55: =IFERROR(IF(VLOOKUP(Tableau23[[#This Row],[UAI ]],[2]!SuiviForumLyceeCibles[[UAI]:[Tél contact 2]],24,0)="","",VLOOKUP(Tableau23[[#This Row],[UAI ]],[2]!SuiviForumLyceeCibles[[UAI]:[Tél contact 2]],24,0)),"") | W55: =IFERROR(IF(VLOOKUP(Tableau23[[#This Row],[UAI ]],[2]!SuiviForumLyceeCibles[[UAI]:[Tél contact 2]],11,0)="","",VLOOKUP(Tableau23[[#This Row],[UAI ]],[2]!SuiviForumLyceeCibles[[UAI]:[Tél contact 2]],11,0)),"") -> Oui lycée ciblé ingénieur, la DPI organise sa présence
A56: INGENIEUR | B56: =IFERROR(IF(VLOOKUP(Tableau23[[#This Row],[UAI ]],[2]!SuiviForumLyceeCibles[[UAI]:[Tél contact 2]],5,0)="","",VLOOKUP(Tableau23[[#This Row],[UAI ]],[2]!SuiviForumLyceeCibles[[UAI]:[Tél contact 2]],5,0)),"") | C56: =IFERROR(IF(VLOOKUP(Tableau23[[#This Row],[UAI ]],[2]!SuiviForumLyceeCibles[[UAI]:[Tél contact 2]],6,0)="","",VLOOKUP(Tableau23[[#This Row],[UAI ]],[2]!SuiviForumLyceeCibles[[UAI]:[Tél contact 2]],6,0)),"") | D56: =IFERROR(VLOOKUP(Tableau23[[#This Row],[UAI ]],[2]!SuiviForumLyceeCibles[[UAI]:[Tél contact 2]],2,0),"") -> Forum d'orientation | E56: =IFERROR(VLOOKUP(Tableau23[[#This Row],[UAI ]],[2]!SuiviForumLyceeCibles[[UAI]:[Tél contact 2]],3,0),"") -> Lycées ciblés Ingénieur | F56: Bpail Rilj BFOHR | G56: YLEQTHE | H56: 22 | I56: 2994549V | J56: =IFERROR(VLOOKUP(Tableau23[[#This Row],[Dpt]],'Table régions'!$A$2:$C$102,3,0),"") -> Bretagne | K56: =IFERROR(IF(VLOOKUP(Tableau23[[#This Row],[UAI ]],[2]!SuiviForumLyceeCibles[[UAI]:[Tél contact 2]],4,0)="","",VLOOKUP(Tableau23[[#This Row],[UAI ]],[2]!SuiviForumLyceeCibles[[UAI]:[Tél contact 2]],4,0)),"") -> Terminale | L56: =IFERROR(IF(VLOOKUP(Tableau23[[#This Row],[UAI ]],[2]!SuiviForumLyceeCibles[[UAI]:[Tél contact 2]],7,0)="","",VLOOKUP(Tableau23[[#This Row],[UAI ]],[2]!SuiviForumLyceeCibles[[UAI]:[Tél contact 2]],7,0)),"") | M56: =IFERROR(IF(VLOOKUP(Tableau23[[#This Row],[UAI ]],[2]!SuiviForumLyceeCibles[[UAI]:[Tél contact 2]],9,0)="","",VLOOKUP(Tableau23[[#This Row],[UAI ]],[2]!SuiviForumLyceeCibles[[UAI]:[Tél contact 2]],9,0)),"") | N56: =IFERROR(IF(VLOOKUP(Tableau23[[#This Row],[UAI ]],[2]!SuiviForumLyceeCibles[[UAI]:[Tél contact 2]],10,0)="","",VLOOKUP(Tableau23[[#This Row],[UAI ]],[2]!SuiviForumLyceeCibles[[UAI]:[Tél contact 2]],10,0)),"") -> Pas de retour étudiant | O56: =IFERROR(IF(VLOOKUP(Tableau23[[#This Row],[UAI ]],[2]!SuiviForumLyceeCibles[[UAI]:[Tél contact 2]],17,0)="","",VLOOKUP(Tableau23[[#This Row],[UAI ]],[2]!SuiviForumLyceeCibles[[UAI]:[Tél contact 2]],17,0)),"") | P56: =IFERROR(IF(VLOOKUP(Tableau23[[#This Row],[UAI ]],[2]!SuiviForumLyceeCibles[[UAI]:[Tél contact 2]],18,0)="","",VLOOKUP(Tableau23[[#This Row],[UAI ]],[2]!SuiviForumLyceeCibles[[UAI]:[Tél contact 2]],18,0)),"") | Q56: =IFERROR(IF(VLOOKUP(Tableau23[[#This Row],[UAI ]],[2]!SuiviForumLyceeCibles[[UAI]:[Tél contact 2]],19,0)="","",VLOOKUP(Tableau23[[#This Row],[UAI ]],[2]!SuiviForumLyceeCibles[[UAI]:[Tél contact 2]],19,0)),"") | R56: =IFERROR(IF(VLOOKUP(Tableau23[[#This Row],[UAI ]],[2]!SuiviForumLyceeCibles[[UAI]:[Tél contact 2]],20,0)="","",VLOOKUP(Tableau23[[#This Row],[UAI ]],[2]!SuiviForumLyceeCibles[[UAI]:[Tél contact 2]],20,0)),"") | S56: =IFERROR(IF(VLOOKUP(Tableau23[[#This Row],[UAI ]],[2]!SuiviForumLyceeCibles[[UAI]:[Tél contact 2]],21,0)="","",VLOOKUP(Tableau23[[#This Row],[UAI ]],[2]!SuiviForumLyceeCibles[[UAI]:[Tél contact 2]],21,0)),"") | T56: =IFERROR(IF(VLOOKUP(Tableau23[[#This Row],[UAI ]],[2]!SuiviForumLyceeCibles[[UAI]:[Tél contact 2]],22,0)="","",VLOOKUP(Tableau23[[#This Row],[UAI ]],[2]!SuiviForumLyceeCibles[[UAI]:[Tél contact 2]],22,0)),"") | U56: =IFERROR(IF(VLOOKUP(Tableau23[[#This Row],[UAI ]],[2]!SuiviForumLyceeCibles[[UAI]:[Tél contact 2]],23,0)="","",VLOOKUP(Tableau23[[#This Row],[UAI ]],[2]!SuiviForumLyceeCibles[[UAI]:[Tél contact 2]],23,0)),"") | V56: =IFERROR(IF(VLOOKUP(Tableau23[[#This Row],[UAI ]],[2]!SuiviForumLyceeCibles[[UAI]:[Tél contact 2]],24,0)="","",VLOOKUP(Tableau23[[#This Row],[UAI ]],[2]!SuiviForumLyceeCibles[[UAI]:[Tél contact 2]],24,0)),"") | W56: =IFERROR(IF(VLOOKUP(Tableau23[[#This Row],[UAI ]],[2]!SuiviForumLyceeCibles[[UAI]:[Tél contact 2]],11,0)="","",VLOOKUP(Tableau23[[#This Row],[UAI ]],[2]!SuiviForumLyceeCibles[[UAI]:[Tél contact 2]],11,0)),"") -> Oui lycée ciblé ingénieur, la DPI organise sa présence
A57: INGENIEUR | B57: =IFERROR(IF(VLOOKUP(Tableau23[[#This Row],[UAI ]],[2]!SuiviForumLyceeCibles[[UAI]:[Tél contact 2]],5,0)="","",VLOOKUP(Tableau23[[#This Row],[UAI ]],[2]!SuiviForumLyceeCibles[[UAI]:[Tél contact 2]],5,0)),"") | C57: =IFERROR(IF(VLOOKUP(Tableau23[[#This Row],[UAI ]],[2]!SuiviForumLyceeCibles[[UAI]:[Tél contact 2]],6,0)="","",VLOOKUP(Tableau23[[#This Row],[UAI ]],[2]!SuiviForumLyceeCibles[[UAI]:[Tél contact 2]],6,0)),"") | D57: =IFERROR(VLOOKUP(Tableau23[[#This Row],[UAI ]],[2]!SuiviForumLyceeCibles[[UAI]:[Tél contact 2]],2,0),"") -> Forum d'orientation | E57: =IFERROR(VLOOKUP(Tableau23[[#This Row],[UAI ]],[2]!SuiviForumLyceeCibles[[UAI]:[Tél contact 2]],3,0),"") -> Lycées ciblés Ingénieur | F57: Maksc Yccil Tcgs | G57: XUIVWDTC | H57: 28 | I57: 8671663F | J57: =IFERROR(VLOOKUP(Tableau23[[#This Row],[Dpt]],'Table régions'!$A$2:$C$102,3,0),"") -> Centre-Val de Loire | K57: =IFERROR(IF(VLOOKUP(Tableau23[[#This Row],[UAI ]],[2]!SuiviForumLyceeCibles[[UAI]:[Tél contact 2]],4,0)="","",VLOOKUP(Tableau23[[#This Row],[UAI ]],[2]!SuiviForumLyceeCibles[[UAI]:[Tél contact 2]],4,0)),"") -> Terminale | L57: =IFERROR(IF(VLOOKUP(Tableau23[[#This Row],[UAI ]],[2]!SuiviForumLyceeCibles[[UAI]:[Tél contact 2]],7,0)="","",VLOOKUP(Tableau23[[#This Row],[UAI ]],[2]!SuiviForumLyceeCibles[[UAI]:[Tél contact 2]],7,0)),"") | M57: =IFERROR(IF(VLOOKUP(Tableau23[[#This Row],[UAI ]],[2]!SuiviForumLyceeCibles[[UAI]:[Tél contact 2]],9,0)="","",VLOOKUP(Tableau23[[#This Row],[UAI ]],[2]!SuiviForumLyceeCibles[[UAI]:[Tél contact 2]],9,0)),"") | N57: =IFERROR(IF(VLOOKUP(Tableau23[[#This Row],[UAI ]],[2]!SuiviForumLyceeCibles[[UAI]:[Tél contact 2]],10,0)="","",VLOOKUP(Tableau23[[#This Row],[UAI ]],[2]!SuiviForumLyceeCibles[[UAI]:[Tél contact 2]],10,0)),"") -> Pas de retour étudiant | O57: =IFERROR(IF(VLOOKUP(Tableau23[[#This Row],[UAI ]],[2]!SuiviForumLyceeCibles[[UAI]:[Tél contact 2]],17,0)="","",VLOOKUP(Tableau23[[#This Row],[UAI ]],[2]!SuiviForumLyceeCibles[[UAI]:[Tél contact 2]],17,0)),"") | P57: =IFERROR(IF(VLOOKUP(Tableau23[[#This Row],[UAI ]],[2]!SuiviForumLyceeCibles[[UAI]:[Tél contact 2]],18,0)="","",VLOOKUP(Tableau23[[#This Row],[UAI ]],[2]!SuiviForumLyceeCibles[[UAI]:[Tél contact 2]],18,0)),"") | Q57: =IFERROR(IF(VLOOKUP(Tableau23[[#This Row],[UAI ]],[2]!SuiviForumLyceeCibles[[UAI]:[Tél contact 2]],19,0)="","",VLOOKUP(Tableau23[[#This Row],[UAI ]],[2]!SuiviForumLyceeCibles[[UAI]:[Tél contact 2]],19,0)),"") | R57: =IFERROR(IF(VLOOKUP(Tableau23[[#This Row],[UAI ]],[2]!SuiviForumLyceeCibles[[UAI]:[Tél contact 2]],20,0)="","",VLOOKUP(Tableau23[[#This Row],[UAI ]],[2]!SuiviForumLyceeCibles[[UAI]:[Tél contact 2]],20,0)),"") | S57: =IFERROR(IF(VLOOKUP(Tableau23[[#This Row],[UAI ]],[2]!SuiviForumLyceeCibles[[UAI]:[Tél contact 2]],21,0)="","",VLOOKUP(Tableau23[[#This Row],[UAI ]],[2]!SuiviForumLyceeCibles[[UAI]:[Tél contact 2]],21,0)),"") | T57: =IFERROR(IF(VLOOKUP(Tableau23[[#This Row],[UAI ]],[2]!SuiviForumLyceeCibles[[UAI]:[Tél contact 2]],22,0)="","",VLOOKUP(Tableau23[[#This Row],[UAI ]],[2]!SuiviForumLyceeCibles[[UAI]:[Tél contact 2]],22,0)),"") | U57: =IFERROR(IF(VLOOKUP(Tableau23[[#This Row],[UAI ]],[2]!SuiviForumLyceeCibles[[UAI]:[Tél contact 2]],23,0)="","",VLOOKUP(Tableau23[[#This Row],[UAI ]],[2]!SuiviForumLyceeCibles[[UAI]:[Tél contact 2]],23,0)),"") | V57: =IFERROR(IF(VLOOKUP(Tableau23[[#This Row],[UAI ]],[2]!SuiviForumLyceeCibles[[UAI]:[Tél contact 2]],24,0)="","",VLOOKUP(Tableau23[[#This Row],[UAI ]],[2]!SuiviForumLyceeCibles[[UAI]:[Tél contact 2]],24,0)),"") | W57: =IFERROR(IF(VLOOKUP(Tableau23[[#This Row],[UAI ]],[2]!SuiviForumLyceeCibles[[UAI]:[Tél contact 2]],11,0)="","",VLOOKUP(Tableau23[[#This Row],[UAI ]],[2]!SuiviForumLyceeCibles[[UAI]:[Tél contact 2]],11,0)),"") -> Oui lycée ciblé ingénieur, la DPI organise sa présence
A58: INGENIEUR | B58: =IFERROR(IF(VLOOKUP(Tableau23[[#This Row],[UAI ]],[2]!SuiviForumLyceeCibles[[UAI]:[Tél contact 2]],5,0)="","",VLOOKUP(Tableau23[[#This Row],[UAI ]],[2]!SuiviForumLyceeCibles[[UAI]:[Tél contact 2]],5,0)),"") | C58: =IFERROR(IF(VLOOKUP(Tableau23[[#This Row],[UAI ]],[2]!SuiviForumLyceeCibles[[UAI]:[Tél contact 2]],6,0)="","",VLOOKUP(Tableau23[[#This Row],[UAI ]],[2]!SuiviForumLyceeCibles[[UAI]:[Tél contact 2]],6,0)),"") | D58: =IFERROR(VLOOKUP(Tableau23[[#This Row],[UAI ]],[2]!SuiviForumLyceeCibles[[UAI]:[Tél contact 2]],2,0),"") -> Forum d'orientation | E58: =IFERROR(VLOOKUP(Tableau23[[#This Row],[UAI ]],[2]!SuiviForumLyceeCibles[[UAI]:[Tél contact 2]],3,0),"") -> Lycées ciblés Ingénieur | F58: Cafcg Jqxh Szaphsjb | G58: IFIAXCQ-GCQDVPBO | H58: 29 | I58: 6589568V | J58: =IFERROR(VLOOKUP(Tableau23[[#This Row],[Dpt]],'Table régions'!$A$2:$C$102,3,0),"") -> Bretagne | K58: =IFERROR(IF(VLOOKUP(Tableau23[[#This Row],[UAI ]],[2]!SuiviForumLyceeCibles[[UAI]:[Tél contact 2]],4,0)="","",VLOOKUP(Tableau23[[#This Row],[UAI ]],[2]!SuiviForumLyceeCibles[[UAI]:[Tél contact 2]],4,0)),"") -> Terminale | L58: =IFERROR(IF(VLOOKUP(Tableau23[[#This Row],[UAI ]],[2]!SuiviForumLyceeCibles[[UAI]:[Tél contact 2]],7,0)="","",VLOOKUP(Tableau23[[#This Row],[UAI ]],[2]!SuiviForumLyceeCibles[[UAI]:[Tél contact 2]],7,0)),"") | M58: =IFERROR(IF(VLOOKUP(Tableau23[[#This Row],[UAI ]],[2]!SuiviForumLyceeCibles[[UAI]:[Tél contact 2]],9,0)="","",VLOOKUP(Tableau23[[#This Row],[UAI ]],[2]!SuiviForumLyceeCibles[[UAI]:[Tél contact 2]],9,0)),"") | N58: =IFERROR(IF(VLOOKUP(Tableau23[[#This Row],[UAI ]],[2]!SuiviForumLyceeCibles[[UAI]:[Tél contact 2]],10,0)="","",VLOOKUP(Tableau23[[#This Row],[UAI ]],[2]!SuiviForumLyceeCibles[[UAI]:[Tél contact 2]],10,0)),"") -> Pas de retour étudiant | O58: =IFERROR(IF(VLOOKUP(Tableau23[[#This Row],[UAI ]],[2]!SuiviForumLyceeCibles[[UAI]:[Tél contact 2]],17,0)="","",VLOOKUP(Tableau23[[#This Row],[UAI ]],[2]!SuiviForumLyceeCibles[[UAI]:[Tél contact 2]],17,0)),"") | P58: =IFERROR(IF(VLOOKUP(Tableau23[[#This Row],[UAI ]],[2]!SuiviForumLyceeCibles[[UAI]:[Tél contact 2]],18,0)="","",VLOOKUP(Tableau23[[#This Row],[UAI ]],[2]!SuiviForumLyceeCibles[[UAI]:[Tél contact 2]],18,0)),"") | Q58: =IFERROR(IF(VLOOKUP(Tableau23[[#This Row],[UAI ]],[2]!SuiviForumLyceeCibles[[UAI]:[Tél contact 2]],19,0)="","",VLOOKUP(Tableau23[[#This Row],[UAI ]],[2]!SuiviForumLyceeCibles[[UAI]:[Tél contact 2]],19,0)),"") | R58: =IFERROR(IF(VLOOKUP(Tableau23[[#This Row],[UAI ]],[2]!SuiviForumLyceeCibles[[UAI]:[Tél contact 2]],20,0)="","",VLOOKUP(Tableau23[[#This Row],[UAI ]],[2]!SuiviForumLyceeCibles[[UAI]:[Tél contact 2]],20,0)),"") | S58: =IFERROR(IF(VLOOKUP(Tableau23[[#This Row],[UAI ]],[2]!SuiviForumLyceeCibles[[UAI]:[Tél contact 2]],21,0)="","",VLOOKUP(Tableau23[[#This Row],[UAI ]],[2]!SuiviForumLyceeCibles[[UAI]:[Tél contact 2]],21,0)),"") | T58: =IFERROR(IF(VLOOKUP(Tableau23[[#This Row],[UAI ]],[2]!SuiviForumLyceeCibles[[UAI]:[Tél contact 2]],22,0)="","",VLOOKUP(Tableau23[[#This Row],[UAI ]],[2]!SuiviForumLyceeCibles[[UAI]:[Tél contact 2]],22,0)),"") | U58: =IFERROR(IF(VLOOKUP(Tableau23[[#This Row],[UAI ]],[2]!SuiviForumLyceeCibles[[UAI]:[Tél contact 2]],23,0)="","",VLOOKUP(Tableau23[[#This Row],[UAI ]],[2]!SuiviForumLyceeCibles[[UAI]:[Tél contact 2]],23,0)),"") | V58: =IFERROR(IF(VLOOKUP(Tableau23[[#This Row],[UAI ]],[2]!SuiviForumLyceeCibles[[UAI]:[Tél contact 2]],24,0)="","",VLOOKUP(Tableau23[[#This Row],[UAI ]],[2]!SuiviForumLyceeCibles[[UAI]:[Tél contact 2]],24,0)),"") | W58: =IFERROR(IF(VLOOKUP(Tableau23[[#This Row],[UAI ]],[2]!SuiviForumLyceeCibles[[UAI]:[Tél contact 2]],11,0)="","",VLOOKUP(Tableau23[[#This Row],[UAI ]],[2]!SuiviForumLyceeCibles[[UAI]:[Tél contact 2]],11,0)),"") -> Oui lycée ciblé ingénieur, la DPI organise sa présence
A59: INGENIEUR | B59: =IFERROR(IF(VLOOKUP(Tableau23[[#This Row],[UAI ]],[2]!SuiviForumLyceeCibles[[UAI]:[Tél contact 2]],5,0)="","",VLOOKUP(Tableau23[[#This Row],[UAI ]],[2]!SuiviForumLyceeCibles[[UAI]:[Tél contact 2]],5,0)),"") | C59: =IFERROR(IF(VLOOKUP(Tableau23[[#This Row],[UAI ]],[2]!SuiviForumLyceeCibles[[UAI]:[Tél contact 2]],6,0)="","",VLOOKUP(Tableau23[[#This Row],[UAI ]],[2]!SuiviForumLyceeCibles[[UAI]:[Tél contact 2]],6,0)),"") | D59: =IFERROR(VLOOKUP(Tableau23[[#This Row],[UAI ]],[2]!SuiviForumLyceeCibles[[UAI]:[Tél contact 2]],2,0),"") -> Forum d'orientation | E59: =IFERROR(VLOOKUP(Tableau23[[#This Row],[UAI ]],[2]!SuiviForumLyceeCibles[[UAI]:[Tél contact 2]],3,0),"") -> Lycées ciblés Ingénieur | F59: Vhjdp Ot Pwpmrw | G59: QZEAOUDVBH | H59: 29 | I59: 9327014Q | J59: =IFERROR(VLOOKUP(Tableau23[[#This Row],[Dpt]],'Table régions'!$A$2:$C$102,3,0),"") -> Bretagne | K59: =IFERROR(IF(VLOOKUP(Tableau23[[#This Row],[UAI ]],[2]!SuiviForumLyceeCibles[[UAI]:[Tél contact 2]],4,0)="","",VLOOKUP(Tableau23[[#This Row],[UAI ]],[2]!SuiviForumLyceeCibles[[UAI]:[Tél contact 2]],4,0)),"") -> Terminale | L59: =IFERROR(IF(VLOOKUP(Tableau23[[#This Row],[UAI ]],[2]!SuiviForumLyceeCibles[[UAI]:[Tél contact 2]],7,0)="","",VLOOKUP(Tableau23[[#This Row],[UAI ]],[2]!SuiviForumLyceeCibles[[UAI]:[Tél contact 2]],7,0)),"") | M59: =IFERROR(IF(VLOOKUP(Tableau23[[#This Row],[UAI ]],[2]!SuiviForumLyceeCibles[[UAI]:[Tél contact 2]],9,0)="","",VLOOKUP(Tableau23[[#This Row],[UAI ]],[2]!SuiviForumLyceeCibles[[UAI]:[Tél contact 2]],9,0)),"") | N59: =IFERROR(IF(VLOOKUP(Tableau23[[#This Row],[UAI ]],[2]!SuiviForumLyceeCibles[[UAI]:[Tél contact 2]],10,0)="","",VLOOKUP(Tableau23[[#This Row],[UAI ]],[2]!SuiviForumLyceeCibles[[UAI]:[Tél contact 2]],10,0)),"") -> Pas de retour étudiant | O59: =IFERROR(IF(VLOOKUP(Tableau23[[#This Row],[UAI ]],[2]!SuiviForumLyceeCibles[[UAI]:[Tél contact 2]],17,0)="","",VLOOKUP(Tableau23[[#This Row],[UAI ]],[2]!SuiviForumLyceeCibles[[UAI]:[Tél contact 2]],17,0)),"") | P59: =IFERROR(IF(VLOOKUP(Tableau23[[#This Row],[UAI ]],[2]!SuiviForumLyceeCibles[[UAI]:[Tél contact 2]],18,0)="","",VLOOKUP(Tableau23[[#This Row],[UAI ]],[2]!SuiviForumLyceeCibles[[UAI]:[Tél contact 2]],18,0)),"") | Q59: =IFERROR(IF(VLOOKUP(Tableau23[[#This Row],[UAI ]],[2]!SuiviForumLyceeCibles[[UAI]:[Tél contact 2]],19,0)="","",VLOOKUP(Tableau23[[#This Row],[UAI ]],[2]!SuiviForumLyceeCibles[[UAI]:[Tél contact 2]],19,0)),"") | R59: =IFERROR(IF(VLOOKUP(Tableau23[[#This Row],[UAI ]],[2]!SuiviForumLyceeCibles[[UAI]:[Tél contact 2]],20,0)="","",VLOOKUP(Tableau23[[#This Row],[UAI ]],[2]!SuiviForumLyceeCibles[[UAI]:[Tél contact 2]],20,0)),"") | S59: =IFERROR(IF(VLOOKUP(Tableau23[[#This Row],[UAI ]],[2]!SuiviForumLyceeCibles[[UAI]:[Tél contact 2]],21,0)="","",VLOOKUP(Tableau23[[#This Row],[UAI ]],[2]!SuiviForumLyceeCibles[[UAI]:[Tél contact 2]],21,0)),"") | T59: =IFERROR(IF(VLOOKUP(Tableau23[[#This Row],[UAI ]],[2]!SuiviForumLyceeCibles[[UAI]:[Tél contact 2]],22,0)="","",VLOOKUP(Tableau23[[#This Row],[UAI ]],[2]!SuiviForumLyceeCibles[[UAI]:[Tél contact 2]],22,0)),"") | U59: =IFERROR(IF(VLOOKUP(Tableau23[[#This Row],[UAI ]],[2]!SuiviForumLyceeCibles[[UAI]:[Tél contact 2]],23,0)="","",VLOOKUP(Tableau23[[#This Row],[UAI ]],[2]!SuiviForumLyceeCibles[[UAI]:[Tél contact 2]],23,0)),"") | V59: =IFERROR(IF(VLOOKUP(Tableau23[[#This Row],[UAI ]],[2]!SuiviForumLyceeCibles[[UAI]:[Tél contact 2]],24,0)="","",VLOOKUP(Tableau23[[#This Row],[UAI ]],[2]!SuiviForumLyceeCibles[[UAI]:[Tél contact 2]],24,0)),"") | W59: =IFERROR(IF(VLOOKUP(Tableau23[[#This Row],[UAI ]],[2]!SuiviForumLyceeCibles[[UAI]:[Tél contact 2]],11,0)="","",VLOOKUP(Tableau23[[#This Row],[UAI ]],[2]!SuiviForumLyceeCibles[[UAI]:[Tél contact 2]],11,0)),"") -> Oui lycée ciblé ingénieur, la DPI organise sa présence
A60: INGENIEUR | B60: =IFERROR(IF(VLOOKUP(Tableau23[[#This Row],[UAI ]],[2]!SuiviForumLyceeCibles[[UAI]:[Tél contact 2]],5,0)="","",VLOOKUP(Tableau23[[#This Row],[UAI ]],[2]!SuiviForumLyceeCibles[[UAI]:[Tél contact 2]],5,0)),"") | C60: =IFERROR(IF(VLOOKUP(Tableau23[[#This Row],[UAI ]],[2]!SuiviForumLyceeCibles[[UAI]:[Tél contact 2]],6,0)="","",VLOOKUP(Tableau23[[#This Row],[UAI ]],[2]!SuiviForumLyceeCibles[[UAI]:[Tél contact 2]],6,0)),"") | D60: =IFERROR(VLOOKUP(Tableau23[[#This Row],[UAI ]],[2]!SuiviForumLyceeCibles[[UAI]:[Tél contact 2]],2,0),"") -> Forum d'orientation | E60: =IFERROR(VLOOKUP(Tableau23[[#This Row],[UAI ]],[2]!SuiviForumLyceeCibles[[UAI]:[Tél contact 2]],3,0),"") -> Lycées ciblés Ingénieur | F60: Lkxmg Ct Yssoe | G60: JCPNOXAKQE | H60: 29 | I60: 9963518M | J60: =IFERROR(VLOOKUP(Tableau23[[#This Row],[Dpt]],'Table régions'!$A$2:$C$102,3,0),"") -> Bretagne | K60: =IFERROR(IF(VLOOKUP(Tableau23[[#This Row],[UAI ]],[2]!SuiviForumLyceeCibles[[UAI]:[Tél contact 2]],4,0)="","",VLOOKUP(Tableau23[[#This Row],[UAI ]],[2]!SuiviForumLyceeCibles[[UAI]:[Tél contact 2]],4,0)),"") -> Terminale | L60: =IFERROR(IF(VLOOKUP(Tableau23[[#This Row],[UAI ]],[2]!SuiviForumLyceeCibles[[UAI]:[Tél contact 2]],7,0)="","",VLOOKUP(Tableau23[[#This Row],[UAI ]],[2]!SuiviForumLyceeCibles[[UAI]:[Tél contact 2]],7,0)),"") | M60: =IFERROR(IF(VLOOKUP(Tableau23[[#This Row],[UAI ]],[2]!SuiviForumLyceeCibles[[UAI]:[Tél contact 2]],9,0)="","",VLOOKUP(Tableau23[[#This Row],[UAI ]],[2]!SuiviForumLyceeCibles[[UAI]:[Tél contact 2]],9,0)),"") | N60: =IFERROR(IF(VLOOKUP(Tableau23[[#This Row],[UAI ]],[2]!SuiviForumLyceeCibles[[UAI]:[Tél contact 2]],10,0)="","",VLOOKUP(Tableau23[[#This Row],[UAI ]],[2]!SuiviForumLyceeCibles[[UAI]:[Tél contact 2]],10,0)),"") -> Pas de retour étudiant | O60: =IFERROR(IF(VLOOKUP(Tableau23[[#This Row],[UAI ]],[2]!SuiviForumLyceeCibles[[UAI]:[Tél contact 2]],17,0)="","",VLOOKUP(Tableau23[[#This Row],[UAI ]],[2]!SuiviForumLyceeCibles[[UAI]:[Tél contact 2]],17,0)),"") | P60: =IFERROR(IF(VLOOKUP(Tableau23[[#This Row],[UAI ]],[2]!SuiviForumLyceeCibles[[UAI]:[Tél contact 2]],18,0)="","",VLOOKUP(Tableau23[[#This Row],[UAI ]],[2]!SuiviForumLyceeCibles[[UAI]:[Tél contact 2]],18,0)),"") | Q60: =IFERROR(IF(VLOOKUP(Tableau23[[#This Row],[UAI ]],[2]!SuiviForumLyceeCibles[[UAI]:[Tél contact 2]],19,0)="","",VLOOKUP(Tableau23[[#This Row],[UAI ]],[2]!SuiviForumLyceeCibles[[UAI]:[Tél contact 2]],19,0)),"") | R60: =IFERROR(IF(VLOOKUP(Tableau23[[#This Row],[UAI ]],[2]!SuiviForumLyceeCibles[[UAI]:[Tél contact 2]],20,0)="","",VLOOKUP(Tableau23[[#This Row],[UAI ]],[2]!SuiviForumLyceeCibles[[UAI]:[Tél contact 2]],20,0)),"") | S60: =IFERROR(IF(VLOOKUP(Tableau23[[#This Row],[UAI ]],[2]!SuiviForumLyceeCibles[[UAI]:[Tél contact 2]],21,0)="","",VLOOKUP(Tableau23[[#This Row],[UAI ]],[2]!SuiviForumLyceeCibles[[UAI]:[Tél contact 2]],21,0)),"") | T60: =IFERROR(IF(VLOOKUP(Tableau23[[#This Row],[UAI ]],[2]!SuiviForumLyceeCibles[[UAI]:[Tél contact 2]],22,0)="","",VLOOKUP(Tableau23[[#This Row],[UAI ]],[2]!SuiviForumLyceeCibles[[UAI]:[Tél contact 2]],22,0)),"") | U60: =IFERROR(IF(VLOOKUP(Tableau23[[#This Row],[UAI ]],[2]!SuiviForumLyceeCibles[[UAI]:[Tél contact 2]],23,0)="","",VLOOKUP(Tableau23[[#This Row],[UAI ]],[2]!SuiviForumLyceeCibles[[UAI]:[Tél contact 2]],23,0)),"") | V60: =IFERROR(IF(VLOOKUP(Tableau23[[#This Row],[UAI ]],[2]!SuiviForumLyceeCibles[[UAI]:[Tél contact 2]],24,0)="","",VLOOKUP(Tableau23[[#This Row],[UAI ]],[2]!SuiviForumLyceeCibles[[UAI]:[Tél contact 2]],24,0)),"") | W60: =IFERROR(IF(VLOOKUP(Tableau23[[#This Row],[UAI ]],[2]!SuiviForumLyceeCibles[[UAI]:[Tél contact 2]],11,0)="","",VLOOKUP(Tableau23[[#This Row],[UAI ]],[2]!SuiviForumLyceeCibles[[UAI]:[Tél contact 2]],11,0)),"") -> Oui lycée ciblé ingénieur, la DPI organise sa présence
A61: INGENIEUR | B61: =IFERROR(IF(VLOOKUP(Tableau23[[#This Row],[UAI ]],[2]!SuiviForumLyceeCibles[[UAI]:[Tél contact 2]],5,0)="","",VLOOKUP(Tableau23[[#This Row],[UAI ]],[2]!SuiviForumLyceeCibles[[UAI]:[Tél contact 2]],5,0)),"") -> 44452 | C61: =IFERROR(IF(VLOOKUP(Tableau23[[#This Row],[UAI ]],[2]!SuiviForumLyceeCibles[[UAI]:[Tél contact 2]],6,0)="","",VLOOKUP(Tableau23[[#This Row],[UAI ]],[2]!SuiviForumLyceeCibles[[UAI]:[Tél contact 2]],6,0)),"") | D61: =IFERROR(VLOOKUP(Tableau23[[#This Row],[UAI ]],[2]!SuiviForumLyceeCibles[[UAI]:[Tél contact 2]],2,0),"") -> Forum d'orientation | E61: =IFERROR(VLOOKUP(Tableau23[[#This Row],[UAI ]],[2]!SuiviForumLyceeCibles[[UAI]:[Tél contact 2]],3,0),"") -> Lycées ciblés Ingénieur | F61: Iktev Nxgvv Sdhj | G61: LLJSIVZO | H61: 2 | I61: 5278206X | J61: =IFERROR(VLOOKUP(Tableau23[[#This Row],[Dpt]],'Table régions'!$A$2:$C$102,3,0),"") -> Hauts-de-France | K61: =IFERROR(IF(VLOOKUP(Tableau23[[#This Row],[UAI ]],[2]!SuiviForumLyceeCibles[[UAI]:[Tél contact 2]],4,0)="","",VLOOKUP(Tableau23[[#This Row],[UAI ]],[2]!SuiviForumLyceeCibles[[UAI]:[Tél contact 2]],4,0)),"") -> Terminale | L61: =IFERROR(IF(VLOOKUP(Tableau23[[#This Row],[UAI ]],[2]!SuiviForumLyceeCibles[[UAI]:[Tél contact 2]],7,0)="","",VLOOKUP(Tableau23[[#This Row],[UAI ]],[2]!SuiviForumLyceeCibles[[UAI]:[Tél contact 2]],7,0)),"") -> 44519 | M61: =IFERROR(IF(VLOOKUP(Tableau23[[#This Row],[UAI ]],[2]!SuiviForumLyceeCibles[[UAI]:[Tél contact 2]],9,0)="","",VLOOKUP(Tableau23[[#This Row],[UAI ]],[2]!SuiviForumLyceeCibles[[UAI]:[Tél contact 2]],9,0)),"") -> 13h30 -16h30 | N61: =IFERROR(IF(VLOOKUP(Tableau23[[#This Row],[UAI ]],[2]!SuiviForumLyceeCibles[[UAI]:[Tél contact 2]],10,0)="","",VLOOKUP(Tableau23[[#This Row],[UAI ]],[2]!SuiviForumLyceeCibles[[UAI]:[Tél contact 2]],10,0)),"") -> Demande d'absence en cours | O61: =IFERROR(IF(VLOOKUP(Tableau23[[#This Row],[UAI ]],[2]!SuiviForumLyceeCibles[[UAI]:[Tél contact 2]],17,0)="","",VLOOKUP(Tableau23[[#This Row],[UAI ]],[2]!SuiviForumLyceeCibles[[UAI]:[Tél contact 2]],17,0)),"") | P61: =IFERROR(IF(VLOOKUP(Tableau23[[#This Row],[UAI ]],[2]!SuiviForumLyceeCibles[[UAI]:[Tél contact 2]],18,0)="","",VLOOKUP(Tableau23[[#This Row],[UAI ]],[2]!SuiviForumLyceeCibles[[UAI]:[Tél contact 2]],18,0)),"") | Q61: =IFERROR(IF(VLOOKUP(Tableau23[[#This Row],[UAI ]],[2]!SuiviForumLyceeCibles[[UAI]:[Tél contact 2]],19,0)="","",VLOOKUP(Tableau23[[#This Row],[UAI ]],[2]!SuiviForumLyceeCibles[[UAI]:[Tél contact 2]],19,0)),"") | R61: =IFERROR(IF(VLOOKUP(Tableau23[[#This Row],[UAI ]],[2]!SuiviForumLyceeCibles[[UAI]:[Tél contact 2]],20,0)="","",VLOOKUP(Tableau23[[#This Row],[UAI ]],[2]!SuiviForumLyceeCibles[[UAI]:[Tél contact 2]],20,0)),"") | S61: =IFERROR(IF(VLOOKUP(Tableau23[[#This Row],[UAI ]],[2]!SuiviForumLyceeCibles[[UAI]:[Tél contact 2]],21,0)="","",VLOOKUP(Tableau23[[#This Row],[UAI ]],[2]!SuiviForumLyceeCibles[[UAI]:[Tél contact 2]],21,0)),"") | T61: =IFERROR(IF(VLOOKUP(Tableau23[[#This Row],[UAI ]],[2]!SuiviForumLyceeCibles[[UAI]:[Tél contact 2]],22,0)="","",VLOOKUP(Tableau23[[#This Row],[UAI ]],[2]!SuiviForumLyceeCibles[[UAI]:[Tél contact 2]],22,0)),"") | U61: =IFERROR(IF(VLOOKUP(Tableau23[[#This Row],[UAI ]],[2]!SuiviForumLyceeCibles[[UAI]:[Tél contact 2]],23,0)="","",VLOOKUP(Tableau23[[#This Row],[UAI ]],[2]!SuiviForumLyceeCibles[[UAI]:[Tél contact 2]],23,0)),"") | V61: =IFERROR(IF(VLOOKUP(Tableau23[[#This Row],[UAI ]],[2]!SuiviForumLyceeCibles[[UAI]:[Tél contact 2]],24,0)="","",VLOOKUP(Tableau23[[#This Row],[UAI ]],[2]!SuiviForumLyceeCibles[[UAI]:[Tél contact 2]],24,0)),"") | W61: =IFERROR(IF(VLOOKUP(Tableau23[[#This Row],[UAI ]],[2]!SuiviForumLyceeCibles[[UAI]:[Tél contact 2]],11,0)="","",VLOOKUP(Tableau23[[#This Row],[UAI ]],[2]!SuiviForumLyceeCibles[[UAI]:[Tél contact 2]],11,0)),"") -> Oui lycée ciblé ingénieur, la DPI organise sa présence
... A94: INGENIEUR | B94: =IFERROR(IF(VLOOKUP(Tableau23[[#This Row],[UAI ]],[2]!SuiviForumLyceeCibles[[UAI]:[Tél contact 2]],5,0)="","",VLOOKUP(Tableau23[[#This Row],[UAI ]],[2]!SuiviForumLyceeCibles[[UAI]:[Tél contact 2]],5,0)),"") | C94: =IFERROR(IF(VLOOKUP(Tableau23[[#This Row],[UAI ]],[2]!SuiviForumLyceeCibles[[UAI]:[Tél contact 2]],6,0)="","",VLOOKUP(Tableau23[[#This Row],[UAI ]],[2]!SuiviForumLyceeCibles[[UAI]:[Tél contact 2]],6,0)),"") | D94: =IFERROR(VLOOKUP(Tableau23[[#This Row],[UAI ]],[2]!SuiviForumLyceeCibles[[UAI]:[Tél contact 2]],2,0),"") -> Forum d'orientation | E94: =IFERROR(VLOOKUP(Tableau23[[#This Row],[UAI ]],[2]!SuiviForumLyceeCibles[[UAI]:[Tél contact 2]],3,0),"") -> Lycées ciblés Ingénieur | F94: Bpzsb Fhhfftf TTXPI | G94: MD JXEA HE ZWMWX | H94: 45 | I94: 7420179T | J94: =IFERROR(VLOOKUP(Tableau23[[#This Row],[Dpt]],'Table régions'!$A$2:$C$102,3,0),"") -> Centre-Val de Loire | K94: =IFERROR(IF(VLOOKUP(Tableau23[[#This Row],[UAI ]],[2]!SuiviForumLyceeCibles[[UAI]:[Tél contact 2]],4,0)="","",VLOOKUP(Tableau23[[#This Row],[UAI ]],[2]!SuiviForumLyceeCibles[[UAI]:[Tél contact 2]],4,0)),"") -> Terminale | L94: =IFERROR(IF(VLOOKUP(Tableau23[[#This Row],[UAI ]],[2]!SuiviForumLyceeCibles[[UAI]:[Tél contact 2]],7,0)="","",VLOOKUP(Tableau23[[#This Row],[UAI ]],[2]!SuiviForumLyceeCibles[[UAI]:[Tél contact 2]],7,0)),"") | M94: =IFERROR(IF(VLOOKUP(Tableau23[[#This Row],[UAI ]],[2]!SuiviForumLyceeCibles[[UAI]:[Tél contact 2]],9,0)="","",VLOOKUP(Tableau23[[#This Row],[UAI ]],[2]!SuiviForumLyceeCibles[[UAI]:[Tél contact 2]],9,0)),"") | N94: =IFERROR(IF(VLOOKUP(Tableau23[[#This Row],[UAI ]],[2]!SuiviForumLyceeCibles[[UAI]:[Tél contact 2]],10,0)="","",VLOOKUP(Tableau23[[#This Row],[UAI ]],[2]!SuiviForumLyceeCibles[[UAI]:[Tél contact 2]],10,0)),"") -> Pas de retour étudiant | O94: =IFERROR(IF(VLOOKUP(Tableau23[[#This Row],[UAI ]],[2]!SuiviForumLyceeCibles[[UAI]:[Tél contact 2]],17,0)="","",VLOOKUP(Tableau23[[#This Row],[UAI ]],[2]!SuiviForumLyceeCibles[[UAI]:[Tél contact 2]],17,0)),"") | P94: =IFERROR(IF(VLOOKUP(Tableau23[[#This Row],[UAI ]],[2]!SuiviForumLyceeCibles[[UAI]:[Tél contact 2]],18,0)="","",VLOOKUP(Tableau23[[#This Row],[UAI ]],[2]!SuiviForumLyceeCibles[[UAI]:[Tél contact 2]],18,0)),"") | Q94: =IFERROR(IF(VLOOKUP(Tableau23[[#This Row],[UAI ]],[2]!SuiviForumLyceeCibles[[UAI]:[Tél contact 2]],19,0)="","",VLOOKUP(Tableau23[[#This Row],[UAI ]],[2]!SuiviForumLyceeCibles[[UAI]:[Tél contact 2]],19,0)),"") | R94: =IFERROR(IF(VLOOKUP(Tableau23[[#This Row],[UAI ]],[2]!SuiviForumLyceeCibles[[UAI]:[Tél contact 2]],20,0)="","",VLOOKUP(Tableau23[[#This Row],[UAI ]],[2]!SuiviForumLyceeCibles[[UAI]:[Tél contact 2]],20,0)),"") | S94: =IFERROR(IF(VLOOKUP(Tableau23[[#This Row],[UAI ]],[2]!SuiviForumLyceeCibles[[UAI]:[Tél contact 2]],21,0)="","",VLOOKUP(Tableau23[[#This Row],[UAI ]],[2]!SuiviForumLyceeCibles[[UAI]:[Tél contact 2]],21,0)),"") | T94: =IFERROR(IF(VLOOKUP(Tableau23[[#This Row],[UAI ]],[2]!SuiviForumLyceeCibles[[UAI]:[Tél contact 2]],22,0)="","",VLOOKUP(Tableau23[[#This Row],[UAI ]],[2]!SuiviForumLyceeCibles[[UAI]:[Tél contact 2]],22,0)),"") | U94: =IFERROR(IF(VLOOKUP(Tableau23[[#This Row],[UAI ]],[2]!SuiviForumLyceeCibles[[UAI]:[Tél contact 2]],23,0)="","",VLOOKUP(Tableau23[[#This Row],[UAI ]],[2]!SuiviForumLyceeCibles[[UAI]:[Tél contact 2]],23,0)),"") | V94: =IFERROR(IF(VLOOKUP(Tableau23[[#This Row],[UAI ]],[2]!SuiviForumLyceeCibles[[UAI]:[Tél contact 2]],24,0)="","",VLOOKUP(Tableau23[[#This Row],[UAI ]],[2]!SuiviForumLyceeCibles[[UAI]:[Tél contact 2]],24,0)),"") | W94: =IFERROR(IF(VLOOKUP(Tableau23[[#This Row],[UAI ]],[2]!SuiviForumLyceeCibles[[UAI]:[Tél contact 2]],11,0)="","",VLOOKUP(Tableau23[[#This Row],[UAI ]],[2]!SuiviForumLyceeCibles[[UAI]:[Tél contact 2]],11,0)),"") -> Oui lycée ciblé ingénieur, la DPI organise sa présence
A95: INGENIEUR | B95: =IFERROR(IF(VLOOKUP(Tableau23[[#This Row],[UAI ]],[2]!SuiviForumLyceeCibles[[UAI]:[Tél contact 2]],5,0)="","",VLOOKUP(Tableau23[[#This Row],[UAI ]],[2]!SuiviForumLyceeCibles[[UAI]:[Tél contact 2]],5,0)),"") | C95: =IFERROR(IF(VLOOKUP(Tableau23[[#This Row],[UAI ]],[2]!SuiviForumLyceeCibles[[UAI]:[Tél contact 2]],6,0)="","",VLOOKUP(Tableau23[[#This Row],[UAI ]],[2]!SuiviForumLyceeCibles[[UAI]:[Tél contact 2]],6,0)),"") | D95: =IFERROR(VLOOKUP(Tableau23[[#This Row],[UAI ]],[2]!SuiviForumLyceeCibles[[UAI]:[Tél contact 2]],2,0),"") -> Forum d'orientation | E95: =IFERROR(VLOOKUP(Tableau23[[#This Row],[UAI ]],[2]!SuiviForumLyceeCibles[[UAI]:[Tél contact 2]],3,0),"") -> Lycées ciblés Ingénieur | F95: Xnaml Ycvgtyix Snywkm | G95: TLIEQHEHL | H95: 45 | I95: 2205518U | J95: =IFERROR(VLOOKUP(Tableau23[[#This Row],[Dpt]],'Table régions'!$A$2:$C$102,3,0),"") -> Centre-Val de Loire | K95: =IFERROR(IF(VLOOKUP(Tableau23[[#This Row],[UAI ]],[2]!SuiviForumLyceeCibles[[UAI]:[Tél contact 2]],4,0)="","",VLOOKUP(Tableau23[[#This Row],[UAI ]],[2]!SuiviForumLyceeCibles[[UAI]:[Tél contact 2]],4,0)),"") -> Terminale | L95: =IFERROR(IF(VLOOKUP(Tableau23[[#This Row],[UAI ]],[2]!SuiviForumLyceeCibles[[UAI]:[Tél contact 2]],7,0)="","",VLOOKUP(Tableau23[[#This Row],[UAI ]],[2]!SuiviForumLyceeCibles[[UAI]:[Tél contact 2]],7,0)),"") | M95: =IFERROR(IF(VLOOKUP(Tableau23[[#This Row],[UAI ]],[2]!SuiviForumLyceeCibles[[UAI]:[Tél contact 2]],9,0)="","",VLOOKUP(Tableau23[[#This Row],[UAI ]],[2]!SuiviForumLyceeCibles[[UAI]:[Tél contact 2]],9,0)),"") | N95: =IFERROR(IF(VLOOKUP(Tableau23[[#This Row],[UAI ]],[2]!SuiviForumLyceeCibles[[UAI]:[Tél contact 2]],10,0)="","",VLOOKUP(Tableau23[[#This Row],[UAI ]],[2]!SuiviForumLyceeCibles[[UAI]:[Tél contact 2]],10,0)),"") -> Pas de retour étudiant | O95: =IFERROR(IF(VLOOKUP(Tableau23[[#This Row],[UAI ]],[2]!SuiviForumLyceeCibles[[UAI]:[Tél contact 2]],17,0)="","",VLOOKUP(Tableau23[[#This Row],[UAI ]],[2]!SuiviForumLyceeCibles[[UAI]:[Tél contact 2]],17,0)),"") | P95: =IFERROR(IF(VLOOKUP(Tableau23[[#This Row],[UAI ]],[2]!SuiviForumLyceeCibles[[UAI]:[Tél contact 2]],18,0)="","",VLOOKUP(Tableau23[[#This Row],[UAI ]],[2]!SuiviForumLyceeCibles[[UAI]:[Tél contact 2]],18,0)),"") | Q95: =IFERROR(IF(VLOOKUP(Tableau23[[#This Row],[UAI ]],[2]!SuiviForumLyceeCibles[[UAI]:[Tél contact 2]],19,0)="","",VLOOKUP(Tableau23[[#This Row],[UAI ]],[2]!SuiviForumLyceeCibles[[UAI]:[Tél contact 2]],19,0)),"") | R95: =IFERROR(IF(VLOOKUP(Tableau23[[#This Row],[UAI ]],[2]!SuiviForumLyceeCibles[[UAI]:[Tél contact 2]],20,0)="","",VLOOKUP(Tableau23[[#This Row],[UAI ]],[2]!SuiviForumLyceeCibles[[UAI]:[Tél contact 2]],20,0)),"") | S95: =IFERROR(IF(VLOOKUP(Tableau23[[#This Row],[UAI ]],[2]!SuiviForumLyceeCibles[[UAI]:[Tél contact 2]],21,0)="","",VLOOKUP(Tableau23[[#This Row],[UAI ]],[2]!SuiviForumLyceeCibles[[UAI]:[Tél contact 2]],21,0)),"") | T95: =IFERROR(IF(VLOOKUP(Tableau23[[#This Row],[UAI ]],[2]!SuiviForumLyceeCibles[[UAI]:[Tél contact 2]],22,0)="","",VLOOKUP(Tableau23[[#This Row],[UAI ]],[2]!SuiviForumLyceeCibles[[UAI]:[Tél contact 2]],22,0)),"") | U95: =IFERROR(IF(VLOOKUP(Tableau23[[#This Row],[UAI ]],[2]!SuiviForumLyceeCibles[[UAI]:[Tél contact 2]],23,0)="","",VLOOKUP(Tableau23[[#This Row],[UAI ]],[2]!SuiviForumLyceeCibles[[UAI]:[Tél contact 2]],23,0)),"") | V95: =IFERROR(IF(VLOOKUP(Tableau23[[#This Row],[UAI ]],[2]!SuiviForumLyceeCibles[[UAI]:[Tél contact 2]],24,0)="","",VLOOKUP(Tableau23[[#This Row],[UAI ]],[2]!SuiviForumLyceeCibles[[UAI]:[Tél contact 2]],24,0)),"") | W95: =IFERROR(IF(VLOOKUP(Tableau23[[#This Row],[UAI ]],[2]!SuiviForumLyceeCibles[[UAI]:[Tél contact 2]],11,0)="","",VLOOKUP(Tableau23[[#This Row],[UAI ]],[2]!SuiviForumLyceeCibles[[UAI]:[Tél contact 2]],11,0)),"") -> Oui lycée ciblé ingénieur, la DPI organise sa présence | Y95: Oui, on confirme notre participation
A96: INGENIEUR | B96: =IFERROR(IF(VLOOKUP(Tableau23[[#This Row],[UAI ]],[2]!SuiviForumLyceeCibles[[UAI]:[Tél contact 2]],5,0)="","",VLOOKUP(Tableau23[[#This Row],[UAI ]],[2]!SuiviForumLyceeCibles[[UAI]:[Tél contact 2]],5,0)),"") | C96: =IFERROR(IF(VLOOKUP(Tableau23[[#This Row],[UAI ]],[2]!SuiviForumLyceeCibles[[UAI]:[Tél contact 2]],6,0)="","",VLOOKUP(Tableau23[[#This Row],[UAI ]],[2]!SuiviForumLyceeCibles[[UAI]:[Tél contact 2]],6,0)),"") | D96: =IFERROR(VLOOKUP(Tableau23[[#This Row],[UAI ]],[2]!SuiviForumLyceeCibles[[UAI]:[Tél contact 2]],2,0),"") -> Forum d'orientation | E96: =IFERROR(VLOOKUP(Tableau23[[#This Row],[UAI ]],[2]!SuiviForumLyceeCibles[[UAI]:[Tél contact 2]],3,0),"") -> Lycées ciblés Ingénieur | F96: Nxlubch nu Jmbinvw | G96: WKVFIXUZQL | H96: 45 | I96: 2557830X | J96: =IFERROR(VLOOKUP(Tableau23[[#This Row],[Dpt]],'Table régions'!$A$2:$C$102,3,0),"") -> Centre-Val de Loire | K96: =IFERROR(IF(VLOOKUP(Tableau23[[#This Row],[UAI ]],[2]!SuiviForumLyceeCibles[[UAI]:[Tél contact 2]],4,0)="","",VLOOKUP(Tableau23[[#This Row],[UAI ]],[2]!SuiviForumLyceeCibles[[UAI]:[Tél contact 2]],4,0)),"") -> Terminale | L96: =IFERROR(IF(VLOOKUP(Tableau23[[#This Row],[UAI ]],[2]!SuiviForumLyceeCibles[[UAI]:[Tél contact 2]],7,0)="","",VLOOKUP(Tableau23[[#This Row],[UAI ]],[2]!SuiviForumLyceeCibles[[UAI]:[Tél contact 2]],7,0)),"") | M96: =IFERROR(IF(VLOOKUP(Tableau23[[#This Row],[UAI ]],[2]!SuiviForumLyceeCibles[[UAI]:[Tél contact 2]],9,0)="","",VLOOKUP(Tableau23[[#This Row],[UAI ]],[2]!SuiviForumLyceeCibles[[UAI]:[Tél contact 2]],9,0)),"") | N96: =IFERROR(IF(VLOOKUP(Tableau23[[#This Row],[UAI ]],[2]!SuiviForumLyceeCibles[[UAI]:[Tél contact 2]],10,0)="","",VLOOKUP(Tableau23[[#This Row],[UAI ]],[2]!SuiviForumLyceeCibles[[UAI]:[Tél contact 2]],10,0)),"") -> Pas de retour étudiant | O96: =IFERROR(IF(VLOOKUP(Tableau23[[#This Row],[UAI ]],[2]!SuiviForumLyceeCibles[[UAI]:[Tél contact 2]],17,0)="","",VLOOKUP(Tableau23[[#This Row],[UAI ]],[2]!SuiviForumLyceeCibles[[UAI]:[Tél contact 2]],17,0)),"") | P96: =IFERROR(IF(VLOOKUP(Tableau23[[#This Row],[UAI ]],[2]!SuiviForumLyceeCibles[[UAI]:[Tél contact 2]],18,0)="","",VLOOKUP(Tableau23[[#This Row],[UAI ]],[2]!SuiviForumLyceeCibles[[UAI]:[Tél contact 2]],18,0)),"") | Q96: =IFERROR(IF(VLOOKUP(Tableau23[[#This Row],[UAI ]],[2]!SuiviForumLyceeCibles[[UAI]:[Tél contact 2]],19,0)="","",VLOOKUP(Tableau23[[#This Row],[UAI ]],[2]!SuiviForumLyceeCibles[[UAI]:[Tél contact 2]],19,0)),"") | R96: =IFERROR(IF(VLOOKUP(Tableau23[[#This Row],[UAI ]],[2]!SuiviForumLyceeCibles[[UAI]:[Tél contact 2]],20,0)="","",VLOOKUP(Tableau23[[#This Row],[UAI ]],[2]!SuiviForumLyceeCibles[[UAI]:[Tél contact 2]],20,0)),"") | S96: =IFERROR(IF(VLOOKUP(Tableau23[[#This Row],[UAI ]],[2]!SuiviForumLyceeCibles[[UAI]:[Tél contact 2]],21,0)="","",VLOOKUP(Tableau23[[#This Row],[UAI ]],[2]!SuiviForumLyceeCibles[[UAI]:[Tél contact 2]],21,0)),"") | T96: =IFERROR(IF(VLOOKUP(Tableau23[[#This Row],[UAI ]],[2]!SuiviForumLyceeCibles[[UAI]:[Tél contact 2]],22,0)="","",VLOOKUP(Tableau23[[#This Row],[UAI ]],[2]!SuiviForumLyceeCibles[[UAI]:[Tél contact 2]],22,0)),"") | U96: =IFERROR(IF(VLOOKUP(Tableau23[[#This Row],[UAI ]],[2]!SuiviForumLyceeCibles[[UAI]:[Tél contact 2]],23,0)="","",VLOOKUP(Tableau23[[#This Row],[UAI ]],[2]!SuiviForumLyceeCibles[[UAI]:[Tél contact 2]],23,0)),"") | V96: =IFERROR(IF(VLOOKUP(Tableau23[[#This Row],[UAI ]],[2]!SuiviForumLyceeCibles[[UAI]:[Tél contact 2]],24,0)="","",VLOOKUP(Tableau23[[#This Row],[UAI ]],[2]!SuiviForumLyceeCibles[[UAI]:[Tél contact 2]],24,0)),"") | W96: =IFERROR(IF(VLOOKUP(Tableau23[[#This Row],[UAI ]],[2]!SuiviForumLyceeCibles[[UAI]:[Tél contact 2]],11,0)="","",VLOOKUP(Tableau23[[#This Row],[UAI ]],[2]!SuiviForumLyceeCibles[[UAI]:[Tél contact 2]],11,0)),"") -> Oui lycée ciblé ingénieur, la DPI organise sa présence
A97: INGENIEUR | B97: =IFERROR(IF(VLOOKUP(Tableau23[[#This Row],[UAI ]],[2]!SuiviForumLyceeCibles[[UAI]:[Tél contact 2]],5,0)="","",VLOOKUP(Tableau23[[#This Row],[UAI ]],[2]!SuiviForumLyceeCibles[[UAI]:[Tél contact 2]],5,0)),"") | C97: =IFERROR(IF(VLOOKUP(Tableau23[[#This Row],[UAI ]],[2]!SuiviForumLyceeCibles[[UAI]:[Tél contact 2]],6,0)="","",VLOOKUP(Tableau23[[#This Row],[UAI ]],[2]!SuiviForumLyceeCibles[[UAI]:[Tél contact 2]],6,0)),"") | D97: =IFERROR(VLOOKUP(Tableau23[[#This Row],[UAI ]],[2]!SuiviForumLyceeCibles[[UAI]:[Tél contact 2]],2,0),"") -> Forum d'orientation | E97: =IFERROR(VLOOKUP(Tableau23[[#This Row],[UAI ]],[2]!SuiviForumLyceeCibles[[UAI]:[Tél contact 2]],3,0),"") -> Lycées ciblés Ingénieur | F97: Dicgd nuosgqk Zhedizvdm Laweii | G97: KCAYBX | H97: 49 | I97: 8666604F | J97: =IFERROR(VLOOKUP(Tableau23[[#This Row],[Dpt]],'Table régions'!$A$2:$C$102,3,0),"") -> Pays de la Loire | K97: =IFERROR(IF(VLOOKUP(Tableau23[[#This Row],[UAI ]],[2]!SuiviForumLyceeCibles[[UAI]:[Tél contact 2]],4,0)="","",VLOOKUP(Tableau23[[#This Row],[UAI ]],[2]!SuiviForumLyceeCibles[[UAI]:[Tél contact 2]],4,0)),"") -> Terminale | L97: =IFERROR(IF(VLOOKUP(Tableau23[[#This Row],[UAI ]],[2]!SuiviForumLyceeCibles[[UAI]:[Tél contact 2]],7,0)="","",VLOOKUP(Tableau23[[#This Row],[UAI ]],[2]!SuiviForumLyceeCibles[[UAI]:[Tél contact 2]],7,0)),"") | M97: =IFERROR(IF(VLOOKUP(Tableau23[[#This Row],[UAI ]],[2]!SuiviForumLyceeCibles[[UAI]:[Tél contact 2]],9,0)="","",VLOOKUP(Tableau23[[#This Row],[UAI ]],[2]!SuiviForumLyceeCibles[[UAI]:[Tél contact 2]],9,0)),"") | N97: =IFERROR(IF(VLOOKUP(Tableau23[[#This Row],[UAI ]],[2]!SuiviForumLyceeCibles[[UAI]:[Tél contact 2]],10,0)="","",VLOOKUP(Tableau23[[#This Row],[UAI ]],[2]!SuiviForumLyceeCibles[[UAI]:[Tél contact 2]],10,0)),"") -> Pas de retour étudiant | O97: =IFERROR(IF(VLOOKUP(Tableau23[[#This Row],[UAI ]],[2]!SuiviForumLyceeCibles[[UAI]:[Tél contact 2]],17,0)="","",VLOOKUP(Tableau23[[#This Row],[UAI ]],[2]!SuiviForumLyceeCibles[[UAI]:[Tél contact 2]],17,0)),"") | P97: =IFERROR(IF(VLOOKUP(Tableau23[[#This Row],[UAI ]],[2]!SuiviForumLyceeCibles[[UAI]:[Tél contact 2]],18,0)="","",VLOOKUP(Tableau23[[#This Row],[UAI ]],[2]!SuiviForumLyceeCibles[[UAI]:[Tél contact 2]],18,0)),"") | Q97: =IFERROR(IF(VLOOKUP(Tableau23[[#This Row],[UAI ]],[2]!SuiviForumLyceeCibles[[UAI]:[Tél contact 2]],19,0)="","",VLOOKUP(Tableau23[[#This Row],[UAI ]],[2]!SuiviForumLyceeCibles[[UAI]:[Tél contact 2]],19,0)),"") | R97: =IFERROR(IF(VLOOKUP(Tableau23[[#This Row],[UAI ]],[2]!SuiviForumLyceeCibles[[UAI]:[Tél contact 2]],20,0)="","",VLOOKUP(Tableau23[[#This Row],[UAI ]],[2]!SuiviForumLyceeCibles[[UAI]:[Tél contact 2]],20,0)),"") | S97: =IFERROR(IF(VLOOKUP(Tableau23[[#This Row],[UAI ]],[2]!SuiviForumLyceeCibles[[UAI]:[Tél contact 2]],21,0)="","",VLOOKUP(Tableau23[[#This Row],[UAI ]],[2]!SuiviForumLyceeCibles[[UAI]:[Tél contact 2]],21,0)),"") | T97: =IFERROR(IF(VLOOKUP(Tableau23[[#This Row],[UAI ]],[2]!SuiviForumLyceeCibles[[UAI]:[Tél contact 2]],22,0)="","",VLOOKUP(Tableau23[[#This Row],[UAI ]],[2]!SuiviForumLyceeCibles[[UAI]:[Tél contact 2]],22,0)),"") | U97: =IFERROR(IF(VLOOKUP(Tableau23[[#This Row],[UAI ]],[2]!SuiviForumLyceeCibles[[UAI]:[Tél contact 2]],23,0)="","",VLOOKUP(Tableau23[[#This Row],[UAI ]],[2]!SuiviForumLyceeCibles[[UAI]:[Tél contact 2]],23,0)),"") | V97: =IFERROR(IF(VLOOKUP(Tableau23[[#This Row],[UAI ]],[2]!SuiviForumLyceeCibles[[UAI]:[Tél contact 2]],24,0)="","",VLOOKUP(Tableau23[[#This Row],[UAI ]],[2]!SuiviForumLyceeCibles[[UAI]:[Tél contact 2]],24,0)),"") | W97: =IFERROR(IF(VLOOKUP(Tableau23[[#This Row],[UAI ]],[2]!SuiviForumLyceeCibles[[UAI]:[Tél contact 2]],11,0)="","",VLOOKUP(Tableau23[[#This Row],[UAI ]],[2]!SuiviForumLyceeCibles[[UAI]:[Tél contact 2]],11,0)),"") -> Oui lycée ciblé ingénieur, la DPI organise sa présence
A98: INGENIEUR | B98: =IFERROR(IF(VLOOKUP(Tableau23[[#This Row],[UAI ]],[2]!SuiviForumLyceeCibles[[UAI]:[Tél contact 2]],5,0)="","",VLOOKUP(Tableau23[[#This Row],[UAI ]],[2]!SuiviForumLyceeCibles[[UAI]:[Tél contact 2]],5,0)),"") | C98: =IFERROR(IF(VLOOKUP(Tableau23[[#This Row],[UAI ]],[2]!SuiviForumLyceeCibles[[UAI]:[Tél contact 2]],6,0)="","",VLOOKUP(Tableau23[[#This Row],[UAI ]],[2]!SuiviForumLyceeCibles[[UAI]:[Tél contact 2]],6,0)),"") | D98: =IFERROR(VLOOKUP(Tableau23[[#This Row],[UAI ]],[2]!SuiviForumLyceeCibles[[UAI]:[Tél contact 2]],2,0),"") -> Forum d'orientation | E98: =IFERROR(VLOOKUP(Tableau23[[#This Row],[UAI ]],[2]!SuiviForumLyceeCibles[[UAI]:[Tél contact 2]],3,0),"") -> Lycées ciblés Ingénieur | F98: Jxqne Edvhz-Uelt F'Lnakhm | G98: XQGRZDZJ | H98: 49 | I98: 3075101H | J98: =IFERROR(VLOOKUP(Tableau23[[#This Row],[Dpt]],'Table régions'!$A$2:$C$102,3,0),"") -> Pays de la Loire | K98: =IFERROR(IF(VLOOKUP(Tableau23[[#This Row],[UAI ]],[2]!SuiviForumLyceeCibles[[UAI]:[Tél contact 2]],4,0)="","",VLOOKUP(Tableau23[[#This Row],[UAI ]],[2]!SuiviForumLyceeCibles[[UAI]:[Tél contact 2]],4,0)),"") -> Terminale | L98: =IFERROR(IF(VLOOKUP(Tableau23[[#This Row],[UAI ]],[2]!SuiviForumLyceeCibles[[UAI]:[Tél contact 2]],7,0)="","",VLOOKUP(Tableau23[[#This Row],[UAI ]],[2]!SuiviForumLyceeCibles[[UAI]:[Tél contact 2]],7,0)),"") | M98: =IFERROR(IF(VLOOKUP(Tableau23[[#This Row],[UAI ]],[2]!SuiviForumLyceeCibles[[UAI]:[Tél contact 2]],9,0)="","",VLOOKUP(Tableau23[[#This Row],[UAI ]],[2]!SuiviForumLyceeCibles[[UAI]:[Tél contact 2]],9,0)),"") | N98: =IFERROR(IF(VLOOKUP(Tableau23[[#This Row],[UAI ]],[2]!SuiviForumLyceeCibles[[UAI]:[Tél contact 2]],10,0)="","",VLOOKUP(Tableau23[[#This Row],[UAI ]],[2]!SuiviForumLyceeCibles[[UAI]:[Tél contact 2]],10,0)),"") -> Pas de retour étudiant | O98: =IFERROR(IF(VLOOKUP(Tableau23[[#This Row],[UAI ]],[2]!SuiviForumLyceeCibles[[UAI]:[Tél contact 2]],17,0)="","",VLOOKUP(Tableau23[[#This Row],[UAI ]],[2]!SuiviForumLyceeCibles[[UAI]:[Tél contact 2]],17,0)),"") | P98: =IFERROR(IF(VLOOKUP(Tableau23[[#This Row],[UAI ]],[2]!SuiviForumLyceeCibles[[UAI]:[Tél contact 2]],18,0)="","",VLOOKUP(Tableau23[[#This Row],[UAI ]],[2]!SuiviForumLyceeCibles[[UAI]:[Tél contact 2]],18,0)),"") | Q98: =IFERROR(IF(VLOOKUP(Tableau23[[#This Row],[UAI ]],[2]!SuiviForumLyceeCibles[[UAI]:[Tél contact 2]],19,0)="","",VLOOKUP(Tableau23[[#This Row],[UAI ]],[2]!SuiviForumLyceeCibles[[UAI]:[Tél contact 2]],19,0)),"") | R98: =IFERROR(IF(VLOOKUP(Tableau23[[#This Row],[UAI ]],[2]!SuiviForumLyceeCibles[[UAI]:[Tél contact 2]],20,0)="","",VLOOKUP(Tableau23[[#This Row],[UAI ]],[2]!SuiviForumLyceeCibles[[UAI]:[Tél contact 2]],20,0)),"") | S98: =IFERROR(IF(VLOOKUP(Tableau23[[#This Row],[UAI ]],[2]!SuiviForumLyceeCibles[[UAI]:[Tél contact 2]],21,0)="","",VLOOKUP(Tableau23[[#This Row],[UAI ]],[2]!SuiviForumLyceeCibles[[UAI]:[Tél contact 2]],21,0)),"") | T98: =IFERROR(IF(VLOOKUP(Tableau23[[#This Row],[UAI ]],[2]!SuiviForumLyceeCibles[[UAI]:[Tél contact 2]],22,0)="","",VLOOKUP(Tableau23[[#This Row],[UAI ]],[2]!SuiviForumLyceeCibles[[UAI]:[Tél contact 2]],22,0)),"") | U98: =IFERROR(IF(VLOOKUP(Tableau23[[#This Row],[UAI ]],[2]!SuiviForumLyceeCibles[[UAI]:[Tél contact 2]],23,0)="","",VLOOKUP(Tableau23[[#This Row],[UAI ]],[2]!SuiviForumLyceeCibles[[UAI]:[Tél contact 2]],23,0)),"") | V98: =IFERROR(IF(VLOOKUP(Tableau23[[#This Row],[UAI ]],[2]!SuiviForumLyceeCibles[[UAI]:[Tél contact 2]],24,0)="","",VLOOKUP(Tableau23[[#This Row],[UAI ]],[2]!SuiviForumLyceeCibles[[UAI]:[Tél contact 2]],24,0)),"") | W98: =IFERROR(IF(VLOOKUP(Tableau23[[#This Row],[UAI ]],[2]!SuiviForumLyceeCibles[[UAI]:[Tél contact 2]],11,0)="","",VLOOKUP(Tableau23[[#This Row],[UAI ]],[2]!SuiviForumLyceeCibles[[UAI]:[Tél contact 2]],11,0)),"") -> Oui lycée ciblé ingénieur, la DPI organise sa présence
A99: INGENIEUR | B99: =IFERROR(IF(VLOOKUP(Tableau23[[#This Row],[UAI ]],[2]!SuiviForumLyceeCibles[[UAI]:[Tél contact 2]],5,0)="","",VLOOKUP(Tableau23[[#This Row],[UAI ]],[2]!SuiviForumLyceeCibles[[UAI]:[Tél contact 2]],5,0)),"") | C99: =IFERROR(IF(VLOOKUP(Tableau23[[#This Row],[UAI ]],[2]!SuiviForumLyceeCibles[[UAI]:[Tél contact 2]],6,0)="","",VLOOKUP(Tableau23[[#This Row],[UAI ]],[2]!SuiviForumLyceeCibles[[UAI]:[Tél contact 2]],6,0)),"") | D99: =IFERROR(VLOOKUP(Tableau23[[#This Row],[UAI ]],[2]!SuiviForumLyceeCibles[[UAI]:[Tél contact 2]],2,0),"") -> Forum d'orientation | E99: =IFERROR(VLOOKUP(Tableau23[[#This Row],[UAI ]],[2]!SuiviForumLyceeCibles[[UAI]:[Tél contact 2]],3,0),"") -> Lycées ciblés Ingénieur | F99: Cwxdx drhiilmf Holywi nh Ktlzsrt | G99: AQV GWCJU ZT SK | H99: 49 | I99: 2950120N | J99: =IFERROR(VLOOKUP(Tableau23[[#This Row],[Dpt]],'Table régions'!$A$2:$C$102,3,0),"") -> Pays de la Loire | K99: =IFERROR(IF(VLOOKUP(Tableau23[[#This Row],[UAI ]],[2]!SuiviForumLyceeCibles[[UAI]:[Tél contact 2]],4,0)="","",VLOOKUP(Tableau23[[#This Row],[UAI ]],[2]!SuiviForumLyceeCibles[[UAI]:[Tél contact 2]],4,0)),"") -> Terminale | L99: =IFERROR(IF(VLOOKUP(Tableau23[[#This Row],[UAI ]],[2]!SuiviForumLyceeCibles[[UAI]:[Tél contact 2]],7,0)="","",VLOOKUP(Tableau23[[#This Row],[UAI ]],[2]!SuiviForumLyceeCibles[[UAI]:[Tél contact 2]],7,0)),"") | M99: =IFERROR(IF(VLOOKUP(Tableau23[[#This Row],[UAI ]],[2]!SuiviForumLyceeCibles[[UAI]:[Tél contact 2]],9,0)="","",VLOOKUP(Tableau23[[#This Row],[UAI ]],[2]!SuiviForumLyceeCibles[[UAI]:[Tél contact 2]],9,0)),"") | N99: =IFERROR(IF(VLOOKUP(Tableau23[[#This Row],[UAI ]],[2]!SuiviForumLyceeCibles[[UAI]:[Tél contact 2]],10,0)="","",VLOOKUP(Tableau23[[#This Row],[UAI ]],[2]!SuiviForumLyceeCibles[[UAI]:[Tél contact 2]],10,0)),"") -> Pas de retour étudiant | O99: =IFERROR(IF(VLOOKUP(Tableau23[[#This Row],[UAI ]],[2]!SuiviForumLyceeCibles[[UAI]:[Tél contact 2]],17,0)="","",VLOOKUP(Tableau23[[#This Row],[UAI ]],[2]!SuiviForumLyceeCibles[[UAI]:[Tél contact 2]],17,0)),"") | P99: =IFERROR(IF(VLOOKUP(Tableau23[[#This Row],[UAI ]],[2]!SuiviForumLyceeCibles[[UAI]:[Tél contact 2]],18,0)="","",VLOOKUP(Tableau23[[#This Row],[UAI ]],[2]!SuiviForumLyceeCibles[[UAI]:[Tél contact 2]],18,0)),"") | Q99: =IFERROR(IF(VLOOKUP(Tableau23[[#This Row],[UAI ]],[2]!SuiviForumLyceeCibles[[UAI]:[Tél contact 2]],19,0)="","",VLOOKUP(Tableau23[[#This Row],[UAI ]],[2]!SuiviForumLyceeCibles[[UAI]:[Tél contact 2]],19,0)),"") | R99: =IFERROR(IF(VLOOKUP(Tableau23[[#This Row],[UAI ]],[2]!SuiviForumLyceeCibles[[UAI]:[Tél contact 2]],20,0)="","",VLOOKUP(Tableau23[[#This Row],[UAI ]],[2]!SuiviForumLyceeCibles[[UAI]:[Tél contact 2]],20,0)),"") | S99: =IFERROR(IF(VLOOKUP(Tableau23[[#This Row],[UAI ]],[2]!SuiviForumLyceeCibles[[UAI]:[Tél contact 2]],21,0)="","",VLOOKUP(Tableau23[[#This Row],[UAI ]],[2]!SuiviForumLyceeCibles[[UAI]:[Tél contact 2]],21,0)),"") | T99: =IFERROR(IF(VLOOKUP(Tableau23[[#This Row],[UAI ]],[2]!SuiviForumLyceeCibles[[UAI]:[Tél contact 2]],22,0)="","",VLOOKUP(Tableau23[[#This Row],[UAI ]],[2]!SuiviForumLyceeCibles[[UAI]:[Tél contact 2]],22,0)),"") | U99: =IFERROR(IF(VLOOKUP(Tableau23[[#This Row],[UAI ]],[2]!SuiviForumLyceeCibles[[UAI]:[Tél contact 2]],23,0)="","",VLOOKUP(Tableau23[[#This Row],[UAI ]],[2]!SuiviForumLyceeCibles[[UAI]:[Tél contact 2]],23,0)),"") | V99: =IFERROR(IF(VLOOKUP(Tableau23[[#This Row],[UAI ]],[2]!SuiviForumLyceeCibles[[UAI]:[Tél contact 2]],24,0)="","",VLOOKUP(Tableau23[[#This Row],[UAI ]],[2]!SuiviForumLyceeCibles[[UAI]:[Tél contact 2]],24,0)),"") | W99: =IFERROR(IF(VLOOKUP(Tableau23[[#This Row],[UAI ]],[2]!SuiviForumLyceeCibles[[UAI]:[Tél contact 2]],11,0)="","",VLOOKUP(Tableau23[[#This Row],[UAI ]],[2]!SuiviForumLyceeCibles[[UAI]:[Tél contact 2]],11,0)),"") -> Oui lycée ciblé ingénieur, la DPI organise sa présence
A100: INGENIEUR | B100: =IFERROR(IF(VLOOKUP(Tableau23[[#This Row],[UAI ]],[2]!SuiviForumLyceeCibles[[UAI]:[Tél contact 2]],5,0)="","",VLOOKUP(Tableau23[[#This Row],[UAI ]],[2]!SuiviForumLyceeCibles[[UAI]:[Tél contact 2]],5,0)),"") | C100: =IFERROR(IF(VLOOKUP(Tableau23[[#This Row],[UAI ]],[2]!SuiviForumLyceeCibles[[UAI]:[Tél contact 2]],6,0)="","",VLOOKUP(Tableau23[[#This Row],[UAI ]],[2]!SuiviForumLyceeCibles[[UAI]:[Tél contact 2]],6,0)),"") | D100: =IFERROR(VLOOKUP(Tableau23[[#This Row],[UAI ]],[2]!SuiviForumLyceeCibles[[UAI]:[Tél contact 2]],2,0),"") -> Forum d'orientation | E100: =IFERROR(VLOOKUP(Tableau23[[#This Row],[UAI ]],[2]!SuiviForumLyceeCibles[[UAI]:[Tél contact 2]],3,0),"") -> Lycées ciblés Ingénieur | F100: Slamf anrspwuoaf sjuhq Bdapu-Sbbirzhx | G100: VQGFC LQ TFOPF HNSE | H100: 49 | I100: 1200522X | J100: =IFERROR(VLOOKUP(Tableau23[[#This Row],[Dpt]],'Table régions'!$A$2:$C$102,3,0),"") -> Pays de la Loire | K100: =IFERROR(IF(VLOOKUP(Tableau23[[#This Row],[UAI ]],[2]!SuiviForumLyceeCibles[[UAI]:[Tél contact 2]],4,0)="","",VLOOKUP(Tableau23[[#This Row],[UAI ]],[2]!SuiviForumLyceeCibles[[UAI]:[Tél contact 2]],4,0)),"") -> Terminale | L100: =IFERROR(IF(VLOOKUP(Tableau23[[#This Row],[UAI ]],[2]!SuiviForumLyceeCibles[[UAI]:[Tél contact 2]],7,0)="","",VLOOKUP(Tableau23[[#This Row],[UAI ]],[2]!SuiviForumLyceeCibles[[UAI]:[Tél contact 2]],7,0)),"") | M100: =IFERROR(IF(VLOOKUP(Tableau23[[#This Row],[UAI ]],[2]!SuiviForumLyceeCibles[[UAI]:[Tél contact 2]],9,0)="","",VLOOKUP(Tableau23[[#This Row],[UAI ]],[2]!SuiviForumLyceeCibles[[UAI]:[Tél contact 2]],9,0)),"") | N100: =IFERROR(IF(VLOOKUP(Tableau23[[#This Row],[UAI ]],[2]!SuiviForumLyceeCibles[[UAI]:[Tél contact 2]],10,0)="","",VLOOKUP(Tableau23[[#This Row],[UAI ]],[2]!SuiviForumLyceeCibles[[UAI]:[Tél contact 2]],10,0)),"") -> Pas de retour étudiant | O100: =IFERROR(IF(VLOOKUP(Tableau23[[#This Row],[UAI ]],[2]!SuiviForumLyceeCibles[[UAI]:[Tél contact 2]],17,0)="","",VLOOKUP(Tableau23[[#This Row],[UAI ]],[2]!SuiviForumLyceeCibles[[UAI]:[Tél contact 2]],17,0)),"") | P100: =IFERROR(IF(VLOOKUP(Tableau23[[#This Row],[UAI ]],[2]!SuiviForumLyceeCibles[[UAI]:[Tél contact 2]],18,0)="","",VLOOKUP(Tableau23[[#This Row],[UAI ]],[2]!SuiviForumLyceeCibles[[UAI]:[Tél contact 2]],18,0)),"") | Q100: =IFERROR(IF(VLOOKUP(Tableau23[[#This Row],[UAI ]],[2]!SuiviForumLyceeCibles[[UAI]:[Tél contact 2]],19,0)="","",VLOOKUP(Tableau23[[#This Row],[UAI ]],[2]!SuiviForumLyceeCibles[[UAI]:[Tél contact 2]],19,0)),"") | R100: =IFERROR(IF(VLOOKUP(Tableau23[[#This Row],[UAI ]],[2]!SuiviForumLyceeCibles[[UAI]:[Tél contact 2]],20,0)="","",VLOOKUP(Tableau23[[#This Row],[UAI ]],[2]!SuiviForumLyceeCibles[[UAI]:[Tél contact 2]],20,0)),"") | S100: =IFERROR(IF(VLOOKUP(Tableau23[[#This Row],[UAI ]],[2]!SuiviForumLyceeCibles[[UAI]:[Tél contact 2]],21,0)="","",VLOOKUP(Tableau23[[#This Row],[UAI ]],[2]!SuiviForumLyceeCibles[[UAI]:[Tél contact 2]],21,0)),"") | T100: =IFERROR(IF(VLOOKUP(Tableau23[[#This Row],[UAI ]],[2]!SuiviForumLyceeCibles[[UAI]:[Tél contact 2]],22,0)="","",VLOOKUP(Tableau23[[#This Row],[UAI ]],[2]!SuiviForumLyceeCibles[[UAI]:[Tél contact 2]],22,0)),"") | U100: =IFERROR(IF(VLOOKUP(Tableau23[[#This Row],[UAI ]],[2]!SuiviForumLyceeCibles[[UAI]:[Tél contact 2]],23,0)="","",VLOOKUP(Tableau23[[#This Row],[UAI ]],[2]!SuiviForumLyceeCibles[[UAI]:[Tél contact 2]],23,0)),"") | V100: =IFERROR(IF(VLOOKUP(Tableau23[[#This Row],[UAI ]],[2]!SuiviForumLyceeCibles[[UAI]:[Tél contact 2]],24,0)="","",VLOOKUP(Tableau23[[#This Row],[UAI ]],[2]!SuiviForumLyceeCibles[[UAI]:[Tél contact 2]],24,0)),"") | W100: =IFERROR(IF(VLOOKUP(Tableau23[[#This Row],[UAI ]],[2]!SuiviForumLyceeCibles[[UAI]:[Tél contact 2]],11,0)="","",VLOOKUP(Tableau23[[#This Row],[UAI ]],[2]!SuiviForumLyceeCibles[[UAI]:[Tél contact 2]],11,0)),"") -> Oui lycée ciblé ingénieur, la DPI organise sa présence
A101: INGENIEUR | B101: =IFERROR(IF(VLOOKUP(Tableau23[[#This Row],[UAI ]],[2]!SuiviForumLyceeCibles[[UAI]:[Tél contact 2]],5,0)="","",VLOOKUP(Tableau23[[#This Row],[UAI ]],[2]!SuiviForumLyceeCibles[[UAI]:[Tél contact 2]],5,0)),"") | C101: =IFERROR(IF(VLOOKUP(Tableau23[[#This Row],[UAI ]],[2]!SuiviForumLyceeCibles[[UAI]:[Tél contact 2]],6,0)="","",VLOOKUP(Tableau23[[#This Row],[UAI ]],[2]!SuiviForumLyceeCibles[[UAI]:[Tél contact 2]],6,0)),"") | D101: =IFERROR(VLOOKUP(Tableau23[[#This Row],[UAI ]],[2]!SuiviForumLyceeCibles[[UAI]:[Tél contact 2]],2,0),"") -> Forum d'orientation | E101: =IFERROR(VLOOKUP(Tableau23[[#This Row],[UAI ]],[2]!SuiviForumLyceeCibles[[UAI]:[Tél contact 2]],3,0),"") -> Lycées ciblés Ingénieur | F101: Tfnyt x'Lsbrlcgykyzg Awgouxp dn Oiozxpchscebh Anaesylx Jzjctdeob- W'Vdsrpwczwm | G101: ZH ZGLJYHQP | H101: 16 | I101: 2831755P | J101: =IFERROR(VLOOKUP(Tableau23[[#This Row],[Dpt]],'Table régions'!$A$2:$C$102,3,0),"") -> Nouvelle-Aquitaine | K101: =IFERROR(IF(VLOOKUP(Tableau23[[#This Row],[UAI ]],[2]!SuiviForumLyceeCibles[[UAI]:[Tél contact 2]],4,0)="","",VLOOKUP(Tableau23[[#This Row],[UAI ]],[2]!SuiviForumLyceeCibles[[UAI]:[Tél contact 2]],4,0)),"") -> Terminale | L101: =IFERROR(IF(VLOOKUP(Tableau23[[#This Row],[UAI ]],[2]!SuiviForumLyceeCibles[[UAI]:[Tél contact 2]],7,0)="","",VLOOKUP(Tableau23[[#This Row],[UAI ]],[2]!SuiviForumLyceeCibles[[UAI]:[Tél contact 2]],7,0)),"") | M101: =IFERROR(IF(VLOOKUP(Tableau23[[#This Row],[UAI ]],[2]!SuiviForumLyceeCibles[[UAI]:[Tél contact 2]],9,0)="","",VLOOKUP(Tableau23[[#This Row],[UAI ]],[2]!SuiviForumLyceeCibles[[UAI]:[Tél contact 2]],9,0)),"") | N101: =IFERROR(IF(VLOOKUP(Tableau23[[#This Row],[UAI ]],[2]!SuiviForumLyceeCibles[[UAI]:[Tél contact 2]],10,0)="","",VLOOKUP(Tableau23[[#This Row],[UAI ]],[2]!SuiviForumLyceeCibles[[UAI]:[Tél contact 2]],10,0)),"") -> Pas de retour étudiant | O101: =IFERROR(IF(VLOOKUP(Tableau23[[#This Row],[UAI ]],[2]!SuiviForumLyceeCibles[[UAI]:[Tél contact 2]],17,0)="","",VLOOKUP(Tableau23[[#This Row],[UAI ]],[2]!SuiviForumLyceeCibles[[UAI]:[Tél contact 2]],17,0)),"") | P101: =IFERROR(IF(VLOOKUP(Tableau23[[#This Row],[UAI ]],[2]!SuiviForumLyceeCibles[[UAI]:[Tél contact 2]],18,0)="","",VLOOKUP(Tableau23[[#This Row],[UAI ]],[2]!SuiviForumLyceeCibles[[UAI]:[Tél contact 2]],18,0)),"") | Q101: =IFERROR(IF(VLOOKUP(Tableau23[[#This Row],[UAI ]],[2]!SuiviForumLyceeCibles[[UAI]:[Tél contact 2]],19,0)="","",VLOOKUP(Tableau23[[#This Row],[UAI ]],[2]!SuiviForumLyceeCibles[[UAI]:[Tél contact 2]],19,0)),"") | R101: =IFERROR(IF(VLOOKUP(Tableau23[[#This Row],[UAI ]],[2]!SuiviForumLyceeCibles[[UAI]:[Tél contact 2]],20,0)="","",VLOOKUP(Tableau23[[#This Row],[UAI ]],[2]!SuiviForumLyceeCibles[[UAI]:[Tél contact 2]],20,0)),"") | S101: =IFERROR(IF(VLOOKUP(Tableau23[[#This Row],[UAI ]],[2]!SuiviForumLyceeCibles[[UAI]:[Tél contact 2]],21,0)="","",VLOOKUP(Tableau23[[#This Row],[UAI ]],[2]!SuiviForumLyceeCibles[[UAI]:[Tél contact 2]],21,0)),"") | T101: =IFERROR(IF(VLOOKUP(Tableau23[[#This Row],[UAI ]],[2]!SuiviForumLyceeCibles[[UAI]:[Tél contact 2]],22,0)="","",VLOOKUP(Tableau23[[#This Row],[UAI ]],[2]!SuiviForumLyceeCibles[[UAI]:[Tél contact 2]],22,0)),"") | U101: =IFERROR(IF(VLOOKUP(Tableau23[[#This Row],[UAI ]],[2]!SuiviForumLyceeCibles[[UAI]:[Tél contact 2]],23,0)="","",VLOOKUP(Tableau23[[#This Row],[UAI ]],[2]!SuiviForumLyceeCibles[[UAI]:[Tél contact 2]],23,0)),"") | V101: =IFERROR(IF(VLOOKUP(Tableau23[[#This Row],[UAI ]],[2]!SuiviForumLyceeCibles[[UAI]:[Tél contact 2]],24,0)="","",VLOOKUP(Tableau23[[#This Row],[UAI ]],[2]!SuiviForumLyceeCibles[[UAI]:[Tél contact 2]],24,0)),"") | W101: =IFERROR(IF(VLOOKUP(Tableau23[[#This Row],[UAI ]],[2]!SuiviForumLyceeCibles[[UAI]:[Tél contact 2]],11,0)="","",VLOOKUP(Tableau23[[#This Row],[UAI ]],[2]!SuiviForumLyceeCibles[[UAI]:[Tél contact 2]],11,0)),"") -> Oui lycée ciblé ingénieur, la DPI organise sa présence
A102: INGENIEUR | B102: =IFERROR(IF(VLOOKUP(Tableau23[[#This Row],[UAI ]],[2]!SuiviForumLyceeCibles[[UAI]:[Tél contact 2]],5,0)="","",VLOOKUP(Tableau23[[#This Row],[UAI ]],[2]!SuiviForumLyceeCibles[[UAI]:[Tél contact 2]],5,0)),"") | C102: =IFERROR(IF(VLOOKUP(Tableau23[[#This Row],[UAI ]],[2]!SuiviForumLyceeCibles[[UAI]:[Tél contact 2]],6,0)="","",VLOOKUP(Tableau23[[#This Row],[UAI ]],[2]!SuiviForumLyceeCibles[[UAI]:[Tél contact 2]],6,0)),"") | D102: =IFERROR(VLOOKUP(Tableau23[[#This Row],[UAI ]],[2]!SuiviForumLyceeCibles[[UAI]:[Tél contact 2]],2,0),"") -> Forum d'orientation | E102: =IFERROR(VLOOKUP(Tableau23[[#This Row],[UAI ]],[2]!SuiviForumLyceeCibles[[UAI]:[Tél contact 2]],3,0),"") -> Lycées ciblés Ingénieur | F102: Yiwej ptuofsa sk fsjauishgnmzk Lcotr Hrxtvbg | G102: KRSVAI | H102: 49 | I102: 4043876X | J102: =IFERROR(VLOOKUP(Tableau23[[#This Row],[Dpt]],'Table régions'!$A$2:$C$102,3,0),"") -> Pays de la Loire | K102: =IFERROR(IF(VLOOKUP(Tableau23[[#This Row],[UAI ]],[2]!SuiviForumLyceeCibles[[UAI]:[Tél contact 2]],4,0)="","",VLOOKUP(Tableau23[[#This Row],[UAI ]],[2]!SuiviForumLyceeCibles[[UAI]:[Tél contact 2]],4,0)),"") -> Terminale | L102: =IFERROR(IF(VLOOKUP(Tableau23[[#This Row],[UAI ]],[2]!SuiviForumLyceeCibles[[UAI]:[Tél contact 2]],7,0)="","",VLOOKUP(Tableau23[[#This Row],[UAI ]],[2]!SuiviForumLyceeCibles[[UAI]:[Tél contact 2]],7,0)),"") | M102: =IFERROR(IF(VLOOKUP(Tableau23[[#This Row],[UAI ]],[2]!SuiviForumLyceeCibles[[UAI]:[Tél contact 2]],9,0)="","",VLOOKUP(Tableau23[[#This Row],[UAI ]],[2]!SuiviForumLyceeCibles[[UAI]:[Tél contact 2]],9,0)),"") | N102: =IFERROR(IF(VLOOKUP(Tableau23[[#This Row],[UAI ]],[2]!SuiviForumLyceeCibles[[UAI]:[Tél contact 2]],10,0)="","",VLOOKUP(Tableau23[[#This Row],[UAI ]],[2]!SuiviForumLyceeCibles[[UAI]:[Tél contact 2]],10,0)),"") -> Pas de retour lycée | O102: =IFERROR(IF(VLOOKUP(Tableau23[[#This Row],[UAI ]],[2]!SuiviForumLyceeCibles[[UAI]:[Tél contact 2]],17,0)="","",VLOOKUP(Tableau23[[#This Row],[UAI ]],[2]!SuiviForumLyceeCibles[[UAI]:[Tél contact 2]],17,0)),"") | P102: =IFERROR(IF(VLOOKUP(Tableau23[[#This Row],[UAI ]],[2]!SuiviForumLyceeCibles[[UAI]:[Tél contact 2]],18,0)="","",VLOOKUP(Tableau23[[#This Row],[UAI ]],[2]!SuiviForumLyceeCibles[[UAI]:[Tél contact 2]],18,0)),"") | Q102: =IFERROR(IF(VLOOKUP(Tableau23[[#This Row],[UAI ]],[2]!SuiviForumLyceeCibles[[UAI]:[Tél contact 2]],19,0)="","",VLOOKUP(Tableau23[[#This Row],[UAI ]],[2]!SuiviForumLyceeCibles[[UAI]:[Tél contact 2]],19,0)),"") | R102: =IFERROR(IF(VLOOKUP(Tableau23[[#This Row],[UAI ]],[2]!SuiviForumLyceeCibles[[UAI]:[Tél contact 2]],20,0)="","",VLOOKUP(Tableau23[[#This Row],[UAI ]],[2]!SuiviForumLyceeCibles[[UAI]:[Tél contact 2]],20,0)),"") | S102: =IFERROR(IF(VLOOKUP(Tableau23[[#This Row],[UAI ]],[2]!SuiviForumLyceeCibles[[UAI]:[Tél contact 2]],21,0)="","",VLOOKUP(Tableau23[[#This Row],[UAI ]],[2]!SuiviForumLyceeCibles[[UAI]:[Tél contact 2]],21,0)),"") | T102: =IFERROR(IF(VLOOKUP(Tableau23[[#This Row],[UAI ]],[2]!SuiviForumLyceeCibles[[UAI]:[Tél contact 2]],22,0)="","",VLOOKUP(Tableau23[[#This Row],[UAI ]],[2]!SuiviForumLyceeCibles[[UAI]:[Tél contact 2]],22,0)),"") | U102: =IFERROR(IF(VLOOKUP(Tableau23[[#This Row],[UAI ]],[2]!SuiviForumLyceeCibles[[UAI]:[Tél contact 2]],23,0)="","",VLOOKUP(Tableau23[[#This Row],[UAI ]],[2]!SuiviForumLyceeCibles[[UAI]:[Tél contact 2]],23,0)),"") | V102: =IFERROR(IF(VLOOKUP(Tableau23[[#This Row],[UAI ]],[2]!SuiviForumLyceeCibles[[UAI]:[Tél contact 2]],24,0)="","",VLOOKUP(Tableau23[[#This Row],[UAI ]],[2]!SuiviForumLyceeCibles[[UAI]:[Tél contact 2]],24,0)),"") | W102: =IFERROR(IF(VLOOKUP(Tableau23[[#This Row],[UAI ]],[2]!SuiviForumLyceeCibles[[UAI]:[Tél contact 2]],11,0)="","",VLOOKUP(Tableau23[[#This Row],[UAI ]],[2]!SuiviForumLyceeCibles[[UAI]:[Tél contact 2]],11,0)),"") -> Oui lycée ciblé ingénieur, la DPI organise sa présence
A103: INGENIEUR | B103: =IFERROR(IF(VLOOKUP(Tableau23[[#This Row],[UAI ]],[2]!SuiviForumLyceeCibles[[UAI]:[Tél contact 2]],5,0)="","",VLOOKUP(Tableau23[[#This Row],[UAI ]],[2]!SuiviForumLyceeCibles[[UAI]:[Tél contact 2]],5,0)),"") | C103: =IFERROR(IF(VLOOKUP(Tableau23[[#This Row],[UAI ]],[2]!SuiviForumLyceeCibles[[UAI]:[Tél contact 2]],6,0)="","",VLOOKUP(Tableau23[[#This Row],[UAI ]],[2]!SuiviForumLyceeCibles[[UAI]:[Tél contact 2]],6,0)),"") | D103: =IFERROR(VLOOKUP(Tableau23[[#This Row],[UAI ]],[2]!SuiviForumLyceeCibles[[UAI]:[Tél contact 2]],2,0),"") -> Forum d'orientation | E103: =IFERROR(VLOOKUP(Tableau23[[#This Row],[UAI ]],[2]!SuiviForumLyceeCibles[[UAI]:[Tél contact 2]],3,0),"") -> Lycées ciblés Ingénieur | F103: Codkh Jpeod-Ejwe | G103: VDNREYSP AZ GQYHG | H103: 49 | I103: 2646141H | J103: =IFERROR(VLOOKUP(Tableau23[[#This Row],[Dpt]],'Table régions'!$A$2:$C$102,3,0),"") -> Pays de la Loire | K103: =IFERROR(IF(VLOOKUP(Tableau23[[#This Row],[UAI ]],[2]!SuiviForumLyceeCibles[[UAI]:[Tél contact 2]],4,0)="","",VLOOKUP(Tableau23[[#This Row],[UAI ]],[2]!SuiviForumLyceeCibles[[UAI]:[Tél contact 2]],4,0)),"") -> Terminale | L103: =IFERROR(IF(VLOOKUP(Tableau23[[#This Row],[UAI ]],[2]!SuiviForumLyceeCibles[[UAI]:[Tél contact 2]],7,0)="","",VLOOKUP(Tableau23[[#This Row],[UAI ]],[2]!SuiviForumLyceeCibles[[UAI]:[Tél contact 2]],7,0)),"") | M103: =IFERROR(IF(VLOOKUP(Tableau23[[#This Row],[UAI ]],[2]!SuiviForumLyceeCibles[[UAI]:[Tél contact 2]],9,0)="","",VLOOKUP(Tableau23[[#This Row],[UAI ]],[2]!SuiviForumLyceeCibles[[UAI]:[Tél contact 2]],9,0)),"") | N103: =IFERROR(IF(VLOOKUP(Tableau23[[#This Row],[UAI ]],[2]!SuiviForumLyceeCibles[[UAI]:[Tél contact 2]],10,0)="","",VLOOKUP(Tableau23[[#This Row],[UAI ]],[2]!SuiviForumLyceeCibles[[UAI]:[Tél contact 2]],10,0)),"") -> Pas de retour étudiant | O103: =IFERROR(IF(VLOOKUP(Tableau23[[#This Row],[UAI ]],[2]!SuiviForumLyceeCibles[[UAI]:[Tél contact 2]],17,0)="","",VLOOKUP(Tableau23[[#This Row],[UAI ]],[2]!SuiviForumLyceeCibles[[UAI]:[Tél contact 2]],17,0)),"") | P103: =IFERROR(IF(VLOOKUP(Tableau23[[#This Row],[UAI ]],[2]!SuiviForumLyceeCibles[[UAI]:[Tél contact 2]],18,0)="","",VLOOKUP(Tableau23[[#This Row],[UAI ]],[2]!SuiviForumLyceeCibles[[UAI]:[Tél contact 2]],18,0)),"") | Q103: =IFERROR(IF(VLOOKUP(Tableau23[[#This Row],[UAI ]],[2]!SuiviForumLyceeCibles[[UAI]:[Tél contact 2]],19,0)="","",VLOOKUP(Tableau23[[#This Row],[UAI ]],[2]!SuiviForumLyceeCibles[[UAI]:[Tél contact 2]],19,0)),"") | R103: =IFERROR(IF(VLOOKUP(Tableau23[[#This Row],[UAI ]],[2]!SuiviForumLyceeCibles[[UAI]:[Tél contact 2]],20,0)="","",VLOOKUP(Tableau23[[#This Row],[UAI ]],[2]!SuiviForumLyceeCibles[[UAI]:[Tél contact 2]],20,0)),"") | S103: =IFERROR(IF(VLOOKUP(Tableau23[[#This Row],[UAI ]],[2]!SuiviForumLyceeCibles[[UAI]:[Tél contact 2]],21,0)="","",VLOOKUP(Tableau23[[#This Row],[UAI ]],[2]!SuiviForumLyceeCibles[[UAI]:[Tél contact 2]],21,0)),"") | T103: =IFERROR(IF(VLOOKUP(Tableau23[[#This Row],[UAI ]],[2]!SuiviForumLyceeCibles[[UAI]:[Tél contact 2]],22,0)="","",VLOOKUP(Tableau23[[#This Row],[UAI ]],[2]!SuiviForumLyceeCibles[[UAI]:[Tél contact 2]],22,0)),"") | U103: =IFERROR(IF(VLOOKUP(Tableau23[[#This Row],[UAI ]],[2]!SuiviForumLyceeCibles[[UAI]:[Tél contact 2]],23,0)="","",VLOOKUP(Tableau23[[#This Row],[UAI ]],[2]!SuiviForumLyceeCibles[[UAI]:[Tél contact 2]],23,0)),"") | V103: =IFERROR(IF(VLOOKUP(Tableau23[[#This Row],[UAI ]],[2]!SuiviForumLyceeCibles[[UAI]:[Tél contact 2]],24,0)="","",VLOOKUP(Tableau23[[#This Row],[UAI ]],[2]!SuiviForumLyceeCibles[[UAI]:[Tél contact 2]],24,0)),"") | W103: =IFERROR(IF(VLOOKUP(Tableau23[[#This Row],[UAI ]],[2]!SuiviForumLyceeCibles[[UAI]:[Tél contact 2]],11,0)="","",VLOOKUP(Tableau23[[#This Row],[UAI ]],[2]!SuiviForumLyceeCibles[[UAI]:[Tél contact 2]],11,0)),"") -> Oui lycée ciblé ingénieur, la DPI organise sa présence
A104: INGENIEUR | B104: =IFERROR(IF(VLOOKUP(Tableau23[[#This Row],[UAI ]],[2]!SuiviForumLyceeCibles[[UAI]:[Tél contact 2]],5,0)="","",VLOOKUP(Tableau23[[#This Row],[UAI ]],[2]!SuiviForumLyceeCibles[[UAI]:[Tél contact 2]],5,0)),"") | C104: =IFERROR(IF(VLOOKUP(Tableau23[[#This Row],[UAI ]],[2]!SuiviForumLyceeCibles[[UAI]:[Tél contact 2]],6,0)="","",VLOOKUP(Tableau23[[#This Row],[UAI ]],[2]!SuiviForumLyceeCibles[[UAI]:[Tél contact 2]],6,0)),"") | D104: =IFERROR(VLOOKUP(Tableau23[[#This Row],[UAI ]],[2]!SuiviForumLyceeCibles[[UAI]:[Tél contact 2]],2,0),"") -> Forum d'orientation | E104: =IFERROR(VLOOKUP(Tableau23[[#This Row],[UAI ]],[2]!SuiviForumLyceeCibles[[UAI]:[Tél contact 2]],3,0),"") -> Lycées ciblés Ingénieur | F104: Kmxgs p'Lzavkg | G104: BMKDOK | H104: 49 | I104: 6127196J | J104: =IFERROR(VLOOKUP(Tableau23[[#This Row],[Dpt]],'Table régions'!$A$2:$C$102,3,0),"") -> Pays de la Loire | K104: =IFERROR(IF(VLOOKUP(Tableau23[[#This Row],[UAI ]],[2]!SuiviForumLyceeCibles[[UAI]:[Tél contact 2]],4,0)="","",VLOOKUP(Tableau23[[#This Row],[UAI ]],[2]!SuiviForumLyceeCibles[[UAI]:[Tél contact 2]],4,0)),"") -> Terminale | L104: =IFERROR(IF(VLOOKUP(Tableau23[[#This Row],[UAI ]],[2]!SuiviForumLyceeCibles[[UAI]:[Tél contact 2]],7,0)="","",VLOOKUP(Tableau23[[#This Row],[UAI ]],[2]!SuiviForumLyceeCibles[[UAI]:[Tél contact 2]],7,0)),"") | M104: =IFERROR(IF(VLOOKUP(Tableau23[[#This Row],[UAI ]],[2]!SuiviForumLyceeCibles[[UAI]:[Tél contact 2]],9,0)="","",VLOOKUP(Tableau23[[#This Row],[UAI ]],[2]!SuiviForumLyceeCibles[[UAI]:[Tél contact 2]],9,0)),"") | N104: =IFERROR(IF(VLOOKUP(Tableau23[[#This Row],[UAI ]],[2]!SuiviForumLyceeCibles[[UAI]:[Tél contact 2]],10,0)="","",VLOOKUP(Tableau23[[#This Row],[UAI ]],[2]!SuiviForumLyceeCibles[[UAI]:[Tél contact 2]],10,0)),"") -> Pas de retour étudiant | O104: =IFERROR(IF(VLOOKUP(Tableau23[[#This Row],[UAI ]],[2]!SuiviForumLyceeCibles[[UAI]:[Tél contact 2]],17,0)="","",VLOOKUP(Tableau23[[#This Row],[UAI ]],[2]!SuiviForumLyceeCibles[[UAI]:[Tél contact 2]],17,0)),"") | P104: =IFERROR(IF(VLOOKUP(Tableau23[[#This Row],[UAI ]],[2]!SuiviForumLyceeCibles[[UAI]:[Tél contact 2]],18,0)="","",VLOOKUP(Tableau23[[#This Row],[UAI ]],[2]!SuiviForumLyceeCibles[[UAI]:[Tél contact 2]],18,0)),"") | Q104: =IFERROR(IF(VLOOKUP(Tableau23[[#This Row],[UAI ]],[2]!SuiviForumLyceeCibles[[UAI]:[Tél contact 2]],19,0)="","",VLOOKUP(Tableau23[[#This Row],[UAI ]],[2]!SuiviForumLyceeCibles[[UAI]:[Tél contact 2]],19,0)),"") | R104: =IFERROR(IF(VLOOKUP(Tableau23[[#This Row],[UAI ]],[2]!SuiviForumLyceeCibles[[UAI]:[Tél contact 2]],20,0)="","",VLOOKUP(Tableau23[[#This Row],[UAI ]],[2]!SuiviForumLyceeCibles[[UAI]:[Tél contact 2]],20,0)),"") | S104: =IFERROR(IF(VLOOKUP(Tableau23[[#This Row],[UAI ]],[2]!SuiviForumLyceeCibles[[UAI]:[Tél contact 2]],21,0)="","",VLOOKUP(Tableau23[[#This Row],[UAI ]],[2]!SuiviForumLyceeCibles[[UAI]:[Tél contact 2]],21,0)),"") | T104: =IFERROR(IF(VLOOKUP(Tableau23[[#This Row],[UAI ]],[2]!SuiviForumLyceeCibles[[UAI]:[Tél contact 2]],22,0)="","",VLOOKUP(Tableau23[[#This Row],[UAI ]],[2]!SuiviForumLyceeCibles[[UAI]:[Tél contact 2]],22,0)),"") | U104: =IFERROR(IF(VLOOKUP(Tableau23[[#This Row],[UAI ]],[2]!SuiviForumLyceeCibles[[UAI]:[Tél contact 2]],23,0)="","",VLOOKUP(Tableau23[[#This Row],[UAI ]],[2]!SuiviForumLyceeCibles[[UAI]:[Tél contact 2]],23,0)),"") | V104: =IFERROR(IF(VLOOKUP(Tableau23[[#This Row],[UAI ]],[2]!SuiviForumLyceeCibles[[UAI]:[Tél contact 2]],24,0)="","",VLOOKUP(Tableau23[[#This Row],[UAI ]],[2]!SuiviForumLyceeCibles[[UAI]:[Tél contact 2]],24,0)),"") | W104: =IFERROR(IF(VLOOKUP(Tableau23[[#This Row],[UAI ]],[2]!SuiviForumLyceeCibles[[UAI]:[Tél contact 2]],11,0)="","",VLOOKUP(Tableau23[[#This Row],[UAI ]],[2]!SuiviForumLyceeCibles[[UAI]:[Tél contact 2]],11,0)),"") -> Oui lycée ciblé ingénieur, la DPI organise sa présence
A105: INGENIEUR | B105: =IFERROR(IF(VLOOKUP(Tableau23[[#This Row],[UAI ]],[2]!SuiviForumLyceeCibles[[UAI]:[Tél contact 2]],5,0)="","",VLOOKUP(Tableau23[[#This Row],[UAI ]],[2]!SuiviForumLyceeCibles[[UAI]:[Tél contact 2]],5,0)),"") | C105: =IFERROR(IF(VLOOKUP(Tableau23[[#This Row],[UAI ]],[2]!SuiviForumLyceeCibles[[UAI]:[Tél contact 2]],6,0)="","",VLOOKUP(Tableau23[[#This Row],[UAI ]],[2]!SuiviForumLyceeCibles[[UAI]:[Tél contact 2]],6,0)),"") | D105: =IFERROR(VLOOKUP(Tableau23[[#This Row],[UAI ]],[2]!SuiviForumLyceeCibles[[UAI]:[Tél contact 2]],2,0),"") -> Forum d'orientation | E105: =IFERROR(VLOOKUP(Tableau23[[#This Row],[UAI ]],[2]!SuiviForumLyceeCibles[[UAI]:[Tél contact 2]],3,0),"") -> Lycées ciblés Ingénieur | F105: Xu Dxaeg | G105: MEXBLT | H105: 49 | I105: 9011738U | J105: =IFERROR(VLOOKUP(Tableau23[[#This Row],[Dpt]],'Table régions'!$A$2:$C$102,3,0),"") -> Pays de la Loire | K105: =IFERROR(IF(VLOOKUP(Tableau23[[#This Row],[UAI ]],[2]!SuiviForumLyceeCibles[[UAI]:[Tél contact 2]],4,0)="","",VLOOKUP(Tableau23[[#This Row],[UAI ]],[2]!SuiviForumLyceeCibles[[UAI]:[Tél contact 2]],4,0)),"") -> Terminale | L105: =IFERROR(IF(VLOOKUP(Tableau23[[#This Row],[UAI ]],[2]!SuiviForumLyceeCibles[[UAI]:[Tél contact 2]],7,0)="","",VLOOKUP(Tableau23[[#This Row],[UAI ]],[2]!SuiviForumLyceeCibles[[UAI]:[Tél contact 2]],7,0)),"") | M105: =IFERROR(IF(VLOOKUP(Tableau23[[#This Row],[UAI ]],[2]!SuiviForumLyceeCibles[[UAI]:[Tél contact 2]],9,0)="","",VLOOKUP(Tableau23[[#This Row],[UAI ]],[2]!SuiviForumLyceeCibles[[UAI]:[Tél contact 2]],9,0)),"") | N105: =IFERROR(IF(VLOOKUP(Tableau23[[#This Row],[UAI ]],[2]!SuiviForumLyceeCibles[[UAI]:[Tél contact 2]],10,0)="","",VLOOKUP(Tableau23[[#This Row],[UAI ]],[2]!SuiviForumLyceeCibles[[UAI]:[Tél contact 2]],10,0)),"") -> Pas de retour étudiant | O105: =IFERROR(IF(VLOOKUP(Tableau23[[#This Row],[UAI ]],[2]!SuiviForumLyceeCibles[[UAI]:[Tél contact 2]],17,0)="","",VLOOKUP(Tableau23[[#This Row],[UAI ]],[2]!SuiviForumLyceeCibles[[UAI]:[Tél contact 2]],17,0)),"") | P105: =IFERROR(IF(VLOOKUP(Tableau23[[#This Row],[UAI ]],[2]!SuiviForumLyceeCibles[[UAI]:[Tél contact 2]],18,0)="","",VLOOKUP(Tableau23[[#This Row],[UAI ]],[2]!SuiviForumLyceeCibles[[UAI]:[Tél contact 2]],18,0)),"") | Q105: =IFERROR(IF(VLOOKUP(Tableau23[[#This Row],[UAI ]],[2]!SuiviForumLyceeCibles[[UAI]:[Tél contact 2]],19,0)="","",VLOOKUP(Tableau23[[#This Row],[UAI ]],[2]!SuiviForumLyceeCibles[[UAI]:[Tél contact 2]],19,0)),"") | R105: =IFERROR(IF(VLOOKUP(Tableau23[[#This Row],[UAI ]],[2]!SuiviForumLyceeCibles[[UAI]:[Tél contact 2]],20,0)="","",VLOOKUP(Tableau23[[#This Row],[UAI ]],[2]!SuiviForumLyceeCibles[[UAI]:[Tél contact 2]],20,0)),"") | S105: =IFERROR(IF(VLOOKUP(Tableau23[[#This Row],[UAI ]],[2]!SuiviForumLyceeCibles[[UAI]:[Tél contact 2]],21,0)="","",VLOOKUP(Tableau23[[#This Row],[UAI ]],[2]!SuiviForumLyceeCibles[[UAI]:[Tél contact 2]],21,0)),"") | T105: =IFERROR(IF(VLOOKUP(Tableau23[[#This Row],[UAI ]],[2]!SuiviForumLyceeCibles[[UAI]:[Tél contact 2]],22,0)="","",VLOOKUP(Tableau23[[#This Row],[UAI ]],[2]!SuiviForumLyceeCibles[[UAI]:[Tél contact 2]],22,0)),"") | U105: =IFERROR(IF(VLOOKUP(Tableau23[[#This Row],[UAI ]],[2]!SuiviForumLyceeCibles[[UAI]:[Tél contact 2]],23,0)="","",VLOOKUP(Tableau23[[#This Row],[UAI ]],[2]!SuiviForumLyceeCibles[[UAI]:[Tél contact 2]],23,0)),"") | V105: =IFERROR(IF(VLOOKUP(Tableau23[[#This Row],[UAI ]],[2]!SuiviForumLyceeCibles[[UAI]:[Tél contact 2]],24,0)="","",VLOOKUP(Tableau23[[#This Row],[UAI ]],[2]!SuiviForumLyceeCibles[[UAI]:[Tél contact 2]],24,0)),"") | W105: =IFERROR(IF(VLOOKUP(Tableau23[[#This Row],[UAI ]],[2]!SuiviForumLyceeCibles[[UAI]:[Tél contact 2]],11,0)="","",VLOOKUP(Tableau23[[#This Row],[UAI ]],[2]!SuiviForumLyceeCibles[[UAI]:[Tél contact 2]],11,0)),"") -> Oui lycée ciblé ingénieur, la DPI organise sa présence
A106: INGENIEUR | B106: =IFERROR(IF(VLOOKUP(Tableau23[[#This Row],[UAI ]],[2]!SuiviForumLyceeCibles[[UAI]:[Tél contact 2]],5,0)="","",VLOOKUP(Tableau23[[#This Row],[UAI ]],[2]!SuiviForumLyceeCibles[[UAI]:[Tél contact 2]],5,0)),"") | C106: =IFERROR(IF(VLOOKUP(Tableau23[[#This Row],[UAI ]],[2]!SuiviForumLyceeCibles[[UAI]:[Tél contact 2]],6,0)="","",VLOOKUP(Tableau23[[#This Row],[UAI ]],[2]!SuiviForumLyceeCibles[[UAI]:[Tél contact 2]],6,0)),"") | D106: =IFERROR(VLOOKUP(Tableau23[[#This Row],[UAI ]],[2]!SuiviForumLyceeCibles[[UAI]:[Tél contact 2]],2,0),"") -> Forum d'orientation | E106: =IFERROR(VLOOKUP(Tableau23[[#This Row],[UAI ]],[2]!SuiviForumLyceeCibles[[UAI]:[Tél contact 2]],3,0),"") -> Lycées ciblés Ingénieur | F106: TRYCJ Mb Ehipjo | G106: NEJUCS | H106: 49 | I106: 9863160Q | J106: =IFERROR(VLOOKUP(Tableau23[[#This Row],[Dpt]],'Table régions'!$A$2:$C$102,3,0),"") -> Pays de la Loire | K106: =IFERROR(IF(VLOOKUP(Tableau23[[#This Row],[UAI ]],[2]!SuiviForumLyceeCibles[[UAI]:[Tél contact 2]],4,0)="","",VLOOKUP(Tableau23[[#This Row],[UAI ]],[2]!SuiviForumLyceeCibles[[UAI]:[Tél contact 2]],4,0)),"") -> Terminale | L106: =IFERROR(IF(VLOOKUP(Tableau23[[#This Row],[UAI ]],[2]!SuiviForumLyceeCibles[[UAI]:[Tél contact 2]],7,0)="","",VLOOKUP(Tableau23[[#This Row],[UAI ]],[2]!SuiviForumLyceeCibles[[UAI]:[Tél contact 2]],7,0)),"") | M106: =IFERROR(IF(VLOOKUP(Tableau23[[#This Row],[UAI ]],[2]!SuiviForumLyceeCibles[[UAI]:[Tél contact 2]],9,0)="","",VLOOKUP(Tableau23[[#This Row],[UAI ]],[2]!SuiviForumLyceeCibles[[UAI]:[Tél contact 2]],9,0)),"") | N106: =IFERROR(IF(VLOOKUP(Tableau23[[#This Row],[UAI ]],[2]!SuiviForumLyceeCibles[[UAI]:[Tél contact 2]],10,0)="","",VLOOKUP(Tableau23[[#This Row],[UAI ]],[2]!SuiviForumLyceeCibles[[UAI]:[Tél contact 2]],10,0)),"") -> Pas de retour étudiant | O106: =IFERROR(IF(VLOOKUP(Tableau23[[#This Row],[UAI ]],[2]!SuiviForumLyceeCibles[[UAI]:[Tél contact 2]],17,0)="","",VLOOKUP(Tableau23[[#This Row],[UAI ]],[2]!SuiviForumLyceeCibles[[UAI]:[Tél contact 2]],17,0)),"") | P106: =IFERROR(IF(VLOOKUP(Tableau23[[#This Row],[UAI ]],[2]!SuiviForumLyceeCibles[[UAI]:[Tél contact 2]],18,0)="","",VLOOKUP(Tableau23[[#This Row],[UAI ]],[2]!SuiviForumLyceeCibles[[UAI]:[Tél contact 2]],18,0)),"") | Q106: =IFERROR(IF(VLOOKUP(Tableau23[[#This Row],[UAI ]],[2]!SuiviForumLyceeCibles[[UAI]:[Tél contact 2]],19,0)="","",VLOOKUP(Tableau23[[#This Row],[UAI ]],[2]!SuiviForumLyceeCibles[[UAI]:[Tél contact 2]],19,0)),"") | R106: =IFERROR(IF(VLOOKUP(Tableau23[[#This Row],[UAI ]],[2]!SuiviForumLyceeCibles[[UAI]:[Tél contact 2]],20,0)="","",VLOOKUP(Tableau23[[#This Row],[UAI ]],[2]!SuiviForumLyceeCibles[[UAI]:[Tél contact 2]],20,0)),"") | S106: =IFERROR(IF(VLOOKUP(Tableau23[[#This Row],[UAI ]],[2]!SuiviForumLyceeCibles[[UAI]:[Tél contact 2]],21,0)="","",VLOOKUP(Tableau23[[#This Row],[UAI ]],[2]!SuiviForumLyceeCibles[[UAI]:[Tél contact 2]],21,0)),"") | T106: =IFERROR(IF(VLOOKUP(Tableau23[[#This Row],[UAI ]],[2]!SuiviForumLyceeCibles[[UAI]:[Tél contact 2]],22,0)="","",VLOOKUP(Tableau23[[#This Row],[UAI ]],[2]!SuiviForumLyceeCibles[[UAI]:[Tél contact 2]],22,0)),"") | U106: =IFERROR(IF(VLOOKUP(Tableau23[[#This Row],[UAI ]],[2]!SuiviForumLyceeCibles[[UAI]:[Tél contact 2]],23,0)="","",VLOOKUP(Tableau23[[#This Row],[UAI ]],[2]!SuiviForumLyceeCibles[[UAI]:[Tél contact 2]],23,0)),"") | V106: =IFERROR(IF(VLOOKUP(Tableau23[[#This Row],[UAI ]],[2]!SuiviForumLyceeCibles[[UAI]:[Tél contact 2]],24,0)="","",VLOOKUP(Tableau23[[#This Row],[UAI ]],[2]!SuiviForumLyceeCibles[[UAI]:[Tél contact 2]],24,0)),"") | W106: =IFERROR(IF(VLOOKUP(Tableau23[[#This Row],[UAI ]],[2]!SuiviForumLyceeCibles[[UAI]:[Tél contact 2]],11,0)="","",VLOOKUP(Tableau23[[#This Row],[UAI ]],[2]!SuiviForumLyceeCibles[[UAI]:[Tél contact 2]],11,0)),"") -> Oui lycée ciblé ingénieur, la DPI organise sa présence
A107: INGENIEUR | B107: =IFERROR(IF(VLOOKUP(Tableau23[[#This Row],[UAI ]],[2]!SuiviForumLyceeCibles[[UAI]:[Tél contact 2]],5,0)="","",VLOOKUP(Tableau23[[#This Row],[UAI ]],[2]!SuiviForumLyceeCibles[[UAI]:[Tél contact 2]],5,0)),"") | C107: =IFERROR(IF(VLOOKUP(Tableau23[[#This Row],[UAI ]],[2]!SuiviForumLyceeCibles[[UAI]:[Tél contact 2]],6,0)="","",VLOOKUP(Tableau23[[#This Row],[UAI ]],[2]!SuiviForumLyceeCibles[[UAI]:[Tél contact 2]],6,0)),"") | D107: =IFERROR(VLOOKUP(Tableau23[[#This Row],[UAI ]],[2]!SuiviForumLyceeCibles[[UAI]:[Tél contact 2]],2,0),"") -> Forum d'orientation | E107: =IFERROR(VLOOKUP(Tableau23[[#This Row],[UAI ]],[2]!SuiviForumLyceeCibles[[UAI]:[Tél contact 2]],3,0),"") -> Lycées ciblés Ingénieur | F107: Xygft Oltfair pi Mlyh Wpajaq | G107: IXZRBT | H107: 49 | I107: 7316816W | J107: =IFERROR(VLOOKUP(Tableau23[[#This Row],[Dpt]],'Table régions'!$A$2:$C$102,3,0),"") -> Pays de la Loire | K107: =IFERROR(IF(VLOOKUP(Tableau23[[#This Row],[UAI ]],[2]!SuiviForumLyceeCibles[[UAI]:[Tél contact 2]],4,0)="","",VLOOKUP(Tableau23[[#This Row],[UAI ]],[2]!SuiviForumLyceeCibles[[UAI]:[Tél contact 2]],4,0)),"") -> Terminale | L107: =IFERROR(IF(VLOOKUP(Tableau23[[#This Row],[UAI ]],[2]!SuiviForumLyceeCibles[[UAI]:[Tél contact 2]],7,0)="","",VLOOKUP(Tableau23[[#This Row],[UAI ]],[2]!SuiviForumLyceeCibles[[UAI]:[Tél contact 2]],7,0)),"") | M107: =IFERROR(IF(VLOOKUP(Tableau23[[#This Row],[UAI ]],[2]!SuiviForumLyceeCibles[[UAI]:[Tél contact 2]],9,0)="","",VLOOKUP(Tableau23[[#This Row],[UAI ]],[2]!SuiviForumLyceeCibles[[UAI]:[Tél contact 2]],9,0)),"") | N107: =IFERROR(IF(VLOOKUP(Tableau23[[#This Row],[UAI ]],[2]!SuiviForumLyceeCibles[[UAI]:[Tél contact 2]],10,0)="","",VLOOKUP(Tableau23[[#This Row],[UAI ]],[2]!SuiviForumLyceeCibles[[UAI]:[Tél contact 2]],10,0)),"") -> Pas de retour étudiant | O107: =IFERROR(IF(VLOOKUP(Tableau23[[#This Row],[UAI ]],[2]!SuiviForumLyceeCibles[[UAI]:[Tél contact 2]],17,0)="","",VLOOKUP(Tableau23[[#This Row],[UAI ]],[2]!SuiviForumLyceeCibles[[UAI]:[Tél contact 2]],17,0)),"") | P107: =IFERROR(IF(VLOOKUP(Tableau23[[#This Row],[UAI ]],[2]!SuiviForumLyceeCibles[[UAI]:[Tél contact 2]],18,0)="","",VLOOKUP(Tableau23[[#This Row],[UAI ]],[2]!SuiviForumLyceeCibles[[UAI]:[Tél contact 2]],18,0)),"") | Q107: =IFERROR(IF(VLOOKUP(Tableau23[[#This Row],[UAI ]],[2]!SuiviForumLyceeCibles[[UAI]:[Tél contact 2]],19,0)="","",VLOOKUP(Tableau23[[#This Row],[UAI ]],[2]!SuiviForumLyceeCibles[[UAI]:[Tél contact 2]],19,0)),"") | R107: =IFERROR(IF(VLOOKUP(Tableau23[[#This Row],[UAI ]],[2]!SuiviForumLyceeCibles[[UAI]:[Tél contact 2]],20,0)="","",VLOOKUP(Tableau23[[#This Row],[UAI ]],[2]!SuiviForumLyceeCibles[[UAI]:[Tél contact 2]],20,0)),"") | S107: =IFERROR(IF(VLOOKUP(Tableau23[[#This Row],[UAI ]],[2]!SuiviForumLyceeCibles[[UAI]:[Tél contact 2]],21,0)="","",VLOOKUP(Tableau23[[#This Row],[UAI ]],[2]!SuiviForumLyceeCibles[[UAI]:[Tél contact 2]],21,0)),"") | T107: =IFERROR(IF(VLOOKUP(Tableau23[[#This Row],[UAI ]],[2]!SuiviForumLyceeCibles[[UAI]:[Tél contact 2]],22,0)="","",VLOOKUP(Tableau23[[#This Row],[UAI ]],[2]!SuiviForumLyceeCibles[[UAI]:[Tél contact 2]],22,0)),"") | U107: =IFERROR(IF(VLOOKUP(Tableau23[[#This Row],[UAI ]],[2]!SuiviForumLyceeCibles[[UAI]:[Tél contact 2]],23,0)="","",VLOOKUP(Tableau23[[#This Row],[UAI ]],[2]!SuiviForumLyceeCibles[[UAI]:[Tél contact 2]],23,0)),"") | V107: =IFERROR(IF(VLOOKUP(Tableau23[[#This Row],[UAI ]],[2]!SuiviForumLyceeCibles[[UAI]:[Tél contact 2]],24,0)="","",VLOOKUP(Tableau23[[#This Row],[UAI ]],[2]!SuiviForumLyceeCibles[[UAI]:[Tél contact 2]],24,0)),"") | W107: =IFERROR(IF(VLOOKUP(Tableau23[[#This Row],[UAI ]],[2]!SuiviForumLyceeCibles[[UAI]:[Tél contact 2]],11,0)="","",VLOOKUP(Tableau23[[#This Row],[UAI ]],[2]!SuiviForumLyceeCibles[[UAI]:[Tél contact 2]],11,0)),"") -> Oui lycée ciblé ingénieur, la DPI organise sa présence
... A121: INGENIEUR | B121: =IFERROR(IF(VLOOKUP(Tableau23[[#This Row],[UAI ]],[2]!SuiviForumLyceeCibles[[UAI]:[Tél contact 2]],5,0)="","",VLOOKUP(Tableau23[[#This Row],[UAI ]],[2]!SuiviForumLyceeCibles[[UAI]:[Tél contact 2]],5,0)),"") | C121: =IFERROR(IF(VLOOKUP(Tableau23[[#This Row],[UAI ]],[2]!SuiviForumLyceeCibles[[UAI]:[Tél contact 2]],6,0)="","",VLOOKUP(Tableau23[[#This Row],[UAI ]],[2]!SuiviForumLyceeCibles[[UAI]:[Tél contact 2]],6,0)),"") | D121: =IFERROR(VLOOKUP(Tableau23[[#This Row],[UAI ]],[2]!SuiviForumLyceeCibles[[UAI]:[Tél contact 2]],2,0),"") -> Forum d'orientation | E121: =IFERROR(VLOOKUP(Tableau23[[#This Row],[UAI ]],[2]!SuiviForumLyceeCibles[[UAI]:[Tél contact 2]],3,0),"") -> Lycées ciblés Ingénieur | F121: Zrhkc Xlpamzwovy Pygw IIXZC | G121: UJPABI | H121: 76 | I121: 6085510Q | J121: =IFERROR(VLOOKUP(Tableau23[[#This Row],[Dpt]],'Table régions'!$A$2:$C$102,3,0),"") -> Normandie | K121: =IFERROR(IF(VLOOKUP(Tableau23[[#This Row],[UAI ]],[2]!SuiviForumLyceeCibles[[UAI]:[Tél contact 2]],4,0)="","",VLOOKUP(Tableau23[[#This Row],[UAI ]],[2]!SuiviForumLyceeCibles[[UAI]:[Tél contact 2]],4,0)),"") -> Terminale | L121: =IFERROR(IF(VLOOKUP(Tableau23[[#This Row],[UAI ]],[2]!SuiviForumLyceeCibles[[UAI]:[Tél contact 2]],7,0)="","",VLOOKUP(Tableau23[[#This Row],[UAI ]],[2]!SuiviForumLyceeCibles[[UAI]:[Tél contact 2]],7,0)),"") | M121: =IFERROR(IF(VLOOKUP(Tableau23[[#This Row],[UAI ]],[2]!SuiviForumLyceeCibles[[UAI]:[Tél contact 2]],9,0)="","",VLOOKUP(Tableau23[[#This Row],[UAI ]],[2]!SuiviForumLyceeCibles[[UAI]:[Tél contact 2]],9,0)),"") | N121: =IFERROR(IF(VLOOKUP(Tableau23[[#This Row],[UAI ]],[2]!SuiviForumLyceeCibles[[UAI]:[Tél contact 2]],10,0)="","",VLOOKUP(Tableau23[[#This Row],[UAI ]],[2]!SuiviForumLyceeCibles[[UAI]:[Tél contact 2]],10,0)),"") -> Pas de retour étudiant | O121: =IFERROR(IF(VLOOKUP(Tableau23[[#This Row],[UAI ]],[2]!SuiviForumLyceeCibles[[UAI]:[Tél contact 2]],17,0)="","",VLOOKUP(Tableau23[[#This Row],[UAI ]],[2]!SuiviForumLyceeCibles[[UAI]:[Tél contact 2]],17,0)),"") | P121: =IFERROR(IF(VLOOKUP(Tableau23[[#This Row],[UAI ]],[2]!SuiviForumLyceeCibles[[UAI]:[Tél contact 2]],18,0)="","",VLOOKUP(Tableau23[[#This Row],[UAI ]],[2]!SuiviForumLyceeCibles[[UAI]:[Tél contact 2]],18,0)),"") | Q121: =IFERROR(IF(VLOOKUP(Tableau23[[#This Row],[UAI ]],[2]!SuiviForumLyceeCibles[[UAI]:[Tél contact 2]],19,0)="","",VLOOKUP(Tableau23[[#This Row],[UAI ]],[2]!SuiviForumLyceeCibles[[UAI]:[Tél contact 2]],19,0)),"") | R121: =IFERROR(IF(VLOOKUP(Tableau23[[#This Row],[UAI ]],[2]!SuiviForumLyceeCibles[[UAI]:[Tél contact 2]],20,0)="","",VLOOKUP(Tableau23[[#This Row],[UAI ]],[2]!SuiviForumLyceeCibles[[UAI]:[Tél contact 2]],20,0)),"") | S121: =IFERROR(IF(VLOOKUP(Tableau23[[#This Row],[UAI ]],[2]!SuiviForumLyceeCibles[[UAI]:[Tél contact 2]],21,0)="","",VLOOKUP(Tableau23[[#This Row],[UAI ]],[2]!SuiviForumLyceeCibles[[UAI]:[Tél contact 2]],21,0)),"") | T121: =IFERROR(IF(VLOOKUP(Tableau23[[#This Row],[UAI ]],[2]!SuiviForumLyceeCibles[[UAI]:[Tél contact 2]],22,0)="","",VLOOKUP(Tableau23[[#This Row],[UAI ]],[2]!SuiviForumLyceeCibles[[UAI]:[Tél contact 2]],22,0)),"") | U121: =IFERROR(IF(VLOOKUP(Tableau23[[#This Row],[UAI ]],[2]!SuiviForumLyceeCibles[[UAI]:[Tél contact 2]],23,0)="","",VLOOKUP(Tableau23[[#This Row],[UAI ]],[2]!SuiviForumLyceeCibles[[UAI]:[Tél contact 2]],23,0)),"") | V121: =IFERROR(IF(VLOOKUP(Tableau23[[#This Row],[UAI ]],[2]!SuiviForumLyceeCibles[[UAI]:[Tél contact 2]],24,0)="","",VLOOKUP(Tableau23[[#This Row],[UAI ]],[2]!SuiviForumLyceeCibles[[UAI]:[Tél contact 2]],24,0)),"") | W121: =IFERROR(IF(VLOOKUP(Tableau23[[#This Row],[UAI ]],[2]!SuiviForumLyceeCibles[[UAI]:[Tél contact 2]],11,0)="","",VLOOKUP(Tableau23[[#This Row],[UAI ]],[2]!SuiviForumLyceeCibles[[UAI]:[Tél contact 2]],11,0)),"") -> Oui lycée ciblé ingénieur, la DPI organise sa présence
A122: INGENIEUR | B122: =IFERROR(IF(VLOOKUP(Tableau23[[#This Row],[UAI ]],[2]!SuiviForumLyceeCibles[[UAI]:[Tél contact 2]],5,0)="","",VLOOKUP(Tableau23[[#This Row],[UAI ]],[2]!SuiviForumLyceeCibles[[UAI]:[Tél contact 2]],5,0)),"") | C122: =IFERROR(IF(VLOOKUP(Tableau23[[#This Row],[UAI ]],[2]!SuiviForumLyceeCibles[[UAI]:[Tél contact 2]],6,0)="","",VLOOKUP(Tableau23[[#This Row],[UAI ]],[2]!SuiviForumLyceeCibles[[UAI]:[Tél contact 2]],6,0)),"") | D122: =IFERROR(VLOOKUP(Tableau23[[#This Row],[UAI ]],[2]!SuiviForumLyceeCibles[[UAI]:[Tél contact 2]],2,0),"") -> Forum d'orientation | E122: =IFERROR(VLOOKUP(Tableau23[[#This Row],[UAI ]],[2]!SuiviForumLyceeCibles[[UAI]:[Tél contact 2]],3,0),"") -> Lycées ciblés Ingénieur | F122: Yzwndykpbkw Jdtad Yqzmtk | G122: GYSXK | H122: 77 | I122: 8678859Y | J122: =IFERROR(VLOOKUP(Tableau23[[#This Row],[Dpt]],'Table régions'!$A$2:$C$102,3,0),"") -> Île-de-France | K122: =IFERROR(IF(VLOOKUP(Tableau23[[#This Row],[UAI ]],[2]!SuiviForumLyceeCibles[[UAI]:[Tél contact 2]],4,0)="","",VLOOKUP(Tableau23[[#This Row],[UAI ]],[2]!SuiviForumLyceeCibles[[UAI]:[Tél contact 2]],4,0)),"") -> Terminale | L122: =IFERROR(IF(VLOOKUP(Tableau23[[#This Row],[UAI ]],[2]!SuiviForumLyceeCibles[[UAI]:[Tél contact 2]],7,0)="","",VLOOKUP(Tableau23[[#This Row],[UAI ]],[2]!SuiviForumLyceeCibles[[UAI]:[Tél contact 2]],7,0)),"") | M122: =IFERROR(IF(VLOOKUP(Tableau23[[#This Row],[UAI ]],[2]!SuiviForumLyceeCibles[[UAI]:[Tél contact 2]],9,0)="","",VLOOKUP(Tableau23[[#This Row],[UAI ]],[2]!SuiviForumLyceeCibles[[UAI]:[Tél contact 2]],9,0)),"") | N122: =IFERROR(IF(VLOOKUP(Tableau23[[#This Row],[UAI ]],[2]!SuiviForumLyceeCibles[[UAI]:[Tél contact 2]],10,0)="","",VLOOKUP(Tableau23[[#This Row],[UAI ]],[2]!SuiviForumLyceeCibles[[UAI]:[Tél contact 2]],10,0)),"") -> Pas de retour étudiant | O122: =IFERROR(IF(VLOOKUP(Tableau23[[#This Row],[UAI ]],[2]!SuiviForumLyceeCibles[[UAI]:[Tél contact 2]],17,0)="","",VLOOKUP(Tableau23[[#This Row],[UAI ]],[2]!SuiviForumLyceeCibles[[UAI]:[Tél contact 2]],17,0)),"") | P122: =IFERROR(IF(VLOOKUP(Tableau23[[#This Row],[UAI ]],[2]!SuiviForumLyceeCibles[[UAI]:[Tél contact 2]],18,0)="","",VLOOKUP(Tableau23[[#This Row],[UAI ]],[2]!SuiviForumLyceeCibles[[UAI]:[Tél contact 2]],18,0)),"") | Q122: =IFERROR(IF(VLOOKUP(Tableau23[[#This Row],[UAI ]],[2]!SuiviForumLyceeCibles[[UAI]:[Tél contact 2]],19,0)="","",VLOOKUP(Tableau23[[#This Row],[UAI ]],[2]!SuiviForumLyceeCibles[[UAI]:[Tél contact 2]],19,0)),"") | R122: =IFERROR(IF(VLOOKUP(Tableau23[[#This Row],[UAI ]],[2]!SuiviForumLyceeCibles[[UAI]:[Tél contact 2]],20,0)="","",VLOOKUP(Tableau23[[#This Row],[UAI ]],[2]!SuiviForumLyceeCibles[[UAI]:[Tél contact 2]],20,0)),"") | S122: =IFERROR(IF(VLOOKUP(Tableau23[[#This Row],[UAI ]],[2]!SuiviForumLyceeCibles[[UAI]:[Tél contact 2]],21,0)="","",VLOOKUP(Tableau23[[#This Row],[UAI ]],[2]!SuiviForumLyceeCibles[[UAI]:[Tél contact 2]],21,0)),"") | T122: =IFERROR(IF(VLOOKUP(Tableau23[[#This Row],[UAI ]],[2]!SuiviForumLyceeCibles[[UAI]:[Tél contact 2]],22,0)="","",VLOOKUP(Tableau23[[#This Row],[UAI ]],[2]!SuiviForumLyceeCibles[[UAI]:[Tél contact 2]],22,0)),"") | U122: =IFERROR(IF(VLOOKUP(Tableau23[[#This Row],[UAI ]],[2]!SuiviForumLyceeCibles[[UAI]:[Tél contact 2]],23,0)="","",VLOOKUP(Tableau23[[#This Row],[UAI ]],[2]!SuiviForumLyceeCibles[[UAI]:[Tél contact 2]],23,0)),"") | V122: =IFERROR(IF(VLOOKUP(Tableau23[[#This Row],[UAI ]],[2]!SuiviForumLyceeCibles[[UAI]:[Tél contact 2]],24,0)="","",VLOOKUP(Tableau23[[#This Row],[UAI ]],[2]!SuiviForumLyceeCibles[[UAI]:[Tél contact 2]],24,0)),"") | W122: =IFERROR(IF(VLOOKUP(Tableau23[[#This Row],[UAI ]],[2]!SuiviForumLyceeCibles[[UAI]:[Tél contact 2]],11,0)="","",VLOOKUP(Tableau23[[#This Row],[UAI ]],[2]!SuiviForumLyceeCibles[[UAI]:[Tél contact 2]],11,0)),"") -> Oui lycée ciblé ingénieur, la DPI organise sa présence | X122: Non, ça ne nous interesse pas
A123: INGENIEUR | B123: =IFERROR(IF(VLOOKUP(Tableau23[[#This Row],[UAI ]],[2]!SuiviForumLyceeCibles[[UAI]:[Tél contact 2]],5,0)="","",VLOOKUP(Tableau23[[#This Row],[UAI ]],[2]!SuiviForumLyceeCibles[[UAI]:[Tél contact 2]],5,0)),"") | C123: =IFERROR(IF(VLOOKUP(Tableau23[[#This Row],[UAI ]],[2]!SuiviForumLyceeCibles[[UAI]:[Tél contact 2]],6,0)="","",VLOOKUP(Tableau23[[#This Row],[UAI ]],[2]!SuiviForumLyceeCibles[[UAI]:[Tél contact 2]],6,0)),"") | D123: =IFERROR(VLOOKUP(Tableau23[[#This Row],[UAI ]],[2]!SuiviForumLyceeCibles[[UAI]:[Tél contact 2]],2,0),"") -> Forum d'orientation | E123: =IFERROR(VLOOKUP(Tableau23[[#This Row],[UAI ]],[2]!SuiviForumLyceeCibles[[UAI]:[Tél contact 2]],3,0),"") -> Lycées ciblés Ingénieur | F123: Njeeu Oborqj Qlzfkrdig | G123: SF ENHME WA WRYQX | H123: 78 | I123: 9461416K | J123: =IFERROR(VLOOKUP(Tableau23[[#This Row],[Dpt]],'Table régions'!$A$2:$C$102,3,0),"") -> Île-de-France | K123: =IFERROR(IF(VLOOKUP(Tableau23[[#This Row],[UAI ]],[2]!SuiviForumLyceeCibles[[UAI]:[Tél contact 2]],4,0)="","",VLOOKUP(Tableau23[[#This Row],[UAI ]],[2]!SuiviForumLyceeCibles[[UAI]:[Tél contact 2]],4,0)),"") -> Terminale | L123: =IFERROR(IF(VLOOKUP(Tableau23[[#This Row],[UAI ]],[2]!SuiviForumLyceeCibles[[UAI]:[Tél contact 2]],7,0)="","",VLOOKUP(Tableau23[[#This Row],[UAI ]],[2]!SuiviForumLyceeCibles[[UAI]:[Tél contact 2]],7,0)),"") | M123: =IFERROR(IF(VLOOKUP(Tableau23[[#This Row],[UAI ]],[2]!SuiviForumLyceeCibles[[UAI]:[Tél contact 2]],9,0)="","",VLOOKUP(Tableau23[[#This Row],[UAI ]],[2]!SuiviForumLyceeCibles[[UAI]:[Tél contact 2]],9,0)),"") | N123: =IFERROR(IF(VLOOKUP(Tableau23[[#This Row],[UAI ]],[2]!SuiviForumLyceeCibles[[UAI]:[Tél contact 2]],10,0)="","",VLOOKUP(Tableau23[[#This Row],[UAI ]],[2]!SuiviForumLyceeCibles[[UAI]:[Tél contact 2]],10,0)),"") -> Pas de retour étudiant | O123: =IFERROR(IF(VLOOKUP(Tableau23[[#This Row],[UAI ]],[2]!SuiviForumLyceeCibles[[UAI]:[Tél contact 2]],17,0)="","",VLOOKUP(Tableau23[[#This Row],[UAI ]],[2]!SuiviForumLyceeCibles[[UAI]:[Tél contact 2]],17,0)),"") | P123: =IFERROR(IF(VLOOKUP(Tableau23[[#This Row],[UAI ]],[2]!SuiviForumLyceeCibles[[UAI]:[Tél contact 2]],18,0)="","",VLOOKUP(Tableau23[[#This Row],[UAI ]],[2]!SuiviForumLyceeCibles[[UAI]:[Tél contact 2]],18,0)),"") | Q123: =IFERROR(IF(VLOOKUP(Tableau23[[#This Row],[UAI ]],[2]!SuiviForumLyceeCibles[[UAI]:[Tél contact 2]],19,0)="","",VLOOKUP(Tableau23[[#This Row],[UAI ]],[2]!SuiviForumLyceeCibles[[UAI]:[Tél contact 2]],19,0)),"") | R123: =IFERROR(IF(VLOOKUP(Tableau23[[#This Row],[UAI ]],[2]!SuiviForumLyceeCibles[[UAI]:[Tél contact 2]],20,0)="","",VLOOKUP(Tableau23[[#This Row],[UAI ]],[2]!SuiviForumLyceeCibles[[UAI]:[Tél contact 2]],20,0)),"") | S123: =IFERROR(IF(VLOOKUP(Tableau23[[#This Row],[UAI ]],[2]!SuiviForumLyceeCibles[[UAI]:[Tél contact 2]],21,0)="","",VLOOKUP(Tableau23[[#This Row],[UAI ]],[2]!SuiviForumLyceeCibles[[UAI]:[Tél contact 2]],21,0)),"") | T123: =IFERROR(IF(VLOOKUP(Tableau23[[#This Row],[UAI ]],[2]!SuiviForumLyceeCibles[[UAI]:[Tél contact 2]],22,0)="","",VLOOKUP(Tableau23[[#This Row],[UAI ]],[2]!SuiviForumLyceeCibles[[UAI]:[Tél contact 2]],22,0)),"") | U123: =IFERROR(IF(VLOOKUP(Tableau23[[#This Row],[UAI ]],[2]!SuiviForumLyceeCibles[[UAI]:[Tél contact 2]],23,0)="","",VLOOKUP(Tableau23[[#This Row],[UAI ]],[2]!SuiviForumLyceeCibles[[UAI]:[Tél contact 2]],23,0)),"") | V123: =IFERROR(IF(VLOOKUP(Tableau23[[#This Row],[UAI ]],[2]!SuiviForumLyceeCibles[[UAI]:[Tél contact 2]],24,0)="","",VLOOKUP(Tableau23[[#This Row],[UAI ]],[2]!SuiviForumLyceeCibles[[UAI]:[Tél contact 2]],24,0)),"") | W123: =IFERROR(IF(VLOOKUP(Tableau23[[#This Row],[UAI ]],[2]!SuiviForumLyceeCibles[[UAI]:[Tél contact 2]],11,0)="","",VLOOKUP(Tableau23[[#This Row],[UAI ]],[2]!SuiviForumLyceeCibles[[UAI]:[Tél contact 2]],11,0)),"") -> Oui lycée ciblé ingénieur, la DPI organise sa présence
A124: INGENIEUR | B124: =IFERROR(IF(VLOOKUP(Tableau23[[#This Row],[UAI ]],[2]!SuiviForumLyceeCibles[[UAI]:[Tél contact 2]],5,0)="","",VLOOKUP(Tableau23[[#This Row],[UAI ]],[2]!SuiviForumLyceeCibles[[UAI]:[Tél contact 2]],5,0)),"") | C124: =IFERROR(IF(VLOOKUP(Tableau23[[#This Row],[UAI ]],[2]!SuiviForumLyceeCibles[[UAI]:[Tél contact 2]],6,0)="","",VLOOKUP(Tableau23[[#This Row],[UAI ]],[2]!SuiviForumLyceeCibles[[UAI]:[Tél contact 2]],6,0)),"") | D124: =IFERROR(VLOOKUP(Tableau23[[#This Row],[UAI ]],[2]!SuiviForumLyceeCibles[[UAI]:[Tél contact 2]],2,0),"") -> Forum d'orientation | E124: =IFERROR(VLOOKUP(Tableau23[[#This Row],[UAI ]],[2]!SuiviForumLyceeCibles[[UAI]:[Tél contact 2]],3,0),"") -> Lycées ciblés Ingénieur | F124: Zfqcz Pwcfuckj se Zjtup Erhovga ri Gjhb/Wzaoowwijz | G124: JB BEENATO WZ WCRE | H124: 78 | I124: 5786607P | J124: =IFERROR(VLOOKUP(Tableau23[[#This Row],[Dpt]],'Table régions'!$A$2:$C$102,3,0),"") -> Île-de-France | K124: =IFERROR(IF(VLOOKUP(Tableau23[[#This Row],[UAI ]],[2]!SuiviForumLyceeCibles[[UAI]:[Tél contact 2]],4,0)="","",VLOOKUP(Tableau23[[#This Row],[UAI ]],[2]!SuiviForumLyceeCibles[[UAI]:[Tél contact 2]],4,0)),"") -> Terminale | L124: =IFERROR(IF(VLOOKUP(Tableau23[[#This Row],[UAI ]],[2]!SuiviForumLyceeCibles[[UAI]:[Tél contact 2]],7,0)="","",VLOOKUP(Tableau23[[#This Row],[UAI ]],[2]!SuiviForumLyceeCibles[[UAI]:[Tél contact 2]],7,0)),"") | M124: =IFERROR(IF(VLOOKUP(Tableau23[[#This Row],[UAI ]],[2]!SuiviForumLyceeCibles[[UAI]:[Tél contact 2]],9,0)="","",VLOOKUP(Tableau23[[#This Row],[UAI ]],[2]!SuiviForumLyceeCibles[[UAI]:[Tél contact 2]],9,0)),"") | N124: =IFERROR(IF(VLOOKUP(Tableau23[[#This Row],[UAI ]],[2]!SuiviForumLyceeCibles[[UAI]:[Tél contact 2]],10,0)="","",VLOOKUP(Tableau23[[#This Row],[UAI ]],[2]!SuiviForumLyceeCibles[[UAI]:[Tél contact 2]],10,0)),"") -> Demande de présentation | O124: =IFERROR(IF(VLOOKUP(Tableau23[[#This Row],[UAI ]],[2]!SuiviForumLyceeCibles[[UAI]:[Tél contact 2]],17,0)="","",VLOOKUP(Tableau23[[#This Row],[UAI ]],[2]!SuiviForumLyceeCibles[[UAI]:[Tél contact 2]],17,0)),"") | P124: =IFERROR(IF(VLOOKUP(Tableau23[[#This Row],[UAI ]],[2]!SuiviForumLyceeCibles[[UAI]:[Tél contact 2]],18,0)="","",VLOOKUP(Tableau23[[#This Row],[UAI ]],[2]!SuiviForumLyceeCibles[[UAI]:[Tél contact 2]],18,0)),"") | Q124: =IFERROR(IF(VLOOKUP(Tableau23[[#This Row],[UAI ]],[2]!SuiviForumLyceeCibles[[UAI]:[Tél contact 2]],19,0)="","",VLOOKUP(Tableau23[[#This Row],[UAI ]],[2]!SuiviForumLyceeCibles[[UAI]:[Tél contact 2]],19,0)),"") | R124: =IFERROR(IF(VLOOKUP(Tableau23[[#This Row],[UAI ]],[2]!SuiviForumLyceeCibles[[UAI]:[Tél contact 2]],20,0)="","",VLOOKUP(Tableau23[[#This Row],[UAI ]],[2]!SuiviForumLyceeCibles[[UAI]:[Tél contact 2]],20,0)),"") | S124: =IFERROR(IF(VLOOKUP(Tableau23[[#This Row],[UAI ]],[2]!SuiviForumLyceeCibles[[UAI]:[Tél contact 2]],21,0)="","",VLOOKUP(Tableau23[[#This Row],[UAI ]],[2]!SuiviForumLyceeCibles[[UAI]:[Tél contact 2]],21,0)),"") | T124: =IFERROR(IF(VLOOKUP(Tableau23[[#This Row],[UAI ]],[2]!SuiviForumLyceeCibles[[UAI]:[Tél contact 2]],22,0)="","",VLOOKUP(Tableau23[[#This Row],[UAI ]],[2]!SuiviForumLyceeCibles[[UAI]:[Tél contact 2]],22,0)),"") | U124: =IFERROR(IF(VLOOKUP(Tableau23[[#This Row],[UAI ]],[2]!SuiviForumLyceeCibles[[UAI]:[Tél contact 2]],23,0)="","",VLOOKUP(Tableau23[[#This Row],[UAI ]],[2]!SuiviForumLyceeCibles[[UAI]:[Tél contact 2]],23,0)),"") | V124: =IFERROR(IF(VLOOKUP(Tableau23[[#This Row],[UAI ]],[2]!SuiviForumLyceeCibles[[UAI]:[Tél contact 2]],24,0)="","",VLOOKUP(Tableau23[[#This Row],[UAI ]],[2]!SuiviForumLyceeCibles[[UAI]:[Tél contact 2]],24,0)),"") | W124: =IFERROR(IF(VLOOKUP(Tableau23[[#This Row],[UAI ]],[2]!SuiviForumLyceeCibles[[UAI]:[Tél contact 2]],11,0)="","",VLOOKUP(Tableau23[[#This Row],[UAI ]],[2]!SuiviForumLyceeCibles[[UAI]:[Tél contact 2]],11,0)),"") -> Oui lycée ciblé ingénieur, la DPI organise sa présence
A125: INGENIEUR | B125: =IFERROR(IF(VLOOKUP(Tableau23[[#This Row],[UAI ]],[2]!SuiviForumLyceeCibles[[UAI]:[Tél contact 2]],5,0)="","",VLOOKUP(Tableau23[[#This Row],[UAI ]],[2]!SuiviForumLyceeCibles[[UAI]:[Tél contact 2]],5,0)),"") | C125: =IFERROR(IF(VLOOKUP(Tableau23[[#This Row],[UAI ]],[2]!SuiviForumLyceeCibles[[UAI]:[Tél contact 2]],6,0)="","",VLOOKUP(Tableau23[[#This Row],[UAI ]],[2]!SuiviForumLyceeCibles[[UAI]:[Tél contact 2]],6,0)),"") | D125: =IFERROR(VLOOKUP(Tableau23[[#This Row],[UAI ]],[2]!SuiviForumLyceeCibles[[UAI]:[Tél contact 2]],2,0),"") -> Forum d'orientation | E125: =IFERROR(VLOOKUP(Tableau23[[#This Row],[UAI ]],[2]!SuiviForumLyceeCibles[[UAI]:[Tél contact 2]],3,0),"") -> Lycées ciblés Ingénieur | F125: Wofeh Nn Wdnnblq | G125: EXRGIPQZOW | H125: 78 | I125: 2656743X | J125: =IFERROR(VLOOKUP(Tableau23[[#This Row],[Dpt]],'Table régions'!$A$2:$C$102,3,0),"") -> Île-de-France | K125: =IFERROR(IF(VLOOKUP(Tableau23[[#This Row],[UAI ]],[2]!SuiviForumLyceeCibles[[UAI]:[Tél contact 2]],4,0)="","",VLOOKUP(Tableau23[[#This Row],[UAI ]],[2]!SuiviForumLyceeCibles[[UAI]:[Tél contact 2]],4,0)),"") -> Terminale | L125: =IFERROR(IF(VLOOKUP(Tableau23[[#This Row],[UAI ]],[2]!SuiviForumLyceeCibles[[UAI]:[Tél contact 2]],7,0)="","",VLOOKUP(Tableau23[[#This Row],[UAI ]],[2]!SuiviForumLyceeCibles[[UAI]:[Tél contact 2]],7,0)),"") | M125: =IFERROR(IF(VLOOKUP(Tableau23[[#This Row],[UAI ]],[2]!SuiviForumLyceeCibles[[UAI]:[Tél contact 2]],9,0)="","",VLOOKUP(Tableau23[[#This Row],[UAI ]],[2]!SuiviForumLyceeCibles[[UAI]:[Tél contact 2]],9,0)),"") | N125: =IFERROR(IF(VLOOKUP(Tableau23[[#This Row],[UAI ]],[2]!SuiviForumLyceeCibles[[UAI]:[Tél contact 2]],10,0)="","",VLOOKUP(Tableau23[[#This Row],[UAI ]],[2]!SuiviForumLyceeCibles[[UAI]:[Tél contact 2]],10,0)),"") -> Pas de retour étudiant | O125: =IFERROR(IF(VLOOKUP(Tableau23[[#This Row],[UAI ]],[2]!SuiviForumLyceeCibles[[UAI]:[Tél contact 2]],17,0)="","",VLOOKUP(Tableau23[[#This Row],[UAI ]],[2]!SuiviForumLyceeCibles[[UAI]:[Tél contact 2]],17,0)),"") | P125: =IFERROR(IF(VLOOKUP(Tableau23[[#This Row],[UAI ]],[2]!SuiviForumLyceeCibles[[UAI]:[Tél contact 2]],18,0)="","",VLOOKUP(Tableau23[[#This Row],[UAI ]],[2]!SuiviForumLyceeCibles[[UAI]:[Tél contact 2]],18,0)),"") | Q125: =IFERROR(IF(VLOOKUP(Tableau23[[#This Row],[UAI ]],[2]!SuiviForumLyceeCibles[[UAI]:[Tél contact 2]],19,0)="","",VLOOKUP(Tableau23[[#This Row],[UAI ]],[2]!SuiviForumLyceeCibles[[UAI]:[Tél contact 2]],19,0)),"") | R125: =IFERROR(IF(VLOOKUP(Tableau23[[#This Row],[UAI ]],[2]!SuiviForumLyceeCibles[[UAI]:[Tél contact 2]],20,0)="","",VLOOKUP(Tableau23[[#This Row],[UAI ]],[2]!SuiviForumLyceeCibles[[UAI]:[Tél contact 2]],20,0)),"") | S125: =IFERROR(IF(VLOOKUP(Tableau23[[#This Row],[UAI ]],[2]!SuiviForumLyceeCibles[[UAI]:[Tél contact 2]],21,0)="","",VLOOKUP(Tableau23[[#This Row],[UAI ]],[2]!SuiviForumLyceeCibles[[UAI]:[Tél contact 2]],21,0)),"") | T125: =IFERROR(IF(VLOOKUP(Tableau23[[#This Row],[UAI ]],[2]!SuiviForumLyceeCibles[[UAI]:[Tél contact 2]],22,0)="","",VLOOKUP(Tableau23[[#This Row],[UAI ]],[2]!SuiviForumLyceeCibles[[UAI]:[Tél contact 2]],22,0)),"") | U125: =IFERROR(IF(VLOOKUP(Tableau23[[#This Row],[UAI ]],[2]!SuiviForumLyceeCibles[[UAI]:[Tél contact 2]],23,0)="","",VLOOKUP(Tableau23[[#This Row],[UAI ]],[2]!SuiviForumLyceeCibles[[UAI]:[Tél contact 2]],23,0)),"") | V125: =IFERROR(IF(VLOOKUP(Tableau23[[#This Row],[UAI ]],[2]!SuiviForumLyceeCibles[[UAI]:[Tél contact 2]],24,0)="","",VLOOKUP(Tableau23[[#This Row],[UAI ]],[2]!SuiviForumLyceeCibles[[UAI]:[Tél contact 2]],24,0)),"") | W125: =IFERROR(IF(VLOOKUP(Tableau23[[#This Row],[UAI ]],[2]!SuiviForumLyceeCibles[[UAI]:[Tél contact 2]],11,0)="","",VLOOKUP(Tableau23[[#This Row],[UAI ]],[2]!SuiviForumLyceeCibles[[UAI]:[Tél contact 2]],11,0)),"") -> Oui lycée ciblé ingénieur, la DPI organise sa présence
A126: INGENIEUR | B126: =IFERROR(IF(VLOOKUP(Tableau23[[#This Row],[UAI ]],[2]!SuiviForumLyceeCibles[[UAI]:[Tél contact 2]],5,0)="","",VLOOKUP(Tableau23[[#This Row],[UAI ]],[2]!SuiviForumLyceeCibles[[UAI]:[Tél contact 2]],5,0)),"") | C126: =IFERROR(IF(VLOOKUP(Tableau23[[#This Row],[UAI ]],[2]!SuiviForumLyceeCibles[[UAI]:[Tél contact 2]],6,0)="","",VLOOKUP(Tableau23[[#This Row],[UAI ]],[2]!SuiviForumLyceeCibles[[UAI]:[Tél contact 2]],6,0)),"") | D126: =IFERROR(VLOOKUP(Tableau23[[#This Row],[UAI ]],[2]!SuiviForumLyceeCibles[[UAI]:[Tél contact 2]],2,0),"") -> Forum d'orientation | E126: =IFERROR(VLOOKUP(Tableau23[[#This Row],[UAI ]],[2]!SuiviForumLyceeCibles[[UAI]:[Tél contact 2]],3,0),"") -> Lycées ciblés Ingénieur | F126: Tsflg Elbmp Lzhm Qz Khn | G126: TX RRDAG TOE WMY | H126: 85 | I126: 2925583I | J126: =IFERROR(VLOOKUP(Tableau23[[#This Row],[Dpt]],'Table régions'!$A$2:$C$102,3,0),"") -> Pays de la Loire | K126: =IFERROR(IF(VLOOKUP(Tableau23[[#This Row],[UAI ]],[2]!SuiviForumLyceeCibles[[UAI]:[Tél contact 2]],4,0)="","",VLOOKUP(Tableau23[[#This Row],[UAI ]],[2]!SuiviForumLyceeCibles[[UAI]:[Tél contact 2]],4,0)),"") -> Terminale | L126: =IFERROR(IF(VLOOKUP(Tableau23[[#This Row],[UAI ]],[2]!SuiviForumLyceeCibles[[UAI]:[Tél contact 2]],7,0)="","",VLOOKUP(Tableau23[[#This Row],[UAI ]],[2]!SuiviForumLyceeCibles[[UAI]:[Tél contact 2]],7,0)),"") | M126: =IFERROR(IF(VLOOKUP(Tableau23[[#This Row],[UAI ]],[2]!SuiviForumLyceeCibles[[UAI]:[Tél contact 2]],9,0)="","",VLOOKUP(Tableau23[[#This Row],[UAI ]],[2]!SuiviForumLyceeCibles[[UAI]:[Tél contact 2]],9,0)),"") | N126: =IFERROR(IF(VLOOKUP(Tableau23[[#This Row],[UAI ]],[2]!SuiviForumLyceeCibles[[UAI]:[Tél contact 2]],10,0)="","",VLOOKUP(Tableau23[[#This Row],[UAI ]],[2]!SuiviForumLyceeCibles[[UAI]:[Tél contact 2]],10,0)),"") -> Pas de retour étudiant | O126: =IFERROR(IF(VLOOKUP(Tableau23[[#This Row],[UAI ]],[2]!SuiviForumLyceeCibles[[UAI]:[Tél contact 2]],17,0)="","",VLOOKUP(Tableau23[[#This Row],[UAI ]],[2]!SuiviForumLyceeCibles[[UAI]:[Tél contact 2]],17,0)),"") | P126: =IFERROR(IF(VLOOKUP(Tableau23[[#This Row],[UAI ]],[2]!SuiviForumLyceeCibles[[UAI]:[Tél contact 2]],18,0)="","",VLOOKUP(Tableau23[[#This Row],[UAI ]],[2]!SuiviForumLyceeCibles[[UAI]:[Tél contact 2]],18,0)),"") | Q126: =IFERROR(IF(VLOOKUP(Tableau23[[#This Row],[UAI ]],[2]!SuiviForumLyceeCibles[[UAI]:[Tél contact 2]],19,0)="","",VLOOKUP(Tableau23[[#This Row],[UAI ]],[2]!SuiviForumLyceeCibles[[UAI]:[Tél contact 2]],19,0)),"") | R126: =IFERROR(IF(VLOOKUP(Tableau23[[#This Row],[UAI ]],[2]!SuiviForumLyceeCibles[[UAI]:[Tél contact 2]],20,0)="","",VLOOKUP(Tableau23[[#This Row],[UAI ]],[2]!SuiviForumLyceeCibles[[UAI]:[Tél contact 2]],20,0)),"") | S126: =IFERROR(IF(VLOOKUP(Tableau23[[#This Row],[UAI ]],[2]!SuiviForumLyceeCibles[[UAI]:[Tél contact 2]],21,0)="","",VLOOKUP(Tableau23[[#This Row],[UAI ]],[2]!SuiviForumLyceeCibles[[UAI]:[Tél contact 2]],21,0)),"") | T126: =IFERROR(IF(VLOOKUP(Tableau23[[#This Row],[UAI ]],[2]!SuiviForumLyceeCibles[[UAI]:[Tél contact 2]],22,0)="","",VLOOKUP(Tableau23[[#This Row],[UAI ]],[2]!SuiviForumLyceeCibles[[UAI]:[Tél contact 2]],22,0)),"") | U126: =IFERROR(IF(VLOOKUP(Tableau23[[#This Row],[UAI ]],[2]!SuiviForumLyceeCibles[[UAI]:[Tél contact 2]],23,0)="","",VLOOKUP(Tableau23[[#This Row],[UAI ]],[2]!SuiviForumLyceeCibles[[UAI]:[Tél contact 2]],23,0)),"") | V126: =IFERROR(IF(VLOOKUP(Tableau23[[#This Row],[UAI ]],[2]!SuiviForumLyceeCibles[[UAI]:[Tél contact 2]],24,0)="","",VLOOKUP(Tableau23[[#This Row],[UAI ]],[2]!SuiviForumLyceeCibles[[UAI]:[Tél contact 2]],24,0)),"") | W126: =IFERROR(IF(VLOOKUP(Tableau23[[#This Row],[UAI ]],[2]!SuiviForumLyceeCibles[[UAI]:[Tél contact 2]],11,0)="","",VLOOKUP(Tableau23[[#This Row],[UAI ]],[2]!SuiviForumLyceeCibles[[UAI]:[Tél contact 2]],11,0)),"") -> Oui lycée ciblé ingénieur, la DPI organise sa présence
A127: INGENIEUR | B127: =IFERROR(IF(VLOOKUP(Tableau23[[#This Row],[UAI ]],[2]!SuiviForumLyceeCibles[[UAI]:[Tél contact 2]],5,0)="","",VLOOKUP(Tableau23[[#This Row],[UAI ]],[2]!SuiviForumLyceeCibles[[UAI]:[Tél contact 2]],5,0)),"") | C127: =IFERROR(IF(VLOOKUP(Tableau23[[#This Row],[UAI ]],[2]!SuiviForumLyceeCibles[[UAI]:[Tél contact 2]],6,0)="","",VLOOKUP(Tableau23[[#This Row],[UAI ]],[2]!SuiviForumLyceeCibles[[UAI]:[Tél contact 2]],6,0)),"") | D127: =IFERROR(VLOOKUP(Tableau23[[#This Row],[UAI ]],[2]!SuiviForumLyceeCibles[[UAI]:[Tél contact 2]],2,0),"") -> Forum d'orientation | E127: =IFERROR(VLOOKUP(Tableau23[[#This Row],[UAI ]],[2]!SuiviForumLyceeCibles[[UAI]:[Tél contact 2]],3,0),"") -> Lycées ciblés Ingénieur | F127: Ksmavsob cidoyyor Moyyf- Renbyup Sgtmo- Ofmamq | G127: YTRWJ PVBROHJ CEZ JYUHW | H127: 85 | I127: 6556178F | J127: =IFERROR(VLOOKUP(Tableau23[[#This Row],[Dpt]],'Table régions'!$A$2:$C$102,3,0),"") -> Pays de la Loire | K127: =IFERROR(IF(VLOOKUP(Tableau23[[#This Row],[UAI ]],[2]!SuiviForumLyceeCibles[[UAI]:[Tél contact 2]],4,0)="","",VLOOKUP(Tableau23[[#This Row],[UAI ]],[2]!SuiviForumLyceeCibles[[UAI]:[Tél contact 2]],4,0)),"") -> Terminale | L127: =IFERROR(IF(VLOOKUP(Tableau23[[#This Row],[UAI ]],[2]!SuiviForumLyceeCibles[[UAI]:[Tél contact 2]],7,0)="","",VLOOKUP(Tableau23[[#This Row],[UAI ]],[2]!SuiviForumLyceeCibles[[UAI]:[Tél contact 2]],7,0)),"") | M127: =IFERROR(IF(VLOOKUP(Tableau23[[#This Row],[UAI ]],[2]!SuiviForumLyceeCibles[[UAI]:[Tél contact 2]],9,0)="","",VLOOKUP(Tableau23[[#This Row],[UAI ]],[2]!SuiviForumLyceeCibles[[UAI]:[Tél contact 2]],9,0)),"") | N127: =IFERROR(IF(VLOOKUP(Tableau23[[#This Row],[UAI ]],[2]!SuiviForumLyceeCibles[[UAI]:[Tél contact 2]],10,0)="","",VLOOKUP(Tableau23[[#This Row],[UAI ]],[2]!SuiviForumLyceeCibles[[UAI]:[Tél contact 2]],10,0)),"") -> Pas de retour étudiant | O127: =IFERROR(IF(VLOOKUP(Tableau23[[#This Row],[UAI ]],[2]!SuiviForumLyceeCibles[[UAI]:[Tél contact 2]],17,0)="","",VLOOKUP(Tableau23[[#This Row],[UAI ]],[2]!SuiviForumLyceeCibles[[UAI]:[Tél contact 2]],17,0)),"") | P127: =IFERROR(IF(VLOOKUP(Tableau23[[#This Row],[UAI ]],[2]!SuiviForumLyceeCibles[[UAI]:[Tél contact 2]],18,0)="","",VLOOKUP(Tableau23[[#This Row],[UAI ]],[2]!SuiviForumLyceeCibles[[UAI]:[Tél contact 2]],18,0)),"") | Q127: =IFERROR(IF(VLOOKUP(Tableau23[[#This Row],[UAI ]],[2]!SuiviForumLyceeCibles[[UAI]:[Tél contact 2]],19,0)="","",VLOOKUP(Tableau23[[#This Row],[UAI ]],[2]!SuiviForumLyceeCibles[[UAI]:[Tél contact 2]],19,0)),"") | R127: =IFERROR(IF(VLOOKUP(Tableau23[[#This Row],[UAI ]],[2]!SuiviForumLyceeCibles[[UAI]:[Tél contact 2]],20,0)="","",VLOOKUP(Tableau23[[#This Row],[UAI ]],[2]!SuiviForumLyceeCibles[[UAI]:[Tél contact 2]],20,0)),"") | S127: =IFERROR(IF(VLOOKUP(Tableau23[[#This Row],[UAI ]],[2]!SuiviForumLyceeCibles[[UAI]:[Tél contact 2]],21,0)="","",VLOOKUP(Tableau23[[#This Row],[UAI ]],[2]!SuiviForumLyceeCibles[[UAI]:[Tél contact 2]],21,0)),"") | T127: =IFERROR(IF(VLOOKUP(Tableau23[[#This Row],[UAI ]],[2]!SuiviForumLyceeCibles[[UAI]:[Tél contact 2]],22,0)="","",VLOOKUP(Tableau23[[#This Row],[UAI ]],[2]!SuiviForumLyceeCibles[[UAI]:[Tél contact 2]],22,0)),"") | U127: =IFERROR(IF(VLOOKUP(Tableau23[[#This Row],[UAI ]],[2]!SuiviForumLyceeCibles[[UAI]:[Tél contact 2]],23,0)="","",VLOOKUP(Tableau23[[#This Row],[UAI ]],[2]!SuiviForumLyceeCibles[[UAI]:[Tél contact 2]],23,0)),"") | V127: =IFERROR(IF(VLOOKUP(Tableau23[[#This Row],[UAI ]],[2]!SuiviForumLyceeCibles[[UAI]:[Tél contact 2]],24,0)="","",VLOOKUP(Tableau23[[#This Row],[UAI ]],[2]!SuiviForumLyceeCibles[[UAI]:[Tél contact 2]],24,0)),"") | W127: =IFERROR(IF(VLOOKUP(Tableau23[[#This Row],[UAI ]],[2]!SuiviForumLyceeCibles[[UAI]:[Tél contact 2]],11,0)="","",VLOOKUP(Tableau23[[#This Row],[UAI ]],[2]!SuiviForumLyceeCibles[[UAI]:[Tél contact 2]],11,0)),"") -> Oui lycée ciblé ingénieur, la DPI organise sa présence
A128: INGENIEUR | B128: =IFERROR(IF(VLOOKUP(Tableau23[[#This Row],[UAI ]],[2]!SuiviForumLyceeCibles[[UAI]:[Tél contact 2]],5,0)="","",VLOOKUP(Tableau23[[#This Row],[UAI ]],[2]!SuiviForumLyceeCibles[[UAI]:[Tél contact 2]],5,0)),"") | C128: =IFERROR(IF(VLOOKUP(Tableau23[[#This Row],[UAI ]],[2]!SuiviForumLyceeCibles[[UAI]:[Tél contact 2]],6,0)="","",VLOOKUP(Tableau23[[#This Row],[UAI ]],[2]!SuiviForumLyceeCibles[[UAI]:[Tél contact 2]],6,0)),"") | D128: =IFERROR(VLOOKUP(Tableau23[[#This Row],[UAI ]],[2]!SuiviForumLyceeCibles[[UAI]:[Tél contact 2]],2,0),"") -> Forum d'orientation | E128: =IFERROR(VLOOKUP(Tableau23[[#This Row],[UAI ]],[2]!SuiviForumLyceeCibles[[UAI]:[Tél contact 2]],3,0),"") -> Lycées ciblés Ingénieur | F128: Czynz vwujtiq kg pvdkbdmsuaacn flosy Ispj XDMTI | G128: REY VCHIFRLU | H128: 85 | I128: 9397915V | J128: =IFERROR(VLOOKUP(Tableau23[[#This Row],[Dpt]],'Table régions'!$A$2:$C$102,3,0),"") -> Pays de la Loire | K128: =IFERROR(IF(VLOOKUP(Tableau23[[#This Row],[UAI ]],[2]!SuiviForumLyceeCibles[[UAI]:[Tél contact 2]],4,0)="","",VLOOKUP(Tableau23[[#This Row],[UAI ]],[2]!SuiviForumLyceeCibles[[UAI]:[Tél contact 2]],4,0)),"") -> Terminale | L128: =IFERROR(IF(VLOOKUP(Tableau23[[#This Row],[UAI ]],[2]!SuiviForumLyceeCibles[[UAI]:[Tél contact 2]],7,0)="","",VLOOKUP(Tableau23[[#This Row],[UAI ]],[2]!SuiviForumLyceeCibles[[UAI]:[Tél contact 2]],7,0)),"") | M128: =IFERROR(IF(VLOOKUP(Tableau23[[#This Row],[UAI ]],[2]!SuiviForumLyceeCibles[[UAI]:[Tél contact 2]],9,0)="","",VLOOKUP(Tableau23[[#This Row],[UAI ]],[2]!SuiviForumLyceeCibles[[UAI]:[Tél contact 2]],9,0)),"") | N128: =IFERROR(IF(VLOOKUP(Tableau23[[#This Row],[UAI ]],[2]!SuiviForumLyceeCibles[[UAI]:[Tél contact 2]],10,0)="","",VLOOKUP(Tableau23[[#This Row],[UAI ]],[2]!SuiviForumLyceeCibles[[UAI]:[Tél contact 2]],10,0)),"") -> Pas de retour étudiant | O128: =IFERROR(IF(VLOOKUP(Tableau23[[#This Row],[UAI ]],[2]!SuiviForumLyceeCibles[[UAI]:[Tél contact 2]],17,0)="","",VLOOKUP(Tableau23[[#This Row],[UAI ]],[2]!SuiviForumLyceeCibles[[UAI]:[Tél contact 2]],17,0)),"") | P128: =IFERROR(IF(VLOOKUP(Tableau23[[#This Row],[UAI ]],[2]!SuiviForumLyceeCibles[[UAI]:[Tél contact 2]],18,0)="","",VLOOKUP(Tableau23[[#This Row],[UAI ]],[2]!SuiviForumLyceeCibles[[UAI]:[Tél contact 2]],18,0)),"") | Q128: =IFERROR(IF(VLOOKUP(Tableau23[[#This Row],[UAI ]],[2]!SuiviForumLyceeCibles[[UAI]:[Tél contact 2]],19,0)="","",VLOOKUP(Tableau23[[#This Row],[UAI ]],[2]!SuiviForumLyceeCibles[[UAI]:[Tél contact 2]],19,0)),"") | R128: =IFERROR(IF(VLOOKUP(Tableau23[[#This Row],[UAI ]],[2]!SuiviForumLyceeCibles[[UAI]:[Tél contact 2]],20,0)="","",VLOOKUP(Tableau23[[#This Row],[UAI ]],[2]!SuiviForumLyceeCibles[[UAI]:[Tél contact 2]],20,0)),"") | S128: =IFERROR(IF(VLOOKUP(Tableau23[[#This Row],[UAI ]],[2]!SuiviForumLyceeCibles[[UAI]:[Tél contact 2]],21,0)="","",VLOOKUP(Tableau23[[#This Row],[UAI ]],[2]!SuiviForumLyceeCibles[[UAI]:[Tél contact 2]],21,0)),"") | T128: =IFERROR(IF(VLOOKUP(Tableau23[[#This Row],[UAI ]],[2]!SuiviForumLyceeCibles[[UAI]:[Tél contact 2]],22,0)="","",VLOOKUP(Tableau23[[#This Row],[UAI ]],[2]!SuiviForumLyceeCibles[[UAI]:[Tél contact 2]],22,0)),"") | U128: =IFERROR(IF(VLOOKUP(Tableau23[[#This Row],[UAI ]],[2]!SuiviForumLyceeCibles[[UAI]:[Tél contact 2]],23,0)="","",VLOOKUP(Tableau23[[#This Row],[UAI ]],[2]!SuiviForumLyceeCibles[[UAI]:[Tél contact 2]],23,0)),"") | V128: =IFERROR(IF(VLOOKUP(Tableau23[[#This Row],[UAI ]],[2]!SuiviForumLyceeCibles[[UAI]:[Tél contact 2]],24,0)="","",VLOOKUP(Tableau23[[#This Row],[UAI ]],[2]!SuiviForumLyceeCibles[[UAI]:[Tél contact 2]],24,0)),"") | W128: =IFERROR(IF(VLOOKUP(Tableau23[[#This Row],[UAI ]],[2]!SuiviForumLyceeCibles[[UAI]:[Tél contact 2]],11,0)="","",VLOOKUP(Tableau23[[#This Row],[UAI ]],[2]!SuiviForumLyceeCibles[[UAI]:[Tél contact 2]],11,0)),"") -> Oui lycée ciblé ingénieur, la DPI organise sa présence
A129: INGENIEUR | B129: =IFERROR(IF(VLOOKUP(Tableau23[[#This Row],[UAI ]],[2]!SuiviForumLyceeCibles[[UAI]:[Tél contact 2]],5,0)="","",VLOOKUP(Tableau23[[#This Row],[UAI ]],[2]!SuiviForumLyceeCibles[[UAI]:[Tél contact 2]],5,0)),"") | C129: =IFERROR(IF(VLOOKUP(Tableau23[[#This Row],[UAI ]],[2]!SuiviForumLyceeCibles[[UAI]:[Tél contact 2]],6,0)="","",VLOOKUP(Tableau23[[#This Row],[UAI ]],[2]!SuiviForumLyceeCibles[[UAI]:[Tél contact 2]],6,0)),"") | D129: =IFERROR(VLOOKUP(Tableau23[[#This Row],[UAI ]],[2]!SuiviForumLyceeCibles[[UAI]:[Tél contact 2]],2,0),"") -> Forum d'orientation | E129: =IFERROR(VLOOKUP(Tableau23[[#This Row],[UAI ]],[2]!SuiviForumLyceeCibles[[UAI]:[Tél contact 2]],3,0),"") -> Lycées ciblés Ingénieur | F129: Tgqxb fra pwtszck Lxchw Cosjfj | G129: ISBTPL | H129: 91 | I129: 3746290H | J129: =IFERROR(VLOOKUP(Tableau23[[#This Row],[Dpt]],'Table régions'!$A$2:$C$102,3,0),"") -> Île-de-France | K129: =IFERROR(IF(VLOOKUP(Tableau23[[#This Row],[UAI ]],[2]!SuiviForumLyceeCibles[[UAI]:[Tél contact 2]],4,0)="","",VLOOKUP(Tableau23[[#This Row],[UAI ]],[2]!SuiviForumLyceeCibles[[UAI]:[Tél contact 2]],4,0)),"") -> Terminale | L129: =IFERROR(IF(VLOOKUP(Tableau23[[#This Row],[UAI ]],[2]!SuiviForumLyceeCibles[[UAI]:[Tél contact 2]],7,0)="","",VLOOKUP(Tableau23[[#This Row],[UAI ]],[2]!SuiviForumLyceeCibles[[UAI]:[Tél contact 2]],7,0)),"") | M129: =IFERROR(IF(VLOOKUP(Tableau23[[#This Row],[UAI ]],[2]!SuiviForumLyceeCibles[[UAI]:[Tél contact 2]],9,0)="","",VLOOKUP(Tableau23[[#This Row],[UAI ]],[2]!SuiviForumLyceeCibles[[UAI]:[Tél contact 2]],9,0)),"") | N129: =IFERROR(IF(VLOOKUP(Tableau23[[#This Row],[UAI ]],[2]!SuiviForumLyceeCibles[[UAI]:[Tél contact 2]],10,0)="","",VLOOKUP(Tableau23[[#This Row],[UAI ]],[2]!SuiviForumLyceeCibles[[UAI]:[Tél contact 2]],10,0)),"") -> Pas de retour étudiant | O129: =IFERROR(IF(VLOOKUP(Tableau23[[#This Row],[UAI ]],[2]!SuiviForumLyceeCibles[[UAI]:[Tél contact 2]],17,0)="","",VLOOKUP(Tableau23[[#This Row],[UAI ]],[2]!SuiviForumLyceeCibles[[UAI]:[Tél contact 2]],17,0)),"") | P129: =IFERROR(IF(VLOOKUP(Tableau23[[#This Row],[UAI ]],[2]!SuiviForumLyceeCibles[[UAI]:[Tél contact 2]],18,0)="","",VLOOKUP(Tableau23[[#This Row],[UAI ]],[2]!SuiviForumLyceeCibles[[UAI]:[Tél contact 2]],18,0)),"") | Q129: =IFERROR(IF(VLOOKUP(Tableau23[[#This Row],[UAI ]],[2]!SuiviForumLyceeCibles[[UAI]:[Tél contact 2]],19,0)="","",VLOOKUP(Tableau23[[#This Row],[UAI ]],[2]!SuiviForumLyceeCibles[[UAI]:[Tél contact 2]],19,0)),"") | R129: =IFERROR(IF(VLOOKUP(Tableau23[[#This Row],[UAI ]],[2]!SuiviForumLyceeCibles[[UAI]:[Tél contact 2]],20,0)="","",VLOOKUP(Tableau23[[#This Row],[UAI ]],[2]!SuiviForumLyceeCibles[[UAI]:[Tél contact 2]],20,0)),"") | S129: =IFERROR(IF(VLOOKUP(Tableau23[[#This Row],[UAI ]],[2]!SuiviForumLyceeCibles[[UAI]:[Tél contact 2]],21,0)="","",VLOOKUP(Tableau23[[#This Row],[UAI ]],[2]!SuiviForumLyceeCibles[[UAI]:[Tél contact 2]],21,0)),"") | T129: =IFERROR(IF(VLOOKUP(Tableau23[[#This Row],[UAI ]],[2]!SuiviForumLyceeCibles[[UAI]:[Tél contact 2]],22,0)="","",VLOOKUP(Tableau23[[#This Row],[UAI ]],[2]!SuiviForumLyceeCibles[[UAI]:[Tél contact 2]],22,0)),"") | U129: =IFERROR(IF(VLOOKUP(Tableau23[[#This Row],[UAI ]],[2]!SuiviForumLyceeCibles[[UAI]:[Tél contact 2]],23,0)="","",VLOOKUP(Tableau23[[#This Row],[UAI ]],[2]!SuiviForumLyceeCibles[[UAI]:[Tél contact 2]],23,0)),"") | V129: =IFERROR(IF(VLOOKUP(Tableau23[[#This Row],[UAI ]],[2]!SuiviForumLyceeCibles[[UAI]:[Tél contact 2]],24,0)="","",VLOOKUP(Tableau23[[#This Row],[UAI ]],[2]!SuiviForumLyceeCibles[[UAI]:[Tél contact 2]],24,0)),"") | W129: =IFERROR(IF(VLOOKUP(Tableau23[[#This Row],[UAI ]],[2]!SuiviForumLyceeCibles[[UAI]:[Tél contact 2]],11,0)="","",VLOOKUP(Tableau23[[#This Row],[UAI ]],[2]!SuiviForumLyceeCibles[[UAI]:[Tél contact 2]],11,0)),"") -> Oui lycée ciblé ingénieur, la DPI organise sa présence
A130: INGENIEUR | B130: =IFERROR(IF(VLOOKUP(Tableau23[[#This Row],[UAI ]],[2]!SuiviForumLyceeCibles[[UAI]:[Tél contact 2]],5,0)="","",VLOOKUP(Tableau23[[#This Row],[UAI ]],[2]!SuiviForumLyceeCibles[[UAI]:[Tél contact 2]],5,0)),"") | C130: =IFERROR(IF(VLOOKUP(Tableau23[[#This Row],[UAI ]],[2]!SuiviForumLyceeCibles[[UAI]:[Tél contact 2]],6,0)="","",VLOOKUP(Tableau23[[#This Row],[UAI ]],[2]!SuiviForumLyceeCibles[[UAI]:[Tél contact 2]],6,0)),"") | D130: =IFERROR(VLOOKUP(Tableau23[[#This Row],[UAI ]],[2]!SuiviForumLyceeCibles[[UAI]:[Tél contact 2]],2,0),"") -> Forum d'orientation | E130: =IFERROR(VLOOKUP(Tableau23[[#This Row],[UAI ]],[2]!SuiviForumLyceeCibles[[UAI]:[Tél contact 2]],3,0),"") -> Lycées ciblés Ingénieur | F130: Ukhvz Geprmhnxok Jz Mamlwbx | G130: MHUUSGX | H130: 18 | I130: 2594393G | J130: =IFERROR(VLOOKUP(Tableau23[[#This Row],[Dpt]],'Table régions'!$A$2:$C$102,3,0),"") -> Centre-Val de Loire | K130: =IFERROR(IF(VLOOKUP(Tableau23[[#This Row],[UAI ]],[2]!SuiviForumLyceeCibles[[UAI]:[Tél contact 2]],4,0)="","",VLOOKUP(Tableau23[[#This Row],[UAI ]],[2]!SuiviForumLyceeCibles[[UAI]:[Tél contact 2]],4,0)),"") -> Terminale | L130: =IFERROR(IF(VLOOKUP(Tableau23[[#This Row],[UAI ]],[2]!SuiviForumLyceeCibles[[UAI]:[Tél contact 2]],7,0)="","",VLOOKUP(Tableau23[[#This Row],[UAI ]],[2]!SuiviForumLyceeCibles[[UAI]:[Tél contact 2]],7,0)),"") | M130: =IFERROR(IF(VLOOKUP(Tableau23[[#This Row],[UAI ]],[2]!SuiviForumLyceeCibles[[UAI]:[Tél contact 2]],9,0)="","",VLOOKUP(Tableau23[[#This Row],[UAI ]],[2]!SuiviForumLyceeCibles[[UAI]:[Tél contact 2]],9,0)),"") | N130: =IFERROR(IF(VLOOKUP(Tableau23[[#This Row],[UAI ]],[2]!SuiviForumLyceeCibles[[UAI]:[Tél contact 2]],10,0)="","",VLOOKUP(Tableau23[[#This Row],[UAI ]],[2]!SuiviForumLyceeCibles[[UAI]:[Tél contact 2]],10,0)),"") -> Pas de retour étudiant | O130: =IFERROR(IF(VLOOKUP(Tableau23[[#This Row],[UAI ]],[2]!SuiviForumLyceeCibles[[UAI]:[Tél contact 2]],17,0)="","",VLOOKUP(Tableau23[[#This Row],[UAI ]],[2]!SuiviForumLyceeCibles[[UAI]:[Tél contact 2]],17,0)),"") | P130: =IFERROR(IF(VLOOKUP(Tableau23[[#This Row],[UAI ]],[2]!SuiviForumLyceeCibles[[UAI]:[Tél contact 2]],18,0)="","",VLOOKUP(Tableau23[[#This Row],[UAI ]],[2]!SuiviForumLyceeCibles[[UAI]:[Tél contact 2]],18,0)),"") | Q130: =IFERROR(IF(VLOOKUP(Tableau23[[#This Row],[UAI ]],[2]!SuiviForumLyceeCibles[[UAI]:[Tél contact 2]],19,0)="","",VLOOKUP(Tableau23[[#This Row],[UAI ]],[2]!SuiviForumLyceeCibles[[UAI]:[Tél contact 2]],19,0)),"") | R130: =IFERROR(IF(VLOOKUP(Tableau23[[#This Row],[UAI ]],[2]!SuiviForumLyceeCibles[[UAI]:[Tél contact 2]],20,0)="","",VLOOKUP(Tableau23[[#This Row],[UAI ]],[2]!SuiviForumLyceeCibles[[UAI]:[Tél contact 2]],20,0)),"") | S130: =IFERROR(IF(VLOOKUP(Tableau23[[#This Row],[UAI ]],[2]!SuiviForumLyceeCibles[[UAI]:[Tél contact 2]],21,0)="","",VLOOKUP(Tableau23[[#This Row],[UAI ]],[2]!SuiviForumLyceeCibles[[UAI]:[Tél contact 2]],21,0)),"") | T130: =IFERROR(IF(VLOOKUP(Tableau23[[#This Row],[UAI ]],[2]!SuiviForumLyceeCibles[[UAI]:[Tél contact 2]],22,0)="","",VLOOKUP(Tableau23[[#This Row],[UAI ]],[2]!SuiviForumLyceeCibles[[UAI]:[Tél contact 2]],22,0)),"") | U130: =IFERROR(IF(VLOOKUP(Tableau23[[#This Row],[UAI ]],[2]!SuiviForumLyceeCibles[[UAI]:[Tél contact 2]],23,0)="","",VLOOKUP(Tableau23[[#This Row],[UAI ]],[2]!SuiviForumLyceeCibles[[UAI]:[Tél contact 2]],23,0)),"") | V130: =IFERROR(IF(VLOOKUP(Tableau23[[#This Row],[UAI ]],[2]!SuiviForumLyceeCibles[[UAI]:[Tél contact 2]],24,0)="","",VLOOKUP(Tableau23[[#This Row],[UAI ]],[2]!SuiviForumLyceeCibles[[UAI]:[Tél contact 2]],24,0)),"") | W130: =IFERROR(IF(VLOOKUP(Tableau23[[#This Row],[UAI ]],[2]!SuiviForumLyceeCibles[[UAI]:[Tél contact 2]],11,0)="","",VLOOKUP(Tableau23[[#This Row],[UAI ]],[2]!SuiviForumLyceeCibles[[UAI]:[Tél contact 2]],11,0)),"") -> Oui lycée ciblé ingénieur, la DPI organise sa présence
A131: INGENIEUR | B131: =IFERROR(IF(VLOOKUP(Tableau23[[#This Row],[UAI ]],[2]!SuiviForumLyceeCibles[[UAI]:[Tél contact 2]],5,0)="","",VLOOKUP(Tableau23[[#This Row],[UAI ]],[2]!SuiviForumLyceeCibles[[UAI]:[Tél contact 2]],5,0)),"") | C131: =IFERROR(IF(VLOOKUP(Tableau23[[#This Row],[UAI ]],[2]!SuiviForumLyceeCibles[[UAI]:[Tél contact 2]],6,0)="","",VLOOKUP(Tableau23[[#This Row],[UAI ]],[2]!SuiviForumLyceeCibles[[UAI]:[Tél contact 2]],6,0)),"") | D131: =IFERROR(VLOOKUP(Tableau23[[#This Row],[UAI ]],[2]!SuiviForumLyceeCibles[[UAI]:[Tél contact 2]],2,0),"") -> Forum d'orientation | E131: =IFERROR(VLOOKUP(Tableau23[[#This Row],[UAI ]],[2]!SuiviForumLyceeCibles[[UAI]:[Tél contact 2]],3,0),"") -> Lycées ciblés Ingénieur | F131: Ydptv Asncbto Hxseje | G131: EUJXU-LNQQEKZLG | H131: 92 | I131: 7444301D | J131: =IFERROR(VLOOKUP(Tableau23[[#This Row],[Dpt]],'Table régions'!$A$2:$C$102,3,0),"") -> Île-de-France | K131: =IFERROR(IF(VLOOKUP(Tableau23[[#This Row],[UAI ]],[2]!SuiviForumLyceeCibles[[UAI]:[Tél contact 2]],4,0)="","",VLOOKUP(Tableau23[[#This Row],[UAI ]],[2]!SuiviForumLyceeCibles[[UAI]:[Tél contact 2]],4,0)),"") -> Terminale | L131: =IFERROR(IF(VLOOKUP(Tableau23[[#This Row],[UAI ]],[2]!SuiviForumLyceeCibles[[UAI]:[Tél contact 2]],7,0)="","",VLOOKUP(Tableau23[[#This Row],[UAI ]],[2]!SuiviForumLyceeCibles[[UAI]:[Tél contact 2]],7,0)),"") | M131: =IFERROR(IF(VLOOKUP(Tableau23[[#This Row],[UAI ]],[2]!SuiviForumLyceeCibles[[UAI]:[Tél contact 2]],9,0)="","",VLOOKUP(Tableau23[[#This Row],[UAI ]],[2]!SuiviForumLyceeCibles[[UAI]:[Tél contact 2]],9,0)),"") | N131: =IFERROR(IF(VLOOKUP(Tableau23[[#This Row],[UAI ]],[2]!SuiviForumLyceeCibles[[UAI]:[Tél contact 2]],10,0)="","",VLOOKUP(Tableau23[[#This Row],[UAI ]],[2]!SuiviForumLyceeCibles[[UAI]:[Tél contact 2]],10,0)),"") -> Pas de retour étudiant | O131: =IFERROR(IF(VLOOKUP(Tableau23[[#This Row],[UAI ]],[2]!SuiviForumLyceeCibles[[UAI]:[Tél contact 2]],17,0)="","",VLOOKUP(Tableau23[[#This Row],[UAI ]],[2]!SuiviForumLyceeCibles[[UAI]:[Tél contact 2]],17,0)),"") | P131: =IFERROR(IF(VLOOKUP(Tableau23[[#This Row],[UAI ]],[2]!SuiviForumLyceeCibles[[UAI]:[Tél contact 2]],18,0)="","",VLOOKUP(Tableau23[[#This Row],[UAI ]],[2]!SuiviForumLyceeCibles[[UAI]:[Tél contact 2]],18,0)),"") | Q131: =IFERROR(IF(VLOOKUP(Tableau23[[#This Row],[UAI ]],[2]!SuiviForumLyceeCibles[[UAI]:[Tél contact 2]],19,0)="","",VLOOKUP(Tableau23[[#This Row],[UAI ]],[2]!SuiviForumLyceeCibles[[UAI]:[Tél contact 2]],19,0)),"") | R131: =IFERROR(IF(VLOOKUP(Tableau23[[#This Row],[UAI ]],[2]!SuiviForumLyceeCibles[[UAI]:[Tél contact 2]],20,0)="","",VLOOKUP(Tableau23[[#This Row],[UAI ]],[2]!SuiviForumLyceeCibles[[UAI]:[Tél contact 2]],20,0)),"") | S131: =IFERROR(IF(VLOOKUP(Tableau23[[#This Row],[UAI ]],[2]!SuiviForumLyceeCibles[[UAI]:[Tél contact 2]],21,0)="","",VLOOKUP(Tableau23[[#This Row],[UAI ]],[2]!SuiviForumLyceeCibles[[UAI]:[Tél contact 2]],21,0)),"") | T131: =IFERROR(IF(VLOOKUP(Tableau23[[#This Row],[UAI ]],[2]!SuiviForumLyceeCibles[[UAI]:[Tél contact 2]],22,0)="","",VLOOKUP(Tableau23[[#This Row],[UAI ]],[2]!SuiviForumLyceeCibles[[UAI]:[Tél contact 2]],22,0)),"") | U131: =IFERROR(IF(VLOOKUP(Tableau23[[#This Row],[UAI ]],[2]!SuiviForumLyceeCibles[[UAI]:[Tél contact 2]],23,0)="","",VLOOKUP(Tableau23[[#This Row],[UAI ]],[2]!SuiviForumLyceeCibles[[UAI]:[Tél contact 2]],23,0)),"") | V131: =IFERROR(IF(VLOOKUP(Tableau23[[#This Row],[UAI ]],[2]!SuiviForumLyceeCibles[[UAI]:[Tél contact 2]],24,0)="","",VLOOKUP(Tableau23[[#This Row],[UAI ]],[2]!SuiviForumLyceeCibles[[UAI]:[Tél contact 2]],24,0)),"") | W131: =IFERROR(IF(VLOOKUP(Tableau23[[#This Row],[UAI ]],[2]!SuiviForumLyceeCibles[[UAI]:[Tél contact 2]],11,0)="","",VLOOKUP(Tableau23[[#This Row],[UAI ]],[2]!SuiviForumLyceeCibles[[UAI]:[Tél contact 2]],11,0)),"") -> Oui lycée ciblé ingénieur, la DPI organise sa présence
A132: INGENIEUR | B132: =IFERROR(IF(VLOOKUP(Tableau23[[#This Row],[UAI ]],[2]!SuiviForumLyceeCibles[[UAI]:[Tél contact 2]],5,0)="","",VLOOKUP(Tableau23[[#This Row],[UAI ]],[2]!SuiviForumLyceeCibles[[UAI]:[Tél contact 2]],5,0)),"") | C132: =IFERROR(IF(VLOOKUP(Tableau23[[#This Row],[UAI ]],[2]!SuiviForumLyceeCibles[[UAI]:[Tél contact 2]],6,0)="","",VLOOKUP(Tableau23[[#This Row],[UAI ]],[2]!SuiviForumLyceeCibles[[UAI]:[Tél contact 2]],6,0)),"") | D132: =IFERROR(VLOOKUP(Tableau23[[#This Row],[UAI ]],[2]!SuiviForumLyceeCibles[[UAI]:[Tél contact 2]],2,0),"") -> Forum d'orientation | E132: =IFERROR(VLOOKUP(Tableau23[[#This Row],[UAI ]],[2]!SuiviForumLyceeCibles[[UAI]:[Tél contact 2]],3,0),"") -> Lycées ciblés Ingénieur | F132: Ngbcf Xl Ywgbv Vzoxj Xvkthrnc | G132: DZDPD-FAYTMUWDK | H132: 92 | I132: 8424990F | J132: =IFERROR(VLOOKUP(Tableau23[[#This Row],[Dpt]],'Table régions'!$A$2:$C$102,3,0),"") -> Île-de-France | K132: =IFERROR(IF(VLOOKUP(Tableau23[[#This Row],[UAI ]],[2]!SuiviForumLyceeCibles[[UAI]:[Tél contact 2]],4,0)="","",VLOOKUP(Tableau23[[#This Row],[UAI ]],[2]!SuiviForumLyceeCibles[[UAI]:[Tél contact 2]],4,0)),"") -> Terminale | L132: =IFERROR(IF(VLOOKUP(Tableau23[[#This Row],[UAI ]],[2]!SuiviForumLyceeCibles[[UAI]:[Tél contact 2]],7,0)="","",VLOOKUP(Tableau23[[#This Row],[UAI ]],[2]!SuiviForumLyceeCibles[[UAI]:[Tél contact 2]],7,0)),"") | M132: =IFERROR(IF(VLOOKUP(Tableau23[[#This Row],[UAI ]],[2]!SuiviForumLyceeCibles[[UAI]:[Tél contact 2]],9,0)="","",VLOOKUP(Tableau23[[#This Row],[UAI ]],[2]!SuiviForumLyceeCibles[[UAI]:[Tél contact 2]],9,0)),"") | N132: =IFERROR(IF(VLOOKUP(Tableau23[[#This Row],[UAI ]],[2]!SuiviForumLyceeCibles[[UAI]:[Tél contact 2]],10,0)="","",VLOOKUP(Tableau23[[#This Row],[UAI ]],[2]!SuiviForumLyceeCibles[[UAI]:[Tél contact 2]],10,0)),"") -> Pas de retour étudiant | O132: =IFERROR(IF(VLOOKUP(Tableau23[[#This Row],[UAI ]],[2]!SuiviForumLyceeCibles[[UAI]:[Tél contact 2]],17,0)="","",VLOOKUP(Tableau23[[#This Row],[UAI ]],[2]!SuiviForumLyceeCibles[[UAI]:[Tél contact 2]],17,0)),"") | P132: =IFERROR(IF(VLOOKUP(Tableau23[[#This Row],[UAI ]],[2]!SuiviForumLyceeCibles[[UAI]:[Tél contact 2]],18,0)="","",VLOOKUP(Tableau23[[#This Row],[UAI ]],[2]!SuiviForumLyceeCibles[[UAI]:[Tél contact 2]],18,0)),"") | Q132: =IFERROR(IF(VLOOKUP(Tableau23[[#This Row],[UAI ]],[2]!SuiviForumLyceeCibles[[UAI]:[Tél contact 2]],19,0)="","",VLOOKUP(Tableau23[[#This Row],[UAI ]],[2]!SuiviForumLyceeCibles[[UAI]:[Tél contact 2]],19,0)),"") | R132: =IFERROR(IF(VLOOKUP(Tableau23[[#This Row],[UAI ]],[2]!SuiviForumLyceeCibles[[UAI]:[Tél contact 2]],20,0)="","",VLOOKUP(Tableau23[[#This Row],[UAI ]],[2]!SuiviForumLyceeCibles[[UAI]:[Tél contact 2]],20,0)),"") | S132: =IFERROR(IF(VLOOKUP(Tableau23[[#This Row],[UAI ]],[2]!SuiviForumLyceeCibles[[UAI]:[Tél contact 2]],21,0)="","",VLOOKUP(Tableau23[[#This Row],[UAI ]],[2]!SuiviForumLyceeCibles[[UAI]:[Tél contact 2]],21,0)),"") | T132: =IFERROR(IF(VLOOKUP(Tableau23[[#This Row],[UAI ]],[2]!SuiviForumLyceeCibles[[UAI]:[Tél contact 2]],22,0)="","",VLOOKUP(Tableau23[[#This Row],[UAI ]],[2]!SuiviForumLyceeCibles[[UAI]:[Tél contact 2]],22,0)),"") | U132: =IFERROR(IF(VLOOKUP(Tableau23[[#This Row],[UAI ]],[2]!SuiviForumLyceeCibles[[UAI]:[Tél contact 2]],23,0)="","",VLOOKUP(Tableau23[[#This Row],[UAI ]],[2]!SuiviForumLyceeCibles[[UAI]:[Tél contact 2]],23,0)),"") | V132: =IFERROR(IF(VLOOKUP(Tableau23[[#This Row],[UAI ]],[2]!SuiviForumLyceeCibles[[UAI]:[Tél contact 2]],24,0)="","",VLOOKUP(Tableau23[[#This Row],[UAI ]],[2]!SuiviForumLyceeCibles[[UAI]:[Tél contact 2]],24,0)),"") | W132: =IFERROR(IF(VLOOKUP(Tableau23[[#This Row],[UAI ]],[2]!SuiviForumLyceeCibles[[UAI]:[Tél contact 2]],11,0)="","",VLOOKUP(Tableau23[[#This Row],[UAI ]],[2]!SuiviForumLyceeCibles[[UAI]:[Tél contact 2]],11,0)),"") -> Oui lycée ciblé ingénieur, la DPI organise sa présence
A133: INGENIEUR | B133: =IFERROR(IF(VLOOKUP(Tableau23[[#This Row],[UAI ]],[2]!SuiviForumLyceeCibles[[UAI]:[Tél contact 2]],5,0)="","",VLOOKUP(Tableau23[[#This Row],[UAI ]],[2]!SuiviForumLyceeCibles[[UAI]:[Tél contact 2]],5,0)),"") | C133: =IFERROR(IF(VLOOKUP(Tableau23[[#This Row],[UAI ]],[2]!SuiviForumLyceeCibles[[UAI]:[Tél contact 2]],6,0)="","",VLOOKUP(Tableau23[[#This Row],[UAI ]],[2]!SuiviForumLyceeCibles[[UAI]:[Tél contact 2]],6,0)),"") | D133: =IFERROR(VLOOKUP(Tableau23[[#This Row],[UAI ]],[2]!SuiviForumLyceeCibles[[UAI]:[Tél contact 2]],2,0),"") -> Forum d'orientation | E133: =IFERROR(VLOOKUP(Tableau23[[#This Row],[UAI ]],[2]!SuiviForumLyceeCibles[[UAI]:[Tél contact 2]],3,0),"") -> Lycées ciblés Ingénieur | F133: Wudgm Waqqktsxx | G133: FCWHP-YYPZZQRKO | H133: 92 | I133: 4669704B | J133: =IFERROR(VLOOKUP(Tableau23[[#This Row],[Dpt]],'Table régions'!$A$2:$C$102,3,0),"") -> Île-de-France | K133: =IFERROR(IF(VLOOKUP(Tableau23[[#This Row],[UAI ]],[2]!SuiviForumLyceeCibles[[UAI]:[Tél contact 2]],4,0)="","",VLOOKUP(Tableau23[[#This Row],[UAI ]],[2]!SuiviForumLyceeCibles[[UAI]:[Tél contact 2]],4,0)),"") -> Terminale | L133: =IFERROR(IF(VLOOKUP(Tableau23[[#This Row],[UAI ]],[2]!SuiviForumLyceeCibles[[UAI]:[Tél contact 2]],7,0)="","",VLOOKUP(Tableau23[[#This Row],[UAI ]],[2]!SuiviForumLyceeCibles[[UAI]:[Tél contact 2]],7,0)),"") | M133: =IFERROR(IF(VLOOKUP(Tableau23[[#This Row],[UAI ]],[2]!SuiviForumLyceeCibles[[UAI]:[Tél contact 2]],9,0)="","",VLOOKUP(Tableau23[[#This Row],[UAI ]],[2]!SuiviForumLyceeCibles[[UAI]:[Tél contact 2]],9,0)),"") | N133: =IFERROR(IF(VLOOKUP(Tableau23[[#This Row],[UAI ]],[2]!SuiviForumLyceeCibles[[UAI]:[Tél contact 2]],10,0)="","",VLOOKUP(Tableau23[[#This Row],[UAI ]],[2]!SuiviForumLyceeCibles[[UAI]:[Tél contact 2]],10,0)),"") -> Forum prévu sans date | O133: =IFERROR(IF(VLOOKUP(Tableau23[[#This Row],[UAI ]],[2]!SuiviForumLyceeCibles[[UAI]:[Tél contact 2]],17,0)="","",VLOOKUP(Tableau23[[#This Row],[UAI ]],[2]!SuiviForumLyceeCibles[[UAI]:[Tél contact 2]],17,0)),"") -> Contact 5 | P133: =IFERROR(IF(VLOOKUP(Tableau23[[#This Row],[UAI ]],[2]!SuiviForumLyceeCibles[[UAI]:[Tél contact 2]],18,0)="","",VLOOKUP(Tableau23[[#This Row],[UAI ]],[2]!SuiviForumLyceeCibles[[UAI]:[Tél contact 2]],18,0)),"") -> CPE des terminales en charge du forum | Q133: =IFERROR(IF(VLOOKUP(Tableau23[[#This Row],[UAI ]],[2]!SuiviForumLyceeCibles[[UAI]:[Tél contact 2]],19,0)="","",VLOOKUP(Tableau23[[#This Row],[UAI ]],[2]!SuiviForumLyceeCibles[[UAI]:[Tél contact 2]],19,0)),"") -> emailcontac5 | R133: =IFERROR(IF(VLOOKUP(Tableau23[[#This Row],[UAI ]],[2]!SuiviForumLyceeCibles[[UAI]:[Tél contact 2]],20,0)="","",VLOOKUP(Tableau23[[#This Row],[UAI ]],[2]!SuiviForumLyceeCibles[[UAI]:[Tél contact 2]],20,0)),"") -> 200000000 | S133: =IFERROR(IF(VLOOKUP(Tableau23[[#This Row],[UAI ]],[2]!SuiviForumLyceeCibles[[UAI]:[Tél contact 2]],21,0)="","",VLOOKUP(Tableau23[[#This Row],[UAI ]],[2]!SuiviForumLyceeCibles[[UAI]:[Tél contact 2]],21,0)),"") | T133: =IFERROR(IF(VLOOKUP(Tableau23[[#This Row],[UAI ]],[2]!SuiviForumLyceeCibles[[UAI]:[Tél contact 2]],22,0)="","",VLOOKUP(Tableau23[[#This Row],[UAI ]],[2]!SuiviForumLyceeCibles[[UAI]:[Tél contact 2]],22,0)),"") | U133: =IFERROR(IF(VLOOKUP(Tableau23[[#This Row],[UAI ]],[2]!SuiviForumLyceeCibles[[UAI]:[Tél contact 2]],23,0)="","",VLOOKUP(Tableau23[[#This Row],[UAI ]],[2]!SuiviForumLyceeCibles[[UAI]:[Tél contact 2]],23,0)),"") | V133: =IFERROR(IF(VLOOKUP(Tableau23[[#This Row],[UAI ]],[2]!SuiviForumLyceeCibles[[UAI]:[Tél contact 2]],24,0)="","",VLOOKUP(Tableau23[[#This Row],[UAI ]],[2]!SuiviForumLyceeCibles[[UAI]:[Tél contact 2]],24,0)),"") | W133: =IFERROR(IF(VLOOKUP(Tableau23[[#This Row],[UAI ]],[2]!SuiviForumLyceeCibles[[UAI]:[Tél contact 2]],11,0)="","",VLOOKUP(Tableau23[[#This Row],[UAI ]],[2]!SuiviForumLyceeCibles[[UAI]:[Tél contact 2]],11,0)),"") -> Oui lycée ciblé ingénieur, la DPI organise sa présence
A134: INGENIEUR | B134: =IFERROR(IF(VLOOKUP(Tableau23[[#This Row],[UAI ]],[2]!SuiviForumLyceeCibles[[UAI]:[Tél contact 2]],5,0)="","",VLOOKUP(Tableau23[[#This Row],[UAI ]],[2]!SuiviForumLyceeCibles[[UAI]:[Tél contact 2]],5,0)),"") | C134: =IFERROR(IF(VLOOKUP(Tableau23[[#This Row],[UAI ]],[2]!SuiviForumLyceeCibles[[UAI]:[Tél contact 2]],6,0)="","",VLOOKUP(Tableau23[[#This Row],[UAI ]],[2]!SuiviForumLyceeCibles[[UAI]:[Tél contact 2]],6,0)),"") | D134: =IFERROR(VLOOKUP(Tableau23[[#This Row],[UAI ]],[2]!SuiviForumLyceeCibles[[UAI]:[Tél contact 2]],2,0),"") -> Forum d'orientation | E134: =IFERROR(VLOOKUP(Tableau23[[#This Row],[UAI ]],[2]!SuiviForumLyceeCibles[[UAI]:[Tél contact 2]],3,0),"") -> Lycées ciblés Ingénieur | F134: Pvvkb Punoj Bpdcbkg | G134: BQHBBWDAR | H134: 93 | I134: 3836381L | J134: =IFERROR(VLOOKUP(Tableau23[[#This Row],[Dpt]],'Table régions'!$A$2:$C$102,3,0),"") -> Île-de-France | K134: =IFERROR(IF(VLOOKUP(Tableau23[[#This Row],[UAI ]],[2]!SuiviForumLyceeCibles[[UAI]:[Tél contact 2]],4,0)="","",VLOOKUP(Tableau23[[#This Row],[UAI ]],[2]!SuiviForumLyceeCibles[[UAI]:[Tél contact 2]],4,0)),"") -> Terminale | L134: =IFERROR(IF(VLOOKUP(Tableau23[[#This Row],[UAI ]],[2]!SuiviForumLyceeCibles[[UAI]:[Tél contact 2]],7,0)="","",VLOOKUP(Tableau23[[#This Row],[UAI ]],[2]!SuiviForumLyceeCibles[[UAI]:[Tél contact 2]],7,0)),"") | M134: =IFERROR(IF(VLOOKUP(Tableau23[[#This Row],[UAI ]],[2]!SuiviForumLyceeCibles[[UAI]:[Tél contact 2]],9,0)="","",VLOOKUP(Tableau23[[#This Row],[UAI ]],[2]!SuiviForumLyceeCibles[[UAI]:[Tél contact 2]],9,0)),"") | N134: =IFERROR(IF(VLOOKUP(Tableau23[[#This Row],[UAI ]],[2]!SuiviForumLyceeCibles[[UAI]:[Tél contact 2]],10,0)="","",VLOOKUP(Tableau23[[#This Row],[UAI ]],[2]!SuiviForumLyceeCibles[[UAI]:[Tél contact 2]],10,0)),"") -> Pas de retour étudiant | O134: =IFERROR(IF(VLOOKUP(Tableau23[[#This Row],[UAI ]],[2]!SuiviForumLyceeCibles[[UAI]:[Tél contact 2]],17,0)="","",VLOOKUP(Tableau23[[#This Row],[UAI ]],[2]!SuiviForumLyceeCibles[[UAI]:[Tél contact 2]],17,0)),"") | P134: =IFERROR(IF(VLOOKUP(Tableau23[[#This Row],[UAI ]],[2]!SuiviForumLyceeCibles[[UAI]:[Tél contact 2]],18,0)="","",VLOOKUP(Tableau23[[#This Row],[UAI ]],[2]!SuiviForumLyceeCibles[[UAI]:[Tél contact 2]],18,0)),"") | Q134: =IFERROR(IF(VLOOKUP(Tableau23[[#This Row],[UAI ]],[2]!SuiviForumLyceeCibles[[UAI]:[Tél contact 2]],19,0)="","",VLOOKUP(Tableau23[[#This Row],[UAI ]],[2]!SuiviForumLyceeCibles[[UAI]:[Tél contact 2]],19,0)),"") | R134: =IFERROR(IF(VLOOKUP(Tableau23[[#This Row],[UAI ]],[2]!SuiviForumLyceeCibles[[UAI]:[Tél contact 2]],20,0)="","",VLOOKUP(Tableau23[[#This Row],[UAI ]],[2]!SuiviForumLyceeCibles[[UAI]:[Tél contact 2]],20,0)),"") | S134: =IFERROR(IF(VLOOKUP(Tableau23[[#This Row],[UAI ]],[2]!SuiviForumLyceeCibles[[UAI]:[Tél contact 2]],21,0)="","",VLOOKUP(Tableau23[[#This Row],[UAI ]],[2]!SuiviForumLyceeCibles[[UAI]:[Tél contact 2]],21,0)),"") | T134: =IFERROR(IF(VLOOKUP(Tableau23[[#This Row],[UAI ]],[2]!SuiviForumLyceeCibles[[UAI]:[Tél contact 2]],22,0)="","",VLOOKUP(Tableau23[[#This Row],[UAI ]],[2]!SuiviForumLyceeCibles[[UAI]:[Tél contact 2]],22,0)),"") | U134: =IFERROR(IF(VLOOKUP(Tableau23[[#This Row],[UAI ]],[2]!SuiviForumLyceeCibles[[UAI]:[Tél contact 2]],23,0)="","",VLOOKUP(Tableau23[[#This Row],[UAI ]],[2]!SuiviForumLyceeCibles[[UAI]:[Tél contact 2]],23,0)),"") | V134: =IFERROR(IF(VLOOKUP(Tableau23[[#This Row],[UAI ]],[2]!SuiviForumLyceeCibles[[UAI]:[Tél contact 2]],24,0)="","",VLOOKUP(Tableau23[[#This Row],[UAI ]],[2]!SuiviForumLyceeCibles[[UAI]:[Tél contact 2]],24,0)),"") | W134: =IFERROR(IF(VLOOKUP(Tableau23[[#This Row],[UAI ]],[2]!SuiviForumLyceeCibles[[UAI]:[Tél contact 2]],11,0)="","",VLOOKUP(Tableau23[[#This Row],[UAI ]],[2]!SuiviForumLyceeCibles[[UAI]:[Tél contact 2]],11,0)),"") -> Oui lycée ciblé ingénieur, la DPI organise sa présence
A135: INGENIEUR | B135: =IFERROR(IF(VLOOKUP(Tableau23[[#This Row],[UAI ]],[2]!SuiviForumLyceeCibles[[UAI]:[Tél contact 2]],5,0)="","",VLOOKUP(Tableau23[[#This Row],[UAI ]],[2]!SuiviForumLyceeCibles[[UAI]:[Tél contact 2]],5,0)),"") | C135: =IFERROR(IF(VLOOKUP(Tableau23[[#This Row],[UAI ]],[2]!SuiviForumLyceeCibles[[UAI]:[Tél contact 2]],6,0)="","",VLOOKUP(Tableau23[[#This Row],[UAI ]],[2]!SuiviForumLyceeCibles[[UAI]:[Tél contact 2]],6,0)),"") | D135: =IFERROR(VLOOKUP(Tableau23[[#This Row],[UAI ]],[2]!SuiviForumLyceeCibles[[UAI]:[Tél contact 2]],2,0),"") -> Forum d'orientation | E135: =IFERROR(VLOOKUP(Tableau23[[#This Row],[UAI ]],[2]!SuiviForumLyceeCibles[[UAI]:[Tél contact 2]],3,0),"") -> Lycées ciblés Ingénieur | F135: Vyblgt m'faszxvii | H135: 93 | I135: 2094201J | J135: =IFERROR(VLOOKUP(Tableau23[[#This Row],[Dpt]],'Table régions'!$A$2:$C$102,3,0),"") -> Île-de-France | K135: =IFERROR(IF(VLOOKUP(Tableau23[[#This Row],[UAI ]],[2]!SuiviForumLyceeCibles[[UAI]:[Tél contact 2]],4,0)="","",VLOOKUP(Tableau23[[#This Row],[UAI ]],[2]!SuiviForumLyceeCibles[[UAI]:[Tél contact 2]],4,0)),"") -> Terminale | L135: =IFERROR(IF(VLOOKUP(Tableau23[[#This Row],[UAI ]],[2]!SuiviForumLyceeCibles[[UAI]:[Tél contact 2]],7,0)="","",VLOOKUP(Tableau23[[#This Row],[UAI ]],[2]!SuiviForumLyceeCibles[[UAI]:[Tél contact 2]],7,0)),"") | M135: =IFERROR(IF(VLOOKUP(Tableau23[[#This Row],[UAI ]],[2]!SuiviForumLyceeCibles[[UAI]:[Tél contact 2]],9,0)="","",VLOOKUP(Tableau23[[#This Row],[UAI ]],[2]!SuiviForumLyceeCibles[[UAI]:[Tél contact 2]],9,0)),"") | N135: =IFERROR(IF(VLOOKUP(Tableau23[[#This Row],[UAI ]],[2]!SuiviForumLyceeCibles[[UAI]:[Tél contact 2]],10,0)="","",VLOOKUP(Tableau23[[#This Row],[UAI ]],[2]!SuiviForumLyceeCibles[[UAI]:[Tél contact 2]],10,0)),"") -> Pas de retour étudiant | O135: =IFERROR(IF(VLOOKUP(Tableau23[[#This Row],[UAI ]],[2]!SuiviForumLyceeCibles[[UAI]:[Tél contact 2]],17,0)="","",VLOOKUP(Tableau23[[#This Row],[UAI ]],[2]!SuiviForumLyceeCibles[[UAI]:[Tél contact 2]],17,0)),"") | P135: =IFERROR(IF(VLOOKUP(Tableau23[[#This Row],[UAI ]],[2]!SuiviForumLyceeCibles[[UAI]:[Tél contact 2]],18,0)="","",VLOOKUP(Tableau23[[#This Row],[UAI ]],[2]!SuiviForumLyceeCibles[[UAI]:[Tél contact 2]],18,0)),"") | Q135: =IFERROR(IF(VLOOKUP(Tableau23[[#This Row],[UAI ]],[2]!SuiviForumLyceeCibles[[UAI]:[Tél contact 2]],19,0)="","",VLOOKUP(Tableau23[[#This Row],[UAI ]],[2]!SuiviForumLyceeCibles[[UAI]:[Tél contact 2]],19,0)),"") | R135: =IFERROR(IF(VLOOKUP(Tableau23[[#This Row],[UAI ]],[2]!SuiviForumLyceeCibles[[UAI]:[Tél contact 2]],20,0)="","",VLOOKUP(Tableau23[[#This Row],[UAI ]],[2]!SuiviForumLyceeCibles[[UAI]:[Tél contact 2]],20,0)),"") | S135: =IFERROR(IF(VLOOKUP(Tableau23[[#This Row],[UAI ]],[2]!SuiviForumLyceeCibles[[UAI]:[Tél contact 2]],21,0)="","",VLOOKUP(Tableau23[[#This Row],[UAI ]],[2]!SuiviForumLyceeCibles[[UAI]:[Tél contact 2]],21,0)),"") | T135: =IFERROR(IF(VLOOKUP(Tableau23[[#This Row],[UAI ]],[2]!SuiviForumLyceeCibles[[UAI]:[Tél contact 2]],22,0)="","",VLOOKUP(Tableau23[[#This Row],[UAI ]],[2]!SuiviForumLyceeCibles[[UAI]:[Tél contact 2]],22,0)),"") | U135: =IFERROR(IF(VLOOKUP(Tableau23[[#This Row],[UAI ]],[2]!SuiviForumLyceeCibles[[UAI]:[Tél contact 2]],23,0)="","",VLOOKUP(Tableau23[[#This Row],[UAI ]],[2]!SuiviForumLyceeCibles[[UAI]:[Tél contact 2]],23,0)),"") | V135: =IFERROR(IF(VLOOKUP(Tableau23[[#This Row],[UAI ]],[2]!SuiviForumLyceeCibles[[UAI]:[Tél contact 2]],24,0)="","",VLOOKUP(Tableau23[[#This Row],[UAI ]],[2]!SuiviForumLyceeCibles[[UAI]:[Tél contact 2]],24,0)),"") | W135: =IFERROR(IF(VLOOKUP(Tableau23[[#This Row],[UAI ]],[2]!SuiviForumLyceeCibles[[UAI]:[Tél contact 2]],11,0)="","",VLOOKUP(Tableau23[[#This Row],[UAI ]],[2]!SuiviForumLyceeCibles[[UAI]:[Tél contact 2]],11,0)),"") -> Oui lycée ciblé ingénieur, la DPI organise sa présence
A136: INGENIEUR | B136: =IFERROR(IF(VLOOKUP(Tableau23[[#This Row],[UAI ]],[2]!SuiviForumLyceeCibles[[UAI]:[Tél contact 2]],5,0)="","",VLOOKUP(Tableau23[[#This Row],[UAI ]],[2]!SuiviForumLyceeCibles[[UAI]:[Tél contact 2]],5,0)),"") | C136: =IFERROR(IF(VLOOKUP(Tableau23[[#This Row],[UAI ]],[2]!SuiviForumLyceeCibles[[UAI]:[Tél contact 2]],6,0)="","",VLOOKUP(Tableau23[[#This Row],[UAI ]],[2]!SuiviForumLyceeCibles[[UAI]:[Tél contact 2]],6,0)),"") | D136: =IFERROR(VLOOKUP(Tableau23[[#This Row],[UAI ]],[2]!SuiviForumLyceeCibles[[UAI]:[Tél contact 2]],2,0),"") -> Forum d'orientation | E136: =IFERROR(VLOOKUP(Tableau23[[#This Row],[UAI ]],[2]!SuiviForumLyceeCibles[[UAI]:[Tél contact 2]],3,0),"") -> Lycées ciblés Ingénieur | F136: Tgxlr Apsem Umxbf | G136: AENNNI CJ BGQ | H136: 94 | I136: 7350908D | J136: =IFERROR(VLOOKUP(Tableau23[[#This Row],[Dpt]],'Table régions'!$A$2:$C$102,3,0),"") -> Île-de-France | K136: =IFERROR(IF(VLOOKUP(Tableau23[[#This Row],[UAI ]],[2]!SuiviForumLyceeCibles[[UAI]:[Tél contact 2]],4,0)="","",VLOOKUP(Tableau23[[#This Row],[UAI ]],[2]!SuiviForumLyceeCibles[[UAI]:[Tél contact 2]],4,0)),"") -> Terminale | L136: =IFERROR(IF(VLOOKUP(Tableau23[[#This Row],[UAI ]],[2]!SuiviForumLyceeCibles[[UAI]:[Tél contact 2]],7,0)="","",VLOOKUP(Tableau23[[#This Row],[UAI ]],[2]!SuiviForumLyceeCibles[[UAI]:[Tél contact 2]],7,0)),"") | M136: =IFERROR(IF(VLOOKUP(Tableau23[[#This Row],[UAI ]],[2]!SuiviForumLyceeCibles[[UAI]:[Tél contact 2]],9,0)="","",VLOOKUP(Tableau23[[#This Row],[UAI ]],[2]!SuiviForumLyceeCibles[[UAI]:[Tél contact 2]],9,0)),"") | N136: =IFERROR(IF(VLOOKUP(Tableau23[[#This Row],[UAI ]],[2]!SuiviForumLyceeCibles[[UAI]:[Tél contact 2]],10,0)="","",VLOOKUP(Tableau23[[#This Row],[UAI ]],[2]!SuiviForumLyceeCibles[[UAI]:[Tél contact 2]],10,0)),"") -> Pas de retour étudiant | O136: =IFERROR(IF(VLOOKUP(Tableau23[[#This Row],[UAI ]],[2]!SuiviForumLyceeCibles[[UAI]:[Tél contact 2]],17,0)="","",VLOOKUP(Tableau23[[#This Row],[UAI ]],[2]!SuiviForumLyceeCibles[[UAI]:[Tél contact 2]],17,0)),"") | P136: =IFERROR(IF(VLOOKUP(Tableau23[[#This Row],[UAI ]],[2]!SuiviForumLyceeCibles[[UAI]:[Tél contact 2]],18,0)="","",VLOOKUP(Tableau23[[#This Row],[UAI ]],[2]!SuiviForumLyceeCibles[[UAI]:[Tél contact 2]],18,0)),"") | Q136: =IFERROR(IF(VLOOKUP(Tableau23[[#This Row],[UAI ]],[2]!SuiviForumLyceeCibles[[UAI]:[Tél contact 2]],19,0)="","",VLOOKUP(Tableau23[[#This Row],[UAI ]],[2]!SuiviForumLyceeCibles[[UAI]:[Tél contact 2]],19,0)),"") | R136: =IFERROR(IF(VLOOKUP(Tableau23[[#This Row],[UAI ]],[2]!SuiviForumLyceeCibles[[UAI]:[Tél contact 2]],20,0)="","",VLOOKUP(Tableau23[[#This Row],[UAI ]],[2]!SuiviForumLyceeCibles[[UAI]:[Tél contact 2]],20,0)),"") | S136: =IFERROR(IF(VLOOKUP(Tableau23[[#This Row],[UAI ]],[2]!SuiviForumLyceeCibles[[UAI]:[Tél contact 2]],21,0)="","",VLOOKUP(Tableau23[[#This Row],[UAI ]],[2]!SuiviForumLyceeCibles[[UAI]:[Tél contact 2]],21,0)),"") | T136: =IFERROR(IF(VLOOKUP(Tableau23[[#This Row],[UAI ]],[2]!SuiviForumLyceeCibles[[UAI]:[Tél contact 2]],22,0)="","",VLOOKUP(Tableau23[[#This Row],[UAI ]],[2]!SuiviForumLyceeCibles[[UAI]:[Tél contact 2]],22,0)),"") | U136: =IFERROR(IF(VLOOKUP(Tableau23[[#This Row],[UAI ]],[2]!SuiviForumLyceeCibles[[UAI]:[Tél contact 2]],23,0)="","",VLOOKUP(Tableau23[[#This Row],[UAI ]],[2]!SuiviForumLyceeCibles[[UAI]:[Tél contact 2]],23,0)),"") | V136: =IFERROR(IF(VLOOKUP(Tableau23[[#This Row],[UAI ]],[2]!SuiviForumLyceeCibles[[UAI]:[Tél contact 2]],24,0)="","",VLOOKUP(Tableau23[[#This Row],[UAI ]],[2]!SuiviForumLyceeCibles[[UAI]:[Tél contact 2]],24,0)),"") | W136: =IFERROR(IF(VLOOKUP(Tableau23[[#This Row],[UAI ]],[2]!SuiviForumLyceeCibles[[UAI]:[Tél contact 2]],11,0)="","",VLOOKUP(Tableau23[[#This Row],[UAI ]],[2]!SuiviForumLyceeCibles[[UAI]:[Tél contact 2]],11,0)),"") -> Oui lycée ciblé ingénieur, la DPI organise sa présence
A137: INGENIEUR | B137: =IFERROR(IF(VLOOKUP(Tableau23[[#This Row],[UAI ]],[2]!SuiviForumLyceeCibles[[UAI]:[Tél contact 2]],5,0)="","",VLOOKUP(Tableau23[[#This Row],[UAI ]],[2]!SuiviForumLyceeCibles[[UAI]:[Tél contact 2]],5,0)),"") | C137: =IFERROR(IF(VLOOKUP(Tableau23[[#This Row],[UAI ]],[2]!SuiviForumLyceeCibles[[UAI]:[Tél contact 2]],6,0)="","",VLOOKUP(Tableau23[[#This Row],[UAI ]],[2]!SuiviForumLyceeCibles[[UAI]:[Tél contact 2]],6,0)),"") | D137: =IFERROR(VLOOKUP(Tableau23[[#This Row],[UAI ]],[2]!SuiviForumLyceeCibles[[UAI]:[Tél contact 2]],2,0),"") | E137: =IFERROR(VLOOKUP(Tableau23[[#This Row],[UAI ]],[2]!SuiviForumLyceeCibles[[UAI]:[Tél contact 2]],3,0),"") | J137: =IFERROR(VLOOKUP(Tableau23[[#This Row],[Dpt]],'Table régions'!$A$2:$C$102,3,0),"") | K137: =IFERROR(IF(VLOOKUP(Tableau23[[#This Row],[UAI ]],[2]!SuiviForumLyceeCibles[[UAI]:[Tél contact 2]],4,0)="","",VLOOKUP(Tableau23[[#This Row],[UAI ]],[2]!SuiviForumLyceeCibles[[UAI]:[Tél contact 2]],4,0)),"") | L137: =IFERROR(IF(VLOOKUP(Tableau23[[#This Row],[UAI ]],[2]!SuiviForumLyceeCibles[[UAI]:[Tél contact 2]],7,0)="","",VLOOKUP(Tableau23[[#This Row],[UAI ]],[2]!SuiviForumLyceeCibles[[UAI]:[Tél contact 2]],7,0)),"") | M137: =IFERROR(IF(VLOOKUP(Tableau23[[#This Row],[UAI ]],[2]!SuiviForumLyceeCibles[[UAI]:[Tél contact 2]],9,0)="","",VLOOKUP(Tableau23[[#This Row],[UAI ]],[2]!SuiviForumLyceeCibles[[UAI]:[Tél contact 2]],9,0)),"") | N137: =IFERROR(IF(VLOOKUP(Tableau23[[#This Row],[UAI ]],[2]!SuiviForumLyceeCibles[[UAI]:[Tél contact 2]],10,0)="","",VLOOKUP(Tableau23[[#This Row],[UAI ]],[2]!SuiviForumLyceeCibles[[UAI]:[Tél contact 2]],10,0)),"") | O137: =IFERROR(IF(VLOOKUP(Tableau23[[#This Row],[UAI ]],[2]!SuiviForumLyceeCibles[[UAI]:[Tél contact 2]],17,0)="","",VLOOKUP(Tableau23[[#This Row],[UAI ]],[2]!SuiviForumLyceeCibles[[UAI]:[Tél contact 2]],17,0)),"") | P137: =IFERROR(IF(VLOOKUP(Tableau23[[#This Row],[UAI ]],[2]!SuiviForumLyceeCibles[[UAI]:[Tél contact 2]],18,0)="","",VLOOKUP(Tableau23[[#This Row],[UAI ]],[2]!SuiviForumLyceeCibles[[UAI]:[Tél contact 2]],18,0)),"") | Q137: =IFERROR(IF(VLOOKUP(Tableau23[[#This Row],[UAI ]],[2]!SuiviForumLyceeCibles[[UAI]:[Tél contact 2]],19,0)="","",VLOOKUP(Tableau23[[#This Row],[UAI ]],[2]!SuiviForumLyceeCibles[[UAI]:[Tél contact 2]],19,0)),"") | R137: =IFERROR(IF(VLOOKUP(Tableau23[[#This Row],[UAI ]],[2]!SuiviForumLyceeCibles[[UAI]:[Tél contact 2]],20,0)="","",VLOOKUP(Tableau23[[#This Row],[UAI ]],[2]!SuiviForumLyceeCibles[[UAI]:[Tél contact 2]],20,0)),"") | S137: =IFERROR(IF(VLOOKUP(Tableau23[[#This Row],[UAI ]],[2]!SuiviForumLyceeCibles[[UAI]:[Tél contact 2]],21,0)="","",VLOOKUP(Tableau23[[#This Row],[UAI ]],[2]!SuiviForumLyceeCibles[[UAI]:[Tél contact 2]],21,0)),"") | T137: =IFERROR(IF(VLOOKUP(Tableau23[[#This Row],[UAI ]],[2]!SuiviForumLyceeCibles[[UAI]:[Tél contact 2]],22,0)="","",VLOOKUP(Tableau23[[#This Row],[UAI ]],[2]!SuiviForumLyceeCibles[[UAI]:[Tél contact 2]],22,0)),"") | U137: =IFERROR(IF(VLOOKUP(Tableau23[[#This Row],[UAI ]],[2]!SuiviForumLyceeCibles[[UAI]:[Tél contact 2]],23,0)="","",VLOOKUP(Tableau23[[#This Row],[UAI ]],[2]!SuiviForumLyceeCibles[[UAI]:[Tél contact 2]],23,0)),"") | V137: =IFERROR(IF(VLOOKUP(Tableau23[[#This Row],[UAI ]],[2]!SuiviForumLyceeCibles[[UAI]:[Tél contact 2]],24,0)="","",VLOOKUP(Tableau23[[#This Row],[UAI ]],[2]!SuiviForumLyceeCibles[[UAI]:[Tél contact 2]],24,0)),"") | W137: =IFERROR(IF(VLOOKUP(Tableau23[[#This Row],[UAI ]],[2]!SuiviForumLyceeCibles[[UAI]:[Tél contact 2]],11,0)="","",VLOOKUP(Tableau23[[#This Row],[UAI ]],[2]!SuiviForumLyceeCibles[[UAI]:[Tél contact 2]],11,0)),"")
A138: INGENIEUR | B138: =IFERROR(IF(VLOOKUP(Tableau23[[#This Row],[UAI ]],[2]!SuiviForumLyceeCibles[[UAI]:[Tél contact 2]],5,0)="","",VLOOKUP(Tableau23[[#This Row],[UAI ]],[2]!SuiviForumLyceeCibles[[UAI]:[Tél contact 2]],5,0)),"") | C138: =IFERROR(IF(VLOOKUP(Tableau23[[#This Row],[UAI ]],[2]!SuiviForumLyceeCibles[[UAI]:[Tél contact 2]],6,0)="","",VLOOKUP(Tableau23[[#This Row],[UAI ]],[2]!SuiviForumLyceeCibles[[UAI]:[Tél contact 2]],6,0)),"") | D138: =IFERROR(VLOOKUP(Tableau23[[#This Row],[UAI ]],[2]!SuiviForumLyceeCibles[[UAI]:[Tél contact 2]],2,0),"") | E138: =IFERROR(VLOOKUP(Tableau23[[#This Row],[UAI ]],[2]!SuiviForumLyceeCibles[[UAI]:[Tél contact 2]],3,0),"") | J138: =IFERROR(VLOOKUP(Tableau23[[#This Row],[Dpt]],'Table régions'!$A$2:$C$102,3,0),"") | K138: =IFERROR(IF(VLOOKUP(Tableau23[[#This Row],[UAI ]],[2]!SuiviForumLyceeCibles[[UAI]:[Tél contact 2]],4,0)="","",VLOOKUP(Tableau23[[#This Row],[UAI ]],[2]!SuiviForumLyceeCibles[[UAI]:[Tél contact 2]],4,0)),"") | L138: =IFERROR(IF(VLOOKUP(Tableau23[[#This Row],[UAI ]],[2]!SuiviForumLyceeCibles[[UAI]:[Tél contact 2]],7,0)="","",VLOOKUP(Tableau23[[#This Row],[UAI ]],[2]!SuiviForumLyceeCibles[[UAI]:[Tél contact 2]],7,0)),"") | M138: =IFERROR(IF(VLOOKUP(Tableau23[[#This Row],[UAI ]],[2]!SuiviForumLyceeCibles[[UAI]:[Tél contact 2]],9,0)="","",VLOOKUP(Tableau23[[#This Row],[UAI ]],[2]!SuiviForumLyceeCibles[[UAI]:[Tél contact 2]],9,0)),"") | N138: =IFERROR(IF(VLOOKUP(Tableau23[[#This Row],[UAI ]],[2]!SuiviForumLyceeCibles[[UAI]:[Tél contact 2]],10,0)="","",VLOOKUP(Tableau23[[#This Row],[UAI ]],[2]!SuiviForumLyceeCibles[[UAI]:[Tél contact 2]],10,0)),"") | O138: =IFERROR(IF(VLOOKUP(Tableau23[[#This Row],[UAI ]],[2]!SuiviForumLyceeCibles[[UAI]:[Tél contact 2]],17,0)="","",VLOOKUP(Tableau23[[#This Row],[UAI ]],[2]!SuiviForumLyceeCibles[[UAI]:[Tél contact 2]],17,0)),"") | P138: =IFERROR(IF(VLOOKUP(Tableau23[[#This Row],[UAI ]],[2]!SuiviForumLyceeCibles[[UAI]:[Tél contact 2]],18,0)="","",VLOOKUP(Tableau23[[#This Row],[UAI ]],[2]!SuiviForumLyceeCibles[[UAI]:[Tél contact 2]],18,0)),"") | Q138: =IFERROR(IF(VLOOKUP(Tableau23[[#This Row],[UAI ]],[2]!SuiviForumLyceeCibles[[UAI]:[Tél contact 2]],19,0)="","",VLOOKUP(Tableau23[[#This Row],[UAI ]],[2]!SuiviForumLyceeCibles[[UAI]:[Tél contact 2]],19,0)),"") | R138: =IFERROR(IF(VLOOKUP(Tableau23[[#This Row],[UAI ]],[2]!SuiviForumLyceeCibles[[UAI]:[Tél contact 2]],20,0)="","",VLOOKUP(Tableau23[[#This Row],[UAI ]],[2]!SuiviForumLyceeCibles[[UAI]:[Tél contact 2]],20,0)),"") | S138: =IFERROR(IF(VLOOKUP(Tableau23[[#This Row],[UAI ]],[2]!SuiviForumLyceeCibles[[UAI]:[Tél contact 2]],21,0)="","",VLOOKUP(Tableau23[[#This Row],[UAI ]],[2]!SuiviForumLyceeCibles[[UAI]:[Tél contact 2]],21,0)),"") | T138: =IFERROR(IF(VLOOKUP(Tableau23[[#This Row],[UAI ]],[2]!SuiviForumLyceeCibles[[UAI]:[Tél contact 2]],22,0)="","",VLOOKUP(Tableau23[[#This Row],[UAI ]],[2]!SuiviForumLyceeCibles[[UAI]:[Tél contact 2]],22,0)),"") | U138: =IFERROR(IF(VLOOKUP(Tableau23[[#This Row],[UAI ]],[2]!SuiviForumLyceeCibles[[UAI]:[Tél contact 2]],23,0)="","",VLOOKUP(Tableau23[[#This Row],[UAI ]],[2]!SuiviForumLyceeCibles[[UAI]:[Tél contact 2]],23,0)),"") | V138: =IFERROR(IF(VLOOKUP(Tableau23[[#This Row],[UAI ]],[2]!SuiviForumLyceeCibles[[UAI]:[Tél contact 2]],24,0)="","",VLOOKUP(Tableau23[[#This Row],[UAI ]],[2]!SuiviForumLyceeCibles[[UAI]:[Tél contact 2]],24,0)),"") | W138: =IFERROR(IF(VLOOKUP(Tableau23[[#This Row],[UAI ]],[2]!SuiviForumLyceeCibles[[UAI]:[Tél contact 2]],11,0)="","",VLOOKUP(Tableau23[[#This Row],[UAI ]],[2]!SuiviForumLyceeCibles[[UAI]:[Tél contact 2]],11,0)),"")
