Workbook
Name date_recrut: #REF!
Name liste_poste: 'Avancement Categorie'!#REF!
Name liste_salarie: 'Avancement Categorie'!#REF!
Name Mat: Categorie!$A$2

Sheet Categorie
A1: Matricule | B1: Nom | C1: Date Recrut | D1: Poste 1 | E1: Categorie Poste | F1: Categorie | G1: Echelon | H1: Grade | L1: Echelon Exceptionnel | M1: 43466 | N1: Date Sanction | O1: 43855
A2: Mat 2 | B2: =VLOOKUP(Mat,'Avancement Categorie'!A2:E2,2,0) -> Nom 2 | C2: =VLOOKUP(Mat,'Avancement Categorie'!A2:E2,4,0) -> 35796 | D2: Poste 1 | E2: =VLOOKUP(D2,'Avancement Categorie'!#REF!,2,0) -> #REF! | F2: =VLOOKUP(Mat,'Avancement Categorie'!A2:E2,6,0) -> #REF! | G2: =VLOOKUP(Mat,'Avancement Categorie'!A2:E2,8,0) -> #REF! | H2: =VLOOKUP(A2,'Avancement Categorie'!A2:E2,10,0) -> #REF! | L2: Date | N2: Sanction
A4: Date prochainne Categorie | B4: Periodicite | C4: Prochainne Categorie | D4: Alerte Categorie | E4: N° Decision
A5: =IF(OR(C2="",B5=""),"",EDATE(C2,B5*12)) -> 37622 | B5: 5 | C5: =IF(A5="","",IF(A5-TODAY()>0,A5-TODAY(),0)) -> 0 | D5: =INT(DATEDIF(C2,A5,"y")/B5)+F2 -> #REF!
A6: =IF(OR(A5="",B6=""),"",EDATE(A5,B5*12)) -> 39448 | B6: 5 | C6: =IF(A6="","",IF(A6-TODAY()>0,A6-TODAY(),0)) -> 0 | D6: =INT(DATEDIF(A5,A6,"y")/B6)+D5 -> #REF!
A7: =IF(OR(A6="",B7=""),"",EDATE(A6,B6*12)) -> 41275 | B7: 5 | C7: =IF(A7="","",IF(A7-TODAY()>0,A7-TODAY(),0)) -> 0 | D7: =INT(DATEDIF(A6,A7,"y")/B7)+D6 -> #REF!
A8: =IF(OR(A7="",B8=""),"",EDATE(A7,B7*12)) -> 43101 | B8: 5 | C8: =IF(A8="","",IF(A8-TODAY()>0,A8-TODAY(),0)) -> 0 | D8: =INT(DATEDIF(A7,A8,"y")/B8)+D7 -> #REF!
A9: =IF(OR(A8="",B9=""),"",EDATE(A8,B8*12)) -> 44927 | B9: 5 | C9: =IF(A9="","",IF(A9-TODAY()>0,A9-TODAY(),0)) -> 443 | D9: =INT(DATEDIF(A8,A9,"y")/B9)+D8 -> #REF!

Sheet Avancement Categorie
A1: Mat | B1: Nom | C1: Prenom | D1: Date Recrutement | E1: Poste | F1: Date Categorie Merite | G1: Categorie Merite | L1: Grade | M1: =CONCATENATE("Grade ",L2,'Avancement Echhlon'!#REF!) -> #REF!
A2: Mat 2 | B2: =VLOOKUP(A2,BD!$A$2:$H$9,2,0) -> Nom 2 | C2: =VLOOKUP(A2,BD!$A$2:$H$9,3,0) -> Prenom 2 | D2: =VLOOKUP(A2,BD!$A$2:$H$9,4,0) -> 35796 | E2: =VLOOKUP(A2,BD!$A$2:$H$9,6,0) -> Poste 2 | F2: =IF(OR(D2="",5=""),"",EDATE(D2,5*12)) -> 37622 | G2: =IF(F2="","",IF(F2>TODAY(),"",INT(DATEDIF(F2,F3,"y")/5))) -> 1
A3: Mat 2 | B3: =VLOOKUP(A3,BD!$A$2:$H$9,2,0) -> Nom 2 | C3: =VLOOKUP(A3,BD!$A$2:$H$9,3,0) -> Prenom 2 | D3: =VLOOKUP(A3,BD!$A$2:$H$9,4,0) -> 35796 | E3: =VLOOKUP(A3,BD!$A$2:$H$9,6,0) -> Poste 2 | F3: =IF(OR(F2="",5=""),"",EDATE(F2,5*12)) -> 39448 | G3: =IF(F3="","",IF(F3>TODAY(),"",INT(DATEDIF(F3,F4,"y")/5))) -> 1
A4: Mat 2 | B4: =VLOOKUP(A4,BD!$A$2:$H$9,2,0) -> Nom 2 | C4: =VLOOKUP(A4,BD!$A$2:$H$9,3,0) -> Prenom 2 | D4: =VLOOKUP(A4,BD!$A$2:$H$9,4,0) -> 35796 | E4: =VLOOKUP(A4,BD!$A$2:$H$9,6,0) -> Poste 2 | F4: =IF(OR(F3="",5=""),"",EDATE(F3,5*12)) -> 41275 | G4: =IF(F4="","",IF(F4>TODAY(),"",INT(DATEDIF(F4,F5,"y")/5))) -> 1
A5: Mat 2 | B5: =VLOOKUP(A5,BD!$A$2:$H$9,2,0) -> Nom 2 | C5: =VLOOKUP(A5,BD!$A$2:$H$9,3,0) -> Prenom 2 | D5: =VLOOKUP(A5,BD!$A$2:$H$9,4,0) -> 35796 | E5: =VLOOKUP(A5,BD!$A$2:$H$9,6,0) -> Poste 2 | F5: =IF(OR(F4="",5=""),"",EDATE(F4,5*12)) -> 43101 | G5: =IF(F5="","",IF(F5>TODAY(),"",INT(DATEDIF(F5,F6,"y")/5))) -> 1
A6: Mat 2 | B6: =VLOOKUP(A6,BD!$A$2:$H$9,2,0) -> Nom 2 | C6: =VLOOKUP(A6,BD!$A$2:$H$9,3,0) -> Prenom 2 | D6: =VLOOKUP(A6,BD!$A$2:$H$9,4,0) -> 35796 | E6: =VLOOKUP(A6,BD!$A$2:$H$9,6,0) -> Poste 2 | F6: =IF(OR(F5="",5=""),"",EDATE(F5,5*12)) -> 44927 | G6: =IF(F6="","",IF(F6>TODAY(),"",INT(DATEDIF(F6,F7,"y")/5)))
F10: =IF(ISBLANK(A2),"",SUM(G2:G6)) -> 4

Sheet Poste
A3: Poste | B3: Categorie
A4: Poste 1 | B4: 10
A5: Poste 2 | B5: 15
A6: Poste 3 | B6: 12
A7: Poste 4 | B7: 18
A8: Poste 5 | B8: 14
A9: Poste 6 | B9: 12
A10: Poste 7 | B10: 12
A11: Poste 8 | B11: 12

Sheet BD
A1: MAT | B1: Nom | C1: Prenom | D1: Date Recrutement | E1: Ancienneté | F1: Poste | G1: Categorie Embauche | H1: Echelon Embauche | I1: Grade Embauche | J1: Grade Poste
A2: Mat 1 | B2: =IF(ISBLANK(A2),"",VLOOKUP(BD!A2,Personnel!A2:E9,2,0)) -> Nom 1 | C2: =IF(ISBLANK(A2),"",VLOOKUP(BD!A2,Personnel!A2:E9,3,0)) -> Prenom 1 | D2: 40339 | E2: =DATEDIF(D2,TODAY(),"Y") & " Années " -> 11 Années | F2: Poste 1 | G2: =VLOOKUP(F2,Poste!A4:B11,2,0) -> 10 | H2: 0 | I2: =CONCATENATE(G2,".",H2) -> 10.0 | L2: =CONCATENATE("Grade ",'Avancement Categorie'!L2,'Avancement Echhlon'!#REF!) -> #REF!
A3: Mat 2 | B3: =IF(ISBLANK(A3),"",VLOOKUP(BD!A3,Personnel!A3:E12,2,0)) -> Nom 2 | C3: =IF(ISBLANK(A3),"",VLOOKUP(BD!A3,Personnel!A3:E12,3,0)) -> Prenom 2 | D3: 35796 | E3: =DATEDIF(D3,TODAY(),"Y") & " Années " -> 23 Années | F3: Poste 2 | G3: =VLOOKUP(F3,Poste!A5:B12,2,0) -> 15 | H3: 0 | I3: =CONCATENATE(G3,".",H3) -> 15.0
A4: Mat 3 | B4: =IF(ISBLANK(A4),"",VLOOKUP(BD!A4,Personnel!A4:E13,2,0)) -> Nom 3 | C4: =IF(ISBLANK(A4),"",VLOOKUP(BD!A4,Personnel!A4:E13,3,0)) -> Prenom 3 | D4: 42038 | E4: =DATEDIF(D4,TODAY(),"Y") & " Années " -> 6 Années | F4: Poste 3 | G4: =VLOOKUP(F4,Poste!A6:B13,2,0) -> 12 | H4: 0 | I4: =CONCATENATE(G4,".",H4) -> 12.0
A5: Mat 4 | B5: =IF(ISBLANK(A5),"",VLOOKUP(BD!A5,Personnel!A5:E14,2,0)) -> Nom 4 | C5: =IF(ISBLANK(A5),"",VLOOKUP(BD!A5,Personnel!A5:E14,3,0)) -> Prenom 4 | D5: 42614 | E5: =DATEDIF(D5,TODAY(),"Y") & " Années " -> 5 Années | F5: Poste 4 | G5: =VLOOKUP(F5,Poste!A7:B14,2,0) -> 18 | H5: 0 | I5: =CONCATENATE(G5,".",H5) -> 18.0
A6: Mat 5 | B6: =IF(ISBLANK(A6),"",VLOOKUP(BD!A6,Personnel!A6:E15,2,0)) -> Nom 5 | C6: =IF(ISBLANK(A6),"",VLOOKUP(BD!A6,Personnel!A6:E15,3,0)) -> Prenom 5 | D6: 42556 | E6: =DATEDIF(D6,TODAY(),"Y") & " Années " -> 5 Années | F6: Poste 5 | G6: =VLOOKUP(F6,Poste!A8:B15,2,0) -> 14 | H6: 0 | I6: =CONCATENATE(G6,".",H6) -> 14.0
A7: Mat 6 | B7: =IF(ISBLANK(A7),"",VLOOKUP(BD!A7,Personnel!A7:E16,2,0)) -> Nom 6 | C7: =IF(ISBLANK(A7),"",VLOOKUP(BD!A7,Personnel!A7:E16,3,0)) -> Prenom 6 | D7: 40583 | E7: =DATEDIF(D7,TODAY(),"Y") & " Années " -> 10 Années | F7: Poste 6 | G7: =VLOOKUP(F7,Poste!A9:B16,2,0) -> 12 | H7: 0 | I7: =CONCATENATE(G7,".",H7) -> 12.0
A8: Mat 7 | B8: =IF(ISBLANK(A8),"",VLOOKUP(BD!A8,Personnel!A8:E17,2,0)) -> Nom 7 | C8: =IF(ISBLANK(A8),"",VLOOKUP(BD!A8,Personnel!A8:E17,3,0)) -> Prenom 7 | D8: 40583 | E8: =DATEDIF(D8,TODAY(),"Y") & " Années " -> 10 Années | F8: Poste 7 | G8: =VLOOKUP(F8,Poste!A10:B17,2,0) -> 12 | H8: 0 | I8: =CONCATENATE(G8,".",H8) -> 12.0
A9: Mat 8 | B9: =IF(ISBLANK(A9),"",VLOOKUP(BD!A9,Personnel!A9:E18,2,0)) -> Nom 8 | C9: =IF(ISBLANK(A9),"",VLOOKUP(BD!A9,Personnel!A9:E18,3,0)) -> Prenom 8 | D9: 40583 | E9: =DATEDIF(D9,TODAY(),"Y") & " Années " -> 10 Années | F9: Poste 8 | G9: =VLOOKUP(F9,Poste!A11:B18,2,0) -> 12 | H9: 0 | I9: =CONCATENATE(G9,".",H9) -> 12.0
E13: * | F13: Mettre la somme de cellulle (G2) + (G2:G6) de la feuille avancement Categorie qui nous donnent 14.
D14: ( | E14: * | F14: Ensuite Mettre la Somme de (H2)+(I2) de la feuille Avancement Echelon Qui nous donnent 02
E15: * | F15: Esuite Concatenner 14.02

Sheet Personnel
A1: MAT | B1: Nom | C1: Prenom | D1: Sexe | E1: Date Naissance | F1: Ancienneté
A2: Mat 1 | B2: Nom 1 | C2: Prenom 1 | D2: Masculin | E2: 33725 | F2: =DATEDIF(E2,TODAY(),"Y") & " Années, "&DATEDIF(E2,TODAY(),"YM") & " Mois, "& DATEDIF(E2,TODAY(),"MD") & " Jours, " -> 29 Années, 5 Mois, 14 Jours,
A3: Mat 2 | B3: Nom 2 | C3: Prenom 2 | D3: Feminin | E3: 29282 | F3: =DATEDIF(E3,TODAY(),"Y") & " Années, "&DATEDIF(E3,TODAY(),"YM") & " Mois, "& DATEDIF(E3,TODAY(),"MD") & " Jours, " -> 41 Années, 7 Mois, 13 Jours,
A4: Mat 3 | B4: Nom 3 | C4: Prenom 3 | D4: Masculin | E4: 28202 | F4: =DATEDIF(E4,TODAY(),"Y") & " Années, "&DATEDIF(E4,TODAY(),"YM") & " Mois, "& DATEDIF(E4,TODAY(),"MD") & " Jours, " -> 44 Années, 6 Mois, 27 Jours,
A5: Mat 4 | B5: Nom 4 | C5: Prenom 4 | D5: Feminin | E5: 24659 | F5: =DATEDIF(E5,TODAY(),"Y") & " Années, "&DATEDIF(E5,TODAY(),"YM") & " Mois, "& DATEDIF(E5,TODAY(),"MD") & " Jours, " -> 54 Années, 3 Mois, 9 Jours,
A6: Mat 5 | B6: Nom 5 | C6: Prenom 5 | D6: Masculin | E6: 26420 | F6: =DATEDIF(E6,TODAY(),"Y") & " Années, "&DATEDIF(E6,TODAY(),"YM") & " Mois, "& DATEDIF(E6,TODAY(),"MD") & " Jours, " -> 49 Années, 5 Mois, 14 Jours,
A7: Mat 6 | B7: Nom 6 | C7: Prenom 6 | D7: Feminin | E7: 34002 | F7: =DATEDIF(E7,TODAY(),"Y") & " Années, "&DATEDIF(E7,TODAY(),"YM") & " Mois, "& DATEDIF(E7,TODAY(),"MD") & " Jours, " -> 28 Années, 8 Mois, 13 Jours,
A8: Mat 7 | B8: Nom 7 | C8: Prenom 7 | D8: Masculin | E8: 29984 | F8: =DATEDIF(E8,TODAY(),"Y") & " Années, "&DATEDIF(E8,TODAY(),"YM") & " Mois, "& DATEDIF(E8,TODAY(),"MD") & " Jours, " -> 39 Années, 8 Mois, 13 Jours,
A9: Mat 8 | B9: Nom 8 | C9: Prenom 8 | D9: Masculin | E9: 30499 | F9: =DATEDIF(E9,TODAY(),"Y") & " Années, "&DATEDIF(E9,TODAY(),"YM") & " Mois, "& DATEDIF(E9,TODAY(),"MD") & " Jours, " -> 38 Années, 3 Mois, 13 Jours,

Sheet Avancement Echhlon
A1: Mat | B1: Nom | C1: Prenom | D1: Date Recrutement | E1: Poste | F1: Date Echelon Merite | G1: Echelon Merite | H1: Echelon Promo | I1: Echelon | J1: Date Echelon Promo | K1: N° Decision | L1: Sanction | M1: Date Sanction
A2: Mat 2 | B2: =VLOOKUP(A2,BD!$A$2:$H$9,2,0) -> Nom 2 | C2: =IF(ISBLANK(A2),"",VLOOKUP(A2,BD!$A$2:$H$9,3,0)) -> Prenom 2 | D2: =IF(ISBLANK(A2),"",VLOOKUP(A2,BD!$A$2:$H$9,4,0)) -> 35796 | E2: =IF(ISBLANK(A2),"",VLOOKUP(A2,BD!$A$2:$H$9,6,0)) -> Poste 2 | F2: =IF(ISBLANK(A2),"",IF(OR(D2="",2=""),"",EDATE(D2,2*12))) -> 36526 | G2: =IF(F2>TODAY(),"",INT(DATEDIF(D2,F2,"y")/2)) -> 1 | H2: 1 | I2: =IF(ISBLANK(A2),"",SUM(G2:H2)) -> 2 | J2: 37891 | K2: 145
A3: Mat 2 | B3: =VLOOKUP(A3,BD!$A$2:$H$9,2,0) -> Nom 2 | C3: =IF(ISBLANK(A3),"",VLOOKUP(A3,BD!$A$2:$H$9,3,0)) -> Prenom 2 | D3: =IF(ISBLANK(A3),"",VLOOKUP(A3,BD!$A$2:$H$9,4,0)) -> 35796 | E3: =IF(ISBLANK(A3),"",VLOOKUP(A3,BD!$A$2:$H$9,6,0)) -> Poste 2 | F3: =IF(ISBLANK(A3),"",IF(OR(F2="",2=""),"",EDATE(F2,2*12))) -> 37257 | G3: =IF(F2>TODAY(),"",INT(DATEDIF(F2,F3,"y")/2)) -> 1 | I3: =IF(ISBLANK(A3),"",SUM(G3:H3)) -> 1 | K3: 235
A4: Mat 2 | B4: =VLOOKUP(A4,BD!$A$2:$H$9,2,0) -> Nom 2 | C4: =IF(ISBLANK(A4),"",VLOOKUP(A4,BD!$A$2:$H$9,3,0)) -> Prenom 2 | D4: =IF(ISBLANK(A4),"",VLOOKUP(A4,BD!$A$2:$H$9,4,0)) -> 35796 | E4: =IF(ISBLANK(A4),"",VLOOKUP(A4,BD!$A$2:$H$9,6,0)) -> Poste 2 | F4: =IF(ISBLANK(A4),"",IF(OR(F3="",2=""),"",EDATE(F3,2*12))) -> 37987 | G4: =IF(F3>TODAY(),"",INT(DATEDIF(F3,F4,"y")/2)) -> 1 | I4: =IF(ISBLANK(A4),"",SUM(G4:H4)) -> 1 | K4: 700
A5: Mat 2 | B5: =VLOOKUP(A5,BD!$A$2:$H$9,2,0) -> Nom 2 | C5: =IF(ISBLANK(A5),"",VLOOKUP(A5,BD!$A$2:$H$9,3,0)) -> Prenom 2 | D5: =IF(ISBLANK(A5),"",VLOOKUP(A5,BD!$A$2:$H$9,4,0)) -> 35796 | E5: =IF(ISBLANK(A5),"",VLOOKUP(A5,BD!$A$2:$H$9,6,0)) -> Poste 2 | F5: =IF(ISBLANK(A5),"",IF(OR(F4="",2=""),"",EDATE(F4,2*12))) -> 38718 | G5: =IF(F4>TODAY(),"",INT(DATEDIF(F4,F5,"y")/2)) -> 1 | I5: =IF(ISBLANK(A5),"",SUM(G5:H5)) -> 1 | K5: 203
A6: Mat 2 | B6: =VLOOKUP(A6,BD!$A$2:$H$9,2,0) -> Nom 2 | C6: =IF(ISBLANK(A6),"",VLOOKUP(A6,BD!$A$2:$H$9,3,0)) -> Prenom 2 | D6: =IF(ISBLANK(A6),"",VLOOKUP(A6,BD!$A$2:$H$9,4,0)) -> 35796 | E6: =IF(ISBLANK(A6),"",VLOOKUP(A6,BD!$A$2:$H$9,6,0)) -> Poste 2 | F6: =IF(ISBLANK(A6),"",IF(OR(F5="",2=""),"",EDATE(F5,2*12))) -> 39448 | G6: =IF(F5>TODAY(),"",INT(DATEDIF(F5,F6,"y")/2)) -> 1 | I6: =IF(ISBLANK(A6),"",SUM(G6:H6)) -> 1 | K6: 658 | L6: 1 | M6: 39360
A7: Mat 2 | B7: =VLOOKUP(A7,BD!$A$2:$H$9,2,0) -> Nom 2 | C7: =IF(ISBLANK(A7),"",VLOOKUP(A7,BD!$A$2:$H$9,3,0)) -> Prenom 2 | D7: =IF(ISBLANK(A7),"",VLOOKUP(A7,BD!$A$2:$H$9,4,0)) -> 35796 | E7: =IF(ISBLANK(A7),"",VLOOKUP(A7,BD!$A$2:$H$9,6,0)) -> Poste 2 | F7: =IF(ISBLANK(A7),"",IF(OR(F6="",2=""),"",EDATE(F6,2*12))) -> 40179 | G7: =IF(F6>TODAY(),"",INT(DATEDIF(F6,F7,"y")/2)) -> 1 | I7: =IF(ISBLANK(A7),"",SUM(G7:H7)) -> 1 | K7: 75
A8: Mat 2 | B8: =VLOOKUP(A8,BD!$A$2:$H$9,2,0) -> Nom 2 | C8: =IF(ISBLANK(A8),"",VLOOKUP(A8,BD!$A$2:$H$9,3,0)) -> Prenom 2 | D8: =IF(ISBLANK(A8),"",VLOOKUP(A8,BD!$A$2:$H$9,4,0)) -> 35796 | E8: =IF(ISBLANK(A8),"",VLOOKUP(A8,BD!$A$2:$H$9,6,0)) -> Poste 2 | F8: =IF(ISBLANK(A8),"",IF(OR(F7="",2=""),"",EDATE(F7,2*12))) -> 40909 | G8: =IF(F7>TODAY(),"",INT(DATEDIF(F7,F8,"y")/2)) -> 1 | I8: =IF(ISBLANK(A8),"",SUM(G8:H8)) -> 1 | K8: 5
A9: Mat 2 | B9: =VLOOKUP(A9,BD!$A$2:$H$9,2,0) -> Nom 2 | C9: =IF(ISBLANK(A9),"",VLOOKUP(A9,BD!$A$2:$H$9,3,0)) -> Prenom 2 | D9: =IF(ISBLANK(A9),"",VLOOKUP(A9,BD!$A$2:$H$9,4,0)) -> 35796 | E9: =IF(ISBLANK(A9),"",VLOOKUP(A9,BD!$A$2:$H$9,6,0)) -> Poste 2 | F9: =IF(ISBLANK(A9),"",IF(OR(F8="",2=""),"",EDATE(F8,2*12))) -> 41640 | G9: =IF(F8>TODAY(),"",INT(DATEDIF(F8,F9,"y")/2)) -> 1 | I9: =IF(ISBLANK(A9),"",SUM(G9:H9)) -> 1 | K9: 300
A10: Mat 2 | B10: =VLOOKUP(A10,BD!$A$2:$H$9,2,0) -> Nom 2 | C10: =IF(ISBLANK(A10),"",VLOOKUP(A10,BD!$A$2:$H$9,3,0)) -> Prenom 2 | D10: =IF(ISBLANK(A10),"",VLOOKUP(A10,BD!$A$2:$H$9,4,0)) -> 35796 | E10: =IF(ISBLANK(A10),"",VLOOKUP(A10,BD!$A$2:$H$9,6,0)) -> Poste 2 | F10: =IF(ISBLANK(A10),"",IF(OR(F9="",2=""),"",EDATE(F9,2*12))) -> 42370 | G10: =IF(F9>TODAY(),"",INT(DATEDIF(F9,F10,"y")/2)) -> 1 | I10: =IF(ISBLANK(A10),"",SUM(G10:H10)) -> 1 | K10: 205
A11: Mat 2 | B11: =VLOOKUP(A11,BD!$A$2:$H$9,2,0) -> Nom 2 | C11: =IF(ISBLANK(A11),"",VLOOKUP(A11,BD!$A$2:$H$9,3,0)) -> Prenom 2 | D11: =IF(ISBLANK(A11),"",VLOOKUP(A11,BD!$A$2:$H$9,4,0)) -> 35796 | E11: =IF(ISBLANK(A11),"",VLOOKUP(A11,BD!$A$2:$H$9,6,0)) -> Poste 2 | F11: =IF(ISBLANK(A11),"",IF(OR(F10="",2=""),"",EDATE(F10,2*12))) -> 43101 | G11: =IF(F10>TODAY(),"",INT(DATEDIF(F10,F11,"y")/2)) -> 1 | I11: =IF(ISBLANK(A11),"",SUM(G11:H11)) -> 1 | K11: 659
A12: Mat 2 | B12: =VLOOKUP(A12,BD!$A$2:$H$9,2,0) -> Nom 2 | C12: =IF(ISBLANK(A12),"",VLOOKUP(A12,BD!$A$2:$H$9,3,0)) -> Prenom 2 | D12: =IF(ISBLANK(A12),"",VLOOKUP(A12,BD!$A$2:$H$9,4,0)) -> 35796 | E12: =IF(ISBLANK(A12),"",VLOOKUP(A12,BD!$A$2:$H$9,6,0)) -> Poste 2 | F12: =IF(ISBLANK(A12),"",IF(OR(F11="",2=""),"",EDATE(F11,2*12))) -> 43831 | G12: =IF(F11>TODAY(),"",INT(DATEDIF(F11,F12,"y")/2)) -> 1 | I12: =IF(ISBLANK(A12),"",SUM(G12:H12)) -> 1 | K12: 100
A13: Mat 2 | B13: =VLOOKUP(A13,BD!$A$2:$H$9,2,0) -> Nom 2 | C13: =IF(ISBLANK(A13),"",VLOOKUP(A13,BD!$A$2:$H$9,3,0)) -> Prenom 2 | D13: =IF(ISBLANK(A13),"",VLOOKUP(A13,BD!$A$2:$H$9,4,0)) -> 35796 | E13: =IF(ISBLANK(A13),"",VLOOKUP(A13,BD!$A$2:$H$9,6,0)) -> Poste 2 | F13: =IF(ISBLANK(A13),"",IF(OR(F12="",2=""),"",EDATE(F12,2*12))) -> 44562 | G13: =IF(F12>TODAY(),"",INT(DATEDIF(F12,F13,"y")/2)) -> 1 | I13: =IF(ISBLANK(A13),"",SUM(G13:H13)) -> 1 | K13: 101
K14: Rajouter cette formule : Si(H2) = 1 Alors (G2) + 1 qui nous Donnent 2
K15: apres je peux supprimer la colonne I Echelon
K16: Si(H2) = 1 Alors (G2) + 1 qui nous Donnent 2
C17: Si sanction = 1 alors 01/01/2008 Devient 01/01/2009 | K17: En travaillant avec Recherchv Feuille BD
C18: Le Salarié Perd 01 Annee pour avoir son Prochain Echelon
C19: qui sera lieu le 01/01/2009 + les dis Mois de l'annee 2007 qu'il a consomme (10 Mois)
C20: En travaillant avec Recherchv Feuille BD
