Workbook

Sheet Feuil1
A3: Nombre de ligne
A4: 500
A6: Taille de l'échantillon ajustée en fonction de la méthode de selection de l'échantillon | C6: 55
A10: Echantillonnage | B10: Rang de l'échantillon
A11: =+IF(C6>0,1,"") -> 1 | B11: =+RAND()*A4 -> 179.56301
A12: =IF(AND(A11>0,A11<$C$6),A11+1,"") -> 2 | B12: =+IF('[1]Echantillons retenus'!$C$15="Aléatoire",ROUND((RAND()*'[1]Calcul de l''échantillonnage'!$C$16),0),MIN(IF(A12>0,'[1]Echantillons retenus'!$C$16*A12,""),'[1]Calcul de l''échantillonnage'!$C$16)) -> 169
A13: =IF(AND(A12>0,A12<$C$6),A12+1,"") -> 3 | B13: =+IF('[1]Echantillons retenus'!$C$15="Aléatoire",ROUND((RAND()*'[1]Calcul de l''échantillonnage'!$C$16),0),MIN(IF(A13>0,'[1]Echantillons retenus'!$C$16*A13,""),'[1]Calcul de l''échantillonnage'!$C$16)) -> 172
A14: =IF(AND(A13>0,A13<$C$6),A13+1,"") -> 4 | B14: =+IF('[1]Echantillons retenus'!$C$15="Aléatoire",ROUND((RAND()*'[1]Calcul de l''échantillonnage'!$C$16),0),MIN(IF(A14>0,'[1]Echantillons retenus'!$C$16*A14,""),'[1]Calcul de l''échantillonnage'!$C$16)) -> 278
A15: =IF(AND(A14>0,A14<$C$6),A14+1,"") -> 5 | B15: =+IF('[1]Echantillons retenus'!$C$15="Aléatoire",ROUND((RAND()*'[1]Calcul de l''échantillonnage'!$C$16),0),MIN(IF(A15>0,'[1]Echantillons retenus'!$C$16*A15,""),'[1]Calcul de l''échantillonnage'!$C$16)) -> 82
A16: =IF(AND(A15>0,A15<$C$6),A15+1,"") -> 6 | B16: =+IF('[1]Echantillons retenus'!$C$15="Aléatoire",ROUND((RAND()*'[1]Calcul de l''échantillonnage'!$C$16),0),MIN(IF(A16>0,'[1]Echantillons retenus'!$C$16*A16,""),'[1]Calcul de l''échantillonnage'!$C$16)) -> 321
A17: =IF(AND(A16>0,A16<$C$6),A16+1,"") -> 7 | B17: =+IF('[1]Echantillons retenus'!$C$15="Aléatoire",ROUND((RAND()*'[1]Calcul de l''échantillonnage'!$C$16),0),MIN(IF(A17>0,'[1]Echantillons retenus'!$C$16*A17,""),'[1]Calcul de l''échantillonnage'!$C$16)) -> 150
A18: =IF(AND(A17>0,A17<$C$6),A17+1,"") -> 8 | B18: =+IF('[1]Echantillons retenus'!$C$15="Aléatoire",ROUND((RAND()*'[1]Calcul de l''échantillonnage'!$C$16),0),MIN(IF(A18>0,'[1]Echantillons retenus'!$C$16*A18,""),'[1]Calcul de l''échantillonnage'!$C$16)) -> 57
A19: =IF(AND(A18>0,A18<$C$6),A18+1,"") -> 9 | B19: =+IF('[1]Echantillons retenus'!$C$15="Aléatoire",ROUND((RAND()*'[1]Calcul de l''échantillonnage'!$C$16),0),MIN(IF(A19>0,'[1]Echantillons retenus'!$C$16*A19,""),'[1]Calcul de l''échantillonnage'!$C$16)) -> 333
A20: =IF(AND(A19>0,A19<$C$6),A19+1,"") -> 10 | B20: =+IF('[1]Echantillons retenus'!$C$15="Aléatoire",ROUND((RAND()*'[1]Calcul de l''échantillonnage'!$C$16),0),MIN(IF(A20>0,'[1]Echantillons retenus'!$C$16*A20,""),'[1]Calcul de l''échantillonnage'!$C$16)) -> 316
A21: =IF(AND(A20>0,A20<$C$6),A20+1,"") -> 11 | B21: =+IF('[1]Echantillons retenus'!$C$15="Aléatoire",ROUND((RAND()*'[1]Calcul de l''échantillonnage'!$C$16),0),MIN(IF(A21>0,'[1]Echantillons retenus'!$C$16*A21,""),'[1]Calcul de l''échantillonnage'!$C$16)) -> 124
A22: =IF(AND(A21>0,A21<$C$6),A21+1,"") -> 12 | B22: =+IF('[1]Echantillons retenus'!$C$15="Aléatoire",ROUND((RAND()*'[1]Calcul de l''échantillonnage'!$C$16),0),MIN(IF(A22>0,'[1]Echantillons retenus'!$C$16*A22,""),'[1]Calcul de l''échantillonnage'!$C$16)) -> 136
A23: =IF(AND(A22>0,A22<$C$6),A22+1,"") -> 13 | B23: =+IF('[1]Echantillons retenus'!$C$15="Aléatoire",ROUND((RAND()*'[1]Calcul de l''échantillonnage'!$C$16),0),MIN(IF(A23>0,'[1]Echantillons retenus'!$C$16*A23,""),'[1]Calcul de l''échantillonnage'!$C$16)) -> 257
... A65: =IF(AND(A64>0,A64<$C$6),A64+1,"") -> 55 | B65: =+IF('[1]Echantillons retenus'!$C$15="Aléatoire",ROUND((RAND()*'[1]Calcul de l''échantillonnage'!$C$16),0),MIN(IF(A65>0,'[1]Echantillons retenus'!$C$16*A65,""),'[1]Calcul de l''échantillonnage'!$C$16)) -> 335
A66: =IF(AND(A65>0,A65<$C$6),A65+1,"")
A67: =IF(AND(A66>0,A66<$C$6),A66+1,"")
A68: =IF(AND(A67>0,A67<$C$6),A67+1,"")
A69: =IF(AND(A68>0,A68<$C$6),A68+1,"")
A70: =IF(AND(A69>0,A69<$C$6),A69+1,"")
A71: =IF(AND(A70>0,A70<$C$6),A70+1,"")
A72: =IF(AND(A71>0,A71<$C$6),A71+1,"")
A73: =IF(AND(A72>0,A72<$C$6),A72+1,"")
