Workbook

Sheet Feuil1
I1: Liste des Equipes
C2: ASSOCIATION SPORT & LOISIRS SISTERONNAIS | I2: MINETTO
I3: PEIPIN
I4: VOLPE
C5: CALENDRIER CHAMPIONNAT AUTOMNE 2015 | I5: PI&KC
I6: LAZER
I7: SANOFI
I8: BOCA
I9: SUPER U
A11: Rencontres
A12: MINETTO | B12: PI&KC
A13: PEIPIN | B13: LAZER
A14: VOLPE | B14: SANOFI
A17: BOCA | B17: SUPER U
A21: 2ème Journée
A22: Dates | B22: Heures | C22: Rencontres | E22: Arbitrages
A23: Lundi 26 octobre | B23: 19H | C23: MINETTO | D23: PEIPIN | E23: PI&KC
B25: 20H | C25: VOLPE | D25: LAZER | E25: Reporté
A27: Jeudi 29 octobre | B27: 19H | C27: BOCA | D27: SANOFI | E27: PI&KC
B28: 20H | C28: SUPER U | D28: PI&KC | E28: BOCA
A32: 3ème Journée
A33: Dates | B33: Heures | C33: Rencontres | E33: Arbitrages
A34: Lundi 2 novembre | B34: 19H | C34: LAZER | D34: SANOFI | E34: BOCA
B36: 20H | C36: VOLPE | D36: PEIPIN
A38: Jeudi 5 novembre | B38: 19H | C38: BOCA | D38: PI&KC | E38: PEIPIN
B39: 20H | C39: SUPER U | D39: MINETTO
A43: 4ème Journée
A44: Dates | B44: Heures | C44: Rencontres | E44: Arbitrages
A45: Lundi 9 novembre | B45: 19H | C45: PEIPIN | D45: PI&KC | E45: LAZER
B47: 20H | C47: VOLPE | D47: MINETTO
A49: Jeudi 12 novembre | B49: 19H | C49: BOCA | D49: LAZER | E49: PEIPIN
B50: 20H | C50: SUPER U | D50: SANOFI
A54: 5ème Journée
A55: Dates | B55: Heures | C55: Rencontres | E55: Arbitrages
A56: Lundi 16 novembre | B56: 19H | C56: LAZER | D56: PI&KC | E56: VOLPE
B57: 19H | C57: MINETTO | D57: SANOFI
A60: Jeudi 19 novembre | B60: 19H | C60: BOCA | D60: VOLPE | E60: SANOFI
B61: 20H | C61: SUPER U | D61: PEIPIN
C63: ASSOCIATION SPORT & LOISIRS SISTERONNAIS
C66: CALENDRIER CHAMPIONNAT AUTOMNE 2015
A73: 6 éme Journée
A74: Dates | B74: Heures | C74: Rencontres | E74: Arbitrages
A75: Lundi 23 novembre | B75: 19H | C75: PEIPIN | D75: SANOFI | E75: LAZER
B76: 19H | C76: MINETTO | D76: BOCA
B77: 20H | C77: VOLPE | D77: PI&KC
A79: Jeudi 26 novembre | B79: 19H | E79: VOLPE
B80: 20H | C80: SUPER U | D80: LAZER
A84: 7ème Journée
A85: Dates | B85: Heures | C85: Rencontres | E85: Arbitrages
A86: Lundi 30 novembre | B86: 19H | C86: MINETTO | D86: LAZER | E86: SANOFI
B87: 19H | C87: PEIPIN | D87: BOCA
B88: 20H | C88: SUPER U | D88: VOLPE | E88: MINETTO
B89: 20H | C89: PI&KC | D89: SANOFI

Sheet Feuil2
A2: 1ere Journée | H2: Classement | I2: Equipes | J2: Total Pts | K2: Pts Score | L2: Pts Fair-Play | M2: Matchs Joués | N2: Matchs Gagnés | O2: Matchs Nuls | P2: Matchs Perdus | Q2: Buts Pour | R2: Buts Contre | S2: Diff Buts | W2: Classement | X2: Equipes | Y2: Total Pts | Z2: Pts Score | AA2: Pts Fair-Play | AB2: Matchs Joués | AC2: Matchs Gagnés | AD2: Matchs Nuls | AE2: Matchs Perdus | AF2: Buts Pour | AG2: Buts Contre | AH2: Diff Buts | AI2: % | AJ2: % | AK2: Pts Score | AL2: Pts Score | AM2: Pts Fair P | AN2: Pts Fair P | AO2: J | AP2: J | AQ2: G | AR2: G | AS2: N | AT2: N | AU2: P | AV2: P | AW2: B+ | AX2: B+ | AY2: B- | AZ2: B- | BA2: Equipes | BB2: % | BC2: R
A3: Match | B3: Match | C3: Score | D3: Score | E3: Fair-play | F3: Fair-play | H3: 1 | I3: =VLOOKUP(U3,$V$3:$X$10,3,0) -> PI&KC | J3: =VLOOKUP(I3,$X$3:$AH$10,2,0) -> 52 | K3: =VLOOKUP(I3,$X$3:$AH$10,3,0) -> 17 | L3: =VLOOKUP(I3,$X$3:$AH$10,4,0) -> 35 | M3: =VLOOKUP(I3,$X$3:$AH$10,5,0) -> 7 | N3: =VLOOKUP(I3,$X$3:$AH$10,6,0) -> 5 | O3: =VLOOKUP(I3,$X$3:$AH$10,7,0) -> 2 | P3: =VLOOKUP(I3,$X$3:$AH$10,8,0) -> 0 | Q3: =VLOOKUP(I3,$X$3:$AH$10,9,0) -> 23 | R3: =VLOOKUP(I3,$X$3:$AH$10,10,0) -> 10 | S3: =VLOOKUP(I3,$X$3:$AH$10,11,0) -> 13 | U3: 1 | V3: =W3 -> 7 | W3: =RANK(AJ3,$AJ$3:$AJ$10) -> 7 | X3: =Feuil1!I2 -> MINETTO | Y3: =Z3+AA3 -> 35 | Z3: =SUMPRODUCT(($A$4:$A$49=X3)*($AK$3:$AK$48))+SUMPRODUCT(($B$4:$B$49=X3)*($AL$3:$AL$48)) -> 6 | AA3: =SUMPRODUCT(($A$4:$A$49=X3)*($AM$3:$AM$48))+SUMPRODUCT(($B$4:$B$49=X3)*($AN$3:$AN$48)) -> 29 | AB3: =SUMPRODUCT(($A$4:$A$49=X3)*($AO$3:$AO$48))+SUMPRODUCT(($B$4:$B$49=X3)*($AP$3:$AP$48)) -> 7 | AC3: =SUMPRODUCT(($A$4:$A$49=X3)*($AQ$3:$AQ$48))+SUMPRODUCT(($B$4:$B$49=X3)*($AR$3:$AR$48)) -> 2 | AD3: =SUMPRODUCT(($A$4:$A$49=X3)*($AS$3:$AS$48))+SUMPRODUCT(($B$4:$B$49=X3)*($AT$3:$AT$48)) -> 0 | AE3: =SUMPRODUCT(($A$4:$A$49=X3)*($AU$3:$AU$48))+SUMPRODUCT(($B$4:$B$49=X3)*($AV$3:$AV$48)) -> 5 | AF3: =SUMPRODUCT(($A$4:$A$49=X3)*($AW$3:$AW$48))+SUMPRODUCT(($B$4:$B$49=X3)*($AX$3:$AX$48)) -> 16 | AG3: =SUMPRODUCT(($A$4:$A$49=X3)*($AY$3:$AY$48))+SUMPRODUCT(($B$4:$B$49=X3)*($AZ$3:$AZ$48)) -> 23 | AH3: =AF3-AG3 -> -7 | AI3: =SUM(Y3*1000+(AH3)/100+(AF3)/1000) -> 34999.946 | AJ3: =AI3+0.000008 -> 34999.946 | AK3: =IF(C4="ARRET",0,IF(D4="ARRET",3,IF(C4="",0,IF(C4>D4,3,IF(C4=D4,1,IF(C4<D4,0)))))) -> 0 | AL3: =IF(D4="ARRET",0,IF(C4="ARRET",3,IF(D4="",0,IF(D4>C4,3,IF(D4=C4,1,IF(D4<C4,0)))))) -> 3 | AM3: =E4 -> 5 | AN3: =F4 -> 5 | AO3: =IF(C4="",0,1) -> 1 | AP3: =IF(D4="",0,1) -> 1 | AQ3: =IF(C4<>"",IF(C4<>"ARRET",IF(D4="ARRET",1,IF(C4>D4,1)))) -> FALSE | AR3: =IF(D4<>"",IF(D4<>"ARRET",IF(C4="ARRET",1,IF(D4>C4,1)))) -> 1 | AS3: =IF(C4<>"",IF(C4<>"ARRET",IF(C4=D4,1))) -> FALSE | AT3: =IF(D4<>"",IF(D4<>"ARRET",IF(D4=C4,1))) -> FALSE | AU3: =IF(C4<>"",IF(C4="ARRET",1,IF(C4<D4,1))) -> 1 | AV3: =IF(D4<>"",IF(D4="ARRET",1,IF(D4<C4,1))) -> FALSE | AW3: =IF(C4="ARRET",0,C4) -> 1 | AX3: =IF(D4="ARRET",0,D4) -> 4 | AY3: =IF(D4="ARRET",0,D4) -> 4 | AZ3: =IF(C4="ARRET",0,C4) -> 1 | BA3: =VLOOKUP(U3,$V$3:$X$10,3,0) -> PI&KC | BB3: =VLOOKUP(BA3,$X$3:$AJ$10,12,0) -> 52000.153 | BC3: =RANK(BB3,$BB$3:$BB$10) -> 1
A4: =X3 -> MINETTO | B4: =X6 -> PI&KC | C4: 1 | D4: 4 | E4: 5 | F4: 5 | H4: =IF(BB4=BB3,BC3,BC4) -> 2 | I4: =VLOOKUP(U4,$V$3:$X$10,3,0) -> SANOFI | J4: =VLOOKUP(I4,$X$3:$AH$10,2,0) -> 47 | K4: =VLOOKUP(I4,$X$3:$AH$10,3,0) -> 12 | L4: =VLOOKUP(I4,$X$3:$AH$10,4,0) -> 35 | M4: =VLOOKUP(I4,$X$3:$AH$10,5,0) -> 7 | N4: =VLOOKUP(I4,$X$3:$AH$10,6,0) -> 3 | O4: =VLOOKUP(I4,$X$3:$AH$10,7,0) -> 3 | P4: =VLOOKUP(I4,$X$3:$AH$10,8,0) -> 1 | Q4: =VLOOKUP(I4,$X$3:$AH$10,9,0) -> 21 | R4: =VLOOKUP(I4,$X$3:$AH$10,10,0) -> 17 | S4: =VLOOKUP(I4,$X$3:$AH$10,11,0) -> 4 | U4: 2 | V4: =W4 -> 8 | W4: =RANK(AJ4,$AJ$3:$AJ$10) -> 8 | X4: =Feuil1!I3 -> PEIPIN | Y4: =Z4+AA4 -> 29 | Z4: =SUMPRODUCT(($A$4:$A$49=X4)*($AK$3:$AK$48))+SUMPRODUCT(($B$4:$B$49=X4)*($AL$3:$AL$48)) -> 0 | AA4: =SUMPRODUCT(($A$4:$A$49=X4)*($AM$3:$AM$48))+SUMPRODUCT(($B$4:$B$49=X4)*($AN$3:$AN$48)) -> 29 | AB4: =SUMPRODUCT(($A$4:$A$49=X4)*($AO$3:$AO$48))+SUMPRODUCT(($B$4:$B$49=X4)*($AP$3:$AP$48)) -> 7 | AC4: =SUMPRODUCT(($A$4:$A$49=X4)*($AQ$3:$AQ$48))+SUMPRODUCT(($B$4:$B$49=X4)*($AR$3:$AR$48)) -> 0 | AD4: =SUMPRODUCT(($A$4:$A$49=X4)*($AS$3:$AS$48))+SUMPRODUCT(($B$4:$B$49=X4)*($AT$3:$AT$48)) -> 0 | AE4: =SUMPRODUCT(($A$4:$A$49=X4)*($AU$3:$AU$48))+SUMPRODUCT(($B$4:$B$49=X4)*($AV$3:$AV$48)) -> 7 | AF4: =SUMPRODUCT(($A$4:$A$49=X4)*($AW$3:$AW$48))+SUMPRODUCT(($B$4:$B$49=X4)*($AX$3:$AX$48)) -> 14 | AG4: =SUMPRODUCT(($A$4:$A$49=X4)*($AY$3:$AY$48))+SUMPRODUCT(($B$4:$B$49=X4)*($AZ$3:$AZ$48)) -> 33 | AH4: =AF4-AG4 -> -19 | AI4: =SUM(Y4*1000+(AH4)/100+(AF4)/1000) -> 28999.824 | AJ4: =AI4+0.000007 -> 28999.824 | AK4: =IF(C5="ARRET",0,IF(D5="ARRET",3,IF(C5="",0,IF(C5>D5,3,IF(C5=D5,1,IF(C5<D5,0)))))) -> 0 | AL4: =IF(D5="ARRET",0,IF(C5="ARRET",3,IF(D5="",0,IF(D5>C5,3,IF(D5=C5,1,IF(D5<C5,0)))))) -> 3 | AM4: =E5 -> 5 | AN4: =F5 -> 5 | AO4: =IF(C5="",0,1) -> 1 | AP4: =IF(D5="",0,1) -> 1 | AQ4: =IF(C5<>"",IF(C5<>"ARRET",IF(D5="ARRET",1,IF(C5>D5,1)))) -> FALSE | AR4: =IF(D5<>"",IF(D5<>"ARRET",IF(C5="ARRET",1,IF(D5>C5,1)))) -> 1 | AS4: =IF(C5<>"",IF(C5<>"ARRET",IF(C5=D5,1))) -> FALSE | AT4: =IF(D5<>"",IF(D5<>"ARRET",IF(D5=C5,1))) -> FALSE | AU4: =IF(C5<>"",IF(C5="ARRET",1,IF(C5<D5,1))) -> 1 | AV4: =IF(D5<>"",IF(D5="ARRET",1,IF(D5<C5,1))) -> FALSE | AW4: =IF(C5="ARRET",0,C5) -> 0 | AX4: =IF(D5="ARRET",0,D5) -> 8 | AY4: =IF(D5="ARRET",0,D5) -> 8 | AZ4: =IF(C5="ARRET",0,C5) -> 0 | BA4: =VLOOKUP(U4,$V$3:$X$10,3,0) -> SANOFI | BB4: =VLOOKUP(BA4,$X$3:$AJ$10,12,0) -> 47000.061 | BC4: =RANK(BB4,$BB$3:$BB$10) -> 2
A5: =X4 -> PEIPIN | B5: =X7 -> LAZER | C5: 0 | D5: 8 | E5: 5 | F5: 5 | H5: =IF(BB5=BB4,BC4,BC5) -> 3 | I5: =VLOOKUP(U5,$V$3:$X$10,3,0) -> SUPER U | J5: =VLOOKUP(I5,$X$3:$AH$10,2,0) -> 43 | K5: =VLOOKUP(I5,$X$3:$AH$10,3,0) -> 13 | L5: =VLOOKUP(I5,$X$3:$AH$10,4,0) -> 30 | M5: =VLOOKUP(I5,$X$3:$AH$10,5,0) -> 6 | N5: =VLOOKUP(I5,$X$3:$AH$10,6,0) -> 4 | O5: =VLOOKUP(I5,$X$3:$AH$10,7,0) -> 1 | P5: =VLOOKUP(I5,$X$3:$AH$10,8,0) -> 1 | Q5: =VLOOKUP(I5,$X$3:$AH$10,9,0) -> 22 | R5: =VLOOKUP(I5,$X$3:$AH$10,10,0) -> 15 | S5: =VLOOKUP(I5,$X$3:$AH$10,11,0) -> 7 | U5: 3 | V5: =W5 -> 6 | W5: =RANK(AJ5,$AJ$3:$AJ$10) -> 6 | X5: =Feuil1!I4 -> VOLPE | Y5: =Z5+AA5 -> 39 | Z5: =SUMPRODUCT(($A$4:$A$49=X5)*($AK$3:$AK$48))+SUMPRODUCT(($B$4:$B$49=X5)*($AL$3:$AL$48)) -> 8 | AA5: =SUMPRODUCT(($A$4:$A$49=X5)*($AM$3:$AM$48))+SUMPRODUCT(($B$4:$B$49=X5)*($AN$3:$AN$48)) -> 31 | AB5: =SUMPRODUCT(($A$4:$A$49=X5)*($AO$3:$AO$48))+SUMPRODUCT(($B$4:$B$49=X5)*($AP$3:$AP$48)) -> 7 | AC5: =SUMPRODUCT(($A$4:$A$49=X5)*($AQ$3:$AQ$48))+SUMPRODUCT(($B$4:$B$49=X5)*($AR$3:$AR$48)) -> 2 | AD5: =SUMPRODUCT(($A$4:$A$49=X5)*($AS$3:$AS$48))+SUMPRODUCT(($B$4:$B$49=X5)*($AT$3:$AT$48)) -> 2 | AE5: =SUMPRODUCT(($A$4:$A$49=X5)*($AU$3:$AU$48))+SUMPRODUCT(($B$4:$B$49=X5)*($AV$3:$AV$48)) -> 3 | AF5: =SUMPRODUCT(($A$4:$A$49=X5)*($AW$3:$AW$48))+SUMPRODUCT(($B$4:$B$49=X5)*($AX$3:$AX$48)) -> 21 | AG5: =SUMPRODUCT(($A$4:$A$49=X5)*($AY$3:$AY$48))+SUMPRODUCT(($B$4:$B$49=X5)*($AZ$3:$AZ$48)) -> 24 | AH5: =AF5-AG5 -> -3 | AI5: =SUM(Y5*1000+(AH5)/100+(AF5)/1000) -> 38999.991 | AJ5: =AI5+0.000006 -> 38999.991 | AK5: =IF(C6="ARRET",0,IF(D6="ARRET",3,IF(C6="",0,IF(C6>D6,3,IF(C6=D6,1,IF(C6<D6,0)))))) -> 1 | AL5: =IF(D6="ARRET",0,IF(C6="ARRET",3,IF(D6="",0,IF(D6>C6,3,IF(D6=C6,1,IF(D6<C6,0)))))) -> 1 | AM5: =E6 -> 5 | AN5: =F6 -> 5 | AO5: =IF(C6="",0,1) -> 1 | AP5: =IF(D6="",0,1) -> 1 | AQ5: =IF(C6<>"",IF(C6<>"ARRET",IF(D6="ARRET",1,IF(C6>D6,1)))) -> FALSE | AR5: =IF(D6<>"",IF(D6<>"ARRET",IF(C6="ARRET",1,IF(D6>C6,1)))) -> FALSE | AS5: =IF(C6<>"",IF(C6<>"ARRET",IF(C6=D6,1))) -> 1 | AT5: =IF(D6<>"",IF(D6<>"ARRET",IF(D6=C6,1))) -> 1 | AU5: =IF(C6<>"",IF(C6="ARRET",1,IF(C6<D6,1))) -> FALSE | AV5: =IF(D6<>"",IF(D6="ARRET",1,IF(D6<C6,1))) -> FALSE | AW5: =IF(C6="ARRET",0,C6) -> 4 | AX5: =IF(D6="ARRET",0,D6) -> 4 | AY5: =IF(D6="ARRET",0,D6) -> 4 | AZ5: =IF(C6="ARRET",0,C6) -> 4 | BA5: =VLOOKUP(U5,$V$3:$X$10,3,0) -> SUPER U | BB5: =VLOOKUP(BA5,$X$3:$AJ$10,12,0) -> 43000.092 | BC5: =RANK(BB5,$BB$3:$BB$10) -> 3
A6: =X5 -> VOLPE | B6: =X8 -> SANOFI | C6: 4 | D6: 4 | E6: 5 | F6: 5 | H6: =IF(BB6=BB5,BC5,BC6) -> 4 | I6: =VLOOKUP(U6,$V$3:$X$10,3,0) -> BOCA | J6: =VLOOKUP(I6,$X$3:$AH$10,2,0) -> 40 | K6: =VLOOKUP(I6,$X$3:$AH$10,3,0) -> 9 | L6: =VLOOKUP(I6,$X$3:$AH$10,4,0) -> 31 | M6: =VLOOKUP(I6,$X$3:$AH$10,5,0) -> 7 | N6: =VLOOKUP(I6,$X$3:$AH$10,6,0) -> 3 | O6: =VLOOKUP(I6,$X$3:$AH$10,7,0) -> 0 | P6: =VLOOKUP(I6,$X$3:$AH$10,8,0) -> 4 | Q6: =VLOOKUP(I6,$X$3:$AH$10,9,0) -> 15 | R6: =VLOOKUP(I6,$X$3:$AH$10,10,0) -> 14 | S6: =VLOOKUP(I6,$X$3:$AH$10,11,0) -> 1 | U6: 4 | V6: =W6 -> 1 | W6: =RANK(AJ6,$AJ$3:$AJ$10) -> 1 | X6: =Feuil1!I5 -> PI&KC | Y6: =Z6+AA6 -> 52 | Z6: =SUMPRODUCT(($A$4:$A$49=X6)*($AK$3:$AK$48))+SUMPRODUCT(($B$4:$B$49=X6)*($AL$3:$AL$48)) -> 17 | AA6: =SUMPRODUCT(($A$4:$A$49=X6)*($AM$3:$AM$48))+SUMPRODUCT(($B$4:$B$49=X6)*($AN$3:$AN$48)) -> 35 | AB6: =SUMPRODUCT(($A$4:$A$49=X6)*($AO$3:$AO$48))+SUMPRODUCT(($B$4:$B$49=X6)*($AP$3:$AP$48)) -> 7 | AC6: =SUMPRODUCT(($A$4:$A$49=X6)*($AQ$3:$AQ$48))+SUMPRODUCT(($B$4:$B$49=X6)*($AR$3:$AR$48)) -> 5 | AD6: =SUMPRODUCT(($A$4:$A$49=X6)*($AS$3:$AS$48))+SUMPRODUCT(($B$4:$B$49=X6)*($AT$3:$AT$48)) -> 2 | AE6: =SUMPRODUCT(($A$4:$A$49=X6)*($AU$3:$AU$48))+SUMPRODUCT(($B$4:$B$49=X6)*($AV$3:$AV$48)) -> 0 | AF6: =SUMPRODUCT(($A$4:$A$49=X6)*($AW$3:$AW$48))+SUMPRODUCT(($B$4:$B$49=X6)*($AX$3:$AX$48)) -> 23 | AG6: =SUMPRODUCT(($A$4:$A$49=X6)*($AY$3:$AY$48))+SUMPRODUCT(($B$4:$B$49=X6)*($AZ$3:$AZ$48)) -> 10 | AH6: =AF6-AG6 -> 13 | AI6: =SUM(Y6*1000+(AH6)/100+(AF6)/1000) -> 52000.153 | AJ6: =AI6+0.000005 -> 52000.153 | AK6: =IF(C7="ARRET",0,IF(D7="ARRET",3,IF(C7="",0,IF(C7>D7,3,IF(C7=D7,1,IF(C7<D7,0)))))) -> 0 | AL6: =IF(D7="ARRET",0,IF(C7="ARRET",3,IF(D7="",0,IF(D7>C7,3,IF(D7=C7,1,IF(D7<C7,0)))))) -> 3 | AM6: =E7 -> 5 | AN6: =F7 -> 5 | AO6: =IF(C7="",0,1) -> 1 | AP6: =IF(D7="",0,1) -> 1 | AQ6: =IF(C7<>"",IF(C7<>"ARRET",IF(D7="ARRET",1,IF(C7>D7,1)))) -> FALSE | AR6: =IF(D7<>"",IF(D7<>"ARRET",IF(C7="ARRET",1,IF(D7>C7,1)))) -> 1 | AS6: =IF(C7<>"",IF(C7<>"ARRET",IF(C7=D7,1))) -> FALSE | AT6: =IF(D7<>"",IF(D7<>"ARRET",IF(D7=C7,1))) -> FALSE | AU6: =IF(C7<>"",IF(C7="ARRET",1,IF(C7<D7,1))) -> 1 | AV6: =IF(D7<>"",IF(D7="ARRET",1,IF(D7<C7,1))) -> FALSE | AW6: =IF(C7="ARRET",0,C7) -> 1 | AX6: =IF(D7="ARRET",0,D7) -> 5 | AY6: =IF(D7="ARRET",0,D7) -> 5 | AZ6: =IF(C7="ARRET",0,C7) -> 1 | BA6: =VLOOKUP(U6,$V$3:$X$10,3,0) -> BOCA | BB6: =VLOOKUP(BA6,$X$3:$AJ$10,12,0) -> 40000.025 | BC6: =RANK(BB6,$BB$3:$BB$10) -> 4
A7: =X9 -> BOCA | B7: =X10 -> SUPER U | C7: 1 | D7: 5 | E7: 5 | F7: 5 | H7: =IF(BB7=BB6,BC6,BC7) -> 5 | I7: =VLOOKUP(U7,$V$3:$X$10,3,0) -> LAZER | J7: =VLOOKUP(I7,$X$3:$AH$10,2,0) -> 39 | K7: =VLOOKUP(I7,$X$3:$AH$10,3,0) -> 9 | L7: =VLOOKUP(I7,$X$3:$AH$10,4,0) -> 30 | M7: =VLOOKUP(I7,$X$3:$AH$10,5,0) -> 6 | N7: =VLOOKUP(I7,$X$3:$AH$10,6,0) -> 3 | O7: =VLOOKUP(I7,$X$3:$AH$10,7,0) -> 0 | P7: =VLOOKUP(I7,$X$3:$AH$10,8,0) -> 3 | Q7: =VLOOKUP(I7,$X$3:$AH$10,9,0) -> 22 | R7: =VLOOKUP(I7,$X$3:$AH$10,10,0) -> 18 | S7: =VLOOKUP(I7,$X$3:$AH$10,11,0) -> 4 | U7: 5 | V7: =W7 -> 5 | W7: =RANK(AJ7,$AJ$3:$AJ$10) -> 5 | X7: =Feuil1!I6 -> LAZER | Y7: =Z7+AA7 -> 39 | Z7: =SUMPRODUCT(($A$4:$A$49=X7)*($AK$3:$AK$48))+SUMPRODUCT(($B$4:$B$49=X7)*($AL$3:$AL$48)) -> 9 | AA7: =SUMPRODUCT(($A$4:$A$49=X7)*($AM$3:$AM$48))+SUMPRODUCT(($B$4:$B$49=X7)*($AN$3:$AN$48)) -> 30 | AB7: =SUMPRODUCT(($A$4:$A$49=X7)*($AO$3:$AO$48))+SUMPRODUCT(($B$4:$B$49=X7)*($AP$3:$AP$48)) -> 6 | AC7: =SUMPRODUCT(($A$4:$A$49=X7)*($AQ$3:$AQ$48))+SUMPRODUCT(($B$4:$B$49=X7)*($AR$3:$AR$48)) -> 3 | AD7: =SUMPRODUCT(($A$4:$A$49=X7)*($AS$3:$AS$48))+SUMPRODUCT(($B$4:$B$49=X7)*($AT$3:$AT$48)) -> 0 | AE7: =SUMPRODUCT(($A$4:$A$49=X7)*($AU$3:$AU$48))+SUMPRODUCT(($B$4:$B$49=X7)*($AV$3:$AV$48)) -> 3 | AF7: =SUMPRODUCT(($A$4:$A$49=X7)*($AW$3:$AW$48))+SUMPRODUCT(($B$4:$B$49=X7)*($AX$3:$AX$48)) -> 22 | AG7: =SUMPRODUCT(($A$4:$A$49=X7)*($AY$3:$AY$48))+SUMPRODUCT(($B$4:$B$49=X7)*($AZ$3:$AZ$48)) -> 18 | AH7: =AF7-AG7 -> 4 | AI7: =SUM(Y7*1000+(AH7)/100+(AF7)/1000) -> 39000.062 | AJ7: =AI7+0.000004 -> 39000.062 | BA7: =VLOOKUP(U7,$V$3:$X$10,3,0) -> LAZER | BB7: =VLOOKUP(BA7,$X$3:$AJ$10,12,0) -> 39000.062 | BC7: =RANK(BB7,$BB$3:$BB$10) -> 5
H8: =IF(BB8=BB7,BC7,BC8) -> 6 | I8: =VLOOKUP(U8,$V$3:$X$10,3,0) -> VOLPE | J8: =VLOOKUP(I8,$X$3:$AH$10,2,0) -> 39 | K8: =VLOOKUP(I8,$X$3:$AH$10,3,0) -> 8 | L8: =VLOOKUP(I8,$X$3:$AH$10,4,0) -> 31 | M8: =VLOOKUP(I8,$X$3:$AH$10,5,0) -> 7 | N8: =VLOOKUP(I8,$X$3:$AH$10,6,0) -> 2 | O8: =VLOOKUP(I8,$X$3:$AH$10,7,0) -> 2 | P8: =VLOOKUP(I8,$X$3:$AH$10,8,0) -> 3 | Q8: =VLOOKUP(I8,$X$3:$AH$10,9,0) -> 21 | R8: =VLOOKUP(I8,$X$3:$AH$10,10,0) -> 24 | S8: =VLOOKUP(I8,$X$3:$AH$10,11,0) -> -3 | U8: 6 | V8: =W8 -> 2 | W8: =RANK(AJ8,$AJ$3:$AJ$10) -> 2 | X8: =Feuil1!I7 -> SANOFI | Y8: =Z8+AA8 -> 47 | Z8: =SUMPRODUCT(($A$4:$A$49=X8)*($AK$3:$AK$48))+SUMPRODUCT(($B$4:$B$49=X8)*($AL$3:$AL$48)) -> 12 | AA8: =SUMPRODUCT(($A$4:$A$49=X8)*($AM$3:$AM$48))+SUMPRODUCT(($B$4:$B$49=X8)*($AN$3:$AN$48)) -> 35 | AB8: =SUMPRODUCT(($A$4:$A$49=X8)*($AO$3:$AO$48))+SUMPRODUCT(($B$4:$B$49=X8)*($AP$3:$AP$48)) -> 7 | AC8: =SUMPRODUCT(($A$4:$A$49=X8)*($AQ$3:$AQ$48))+SUMPRODUCT(($B$4:$B$49=X8)*($AR$3:$AR$48)) -> 3 | AD8: =SUMPRODUCT(($A$4:$A$49=X8)*($AS$3:$AS$48))+SUMPRODUCT(($B$4:$B$49=X8)*($AT$3:$AT$48)) -> 3 | AE8: =SUMPRODUCT(($A$4:$A$49=X8)*($AU$3:$AU$48))+SUMPRODUCT(($B$4:$B$49=X8)*($AV$3:$AV$48)) -> 1 | AF8: =SUMPRODUCT(($A$4:$A$49=X8)*($AW$3:$AW$48))+SUMPRODUCT(($B$4:$B$49=X8)*($AX$3:$AX$48)) -> 21 | AG8: =SUMPRODUCT(($A$4:$A$49=X8)*($AY$3:$AY$48))+SUMPRODUCT(($B$4:$B$49=X8)*($AZ$3:$AZ$48)) -> 17 | AH8: =AF8-AG8 -> 4 | AI8: =SUM(Y8*1000+(AH8)/100+(AF8)/1000) -> 47000.061 | AJ8: =AI8+0.000003 -> 47000.061 | BA8: =VLOOKUP(U8,$V$3:$X$10,3,0) -> VOLPE | BB8: =VLOOKUP(BA8,$X$3:$AJ$10,12,0) -> 38999.991 | BC8: =RANK(BB8,$BB$3:$BB$10) -> 6
A9: 2eme Journée | H9: =IF(BB9=BB8,BC8,BC9) -> 7 | I9: =VLOOKUP(U9,$V$3:$X$10,3,0) -> MINETTO | J9: =VLOOKUP(I9,$X$3:$AH$10,2,0) -> 35 | K9: =VLOOKUP(I9,$X$3:$AH$10,3,0) -> 6 | L9: =VLOOKUP(I9,$X$3:$AH$10,4,0) -> 29 | M9: =VLOOKUP(I9,$X$3:$AH$10,5,0) -> 7 | N9: =VLOOKUP(I9,$X$3:$AH$10,6,0) -> 2 | O9: =VLOOKUP(I9,$X$3:$AH$10,7,0) -> 0 | P9: =VLOOKUP(I9,$X$3:$AH$10,8,0) -> 5 | Q9: =VLOOKUP(I9,$X$3:$AH$10,9,0) -> 16 | R9: =VLOOKUP(I9,$X$3:$AH$10,10,0) -> 23 | S9: =VLOOKUP(I9,$X$3:$AH$10,11,0) -> -7 | U9: 7 | V9: =W9 -> 4 | W9: =RANK(AJ9,$AJ$3:$AJ$10) -> 4 | X9: =Feuil1!I8 -> BOCA | Y9: =Z9+AA9 -> 40 | Z9: =SUMPRODUCT(($A$4:$A$49=X9)*($AK$3:$AK$48))+SUMPRODUCT(($B$4:$B$49=X9)*($AL$3:$AL$48)) -> 9 | AA9: =SUMPRODUCT(($A$4:$A$49=X9)*($AM$3:$AM$48))+SUMPRODUCT(($B$4:$B$49=X9)*($AN$3:$AN$48)) -> 31 | AB9: =SUMPRODUCT(($A$4:$A$49=X9)*($AO$3:$AO$48))+SUMPRODUCT(($B$4:$B$49=X9)*($AP$3:$AP$48)) -> 7 | AC9: =SUMPRODUCT(($A$4:$A$49=X9)*($AQ$3:$AQ$48))+SUMPRODUCT(($B$4:$B$49=X9)*($AR$3:$AR$48)) -> 3 | AD9: =SUMPRODUCT(($A$4:$A$49=X9)*($AS$3:$AS$48))+SUMPRODUCT(($B$4:$B$49=X9)*($AT$3:$AT$48)) -> 0 | AE9: =SUMPRODUCT(($A$4:$A$49=X9)*($AU$3:$AU$48))+SUMPRODUCT(($B$4:$B$49=X9)*($AV$3:$AV$48)) -> 4 | AF9: =SUMPRODUCT(($A$4:$A$49=X9)*($AW$3:$AW$48))+SUMPRODUCT(($B$4:$B$49=X9)*($AX$3:$AX$48)) -> 15 | AG9: =SUMPRODUCT(($A$4:$A$49=X9)*($AY$3:$AY$48))+SUMPRODUCT(($B$4:$B$49=X9)*($AZ$3:$AZ$48)) -> 14 | AH9: =AF9-AG9 -> 1 | AI9: =SUM(Y9*1000+(AH9)/100+(AF9)/1000) -> 40000.025 | AJ9: =AI9+0.000002 -> 40000.025 | BA9: =VLOOKUP(U9,$V$3:$X$10,3,0) -> MINETTO | BB9: =VLOOKUP(BA9,$X$3:$AJ$10,12,0) -> 34999.946 | BC9: =RANK(BB9,$BB$3:$BB$10) -> 7
A10: Match | B10: Match | C10: Score | D10: Score | E10: Fair-play | F10: Fair-play | H10: =IF(BB10=BB9,BC9,BC10) -> 8 | I10: =VLOOKUP(U10,$V$3:$X$10,3,0) -> PEIPIN | J10: =VLOOKUP(I10,$X$3:$AH$10,2,0) -> 29 | K10: =VLOOKUP(I10,$X$3:$AH$10,3,0) -> 0 | L10: =VLOOKUP(I10,$X$3:$AH$10,4,0) -> 29 | M10: =VLOOKUP(I10,$X$3:$AH$10,5,0) -> 7 | N10: =VLOOKUP(I10,$X$3:$AH$10,6,0) -> 0 | O10: =VLOOKUP(I10,$X$3:$AH$10,7,0) -> 0 | P10: =VLOOKUP(I10,$X$3:$AH$10,8,0) -> 7 | Q10: =VLOOKUP(I10,$X$3:$AH$10,9,0) -> 14 | R10: =VLOOKUP(I10,$X$3:$AH$10,10,0) -> 33 | S10: =VLOOKUP(I10,$X$3:$AH$10,11,0) -> -19 | U10: 8 | V10: =W10 -> 3 | W10: =RANK(AJ10,$AJ$3:$AJ$10) -> 3 | X10: =Feuil1!I9 -> SUPER U | Y10: =Z10+AA10 -> 43 | Z10: =SUMPRODUCT(($A$4:$A$49=X10)*($AK$3:$AK$48))+SUMPRODUCT(($B$4:$B$49=X10)*($AL$3:$AL$48)) -> 13 | AA10: =SUMPRODUCT(($A$4:$A$49=X10)*($AM$3:$AM$48))+SUMPRODUCT(($B$4:$B$49=X10)*($AN$3:$AN$48)) -> 30 | AB10: =SUMPRODUCT(($A$4:$A$49=X10)*($AO$3:$AO$48))+SUMPRODUCT(($B$4:$B$49=X10)*($AP$3:$AP$48)) -> 6 | AC10: =SUMPRODUCT(($A$4:$A$49=X10)*($AQ$3:$AQ$48))+SUMPRODUCT(($B$4:$B$49=X10)*($AR$3:$AR$48)) -> 4 | AD10: =SUMPRODUCT(($A$4:$A$49=X10)*($AS$3:$AS$48))+SUMPRODUCT(($B$4:$B$49=X10)*($AT$3:$AT$48)) -> 1 | AE10: =SUMPRODUCT(($A$4:$A$49=X10)*($AU$3:$AU$48))+SUMPRODUCT(($B$4:$B$49=X10)*($AV$3:$AV$48)) -> 1 | AF10: =SUMPRODUCT(($A$4:$A$49=X10)*($AW$3:$AW$48))+SUMPRODUCT(($B$4:$B$49=X10)*($AX$3:$AX$48)) -> 22 | AG10: =SUMPRODUCT(($A$4:$A$49=X10)*($AY$3:$AY$48))+SUMPRODUCT(($B$4:$B$49=X10)*($AZ$3:$AZ$48)) -> 15 | AH10: =AF10-AG10 -> 7 | AI10: =SUM(Y10*1000+(AH10)/100+(AF10)/1000) -> 43000.092 | AJ10: =AI10+0.000001 -> 43000.092 | AK10: =IF(C11="ARRET",0,IF(D11="ARRET",3,IF(C11="",0,IF(C11>D11,3,IF(C11=D11,1,IF(C11<D11,0)))))) -> 3 | AL10: =IF(D11="ARRET",0,IF(C11="ARRET",3,IF(D11="",0,IF(D11>C11,3,IF(D11=C11,1,IF(D11<C11,0)))))) -> 0 | AM10: =E11 -> 3 | AN10: =F11 -> 3 | AO10: =IF(C11="",0,1) -> 1 | AP10: =IF(D11="",0,1) -> 1 | AQ10: =IF(C11<>"",IF(C11<>"ARRET",IF(D11="ARRET",1,IF(C11>D11,1)))) -> 1 | AR10: =IF(D11<>"",IF(D11<>"ARRET",IF(C11="ARRET",1,IF(D11>C11,1)))) -> FALSE | AS10: =IF(C11<>"",IF(C11<>"ARRET",IF(C11=D11,1))) -> FALSE | AT10: =IF(D11<>"",IF(D11<>"ARRET",IF(D11=C11,1))) -> FALSE | AU10: =IF(C11<>"",IF(C11="ARRET",1,IF(C11<D11,1))) -> FALSE | AV10: =IF(D11<>"",IF(D11="ARRET",1,IF(D11<C11,1))) -> 1 | AW10: =IF(C11="ARRET",0,C11) -> 5 | AX10: =IF(D11="ARRET",0,D11) -> 2 | AY10: =IF(D11="ARRET",0,D11) -> 2 | AZ10: =IF(C11="ARRET",0,C11) -> 5 | BA10: =VLOOKUP(U10,$V$3:$X$10,3,0) -> PEIPIN | BB10: =VLOOKUP(BA10,$X$3:$AJ$10,12,0) -> 28999.824 | BC10: =RANK(BB10,$BB$3:$BB$10) -> 8
A11: =X3 -> MINETTO | B11: =X4 -> PEIPIN | C11: 5 | D11: 2 | E11: 3 | F11: 3 | AK11: =IF(C12="ARRET",0,IF(D12="ARRET",3,IF(C12="",0,IF(C12>D12,3,IF(C12=D12,1,IF(C12<D12,0)))))) -> 3 | AL11: =IF(D12="ARRET",0,IF(C12="ARRET",3,IF(D12="",0,IF(D12>C12,3,IF(D12=C12,1,IF(D12<C12,0)))))) -> 0 | AM11: =E12 -> 5 | AN11: =F12 -> 5 | AO11: =IF(C12="",0,1) -> 1 | AP11: =IF(D12="",0,1) -> 1 | AQ11: =IF(C12<>"",IF(C12<>"ARRET",IF(D12="ARRET",1,IF(C12>D12,1)))) -> 1 | AR11: =IF(D12<>"",IF(D12<>"ARRET",IF(C12="ARRET",1,IF(D12>C12,1)))) -> FALSE | AS11: =IF(C12<>"",IF(C12<>"ARRET",IF(C12=D12,1))) -> FALSE | AT11: =IF(D12<>"",IF(D12<>"ARRET",IF(D12=C12,1))) -> FALSE | AU11: =IF(C12<>"",IF(C12="ARRET",1,IF(C12<D12,1))) -> FALSE | AV11: =IF(D12<>"",IF(D12="ARRET",1,IF(D12<C12,1))) -> 1 | AW11: =IF(C12="ARRET",0,C12) -> 5 | AX11: =IF(D12="ARRET",0,D12) -> 3 | AY11: =IF(D12="ARRET",0,D12) -> 3 | AZ11: =IF(C12="ARRET",0,C12) -> 5
A12: =X5 -> VOLPE | B12: =X7 -> LAZER | C12: 5 | D12: 3 | E12: 5 | F12: 5 | H12: Critères : | AK12: =IF(C13="ARRET",0,IF(D13="ARRET",3,IF(C13="",0,IF(C13>D13,3,IF(C13=D13,1,IF(C13<D13,0)))))) -> 0 | AL12: =IF(D13="ARRET",0,IF(C13="ARRET",3,IF(D13="",0,IF(D13>C13,3,IF(D13=C13,1,IF(D13<C13,0)))))) -> 3 | AM12: =E13 -> 5 | AN12: =F13 -> 5 | AO12: =IF(C13="",0,1) -> 1 | AP12: =IF(D13="",0,1) -> 1 | AQ12: =IF(C13<>"",IF(C13<>"ARRET",IF(D13="ARRET",1,IF(C13>D13,1)))) -> FALSE | AR12: =IF(D13<>"",IF(D13<>"ARRET",IF(C13="ARRET",1,IF(D13>C13,1)))) -> 1 | AS12: =IF(C13<>"",IF(C13<>"ARRET",IF(C13=D13,1))) -> FALSE | AT12: =IF(D13<>"",IF(D13<>"ARRET",IF(D13=C13,1))) -> FALSE | AU12: =IF(C13<>"",IF(C13="ARRET",1,IF(C13<D13,1))) -> 1 | AV12: =IF(D13<>"",IF(D13="ARRET",1,IF(D13<C13,1))) -> FALSE | AW12: =IF(C13="ARRET",0,C13) -> 1 | AX12: =IF(D13="ARRET",0,D13) -> 3 | AY12: =IF(D13="ARRET",0,D13) -> 3 | AZ12: =IF(C13="ARRET",0,C13) -> 1
A13: =X9 -> BOCA | B13: =X8 -> SANOFI | C13: 1 | D13: 3 | E13: 5 | F13: 5 | AK13: =IF(C14="ARRET",0,IF(D14="ARRET",3,IF(C14="",0,IF(C14>D14,3,IF(C14=D14,1,IF(C14<D14,0)))))) -> 0 | AL13: =IF(D14="ARRET",0,IF(C14="ARRET",3,IF(D14="",0,IF(D14>C14,3,IF(D14=C14,1,IF(D14<C14,0)))))) -> 3 | AM13: =E14 -> 5 | AN13: =F14 -> 5 | AO13: =IF(C14="",0,1) -> 1 | AP13: =IF(D14="",0,1) -> 1 | AQ13: =IF(C14<>"",IF(C14<>"ARRET",IF(D14="ARRET",1,IF(C14>D14,1)))) -> FALSE | AR13: =IF(D14<>"",IF(D14<>"ARRET",IF(C14="ARRET",1,IF(D14>C14,1)))) -> 1 | AS13: =IF(C14<>"",IF(C14<>"ARRET",IF(C14=D14,1))) -> FALSE | AT13: =IF(D14<>"",IF(D14<>"ARRET",IF(D14=C14,1))) -> FALSE | AU13: =IF(C14<>"",IF(C14="ARRET",1,IF(C14<D14,1))) -> 1 | AV13: =IF(D14<>"",IF(D14="ARRET",1,IF(D14<C14,1))) -> FALSE | AW13: =IF(C14="ARRET",0,C14) -> 1 | AX13: =IF(D14="ARRET",0,D14) -> 2 | AY13: =IF(D14="ARRET",0,D14) -> 2 | AZ13: =IF(C14="ARRET",0,C14) -> 1
A14: =X10 -> SUPER U | B14: =X6 -> PI&KC | C14: 1 | D14: 2 | E14: 5 | F14: 5 | H14: Resultat score :
H15: Match gagné 3 pts
A16: 3eme Journée | H16: Match nul 1 pts
A17: Match | B17: Match | C17: Score | D17: Score | E17: Fair-play | F17: Fair-play | H17: Match perdu 0 pts | AK17: =IF(C18="ARRET",0,IF(D18="ARRET",3,IF(C18="",0,IF(C18>D18,3,IF(C18=D18,1,IF(C18<D18,0)))))) -> 3 | AL17: =IF(D18="ARRET",0,IF(C18="ARRET",3,IF(D18="",0,IF(D18>C18,3,IF(D18=C18,1,IF(D18<C18,0)))))) -> 0 | AM17: =E18 -> 5 | AN17: =F18 -> 5 | AO17: =IF(C18="",0,1) -> 1 | AP17: =IF(D18="",0,1) -> 1 | AQ17: =IF(C18<>"",IF(C18<>"ARRET",IF(D18="ARRET",1,IF(C18>D18,1)))) -> 1 | AR17: =IF(D18<>"",IF(D18<>"ARRET",IF(C18="ARRET",1,IF(D18>C18,1)))) -> FALSE | AS17: =IF(C18<>"",IF(C18<>"ARRET",IF(C18=D18,1))) -> FALSE | AT17: =IF(D18<>"",IF(D18<>"ARRET",IF(D18=C18,1))) -> FALSE | AU17: =IF(C18<>"",IF(C18="ARRET",1,IF(C18<D18,1))) -> FALSE | AV17: =IF(D18<>"",IF(D18="ARRET",1,IF(D18<C18,1))) -> 1 | AW17: =IF(C18="ARRET",0,C18) -> 3 | AX17: =IF(D18="ARRET",0,D18) -> 2 | AY17: =IF(D18="ARRET",0,D18) -> 2 | AZ17: =IF(C18="ARRET",0,C18) -> 3
A18: =X7 -> LAZER | B18: =X8 -> SANOFI | C18: 3 | D18: 2 | E18: 5 | F18: 5 | AK18: =IF(C19="ARRET",0,IF(D19="ARRET",3,IF(C19="",0,IF(C19>D19,3,IF(C19=D19,1,IF(C19<D19,0)))))) -> 3 | AL18: =IF(D19="ARRET",0,IF(C19="ARRET",3,IF(D19="",0,IF(D19>C19,3,IF(D19=C19,1,IF(D19<C19,0)))))) -> 0 | AM18: =E19 -> 5 | AN18: =F19 -> 5 | AO18: =IF(C19="",0,1) -> 1 | AP18: =IF(D19="",0,1) -> 1 | AQ18: =IF(C19<>"",IF(C19<>"ARRET",IF(D19="ARRET",1,IF(C19>D19,1)))) -> 1 | AR18: =IF(D19<>"",IF(D19<>"ARRET",IF(C19="ARRET",1,IF(D19>C19,1)))) -> FALSE | AS18: =IF(C19<>"",IF(C19<>"ARRET",IF(C19=D19,1))) -> FALSE | AT18: =IF(D19<>"",IF(D19<>"ARRET",IF(D19=C19,1))) -> FALSE | AU18: =IF(C19<>"",IF(C19="ARRET",1,IF(C19<D19,1))) -> FALSE | AV18: =IF(D19<>"",IF(D19="ARRET",1,IF(D19<C19,1))) -> 1 | AW18: =IF(C19="ARRET",0,C19) -> 4 | AX18: =IF(D19="ARRET",0,D19) -> 2 | AY18: =IF(D19="ARRET",0,D19) -> 2 | AZ18: =IF(C19="ARRET",0,C19) -> 4
A19: =X5 -> VOLPE | B19: =X4 -> PEIPIN | C19: 4 | D19: 2 | E19: 5 | F19: 5 | H19: Pour le fair-play 3 possibilités : | AK19: =IF(C20="ARRET",0,IF(D20="ARRET",3,IF(C20="",0,IF(C20>D20,3,IF(C20=D20,1,IF(C20<D20,0)))))) -> 0 | AL19: =IF(D20="ARRET",0,IF(C20="ARRET",3,IF(D20="",0,IF(D20>C20,3,IF(D20=C20,1,IF(D20<C20,0)))))) -> 3 | AM19: =E20 -> 5 | AN19: =F20 -> 5 | AO19: =IF(C20="",0,1) -> 1 | AP19: =IF(D20="",0,1) -> 1 | AQ19: =IF(C20<>"",IF(C20<>"ARRET",IF(D20="ARRET",1,IF(C20>D20,1)))) -> FALSE | AR19: =IF(D20<>"",IF(D20<>"ARRET",IF(C20="ARRET",1,IF(D20>C20,1)))) -> 1 | AS19: =IF(C20<>"",IF(C20<>"ARRET",IF(C20=D20,1))) -> FALSE | AT19: =IF(D20<>"",IF(D20<>"ARRET",IF(D20=C20,1))) -> FALSE | AU19: =IF(C20<>"",IF(C20="ARRET",1,IF(C20<D20,1))) -> 1 | AV19: =IF(D20<>"",IF(D20="ARRET",1,IF(D20<C20,1))) -> FALSE | AW19: =IF(C20="ARRET",0,C20) -> 1 | AX19: =IF(D20="ARRET",0,D20) -> 2 | AY19: =IF(D20="ARRET",0,D20) -> 2 | AZ19: =IF(C20="ARRET",0,C20) -> 1
A20: =X9 -> BOCA | B20: =X6 -> PI&KC | C20: 1 | D20: 2 | E20: 5 | F20: 5 | H20: 1 pts : mauvais | AK20: =IF(C21="ARRET",0,IF(D21="ARRET",3,IF(C21="",0,IF(C21>D21,3,IF(C21=D21,1,IF(C21<D21,0)))))) -> 3 | AL20: =IF(D21="ARRET",0,IF(C21="ARRET",3,IF(D21="",0,IF(D21>C21,3,IF(D21=C21,1,IF(D21<C21,0)))))) -> 0 | AM20: =E21 -> 5 | AN20: =F21 -> 5 | AO20: =IF(C21="",0,1) -> 1 | AP20: =IF(D21="",0,1) -> 1 | AQ20: =IF(C21<>"",IF(C21<>"ARRET",IF(D21="ARRET",1,IF(C21>D21,1)))) -> 1 | AR20: =IF(D21<>"",IF(D21<>"ARRET",IF(C21="ARRET",1,IF(D21>C21,1)))) -> FALSE | AS20: =IF(C21<>"",IF(C21<>"ARRET",IF(C21=D21,1))) -> FALSE | AT20: =IF(D21<>"",IF(D21<>"ARRET",IF(D21=C21,1))) -> FALSE | AU20: =IF(C21<>"",IF(C21="ARRET",1,IF(C21<D21,1))) -> FALSE | AV20: =IF(D21<>"",IF(D21="ARRET",1,IF(D21<C21,1))) -> 1 | AW20: =IF(C21="ARRET",0,C21) -> 3 | AX20: =IF(D21="ARRET",0,D21) -> 2 | AY20: =IF(D21="ARRET",0,D21) -> 2 | AZ20: =IF(C21="ARRET",0,C21) -> 3
A21: =X10 -> SUPER U | B21: =X3 -> MINETTO | C21: 3 | D21: 2 | E21: 5 | F21: 5 | H21: 3 pts : moyen
H22: 5 pts : bon
A23: 4eme Journée
A24: Match | B24: Match | C24: Score | D24: Score | E24: Fair-play | F24: Fair-play | H24: Total Pts : Pts score + Pts Fair-Play détermine le classement final | AK24: =IF(C25="ARRET",0,IF(D25="ARRET",3,IF(C25="",0,IF(C25>D25,3,IF(C25=D25,1,IF(C25<D25,0)))))) -> 0 | AL24: =IF(D25="ARRET",0,IF(C25="ARRET",3,IF(D25="",0,IF(D25>C25,3,IF(D25=C25,1,IF(D25<C25,0)))))) -> 3 | AM24: =E25 -> 5 | AN24: =F25 -> 5 | AO24: =IF(C25="",0,1) -> 1 | AP24: =IF(D25="",0,1) -> 1 | AQ24: =IF(C25<>"",IF(C25<>"ARRET",IF(D25="ARRET",1,IF(C25>D25,1)))) -> FALSE | AR24: =IF(D25<>"",IF(D25<>"ARRET",IF(C25="ARRET",1,IF(D25>C25,1)))) -> 1 | AS24: =IF(C25<>"",IF(C25<>"ARRET",IF(C25=D25,1))) -> FALSE | AT24: =IF(D25<>"",IF(D25<>"ARRET",IF(D25=C25,1))) -> FALSE | AU24: =IF(C25<>"",IF(C25="ARRET",1,IF(C25<D25,1))) -> 1 | AV24: =IF(D25<>"",IF(D25="ARRET",1,IF(D25<C25,1))) -> FALSE | AW24: =IF(C25="ARRET",0,C25) -> 3 | AX24: =IF(D25="ARRET",0,D25) -> 5 | AY24: =IF(D25="ARRET",0,D25) -> 5 | AZ24: =IF(C25="ARRET",0,C25) -> 3
A25: =X4 -> PEIPIN | B25: =X6 -> PI&KC | C25: 3 | D25: 5 | E25: 5 | F25: 5 | AK25: =IF(C26="ARRET",0,IF(D26="ARRET",3,IF(C26="",0,IF(C26>D26,3,IF(C26=D26,1,IF(C26<D26,0)))))) -> 0 | AL25: =IF(D26="ARRET",0,IF(C26="ARRET",3,IF(D26="",0,IF(D26>C26,3,IF(D26=C26,1,IF(D26<C26,0)))))) -> 3 | AM25: =E26 -> 1 | AN25: =F26 -> 1 | AO25: =IF(C26="",0,1) -> 1 | AP25: =IF(D26="",0,1) -> 1 | AQ25: =IF(C26<>"",IF(C26<>"ARRET",IF(D26="ARRET",1,IF(C26>D26,1)))) -> FALSE | AR25: =IF(D26<>"",IF(D26<>"ARRET",IF(C26="ARRET",1,IF(D26>C26,1)))) -> 1 | AS25: =IF(C26<>"",IF(C26<>"ARRET",IF(C26=D26,1))) -> FALSE | AT25: =IF(D26<>"",IF(D26<>"ARRET",IF(D26=C26,1))) -> FALSE | AU25: =IF(C26<>"",IF(C26="ARRET",1,IF(C26<D26,1))) -> 1 | AV25: =IF(D26<>"",IF(D26="ARRET",1,IF(D26<C26,1))) -> FALSE | AW25: =IF(C26="ARRET",0,C26) -> 2 | AX25: =IF(D26="ARRET",0,D26) -> 4 | AY25: =IF(D26="ARRET",0,D26) -> 4 | AZ25: =IF(C26="ARRET",0,C26) -> 2
A26: =X5 -> VOLPE | B26: =X3 -> MINETTO | C26: 2 | D26: 4 | E26: 1 | F26: 1 | H26: Si deux équipes sont ex-aequo, la meilleure sera celle qui aura marquée le plus de but et qui aura encaissée le moins de buts, c'est à dire l'équipe qui aura la meilleure "Diff Buts" | AK26: =IF(C27="ARRET",0,IF(D27="ARRET",3,IF(C27="",0,IF(C27>D27,3,IF(C27=D27,1,IF(C27<D27,0)))))) -> 3 | AL26: =IF(D27="ARRET",0,IF(C27="ARRET",3,IF(D27="",0,IF(D27>C27,3,IF(D27=C27,1,IF(D27<C27,0)))))) -> 0 | AM26: =E27 -> 5 | AN26: =F27 -> 5 | AO26: =IF(C27="",0,1) -> 1 | AP26: =IF(D27="",0,1) -> 1 | AQ26: =IF(C27<>"",IF(C27<>"ARRET",IF(D27="ARRET",1,IF(C27>D27,1)))) -> 1 | AR26: =IF(D27<>"",IF(D27<>"ARRET",IF(C27="ARRET",1,IF(D27>C27,1)))) -> FALSE | AS26: =IF(C27<>"",IF(C27<>"ARRET",IF(C27=D27,1))) -> FALSE | AT26: =IF(D27<>"",IF(D27<>"ARRET",IF(D27=C27,1))) -> FALSE | AU26: =IF(C27<>"",IF(C27="ARRET",1,IF(C27<D27,1))) -> FALSE | AV26: =IF(D27<>"",IF(D27="ARRET",1,IF(D27<C27,1))) -> 1 | AW26: =IF(C27="ARRET",0,C27) -> 3 | AX26: =IF(D27="ARRET",0,D27) -> 2 | AY26: =IF(D27="ARRET",0,D27) -> 2 | AZ26: =IF(C27="ARRET",0,C27) -> 3
A27: =X9 -> BOCA | B27: =X7 -> LAZER | C27: 3 | D27: 2 | E27: 5 | F27: 5 | AK27: =IF(C28="ARRET",0,IF(D28="ARRET",3,IF(C28="",0,IF(C28>D28,3,IF(C28=D28,1,IF(C28<D28,0)))))) -> 1 | AL27: =IF(D28="ARRET",0,IF(C28="ARRET",3,IF(D28="",0,IF(D28>C28,3,IF(D28=C28,1,IF(D28<C28,0)))))) -> 1 | AM27: =E28 -> 5 | AN27: =F28 -> 5 | AO27: =IF(C28="",0,1) -> 1 | AP27: =IF(D28="",0,1) -> 1 | AQ27: =IF(C28<>"",IF(C28<>"ARRET",IF(D28="ARRET",1,IF(C28>D28,1)))) -> FALSE | AR27: =IF(D28<>"",IF(D28<>"ARRET",IF(C28="ARRET",1,IF(D28>C28,1)))) -> FALSE | AS27: =IF(C28<>"",IF(C28<>"ARRET",IF(C28=D28,1))) -> 1 | AT27: =IF(D28<>"",IF(D28<>"ARRET",IF(D28=C28,1))) -> 1 | AU27: =IF(C28<>"",IF(C28="ARRET",1,IF(C28<D28,1))) -> FALSE | AV27: =IF(D28<>"",IF(D28="ARRET",1,IF(D28<C28,1))) -> FALSE | AW27: =IF(C28="ARRET",0,C28) -> 2 | AX27: =IF(D28="ARRET",0,D28) -> 2 | AY27: =IF(D28="ARRET",0,D28) -> 2 | AZ27: =IF(C28="ARRET",0,C28) -> 2
A28: =X10 -> SUPER U | B28: =X8 -> SANOFI | C28: 2 | D28: 2 | E28: 5 | F28: 5
A30: 5eme Journée
A31: Match | B31: Match | C31: Score | D31: Score | E31: Fair-play | F31: Fair-play | AK31: =IF(C32="ARRET",0,IF(D32="ARRET",3,IF(C32="",0,IF(C32>D32,3,IF(C32=D32,1,IF(C32<D32,0)))))) -> 0 | AL31: =IF(D32="ARRET",0,IF(C32="ARRET",3,IF(D32="",0,IF(D32>C32,3,IF(D32=C32,1,IF(D32<C32,0)))))) -> 3 | AM31: =E32 -> 5 | AN31: =F32 -> 5 | AO31: =IF(C32="",0,1) -> 1 | AP31: =IF(D32="",0,1) -> 1 | AQ31: =IF(C32<>"",IF(C32<>"ARRET",IF(D32="ARRET",1,IF(C32>D32,1)))) -> FALSE | AR31: =IF(D32<>"",IF(D32<>"ARRET",IF(C32="ARRET",1,IF(D32>C32,1)))) -> 1 | AS31: =IF(C32<>"",IF(C32<>"ARRET",IF(C32=D32,1))) -> FALSE | AT31: =IF(D32<>"",IF(D32<>"ARRET",IF(D32=C32,1))) -> FALSE | AU31: =IF(C32<>"",IF(C32="ARRET",1,IF(C32<D32,1))) -> 1 | AV31: =IF(D32<>"",IF(D32="ARRET",1,IF(D32<C32,1))) -> FALSE | AW31: =IF(C32="ARRET",0,C32) -> 1 | AX31: =IF(D32="ARRET",0,D32) -> 7 | AY31: =IF(D32="ARRET",0,D32) -> 7 | AZ31: =IF(C32="ARRET",0,C32) -> 1
A32: =X7 -> LAZER | B32: =X6 -> PI&KC | C32: 1 | D32: 7 | E32: 5 | F32: 5 | H32: Diff Buts = ButsPour - Buts Contre | AK32: =IF(C33="ARRET",0,IF(D33="ARRET",3,IF(C33="",0,IF(C33>D33,3,IF(C33=D33,1,IF(C33<D33,0)))))) -> 0 | AL32: =IF(D33="ARRET",0,IF(C33="ARRET",3,IF(D33="",0,IF(D33>C33,3,IF(D33=C33,1,IF(D33<C33,0)))))) -> 3 | AM32: =E33 -> 5 | AN32: =F33 -> 5 | AO32: =IF(C33="",0,1) -> 1 | AP32: =IF(D33="",0,1) -> 1 | AQ32: =IF(C33<>"",IF(C33<>"ARRET",IF(D33="ARRET",1,IF(C33>D33,1)))) -> FALSE | AR32: =IF(D33<>"",IF(D33<>"ARRET",IF(C33="ARRET",1,IF(D33>C33,1)))) -> 1 | AS32: =IF(C33<>"",IF(C33<>"ARRET",IF(C33=D33,1))) -> FALSE | AT32: =IF(D33<>"",IF(D33<>"ARRET",IF(D33=C33,1))) -> FALSE | AU32: =IF(C33<>"",IF(C33="ARRET",1,IF(C33<D33,1))) -> 1 | AV32: =IF(D33<>"",IF(D33="ARRET",1,IF(D33<C33,1))) -> FALSE | AW32: =IF(C33="ARRET",0,C33) -> 2 | AX32: =IF(D33="ARRET",0,D33) -> 3 | AY32: =IF(D33="ARRET",0,D33) -> 3 | AZ32: =IF(C33="ARRET",0,C33) -> 2
A33: =X3 -> MINETTO | B33: =X8 -> SANOFI | C33: 2 | D33: 3 | E33: 5 | F33: 5 | AK33: =IF(C34="ARRET",0,IF(D34="ARRET",3,IF(C34="",0,IF(C34>D34,3,IF(C34=D34,1,IF(C34<D34,0)))))) -> 3 | AL33: =IF(D34="ARRET",0,IF(C34="ARRET",3,IF(D34="",0,IF(D34>C34,3,IF(D34=C34,1,IF(D34<C34,0)))))) -> 0 | AM33: =E34 -> 5 | AN33: =F34 -> 5 | AO33: =IF(C34="",0,1) -> 1 | AP33: =IF(D34="",0,1) -> 1 | AQ33: =IF(C34<>"",IF(C34<>"ARRET",IF(D34="ARRET",1,IF(C34>D34,1)))) -> 1 | AR33: =IF(D34<>"",IF(D34<>"ARRET",IF(C34="ARRET",1,IF(D34>C34,1)))) -> FALSE | AS33: =IF(C34<>"",IF(C34<>"ARRET",IF(C34=D34,1))) -> FALSE | AT33: =IF(D34<>"",IF(D34<>"ARRET",IF(D34=C34,1))) -> FALSE | AU33: =IF(C34<>"",IF(C34="ARRET",1,IF(C34<D34,1))) -> FALSE | AV33: =IF(D34<>"",IF(D34="ARRET",1,IF(D34<C34,1))) -> 1 | AW33: =IF(C34="ARRET",0,C34) -> 5 | AX33: =IF(D34="ARRET",0,D34) -> 1 | AY33: =IF(D34="ARRET",0,D34) -> 1 | AZ33: =IF(C34="ARRET",0,C34) -> 5
A34: =X9 -> BOCA | B34: =X5 -> VOLPE | C34: 5 | D34: 1 | E34: 5 | F34: 5 | H34: Je souhaite faire un classement automatique pour ce championnat | AK34: =IF(C35="ARRET",0,IF(D35="ARRET",3,IF(C35="",0,IF(C35>D35,3,IF(C35=D35,1,IF(C35<D35,0)))))) -> 3 | AL34: =IF(D35="ARRET",0,IF(C35="ARRET",3,IF(D35="",0,IF(D35>C35,3,IF(D35=C35,1,IF(D35<C35,0)))))) -> 0 | AM34: =E35 -> 5 | AN34: =F35 -> 5 | AO34: =IF(C35="",0,1) -> 1 | AP34: =IF(D35="",0,1) -> 1 | AQ34: =IF(C35<>"",IF(C35<>"ARRET",IF(D35="ARRET",1,IF(C35>D35,1)))) -> 1 | AR34: =IF(D35<>"",IF(D35<>"ARRET",IF(C35="ARRET",1,IF(D35>C35,1)))) -> FALSE | AS34: =IF(C35<>"",IF(C35<>"ARRET",IF(C35=D35,1))) -> FALSE | AT34: =IF(D35<>"",IF(D35<>"ARRET",IF(D35=C35,1))) -> FALSE | AU34: =IF(C35<>"",IF(C35="ARRET",1,IF(C35<D35,1))) -> FALSE | AV34: =IF(D35<>"",IF(D35="ARRET",1,IF(D35<C35,1))) -> 1 | AW34: =IF(C35="ARRET",0,C35) -> 6 | AX34: =IF(D35="ARRET",0,D35) -> 4 | AY34: =IF(D35="ARRET",0,D35) -> 4 | AZ34: =IF(C35="ARRET",0,C35) -> 6
A35: =X10 -> SUPER U | B35: =X4 -> PEIPIN | C35: 6 | D35: 4 | E35: 5 | F35: 5 | H35: Avec la possibilité de changer le nom des équipes si besoin.
H36: Merci pour votre aide !
A37: 6eme Journée
A38: Match | B38: Match | C38: Score | D38: Score | E38: Fair-play | F38: Fair-play | AK38: =IF(C39="ARRET",0,IF(D39="ARRET",3,IF(C39="",0,IF(C39>D39,3,IF(C39=D39,1,IF(C39<D39,0)))))) -> 0 | AL38: =IF(D39="ARRET",0,IF(C39="ARRET",3,IF(D39="",0,IF(D39>C39,3,IF(D39=C39,1,IF(D39<C39,0)))))) -> 3 | AM38: =E39 -> 5 | AN38: =F39 -> 5 | AO38: =IF(C39="",0,1) -> 1 | AP38: =IF(D39="",0,1) -> 1 | AQ38: =IF(C39<>"",IF(C39<>"ARRET",IF(D39="ARRET",1,IF(C39>D39,1)))) -> FALSE | AR38: =IF(D39<>"",IF(D39<>"ARRET",IF(C39="ARRET",1,IF(D39>C39,1)))) -> 1 | AS38: =IF(C39<>"",IF(C39<>"ARRET",IF(C39=D39,1))) -> FALSE | AT38: =IF(D39<>"",IF(D39<>"ARRET",IF(D39=C39,1))) -> FALSE | AU38: =IF(C39<>"",IF(C39="ARRET",1,IF(C39<D39,1))) -> 1 | AV38: =IF(D39<>"",IF(D39="ARRET",1,IF(D39<C39,1))) -> FALSE | AW38: =IF(C39="ARRET",0,C39) -> 3 | AX38: =IF(D39="ARRET",0,D39) -> 5 | AY38: =IF(D39="ARRET",0,D39) -> 5 | AZ38: =IF(C39="ARRET",0,C39) -> 3
A39: =X4 -> PEIPIN | B39: =X8 -> SANOFI | C39: 3 | D39: 5 | E39: 5 | F39: 5 | AK39: =IF(C40="ARRET",0,IF(D40="ARRET",3,IF(C40="",0,IF(C40>D40,3,IF(C40=D40,1,IF(C40<D40,0)))))) -> 0 | AL39: =IF(D40="ARRET",0,IF(C40="ARRET",3,IF(D40="",0,IF(D40>C40,3,IF(D40=C40,1,IF(D40<C40,0)))))) -> 3 | AM39: =E40 -> 5 | AN39: =F40 -> 5 | AO39: =IF(C40="",0,1) -> 1 | AP39: =IF(D40="",0,1) -> 1 | AQ39: =IF(C40<>"",IF(C40<>"ARRET",IF(D40="ARRET",1,IF(C40>D40,1)))) -> FALSE | AR39: =IF(D40<>"",IF(D40<>"ARRET",IF(C40="ARRET",1,IF(D40>C40,1)))) -> 1 | AS39: =IF(C40<>"",IF(C40<>"ARRET",IF(C40=D40,1))) -> FALSE | AT39: =IF(D40<>"",IF(D40<>"ARRET",IF(D40=C40,1))) -> FALSE | AU39: =IF(C40<>"",IF(C40="ARRET",1,IF(C40<D40,1))) -> 1 | AV39: =IF(D40<>"",IF(D40="ARRET",1,IF(D40<C40,1))) -> FALSE | AW39: =IF(C40="ARRET",0,C40) -> 1 | AX39: =IF(D40="ARRET",0,D40) -> 4 | AY39: =IF(D40="ARRET",0,D40) -> 4 | AZ39: =IF(C40="ARRET",0,C40) -> 1
A40: =X3 -> MINETTO | B40: =X9 -> BOCA | C40: 1 | D40: 4 | E40: 5 | F40: 5 | AK40: =IF(C41="ARRET",0,IF(D41="ARRET",3,IF(C41="",0,IF(C41>D41,3,IF(C41=D41,1,IF(C41<D41,0)))))) -> 1 | AL40: =IF(D41="ARRET",0,IF(C41="ARRET",3,IF(D41="",0,IF(D41>C41,3,IF(D41=C41,1,IF(D41<C41,0)))))) -> 1 | AM40: =E41 -> 5 | AN40: =F41 -> 5 | AO40: =IF(C41="",0,1) -> 1 | AP40: =IF(D41="",0,1) -> 1 | AQ40: =IF(C41<>"",IF(C41<>"ARRET",IF(D41="ARRET",1,IF(C41>D41,1)))) -> FALSE | AR40: =IF(D41<>"",IF(D41<>"ARRET",IF(C41="ARRET",1,IF(D41>C41,1)))) -> FALSE | AS40: =IF(C41<>"",IF(C41<>"ARRET",IF(C41=D41,1))) -> 1 | AT40: =IF(D41<>"",IF(D41<>"ARRET",IF(D41=C41,1))) -> 1 | AU40: =IF(C41<>"",IF(C41="ARRET",1,IF(C41<D41,1))) -> FALSE | AV40: =IF(D41<>"",IF(D41="ARRET",1,IF(D41<C41,1))) -> FALSE | AW40: =IF(C41="ARRET",0,C41) -> 1 | AX40: =IF(D41="ARRET",0,D41) -> 1 | AY40: =IF(D41="ARRET",0,D41) -> 1 | AZ40: =IF(C41="ARRET",0,C41) -> 1
A41: =X5 -> VOLPE | B41: =X6 -> PI&KC | C41: 1 | D41: 1 | E41: 5 | F41: 5 | AK41: =IF(C42="ARRET",0,IF(D42="ARRET",3,IF(C42="",0,IF(C42>D42,3,IF(C42=D42,1,IF(C42<D42,0)))))) -> 0 | AL41: =IF(D42="ARRET",0,IF(C42="ARRET",3,IF(D42="",0,IF(D42>C42,3,IF(D42=C42,1,IF(D42<C42,0)))))) -> 0 | AM41: =E42 -> 0 | AN41: =F42 -> 0 | AO41: =IF(C42="",0,1) -> 0 | AP41: =IF(D42="",0,1) -> 0 | AQ41: =IF(C42<>"",IF(C42<>"ARRET",IF(D42="ARRET",1,IF(C42>D42,1)))) -> FALSE | AR41: =IF(D42<>"",IF(D42<>"ARRET",IF(C42="ARRET",1,IF(D42>C42,1)))) -> FALSE | AS41: =IF(C42<>"",IF(C42<>"ARRET",IF(C42=D42,1))) -> FALSE | AT41: =IF(D42<>"",IF(D42<>"ARRET",IF(D42=C42,1))) -> FALSE | AU41: =IF(C42<>"",IF(C42="ARRET",1,IF(C42<D42,1))) -> FALSE | AV41: =IF(D42<>"",IF(D42="ARRET",1,IF(D42<C42,1))) -> FALSE | AW41: =IF(C42="ARRET",0,C42) -> 0 | AX41: =IF(D42="ARRET",0,D42) -> 0 | AY41: =IF(D42="ARRET",0,D42) -> 0 | AZ41: =IF(C42="ARRET",0,C42) -> 0
A42: =X10 -> SUPER U | B42: =X7 -> LAZER
A44: 7eme Journée
A45: Match | B45: Match | C45: Score | D45: Score | E45: Fair-play | F45: Fair-play | AK45: =IF(C46="ARRET",0,IF(D46="ARRET",3,IF(C46="",0,IF(C46>D46,3,IF(C46=D46,1,IF(C46<D46,0)))))) -> 0 | AL45: =IF(D46="ARRET",0,IF(C46="ARRET",3,IF(D46="",0,IF(D46>C46,3,IF(D46=C46,1,IF(D46<C46,0)))))) -> 3 | AM45: =E46 -> 5 | AN45: =F46 -> 5 | AO45: =IF(C46="",0,1) -> 1 | AP45: =IF(D46="",0,1) -> 1 | AQ45: =IF(C46<>"",IF(C46<>"ARRET",IF(D46="ARRET",1,IF(C46>D46,1)))) -> FALSE | AR45: =IF(D46<>"",IF(D46<>"ARRET",IF(C46="ARRET",1,IF(D46>C46,1)))) -> 1 | AS45: =IF(C46<>"",IF(C46<>"ARRET",IF(C46=D46,1))) -> FALSE | AT45: =IF(D46<>"",IF(D46<>"ARRET",IF(D46=C46,1))) -> FALSE | AU45: =IF(C46<>"",IF(C46="ARRET",1,IF(C46<D46,1))) -> 1 | AV45: =IF(D46<>"",IF(D46="ARRET",1,IF(D46<C46,1))) -> FALSE | AW45: =IF(C46="ARRET",0,C46) -> 1 | AX45: =IF(D46="ARRET",0,D46) -> 5 | AY45: =IF(D46="ARRET",0,D46) -> 5 | AZ45: =IF(C46="ARRET",0,C46) -> 1
A46: =X3 -> MINETTO | B46: =X7 -> LAZER | C46: 1 | D46: 5 | E46: 5 | F46: 5 | H46: Arret du match avant le temps réglementaire | M46: Il faut que dans le tableau du classement apparaisent : | AK46: =IF(C47="ARRET",0,IF(D47="ARRET",3,IF(C47="",0,IF(C47>D47,3,IF(C47=D47,1,IF(C47<D47,0)))))) -> 0 | AL46: =IF(D47="ARRET",0,IF(C47="ARRET",3,IF(D47="",0,IF(D47>C47,3,IF(D47=C47,1,IF(D47<C47,0)))))) -> 0 | AM46: =E47 -> 1 | AN46: =F47 -> 1 | AO46: =IF(C47="",0,1) -> 1 | AP46: =IF(D47="",0,1) -> 1 | AQ46: =IF(C47<>"",IF(C47<>"ARRET",IF(D47="ARRET",1,IF(C47>D47,1)))) -> FALSE | AR46: =IF(D47<>"",IF(D47<>"ARRET",IF(C47="ARRET",1,IF(D47>C47,1)))) -> FALSE | AS46: =IF(C47<>"",IF(C47<>"ARRET",IF(C47=D47,1))) -> FALSE | AT46: =IF(D47<>"",IF(D47<>"ARRET",IF(D47=C47,1))) -> FALSE | AU46: =IF(C47<>"",IF(C47="ARRET",1,IF(C47<D47,1))) -> 1 | AV46: =IF(D47<>"",IF(D47="ARRET",1,IF(D47<C47,1))) -> 1 | AW46: =IF(C47="ARRET",0,C47) -> 0 | AX46: =IF(D47="ARRET",0,D47) -> 0 | AY46: =IF(D47="ARRET",0,D47) -> 0 | AZ46: =IF(C47="ARRET",0,C47) -> 0
A47: =X4 -> PEIPIN | B47: =X9 -> BOCA | C47: ARRET | D47: ARRET | E47: 1 | F47: 1 | H47: Match perdu pour les 2 équipes | M47: 1 - Le nombre de match joué | AK47: =IF(C48="ARRET",0,IF(D48="ARRET",3,IF(C48="",0,IF(C48>D48,3,IF(C48=D48,1,IF(C48<D48,0)))))) -> 3 | AL47: =IF(D48="ARRET",0,IF(C48="ARRET",3,IF(D48="",0,IF(D48>C48,3,IF(D48=C48,1,IF(D48<C48,0)))))) -> 0 | AM47: =E48 -> 5 | AN47: =F48 -> 5 | AO47: =IF(C48="",0,1) -> 1 | AP47: =IF(D48="",0,1) -> 1 | AQ47: =IF(C48<>"",IF(C48<>"ARRET",IF(D48="ARRET",1,IF(C48>D48,1)))) -> 1 | AR47: =IF(D48<>"",IF(D48<>"ARRET",IF(C48="ARRET",1,IF(D48>C48,1)))) -> FALSE | AS47: =IF(C48<>"",IF(C48<>"ARRET",IF(C48=D48,1))) -> FALSE | AT47: =IF(D48<>"",IF(D48<>"ARRET",IF(D48=C48,1))) -> FALSE | AU47: =IF(C48<>"",IF(C48="ARRET",1,IF(C48<D48,1))) -> FALSE | AV47: =IF(D48<>"",IF(D48="ARRET",1,IF(D48<C48,1))) -> 1 | AW47: =IF(C48="ARRET",0,C48) -> 5 | AX47: =IF(D48="ARRET",0,D48) -> 4 | AY47: =IF(D48="ARRET",0,D48) -> 4 | AZ47: =IF(C48="ARRET",0,C48) -> 5
A48: =X10 -> SUPER U | B48: =X5 -> VOLPE | C48: 5 | D48: 4 | E48: 5 | F48: 5 | H48: Comment faire ? | M48: 2 - que le match joué soit comptabilé dans "match perdu" | AK48: =IF(C49="ARRET",0,IF(D49="ARRET",3,IF(C49="",0,IF(C49>D49,3,IF(C49=D49,1,IF(C49<D49,0)))))) -> 1 | AL48: =IF(D49="ARRET",0,IF(C49="ARRET",3,IF(D49="",0,IF(D49>C49,3,IF(D49=C49,1,IF(D49<C49,0)))))) -> 1 | AM48: =E49 -> 5 | AN48: =F49 -> 5 | AO48: =IF(C49="",0,1) -> 1 | AP48: =IF(D49="",0,1) -> 1 | AQ48: =IF(C49<>"",IF(C49<>"ARRET",IF(D49="ARRET",1,IF(C49>D49,1)))) -> FALSE | AR48: =IF(D49<>"",IF(D49<>"ARRET",IF(C49="ARRET",1,IF(D49>C49,1)))) -> FALSE | AS48: =IF(C49<>"",IF(C49<>"ARRET",IF(C49=D49,1))) -> 1 | AT48: =IF(D49<>"",IF(D49<>"ARRET",IF(D49=C49,1))) -> 1 | AU48: =IF(C49<>"",IF(C49="ARRET",1,IF(C49<D49,1))) -> FALSE | AV48: =IF(D49<>"",IF(D49="ARRET",1,IF(D49<C49,1))) -> FALSE | AW48: =IF(C49="ARRET",0,C49) -> 2 | AX48: =IF(D49="ARRET",0,D49) -> 2 | AY48: =IF(D49="ARRET",0,D49) -> 2 | AZ48: =IF(C49="ARRET",0,C49) -> 2
A49: =X6 -> PI&KC | B49: =X8 -> SANOFI | C49: 2 | D49: 2 | E49: 5 | F49: 5
