Workbook

Sheet Equipes
F4: NOM DES EQUIPES

Sheet Tournoi
A1: TOURNOI 06 EQUIPES | T1: CLASSEMENT | AL1: CLASSEMENT
A3: Terrain | C3: Equipes | J3: Buts | K3: Buts | L3: Equipes | T3: Equipes | AA3: Rang | AB3: Pts | AC3: J | AD3: G | AE3: N | AF3: P | AG3: B + | AH3: B - | AI3: Diff | AK3: Rang | AL3: Equipes | AS3: Rang | AT3: Pts | AU3: J | AV3: G | AW3: N | AX3: P | AY3: B + | AZ3: B - | BA3: Diff | BB3: % | BC3: % | BD3: Pts | BE3: Pts | BF3: J | BG3: J | BH3: G | BI3: G | BJ3: N | BK3: N | BL3: P | BM3: P | BN3: B+ | BO3: B+ | BP3: B- | BQ3: B- | BR3: Equipes | BS3: % | BT3: R
C4: =AL5 -> 0 | L4: =AL4 -> 0 | T4: =VLOOKUP(AJ4,$AK$4:$AR$9,2,0) -> 0 | AA4: 1 | AB4: =VLOOKUP(T4,$AL$4:$BA$9,9,0) -> 0 | AC4: =VLOOKUP(T4,$AL$4:$BA$9,10,0) -> 0 | AD4: =VLOOKUP(T4,$AL$4:$BA$9,11,0) -> 0 | AE4: =VLOOKUP(T4,$AL$4:$BA$9,12,0) -> 0 | AF4: =VLOOKUP(T4,$AL$4:$BA$9,13,0) -> 0 | AG4: =VLOOKUP(T4,$AL$4:$BA$9,14,0) -> 0 | AH4: =VLOOKUP(T4,$AL$4:$BA$9,15,0) -> 0 | AI4: =VLOOKUP(T4,$AL$4:$BA$9,16,0) -> 0 | AJ4: 1 | AK4: =AS4 -> 1 | AL4: =Equipes!F5 -> 0 | AS4: =RANK(BC4,$BC$4:$BC$9) -> 1 | AT4: =SUMPRODUCT(($C$4:$I$18=AL4)*($BD$4:$BD$18))+SUMPRODUCT(($L$4:$R$18=AL4)*($BE$4:$BE$18)) -> 0 | AU4: =SUMPRODUCT(($C$4:$I$18=AL4)*($BF$4:$BF$18))+SUMPRODUCT(($L$4:$R$18=AL4)*($BG$4:$BG$18)) -> 0 | AV4: =SUMPRODUCT(($C$4:$I$18=AL4)*($BH$4:$BH$18))+SUMPRODUCT(($L$4:$R$18=AL4)*($BI$4:$BI$18)) -> 0 | AW4: =SUMPRODUCT(($C$4:$I$18=AL4)*($BJ$4:$BJ$18))+SUMPRODUCT(($L$4:$R$18=AL4)*($BK$4:$BK$18)) -> 0 | AX4: =SUMPRODUCT(($C$4:$I$18=AL4)*($BL$4:$BL$18))+SUMPRODUCT(($L$4:$R$18=AL4)*($BM$4:$BM$18)) -> 0 | AY4: =SUMPRODUCT(($C$4:$I$18=AL4)*($BN$4:$BN$18))+SUMPRODUCT(($L$4:$R$18=AL4)*($BO$4:$BO$18)) -> 0 | AZ4: =SUMPRODUCT(($C$4:$I$18=AL4)*($BP$4:$BP$18))+SUMPRODUCT(($L$4:$R$18=AL4)*($BQ$4:$BQ$18)) -> 0 | BA4: =AY4-AZ4 -> 0 | BB4: =SUM(AT4*1000+(BA4)/10+(AY4)/100) -> 0 | BC4: =BB4+0.00006 -> 6e-05 | BD4: =IF(J4="",0,IF(J4>K4,3,IF(J4=K4,2,IF(J4<K4,1)))) -> 0 | BE4: =IF(K4="",0,IF(K4>J4,3,IF(K4=J4,2,IF(K4<J4,1)))) -> 0 | BF4: =IF(J4="",0,1) -> 0 | BG4: =IF(K4="",0,1) -> 0 | BH4: =IF(J4<>"",IF(J4<K4,1)) -> FALSE | BI4: =IF(K4<>"",IF(K4>J4,1)) -> FALSE | BJ4: =IF(J4<>"",IF(J4=K4,1)) -> FALSE | BK4: =IF(K4<>"",IF(K4=J4,1)) -> FALSE | BL4: =IF(J4<>"",IF(J4<K4,1)) -> FALSE | BM4: =IF(K4<>"",IF(K4<J4,1)) -> FALSE | BN4: =J4 -> 0 | BO4: =K4 -> 0 | BP4: =K4 -> 0 | BQ4: =J4 -> 0 | BR4: =VLOOKUP(AJ4,$AK$4:$AR$9,2,0) -> 0 | BS4: =VLOOKUP(BR4,$AL$4:$BB$9,17,0) -> 0 | BT4: =RANK(BS4,$BS$4:$BS$9) -> 1
C5: =AL6 -> 0 | L5: =AL9 -> 0 | T5: =VLOOKUP(AJ5,$AK$4:$AR$9,2,0) -> 0 | AA5: =IF(BS5=BS4,BT4,BT5) -> 1 | AB5: =VLOOKUP(T5,$AL$4:$BA$9,9,0) -> 0 | AC5: =VLOOKUP(T5,$AL$4:$BA$9,10,0) -> 0 | AD5: =VLOOKUP(T5,$AL$4:$BA$9,11,0) -> 0 | AE5: =VLOOKUP(T5,$AL$4:$BA$9,12,0) -> 0 | AF5: =VLOOKUP(T5,$AL$4:$BA$9,13,0) -> 0 | AG5: =VLOOKUP(T5,$AL$4:$BA$9,14,0) -> 0 | AH5: =VLOOKUP(T5,$AL$4:$BA$9,15,0) -> 0 | AI5: =VLOOKUP(T5,$AL$4:$BA$9,16,0) -> 0 | AJ5: 2 | AK5: =AS5 -> 2 | AL5: =Equipes!F6 -> 0 | AS5: =RANK(BC5,$BC$4:$BC$9) -> 2 | AT5: =SUMPRODUCT(($C$4:$I$18=AL5)*($BD$4:$BD$18))+SUMPRODUCT(($L$4:$R$18=AL5)*($BE$4:$BE$18)) -> 0 | AU5: =SUMPRODUCT(($C$4:$I$18=AL5)*($BF$4:$BF$18))+SUMPRODUCT(($L$4:$R$18=AL5)*($BG$4:$BG$18)) -> 0 | AV5: =SUMPRODUCT(($C$4:$I$18=AL5)*($BH$4:$BH$18))+SUMPRODUCT(($L$4:$R$18=AL5)*($BI$4:$BI$18)) -> 0 | AW5: =SUMPRODUCT(($C$4:$I$18=AL5)*($BJ$4:$BJ$18))+SUMPRODUCT(($L$4:$R$18=AL5)*($BK$4:$BK$18)) -> 0 | AX5: =SUMPRODUCT(($C$4:$I$18=AL5)*($BL$4:$BL$18))+SUMPRODUCT(($L$4:$R$18=AL5)*($BM$4:$BM$18)) -> 0 | AY5: =SUMPRODUCT(($C$4:$I$18=AL5)*($BN$4:$BN$18))+SUMPRODUCT(($L$4:$R$18=AL5)*($BO$4:$BO$18)) -> 0 | AZ5: =SUMPRODUCT(($C$4:$I$18=AL5)*($BP$4:$BP$18))+SUMPRODUCT(($L$4:$R$18=AL5)*($BQ$4:$BQ$18)) -> 0 | BA5: =AY5-AZ5 -> 0 | BB5: =SUM(AT5*1000+(BA5)/10+(AY5)/100) -> 0 | BC5: =BB5+0.00005 -> 5e-05 | BD5: =IF(J5="",0,IF(J5>K5,3,IF(J5=K5,2,IF(J5<K5,1)))) -> 0 | BE5: =IF(K5="",0,IF(K5>J5,3,IF(K5=J5,2,IF(K5<J5,1)))) -> 0 | BF5: =IF(J5="",0,1) -> 0 | BG5: =IF(K5="",0,1) -> 0 | BH5: =IF(J5<>"",IF(J5<K5,1)) -> FALSE | BI5: =IF(K5<>"",IF(K5>J5,1)) -> FALSE | BJ5: =IF(J5<>"",IF(J5=K5,1)) -> FALSE | BK5: =IF(K5<>"",IF(K5=J5,1)) -> FALSE | BL5: =IF(J5<>"",IF(J5<K5,1)) -> FALSE | BM5: =IF(K5<>"",IF(K5<J5,1)) -> FALSE | BN5: =J5 -> 0 | BO5: =K5 -> 0 | BP5: =K5 -> 0 | BQ5: =J5 -> 0 | BR5: =VLOOKUP(AJ5,$AK$4:$AR$9,2,0) -> 0 | BS5: =VLOOKUP(BR5,$AL$4:$BB$9,17,0) -> 0 | BT5: =RANK(BS5,$BS$4:$BS$9) -> 1
C6: =AL8 -> 0 | L6: =AL7 -> 0 | T6: =VLOOKUP(AJ6,$AK$4:$AR$9,2,0) -> 0 | AA6: =IF(BS6=BS5,BT5,BT6) -> 1 | AB6: =VLOOKUP(T6,$AL$4:$BA$9,9,0) -> 0 | AC6: =VLOOKUP(T6,$AL$4:$BA$9,10,0) -> 0 | AD6: =VLOOKUP(T6,$AL$4:$BA$9,11,0) -> 0 | AE6: =VLOOKUP(T6,$AL$4:$BA$9,12,0) -> 0 | AF6: =VLOOKUP(T6,$AL$4:$BA$9,13,0) -> 0 | AG6: =VLOOKUP(T6,$AL$4:$BA$9,14,0) -> 0 | AH6: =VLOOKUP(T6,$AL$4:$BA$9,15,0) -> 0 | AI6: =VLOOKUP(T6,$AL$4:$BA$9,16,0) -> 0 | AJ6: 3 | AK6: =AS6 -> 3 | AL6: =Equipes!F7 -> 0 | AS6: =RANK(BC6,$BC$4:$BC$9) -> 3 | AT6: =SUMPRODUCT(($C$4:$I$18=AL6)*($BD$4:$BD$18))+SUMPRODUCT(($L$4:$R$18=AL6)*($BE$4:$BE$18)) -> 0 | AU6: =SUMPRODUCT(($C$4:$I$18=AL6)*($BF$4:$BF$18))+SUMPRODUCT(($L$4:$R$18=AL6)*($BG$4:$BG$18)) -> 0 | AV6: =SUMPRODUCT(($C$4:$I$18=AL6)*($BH$4:$BH$18))+SUMPRODUCT(($L$4:$R$18=AL6)*($BI$4:$BI$18)) -> 0 | AW6: =SUMPRODUCT(($C$4:$I$18=AL6)*($BJ$4:$BJ$18))+SUMPRODUCT(($L$4:$R$18=AL6)*($BK$4:$BK$18)) -> 0 | AX6: =SUMPRODUCT(($C$4:$I$18=AL6)*($BL$4:$BL$18))+SUMPRODUCT(($L$4:$R$18=AL6)*($BM$4:$BM$18)) -> 0 | AY6: =SUMPRODUCT(($C$4:$I$18=AL6)*($BN$4:$BN$18))+SUMPRODUCT(($L$4:$R$18=AL6)*($BO$4:$BO$18)) -> 0 | AZ6: =SUMPRODUCT(($C$4:$I$18=AL6)*($BP$4:$BP$18))+SUMPRODUCT(($L$4:$R$18=AL6)*($BQ$4:$BQ$18)) -> 0 | BA6: =AY6-AZ6 -> 0 | BB6: =SUM(AT6*1000+(BA6)/10+(AY6)/100) -> 0 | BC6: =BB6+0.00004 -> 4e-05 | BD6: =IF(J6="",0,IF(J6>K6,3,IF(J6=K6,2,IF(J6<K6,1)))) -> 0 | BE6: =IF(K6="",0,IF(K6>J6,3,IF(K6=J6,2,IF(K6<J6,1)))) -> 0 | BF6: =IF(J6="",0,1) -> 0 | BG6: =IF(K6="",0,1) -> 0 | BH6: =IF(J6<>"",IF(J6<K6,1)) -> FALSE | BI6: =IF(K6<>"",IF(K6>J6,1)) -> FALSE | BJ6: =IF(J6<>"",IF(J6=K6,1)) -> FALSE | BK6: =IF(K6<>"",IF(K6=J6,1)) -> FALSE | BL6: =IF(J6<>"",IF(J6<K6,1)) -> FALSE | BM6: =IF(K6<>"",IF(K6<J6,1)) -> FALSE | BN6: =J6 -> 0 | BO6: =K6 -> 0 | BP6: =K6 -> 0 | BQ6: =J6 -> 0 | BR6: =VLOOKUP(AJ6,$AK$4:$AR$9,2,0) -> 0 | BS6: =VLOOKUP(BR6,$AL$4:$BB$9,17,0) -> 0 | BT6: =RANK(BS6,$BS$4:$BS$9) -> 1
C7: =AL4 -> 0 | L7: =AL6 -> 0 | T7: =VLOOKUP(AJ7,$AK$4:$AR$9,2,0) -> 0 | AA7: =IF(BS7=BS6,BT6,BT7) -> 1 | AB7: =VLOOKUP(T7,$AL$4:$BA$9,9,0) -> 0 | AC7: =VLOOKUP(T7,$AL$4:$BA$9,10,0) -> 0 | AD7: =VLOOKUP(T7,$AL$4:$BA$9,11,0) -> 0 | AE7: =VLOOKUP(T7,$AL$4:$BA$9,12,0) -> 0 | AF7: =VLOOKUP(T7,$AL$4:$BA$9,13,0) -> 0 | AG7: =VLOOKUP(T7,$AL$4:$BA$9,14,0) -> 0 | AH7: =VLOOKUP(T7,$AL$4:$BA$9,15,0) -> 0 | AI7: =VLOOKUP(T7,$AL$4:$BA$9,16,0) -> 0 | AJ7: 4 | AK7: =AS7 -> 4 | AL7: =Equipes!F8 -> 0 | AS7: =RANK(BC7,$BC$4:$BC$9) -> 4 | AT7: =SUMPRODUCT(($C$4:$I$18=AL7)*($BD$4:$BD$18))+SUMPRODUCT(($L$4:$R$18=AL7)*($BE$4:$BE$18)) -> 0 | AU7: =SUMPRODUCT(($C$4:$I$18=AL7)*($BF$4:$BF$18))+SUMPRODUCT(($L$4:$R$18=AL7)*($BG$4:$BG$18)) -> 0 | AV7: =SUMPRODUCT(($C$4:$I$18=AL7)*($BH$4:$BH$18))+SUMPRODUCT(($L$4:$R$18=AL7)*($BI$4:$BI$18)) -> 0 | AW7: =SUMPRODUCT(($C$4:$I$18=AL7)*($BJ$4:$BJ$18))+SUMPRODUCT(($L$4:$R$18=AL7)*($BK$4:$BK$18)) -> 0 | AX7: =SUMPRODUCT(($C$4:$I$18=AL7)*($BL$4:$BL$18))+SUMPRODUCT(($L$4:$R$18=AL7)*($BM$4:$BM$18)) -> 0 | AY7: =SUMPRODUCT(($C$4:$I$18=AL7)*($BN$4:$BN$18))+SUMPRODUCT(($L$4:$R$18=AL7)*($BO$4:$BO$18)) -> 0 | AZ7: =SUMPRODUCT(($C$4:$I$18=AL7)*($BP$4:$BP$18))+SUMPRODUCT(($L$4:$R$18=AL7)*($BQ$4:$BQ$18)) -> 0 | BA7: =AY7-AZ7 -> 0 | BB7: =SUM(AT7*1000+(BA7)/10+(AY7)/100) -> 0 | BC7: =BB7+0.00003 -> 3e-05 | BD7: =IF(J7="",0,IF(J7>K7,3,IF(J7=K7,2,IF(J7<K7,1)))) -> 0 | BE7: =IF(K7="",0,IF(K7>J7,3,IF(K7=J7,2,IF(K7<J7,1)))) -> 0 | BF7: =IF(J7="",0,1) -> 0 | BG7: =IF(K7="",0,1) -> 0 | BH7: =IF(J7<>"",IF(J7<K7,1)) -> FALSE | BI7: =IF(K7<>"",IF(K7>J7,1)) -> FALSE | BJ7: =IF(J7<>"",IF(J7=K7,1)) -> FALSE | BK7: =IF(K7<>"",IF(K7=J7,1)) -> FALSE | BL7: =IF(J7<>"",IF(J7<K7,1)) -> FALSE | BM7: =IF(K7<>"",IF(K7<J7,1)) -> FALSE | BN7: =J7 -> 0 | BO7: =K7 -> 0 | BP7: =K7 -> 0 | BQ7: =J7 -> 0 | BR7: =VLOOKUP(AJ7,$AK$4:$AR$9,2,0) -> 0 | BS7: =VLOOKUP(BR7,$AL$4:$BB$9,17,0) -> 0 | BT7: =RANK(BS7,$BS$4:$BS$9) -> 1
C8: =AL7 -> 0 | L8: =AL5 -> 0 | T8: =VLOOKUP(AJ8,$AK$4:$AR$9,2,0) -> 0 | AA8: =IF(BS8=BS7,BT7,BT8) -> 1 | AB8: =VLOOKUP(T8,$AL$4:$BA$9,9,0) -> 0 | AC8: =VLOOKUP(T8,$AL$4:$BA$9,10,0) -> 0 | AD8: =VLOOKUP(T8,$AL$4:$BA$9,11,0) -> 0 | AE8: =VLOOKUP(T8,$AL$4:$BA$9,12,0) -> 0 | AF8: =VLOOKUP(T8,$AL$4:$BA$9,13,0) -> 0 | AG8: =VLOOKUP(T8,$AL$4:$BA$9,14,0) -> 0 | AH8: =VLOOKUP(T8,$AL$4:$BA$9,15,0) -> 0 | AI8: =VLOOKUP(T8,$AL$4:$BA$9,16,0) -> 0 | AJ8: 5 | AK8: =AS8 -> 5 | AL8: =Equipes!F9 -> 0 | AS8: =RANK(BC8,$BC$4:$BC$9) -> 5 | AT8: =SUMPRODUCT(($C$4:$I$18=AL8)*($BD$4:$BD$18))+SUMPRODUCT(($L$4:$R$18=AL8)*($BE$4:$BE$18)) -> 0 | AU8: =SUMPRODUCT(($C$4:$I$18=AL8)*($BF$4:$BF$18))+SUMPRODUCT(($L$4:$R$18=AL8)*($BG$4:$BG$18)) -> 0 | AV8: =SUMPRODUCT(($C$4:$I$18=AL8)*($BH$4:$BH$18))+SUMPRODUCT(($L$4:$R$18=AL8)*($BI$4:$BI$18)) -> 0 | AW8: =SUMPRODUCT(($C$4:$I$18=AL8)*($BJ$4:$BJ$18))+SUMPRODUCT(($L$4:$R$18=AL8)*($BK$4:$BK$18)) -> 0 | AX8: =SUMPRODUCT(($C$4:$I$18=AL8)*($BL$4:$BL$18))+SUMPRODUCT(($L$4:$R$18=AL8)*($BM$4:$BM$18)) -> 0 | AY8: =SUMPRODUCT(($C$4:$I$18=AL8)*($BN$4:$BN$18))+SUMPRODUCT(($L$4:$R$18=AL8)*($BO$4:$BO$18)) -> 0 | AZ8: =SUMPRODUCT(($C$4:$I$18=AL8)*($BP$4:$BP$18))+SUMPRODUCT(($L$4:$R$18=AL8)*($BQ$4:$BQ$18)) -> 0 | BA8: =AY8-AZ8 -> 0 | BB8: =SUM(AT8*1000+(BA8)/10+(AY8)/100) -> 0 | BC8: =BB8+0.00002 -> 2e-05 | BD8: =IF(J8="",0,IF(J8>K8,3,IF(J8=K8,2,IF(J8<K8,1)))) -> 0 | BE8: =IF(K8="",0,IF(K8>J8,3,IF(K8=J8,2,IF(K8<J8,1)))) -> 0 | BF8: =IF(J8="",0,1) -> 0 | BG8: =IF(K8="",0,1) -> 0 | BH8: =IF(J8<>"",IF(J8<K8,1)) -> FALSE | BI8: =IF(K8<>"",IF(K8>J8,1)) -> FALSE | BJ8: =IF(J8<>"",IF(J8=K8,1)) -> FALSE | BK8: =IF(K8<>"",IF(K8=J8,1)) -> FALSE | BL8: =IF(J8<>"",IF(J8<K8,1)) -> FALSE | BM8: =IF(K8<>"",IF(K8<J8,1)) -> FALSE | BN8: =J8 -> 0 | BO8: =K8 -> 0 | BP8: =K8 -> 0 | BQ8: =J8 -> 0 | BR8: =VLOOKUP(AJ8,$AK$4:$AR$9,2,0) -> 0 | BS8: =VLOOKUP(BR8,$AL$4:$BB$9,17,0) -> 0 | BT8: =RANK(BS8,$BS$4:$BS$9) -> 1
C9: =AL9 -> 0 | L9: =AL8 -> 0 | T9: =VLOOKUP(AJ9,$AK$4:$AR$9,2,0) -> 0 | AA9: =IF(BS9=BS8,BT8,BT9) -> 1 | AB9: =VLOOKUP(T9,$AL$4:$BA$9,9,0) -> 0 | AC9: =VLOOKUP(T9,$AL$4:$BA$9,10,0) -> 0 | AD9: =VLOOKUP(T9,$AL$4:$BA$9,11,0) -> 0 | AE9: =VLOOKUP(T9,$AL$4:$BA$9,12,0) -> 0 | AF9: =VLOOKUP(T9,$AL$4:$BA$9,13,0) -> 0 | AG9: =VLOOKUP(T9,$AL$4:$BA$9,14,0) -> 0 | AH9: =VLOOKUP(T9,$AL$4:$BA$9,15,0) -> 0 | AI9: =VLOOKUP(T9,$AL$4:$BA$9,16,0) -> 0 | AJ9: 6 | AK9: =AS9 -> 6 | AL9: =Equipes!F10 -> 0 | AS9: =RANK(BC9,$BC$4:$BC$9) -> 6 | AT9: =SUMPRODUCT(($C$4:$I$18=AL9)*($BD$4:$BD$18))+SUMPRODUCT(($L$4:$R$18=AL9)*($BE$4:$BE$18)) -> 0 | AU9: =SUMPRODUCT(($C$4:$I$18=AL9)*($BF$4:$BF$18))+SUMPRODUCT(($L$4:$R$18=AL9)*($BG$4:$BG$18)) -> 0 | AV9: =SUMPRODUCT(($C$4:$I$18=AL9)*($BH$4:$BH$18))+SUMPRODUCT(($L$4:$R$18=AL9)*($BI$4:$BI$18)) -> 0 | AW9: =SUMPRODUCT(($C$4:$I$18=AL9)*($BJ$4:$BJ$18))+SUMPRODUCT(($L$4:$R$18=AL9)*($BK$4:$BK$18)) -> 0 | AX9: =SUMPRODUCT(($C$4:$I$18=AL9)*($BL$4:$BL$18))+SUMPRODUCT(($L$4:$R$18=AL9)*($BM$4:$BM$18)) -> 0 | AY9: =SUMPRODUCT(($C$4:$I$18=AL9)*($BN$4:$BN$18))+SUMPRODUCT(($L$4:$R$18=AL9)*($BO$4:$BO$18)) -> 0 | AZ9: =SUMPRODUCT(($C$4:$I$18=AL9)*($BP$4:$BP$18))+SUMPRODUCT(($L$4:$R$18=AL9)*($BQ$4:$BQ$18)) -> 0 | BA9: =AY9-AZ9 -> 0 | BB9: =SUM(AT9*1000+(BA9)/10+(AY9)/100) -> 0 | BC9: =BB9+0.00001 -> 1e-05 | BD9: =IF(J9="",0,IF(J9>K9,3,IF(J9=K9,2,IF(J9<K9,1)))) -> 0 | BE9: =IF(K9="",0,IF(K9>J9,3,IF(K9=J9,2,IF(K9<J9,1)))) -> 0 | BF9: =IF(J9="",0,1) -> 0 | BG9: =IF(K9="",0,1) -> 0 | BH9: =IF(J9<>"",IF(J9<K9,1)) -> FALSE | BI9: =IF(K9<>"",IF(K9>J9,1)) -> FALSE | BJ9: =IF(J9<>"",IF(J9=K9,1)) -> FALSE | BK9: =IF(K9<>"",IF(K9=J9,1)) -> FALSE | BL9: =IF(J9<>"",IF(J9<K9,1)) -> FALSE | BM9: =IF(K9<>"",IF(K9<J9,1)) -> FALSE | BN9: =J9 -> 0 | BO9: =K9 -> 0 | BP9: =K9 -> 0 | BQ9: =J9 -> 0 | BR9: =VLOOKUP(AJ9,$AK$4:$AR$9,2,0) -> 0 | BS9: =VLOOKUP(BR9,$AL$4:$BB$9,17,0) -> 0 | BT9: =RANK(BS9,$BS$4:$BS$9) -> 1
C10: =AL5 -> 0 | L10: =AL9 -> 0 | BD10: =IF(J10="",0,IF(J10>K10,3,IF(J10=K10,2,IF(J10<K10,1)))) -> 0 | BE10: =IF(K10="",0,IF(K10>J10,3,IF(K10=J10,2,IF(K10<J10,1)))) -> 0 | BF10: =IF(J10="",0,1) -> 0 | BG10: =IF(K10="",0,1) -> 0 | BH10: =IF(J10<>"",IF(J10<K10,1)) -> FALSE | BI10: =IF(K10<>"",IF(K10>J10,1)) -> FALSE | BJ10: =IF(J10<>"",IF(J10=K10,1)) -> FALSE | BK10: =IF(K10<>"",IF(K10=J10,1)) -> FALSE | BL10: =IF(J10<>"",IF(J10<K10,1)) -> FALSE | BM10: =IF(K10<>"",IF(K10<J10,1)) -> FALSE | BN10: =J10 -> 0 | BO10: =K10 -> 0 | BP10: =K10 -> 0 | BQ10: =J10 -> 0
C11: =AL7 -> 0 | L11: =AL4 -> 0 | BD11: =IF(J11="",0,IF(J11>K11,3,IF(J11=K11,2,IF(J11<K11,1)))) -> 0 | BE11: =IF(K11="",0,IF(K11>J11,3,IF(K11=J11,2,IF(K11<J11,1)))) -> 0 | BF11: =IF(J11="",0,1) -> 0 | BG11: =IF(K11="",0,1) -> 0 | BH11: =IF(J11<>"",IF(J11<K11,1)) -> FALSE | BI11: =IF(K11<>"",IF(K11>J11,1)) -> FALSE | BJ11: =IF(J11<>"",IF(J11=K11,1)) -> FALSE | BK11: =IF(K11<>"",IF(K11=J11,1)) -> FALSE | BL11: =IF(J11<>"",IF(J11<K11,1)) -> FALSE | BM11: =IF(K11<>"",IF(K11<J11,1)) -> FALSE | BN11: =J11 -> 0 | BO11: =K11 -> 0 | BP11: =K11 -> 0 | BQ11: =J11 -> 0
C12: =AL8 -> 0 | L12: =AL6 -> 0 | BD12: =IF(J12="",0,IF(J12>K12,3,IF(J12=K12,2,IF(J12<K12,1)))) -> 0 | BE12: =IF(K12="",0,IF(K12>J12,3,IF(K12=J12,2,IF(K12<J12,1)))) -> 0 | BF12: =IF(J12="",0,1) -> 0 | BG12: =IF(K12="",0,1) -> 0 | BH12: =IF(J12<>"",IF(J12<K12,1)) -> FALSE | BI12: =IF(K12<>"",IF(K12>J12,1)) -> FALSE | BJ12: =IF(J12<>"",IF(J12=K12,1)) -> FALSE | BK12: =IF(K12<>"",IF(K12=J12,1)) -> FALSE | BL12: =IF(J12<>"",IF(J12<K12,1)) -> FALSE | BM12: =IF(K12<>"",IF(K12<J12,1)) -> FALSE | BN12: =J12 -> 0 | BO12: =K12 -> 0 | BP12: =K12 -> 0 | BQ12: =J12 -> 0
C13: =AL4 -> 0 | L13: =AL8 -> 0 | BD13: =IF(J13="",0,IF(J13>K13,3,IF(J13=K13,2,IF(J13<K13,1)))) -> 0 | BE13: =IF(K13="",0,IF(K13>J13,3,IF(K13=J13,2,IF(K13<J13,1)))) -> 0 | BF13: =IF(J13="",0,1) -> 0 | BG13: =IF(K13="",0,1) -> 0 | BH13: =IF(J13<>"",IF(J13<K13,1)) -> FALSE | BI13: =IF(K13<>"",IF(K13>J13,1)) -> FALSE | BJ13: =IF(J13<>"",IF(J13=K13,1)) -> FALSE | BK13: =IF(K13<>"",IF(K13=J13,1)) -> FALSE | BL13: =IF(J13<>"",IF(J13<K13,1)) -> FALSE | BM13: =IF(K13<>"",IF(K13<J13,1)) -> FALSE | BN13: =J13 -> 0 | BO13: =K13 -> 0 | BP13: =K13 -> 0 | BQ13: =J13 -> 0
C14: =AL6 -> 0 | L14: =AL5 -> 0 | BD14: =IF(J14="",0,IF(J14>K14,3,IF(J14=K14,2,IF(J14<K14,1)))) -> 0 | BE14: =IF(K14="",0,IF(K14>J14,3,IF(K14=J14,2,IF(K14<J14,1)))) -> 0 | BF14: =IF(J14="",0,1) -> 0 | BG14: =IF(K14="",0,1) -> 0 | BH14: =IF(J14<>"",IF(J14<K14,1)) -> FALSE | BI14: =IF(K14<>"",IF(K14>J14,1)) -> FALSE | BJ14: =IF(J14<>"",IF(J14=K14,1)) -> FALSE | BK14: =IF(K14<>"",IF(K14=J14,1)) -> FALSE | BL14: =IF(J14<>"",IF(J14<K14,1)) -> FALSE | BM14: =IF(K14<>"",IF(K14<J14,1)) -> FALSE | BN14: =J14 -> 0 | BO14: =K14 -> 0 | BP14: =K14 -> 0 | BQ14: =J14 -> 0
C15: =AL9 -> 0 | L15: =AL7 -> 0 | BD15: =IF(J15="",0,IF(J15>K15,3,IF(J15=K15,2,IF(J15<K15,1)))) -> 0 | BE15: =IF(K15="",0,IF(K15>J15,3,IF(K15=J15,2,IF(K15<J15,1)))) -> 0 | BF15: =IF(J15="",0,1) -> 0 | BG15: =IF(K15="",0,1) -> 0 | BH15: =IF(J15<>"",IF(J15<K15,1)) -> FALSE | BI15: =IF(K15<>"",IF(K15>J15,1)) -> FALSE | BJ15: =IF(J15<>"",IF(J15=K15,1)) -> FALSE | BK15: =IF(K15<>"",IF(K15=J15,1)) -> FALSE | BL15: =IF(J15<>"",IF(J15<K15,1)) -> FALSE | BM15: =IF(K15<>"",IF(K15<J15,1)) -> FALSE | BN15: =J15 -> 0 | BO15: =K15 -> 0 | BP15: =K15 -> 0 | BQ15: =J15 -> 0
C16: =AL5 -> 0 | L16: =AL8 -> 0 | BD16: =IF(J16="",0,IF(J16>K16,3,IF(J16=K16,2,IF(J16<K16,1)))) -> 0 | BE16: =IF(K16="",0,IF(K16>J16,3,IF(K16=J16,2,IF(K16<J16,1)))) -> 0 | BF16: =IF(J16="",0,1) -> 0 | BG16: =IF(K16="",0,1) -> 0 | BH16: =IF(J16<>"",IF(J16<K16,1)) -> FALSE | BI16: =IF(K16<>"",IF(K16>J16,1)) -> FALSE | BJ16: =IF(J16<>"",IF(J16=K16,1)) -> FALSE | BK16: =IF(K16<>"",IF(K16=J16,1)) -> FALSE | BL16: =IF(J16<>"",IF(J16<K16,1)) -> FALSE | BM16: =IF(K16<>"",IF(K16<J16,1)) -> FALSE | BN16: =J16 -> 0 | BO16: =K16 -> 0 | BP16: =K16 -> 0 | BQ16: =J16 -> 0
C17: =AL7 -> 0 | L17: =AL6 -> 0 | BD17: =IF(J17="",0,IF(J17>K17,3,IF(J17=K17,2,IF(J17<K17,1)))) -> 0 | BE17: =IF(K17="",0,IF(K17>J17,3,IF(K17=J17,2,IF(K17<J17,1)))) -> 0 | BF17: =IF(J17="",0,1) -> 0 | BG17: =IF(K17="",0,1) -> 0 | BH17: =IF(J17<>"",IF(J17<K17,1)) -> FALSE | BI17: =IF(K17<>"",IF(K17>J17,1)) -> FALSE | BJ17: =IF(J17<>"",IF(J17=K17,1)) -> FALSE | BK17: =IF(K17<>"",IF(K17=J17,1)) -> FALSE | BL17: =IF(J17<>"",IF(J17<K17,1)) -> FALSE | BM17: =IF(K17<>"",IF(K17<J17,1)) -> FALSE | BN17: =J17 -> 0 | BO17: =K17 -> 0 | BP17: =K17 -> 0 | BQ17: =J17 -> 0
C18: =AL9 -> 0 | L18: =AL4 -> 0 | BD18: =IF(J18="",0,IF(J18>K18,3,IF(J18=K18,2,IF(J18<K18,1)))) -> 0 | BE18: =IF(K18="",0,IF(K18>J18,3,IF(K18=J18,2,IF(K18<J18,1)))) -> 0 | BF18: =IF(J18="",0,1) -> 0 | BG18: =IF(K18="",0,1) -> 0 | BH18: =IF(J18<>"",IF(J18<K18,1)) -> FALSE | BI18: =IF(K18<>"",IF(K18>J18,1)) -> FALSE | BJ18: =IF(J18<>"",IF(J18=K18,1)) -> FALSE | BK18: =IF(K18<>"",IF(K18=J18,1)) -> FALSE | BL18: =IF(J18<>"",IF(J18<K18,1)) -> FALSE | BM18: =IF(K18<>"",IF(K18<J18,1)) -> FALSE | BN18: =J18 -> 0 | BO18: =K18 -> 0 | BP18: =K18 -> 0 | BQ18: =J18 -> 0
A19: Equipes | J19: Buts | L19: Pénalty
A21: =T4 -> 0
A23: =T7 -> 0 | Q23: Equipes | Z23: Buts | AB23: Pénalty
Q25: =IF(J21="","",IF(J21>J23,A21,IF(J23>J21,A23,IF(J21=J23,IF(L21>L23,A21,IF(J23=J21,IF(L23>L21,A23)))))))
A26: Equipes | J26: Buts | L26: Pénalty
Q27: =IF(J28="","",IF(J28>J30,A28,IF(J30>J28,A30,IF(J28=J30,IF(L28>L30,A28,IF(J30=J28,IF(L30>L28,A30)))))))
A28: =T5 -> 0
A30: =T6 -> 0
