Workbook

Sheet Equipes
C3: 2 poules de 8 | E3: 2 poules de 8 | G3: Valeur des buts | I3: Gagné | J3: 3 | L3: Horaires | N3: Début | O3: 0.33333333
C4: POULE A | E4: POULE B
C5: aa | E5: ii | I5: Nul | J5: 1 | N5: Temps de match | O5: 0.0041666667
C6: bb | E6: jj
C7: cc | E7: kk | I7: Perdu | J7: 0 | N7: Temps de repos | O7: 0.0013888889
C8: dd | E8: ll
C9: ee | E9: mm
C10: ff | E10: nn
C11: gg | E11: oo
C12: hh | E12: pp
C16: 2 poules de 9 | E16: 2 poules de 9 | G16: Valeur des buts | I16: Gagné | J16: 3 | L16: Horaires | N16: Début | O16: 0.33333333
C17: POULE A | E17: POULE B
C18: aa | E18: jj | I18: Nul | J18: 1 | N18: Temps de match | O18: 0.0041666667
C19: bb | E19: kk
C20: cc | E20: ll | I20: Perdu | J20: 0 | N20: Temps de repos | O20: 0.0013888889
C21: dd | E21: mm
C22: ee | E22: nn
C23: ff | E23: oo
C24: gg | E24: pp
C25: hh | E25: qq
C26: ii | E26: rr
C30: 2 poules de 10 | E30: 2 poules de 10 | G30: Valeur des buts | I30: Gagné | J30: 3 | L30: Horaires | N30: Début | O30: 0.33333333
C31: POULE A | E31: POULE B
C32: aa | E32: kk | I32: Nul | J32: 1 | N32: Temps de match | O32: 0.0041666667
C33: bb | E33: ll
C34: cc | E34: mm | I34: Perdu | J34: 0 | N34: Temps de repos | O34: 0.0013888889
C35: dd | E35: nn
C36: ee | E36: oo
C37: ff | E37: pp
C38: gg | E38: qq
C39: hh | E39: rr
C40: ii | E40: ss
C41: jj | E41: tt

Sheet 2 POULES DE 8
C3: POULE A | Q3: CLASSEMENT | AH3: CLASSEMENT
C5: Heure | D5: Terrain | E5: Pts - | F5: Equipes | J5: Buts | K5: Buts | L5: Equipes | P5: Pts - | Q5: Equipes | U5: Rang | V5: Points | W5: J | X5: G | Y5: N | Z5: P | AA5: B + | AB5: B - | AC5: Diff | AG5: R | AH5: Equipes | AL5: Rang | AM5: Points | AN5: J | AO5: G | AP5: N | AQ5: P | AR5: B + | AS5: B - | AT5: Diff | AU5: % | AV5: % | AW5: P | AX5: P | AY5: Pts | AZ5: Pts | BA5: T Pts | BB5: T Pts | BC5: J | BD5: J | BE5: G | BF5: G | BG5: N | BH5: N | BI5: P | BJ5: P | BK5: B+ | BL5: B+ | BM5: B- | BN5: B- | BO5: Equipes | BP5: % | BQ5: R
F6: =AH7 -> bb | L6: =AH6 -> aa | Q6: =VLOOKUP(AF6,AG6:AK13,2,0) -> aa | U6: 1 | V6: =VLOOKUP(Q6,AH6:AT13,6,0) -> 0 | W6: =VLOOKUP(Q6,AH6:AT13,7,0) -> 0 | X6: =VLOOKUP(Q6,AH6:AT13,8,0) -> 0 | Y6: =VLOOKUP(Q6,AH6:AT13,9,0) -> 0 | Z6: =VLOOKUP(Q6,AH6:AT13,10,0) -> 0 | AA6: =VLOOKUP(Q6,AH6:AT13,11,0) -> 0 | AB6: =VLOOKUP(Q6,AH6:AT13,12,0) -> 0 | AC6: =VLOOKUP(Q6,AH6:AT13,13,0) -> 0 | AF6: 1 | AG6: =AL6 -> 1 | AH6: =Equipes!C5 -> aa | AL6: =RANK(AV6,AV6:AV13) -> 1 | AM6: =SUMPRODUCT((F6:I33=AH6)*(BA6:BA33))+SUMPRODUCT((L6:O33=AH6)*(BB6:BB33)) -> 0 | AN6: =SUMPRODUCT((F6:I33=AH6)*(BC6:BC33))+SUMPRODUCT((L6:O33=AH6)*(BD6:BD33)) -> 0 | AO6: =SUMPRODUCT((F6:I33=AH6)*(BE6:BE33))+SUMPRODUCT((L6:O33=AH6)*(BF6:BF33)) -> 0 | AP6: =SUMPRODUCT((F6:I33=AH6)*(BG6:BG33))+SUMPRODUCT((L6:O33=AH6)*(BH6:BH33)) -> 0 | AQ6: =SUMPRODUCT((F6:I33=AH6)*(BI6:BI33))+SUMPRODUCT((L6:O33=AH6)*(BJ6:BJ33)) -> 0 | AR6: =SUMPRODUCT((F6:I33=AH6)*(BK6:BK33))+SUMPRODUCT((L6:O33=AH6)*(BL6:BL33)) -> 0 | AS6: =SUMPRODUCT((F6:I33=AH6)*(BM6:BM33))+SUMPRODUCT((L6:O33=AH6)*(BN6:BN33)) -> 0 | AT6: =AR6-AS6 -> 0 | AU6: =SUM(AM6*1000+(AT6)/100+(AR6)/1000) -> 0 | AV6: =AU6+0.0000008 -> 8e-07 | AW6: =E6 -> 0 | AX6: =P6 -> 0 | AY6: =IF(J6="",0,IF(J6>K6,Equipes!$J$3,IF('2 POULES DE 8'!J6='2 POULES DE 8'!K6,Equipes!$J$5,IF('2 POULES DE 8'!J6<'2 POULES DE 8'!K6,Equipes!$J$7)))) -> 0 | AZ6: =IF(K6="",0,IF(K6>J6,Equipes!$J$3,IF('2 POULES DE 8'!K6='2 POULES DE 8'!J6,Equipes!$J$5,IF('2 POULES DE 8'!K6<'2 POULES DE 8'!J6,Equipes!$J$7)))) -> 0 | BA6: =AY6-AW6 -> 0 | BB6: =AZ6-AX6 -> 0 | BC6: =IF(J6="",0,1) -> 0 | BD6: =IF(K6="",0,1) -> 0 | BE6: =IF(J6<>"",IF(J6>K6,1)) -> FALSE | BF6: =IF(K6<>"",IF(K6>J6,1)) -> FALSE | BG6: =IF(J6<>"",IF(J6=K6,1)) -> FALSE | BH6: =IF(K6<>"",IF(K6=J6,1)) -> FALSE | BI6: =IF(J6<>"",IF(J6<K6,1)) -> FALSE | BJ6: =IF(K6<>"",IF(K6<J6,1)) -> FALSE | BK6: =J6 -> 0 | BL6: =K6 -> 0 | BM6: =K6 -> 0 | BN6: =J6 -> 0 | BO6: =VLOOKUP(AF6,AG6:AK13,2,0) -> aa | BP6: =VLOOKUP(BO6,AH6:AU13,14,0) -> 0 | BQ6: =RANK(BP6,BP6:BP13) -> 1
F7: =AH8 -> cc | L7: =AH13 -> hh | Q7: =VLOOKUP(AF7,AG6:AK13,2,0) -> bb | U7: =IF(BP7=BP6,BQ6,BQ7) -> 1 | V7: =VLOOKUP(Q7,AH6:AT13,6,0) -> 0 | W7: =VLOOKUP(Q7,AH6:AT13,7,0) -> 0 | X7: =VLOOKUP(Q7,AH6:AT13,8,0) -> 0 | Y7: =VLOOKUP(Q7,AH6:AT13,9,0) -> 0 | Z7: =VLOOKUP(Q7,AH6:AT13,10,0) -> 0 | AA7: =VLOOKUP(Q7,AH6:AT13,11,0) -> 0 | AB7: =VLOOKUP(Q7,AH6:AT13,12,0) -> 0 | AC7: =VLOOKUP(Q7,AH6:AT13,13,0) -> 0 | AF7: 2 | AG7: =AL7 -> 2 | AH7: =Equipes!C6 -> bb | AL7: =RANK(AV7,AV6:AV13) -> 2 | AM7: =SUMPRODUCT((F6:I33=AH7)*(BA6:BA33))+SUMPRODUCT((L6:O33=AH7)*(BB6:BB33)) -> 0 | AN7: =SUMPRODUCT((F6:I33=AH7)*(BC6:BC33))+SUMPRODUCT((L6:O33=AH7)*(BD6:BD33)) -> 0 | AO7: =SUMPRODUCT((F6:I33=AH7)*(BE6:BE33))+SUMPRODUCT((L6:O33=AH7)*(BF6:BF33)) -> 0 | AP7: =SUMPRODUCT((F6:I33=AH7)*(BG6:BG33))+SUMPRODUCT((L6:O33=AH7)*(BH6:BH33)) -> 0 | AQ7: =SUMPRODUCT((F6:I33=AH7)*(BI6:BI33))+SUMPRODUCT((L6:O33=AH7)*(BJ6:BJ33)) -> 0 | AR7: =SUMPRODUCT((F6:I33=AH7)*(BK6:BK33))+SUMPRODUCT((L6:O33=AH7)*(BL6:BL33)) -> 0 | AS7: =SUMPRODUCT((F6:I33=AH7)*(BM6:BM33))+SUMPRODUCT((L6:O33=AH7)*(BN6:BN33)) -> 0 | AT7: =AR7-AS7 -> 0 | AU7: =SUM(AM7*1000+(AT7)/100+(AR7)/1000) -> 0 | AV7: =AU7+0.0000007 -> 7e-07 | AW7: =E7 -> 0 | AX7: =P7 -> 0 | AY7: =IF(J7="",0,IF(J7>K7,Equipes!$J$3,IF('2 POULES DE 8'!J7='2 POULES DE 8'!K7,Equipes!$J$5,IF('2 POULES DE 8'!J7<'2 POULES DE 8'!K7,Equipes!$J$7)))) -> 0 | AZ7: =IF(K7="",0,IF(K7>J7,Equipes!$J$3,IF('2 POULES DE 8'!K7='2 POULES DE 8'!J7,Equipes!$J$5,IF('2 POULES DE 8'!K7<'2 POULES DE 8'!J7,Equipes!$J$7)))) -> 0 | BA7: =AY7-AW7 -> 0 | BB7: =AZ7-AX7 -> 0 | BC7: =IF(J7="",0,1) -> 0 | BD7: =IF(K7="",0,1) -> 0 | BE7: =IF(J7<>"",IF(J7>K7,1)) -> FALSE | BF7: =IF(K7<>"",IF(K7>J7,1)) -> FALSE | BG7: =IF(J7<>"",IF(J7=K7,1)) -> FALSE | BH7: =IF(K7<>"",IF(K7=J7,1)) -> FALSE | BI7: =IF(J7<>"",IF(J7<K7,1)) -> FALSE | BJ7: =IF(K7<>"",IF(K7<J7,1)) -> FALSE | BK7: =J7 -> 0 | BL7: =K7 -> 0 | BM7: =K7 -> 0 | BN7: =J7 -> 0 | BO7: =VLOOKUP(AF7,AG6:AK13,2,0) -> bb | BP7: =VLOOKUP(BO7,AH6:AU13,14,0) -> 0 | BQ7: =RANK(BP7,BP6:BP13) -> 1
F8: =AH10 -> ee | L8: =AH11 -> ff | Q8: =VLOOKUP(AF8,AG6:AK13,2,0) -> cc | U8: =IF(BP8=BP7,BQ7,BQ8) -> 1 | V8: =VLOOKUP(Q8,AH6:AT13,6,0) -> 0 | W8: =VLOOKUP(Q8,AH6:AT13,7,0) -> 0 | X8: =VLOOKUP(Q8,AH6:AT13,8,0) -> 0 | Y8: =VLOOKUP(Q8,AH6:AT13,9,0) -> 0 | Z8: =VLOOKUP(Q8,AH6:AT13,10,0) -> 0 | AA8: =VLOOKUP(Q8,AH6:AT13,11,0) -> 0 | AB8: =VLOOKUP(Q8,AH6:AT13,12,0) -> 0 | AC8: =VLOOKUP(Q8,AH6:AT13,13,0) -> 0 | AF8: 3 | AG8: =AL8 -> 3 | AH8: =Equipes!C7 -> cc | AL8: =RANK(AV8,AV6:AV13) -> 3 | AM8: =SUMPRODUCT((F6:I33=AH8)*(BA6:BA33))+SUMPRODUCT((L6:O33=AH8)*(BB6:BB33)) -> 0 | AN8: =SUMPRODUCT((F6:I33=AH8)*(BC6:BC33))+SUMPRODUCT((L6:O33=AH8)*(BD6:BD33)) -> 0 | AO8: =SUMPRODUCT((F6:I33=AH8)*(BE6:BE33))+SUMPRODUCT((L6:O33=AH8)*(BF6:BF33)) -> 0 | AP8: =SUMPRODUCT((F6:I33=AH8)*(BG6:BG33))+SUMPRODUCT((L6:O33=AH8)*(BH6:BH33)) -> 0 | AQ8: =SUMPRODUCT((F6:I33=AH8)*(BI6:BI33))+SUMPRODUCT((L6:O33=AH8)*(BJ6:BJ33)) -> 0 | AR8: =SUMPRODUCT((F6:I33=AH8)*(BK6:BK33))+SUMPRODUCT((L6:O33=AH8)*(BL6:BL33)) -> 0 | AS8: =SUMPRODUCT((F6:I33=AH8)*(BM6:BM33))+SUMPRODUCT((L6:O33=AH8)*(BN6:BN33)) -> 0 | AT8: =AR8-AS8 -> 0 | AU8: =SUM(AM8*1000+(AT8)/100+(AR8)/1000) -> 0 | AV8: =AU8+0.0000006 -> 6e-07 | AW8: =E8 -> 0 | AX8: =P8 -> 0 | AY8: =IF(J8="",0,IF(J8>K8,Equipes!$J$3,IF('2 POULES DE 8'!J8='2 POULES DE 8'!K8,Equipes!$J$5,IF('2 POULES DE 8'!J8<'2 POULES DE 8'!K8,Equipes!$J$7)))) -> 0 | AZ8: =IF(K8="",0,IF(K8>J8,Equipes!$J$3,IF('2 POULES DE 8'!K8='2 POULES DE 8'!J8,Equipes!$J$5,IF('2 POULES DE 8'!K8<'2 POULES DE 8'!J8,Equipes!$J$7)))) -> 0 | BA8: =AY8-AW8 -> 0 | BB8: =AZ8-AX8 -> 0 | BC8: =IF(J8="",0,1) -> 0 | BD8: =IF(K8="",0,1) -> 0 | BE8: =IF(J8<>"",IF(J8>K8,1)) -> FALSE | BF8: =IF(K8<>"",IF(K8>J8,1)) -> FALSE | BG8: =IF(J8<>"",IF(J8=K8,1)) -> FALSE | BH8: =IF(K8<>"",IF(K8=J8,1)) -> FALSE | BI8: =IF(J8<>"",IF(J8<K8,1)) -> FALSE | BJ8: =IF(K8<>"",IF(K8<J8,1)) -> FALSE | BK8: =J8 -> 0 | BL8: =K8 -> 0 | BM8: =K8 -> 0 | BN8: =J8 -> 0 | BO8: =VLOOKUP(AF8,AG6:AK13,2,0) -> cc | BP8: =VLOOKUP(BO8,AH6:AU13,14,0) -> 0 | BQ8: =RANK(BP8,BP6:BP13) -> 1
F9: =AH12 -> gg | L9: =AH9 -> dd | Q9: =VLOOKUP(AF9,AG6:AK13,2,0) -> dd | U9: =IF(BP9=BP8,BQ8,BQ9) -> 1 | V9: =VLOOKUP(Q9,AH6:AT13,6,0) -> 0 | W9: =VLOOKUP(Q9,AH6:AT13,7,0) -> 0 | X9: =VLOOKUP(Q9,AH6:AT13,8,0) -> 0 | Y9: =VLOOKUP(Q9,AH6:AT13,9,0) -> 0 | Z9: =VLOOKUP(Q9,AH6:AT13,10,0) -> 0 | AA9: =VLOOKUP(Q9,AH6:AT13,11,0) -> 0 | AB9: =VLOOKUP(Q9,AH6:AT13,12,0) -> 0 | AC9: =VLOOKUP(Q9,AH6:AT13,13,0) -> 0 | AF9: 4 | AG9: =AL9 -> 4 | AH9: =Equipes!C8 -> dd | AL9: =RANK(AV9,AV6:AV13) -> 4 | AM9: =SUMPRODUCT((F6:I33=AH9)*(BA6:BA33))+SUMPRODUCT((L6:O33=AH9)*(BB6:BB33)) -> 0 | AN9: =SUMPRODUCT((F6:I33=AH9)*(BC6:BC33))+SUMPRODUCT((L6:O33=AH9)*(BD6:BD33)) -> 0 | AO9: =SUMPRODUCT((F6:I33=AH9)*(BE6:BE33))+SUMPRODUCT((L6:O33=AH9)*(BF6:BF33)) -> 0 | AP9: =SUMPRODUCT((F6:I33=AH9)*(BG6:BG33))+SUMPRODUCT((L6:O33=AH9)*(BH6:BH33)) -> 0 | AQ9: =SUMPRODUCT((F6:I33=AH9)*(BI6:BI33))+SUMPRODUCT((L6:O33=AH9)*(BJ6:BJ33)) -> 0 | AR9: =SUMPRODUCT((F6:I33=AH9)*(BK6:BK33))+SUMPRODUCT((L6:O33=AH9)*(BL6:BL33)) -> 0 | AS9: =SUMPRODUCT((F6:I33=AH9)*(BM6:BM33))+SUMPRODUCT((L6:O33=AH9)*(BN6:BN33)) -> 0 | AT9: =AR9-AS9 -> 0 | AU9: =SUM(AM9*1000+(AT9)/100+(AR9)/1000) -> 0 | AV9: =AU9+0.0000005 -> 5e-07 | AW9: =E9 -> 0 | AX9: =P9 -> 0 | AY9: =IF(J9="",0,IF(J9>K9,Equipes!$J$3,IF('2 POULES DE 8'!J9='2 POULES DE 8'!K9,Equipes!$J$5,IF('2 POULES DE 8'!J9<'2 POULES DE 8'!K9,Equipes!$J$7)))) -> 0 | AZ9: =IF(K9="",0,IF(K9>J9,Equipes!$J$3,IF('2 POULES DE 8'!K9='2 POULES DE 8'!J9,Equipes!$J$5,IF('2 POULES DE 8'!K9<'2 POULES DE 8'!J9,Equipes!$J$7)))) -> 0 | BA9: =AY9-AW9 -> 0 | BB9: =AZ9-AX9 -> 0 | BC9: =IF(J9="",0,1) -> 0 | BD9: =IF(K9="",0,1) -> 0 | BE9: =IF(J9<>"",IF(J9>K9,1)) -> FALSE | BF9: =IF(K9<>"",IF(K9>J9,1)) -> FALSE | BG9: =IF(J9<>"",IF(J9=K9,1)) -> FALSE | BH9: =IF(K9<>"",IF(K9=J9,1)) -> FALSE | BI9: =IF(J9<>"",IF(J9<K9,1)) -> FALSE | BJ9: =IF(K9<>"",IF(K9<J9,1)) -> FALSE | BK9: =J9 -> 0 | BL9: =K9 -> 0 | BM9: =K9 -> 0 | BN9: =J9 -> 0 | BO9: =VLOOKUP(AF9,AG6:AK13,2,0) -> dd | BP9: =VLOOKUP(BO9,AH6:AU13,14,0) -> 0 | BQ9: =RANK(BP9,BP6:BP13) -> 1
F10: =AH6 -> aa | L10: =AH8 -> cc | Q10: =VLOOKUP(AF10,AG6:AK13,2,0) -> ee | U10: =IF(BP10=BP9,BQ9,BQ10) -> 1 | V10: =VLOOKUP(Q10,AH6:AT13,6,0) -> 0 | W10: =VLOOKUP(Q10,AH6:AT13,7,0) -> 0 | X10: =VLOOKUP(Q10,AH6:AT13,8,0) -> 0 | Y10: =VLOOKUP(Q10,AH6:AT13,9,0) -> 0 | Z10: =VLOOKUP(Q10,AH6:AT13,10,0) -> 0 | AA10: =VLOOKUP(Q10,AH6:AT13,11,0) -> 0 | AB10: =VLOOKUP(Q10,AH6:AT13,12,0) -> 0 | AC10: =VLOOKUP(Q10,AH6:AT13,13,0) -> 0 | AF10: 5 | AG10: =AL10 -> 5 | AH10: =Equipes!C9 -> ee | AL10: =RANK(AV10,AV6:AV13) -> 5 | AM10: =SUMPRODUCT((F6:I33=AH10)*(BA6:BA33))+SUMPRODUCT((L6:O33=AH10)*(BB6:BB33)) -> 0 | AN10: =SUMPRODUCT((F6:I33=AH10)*(BC6:BC33))+SUMPRODUCT((L6:O33=AH10)*(BD6:BD33)) -> 0 | AO10: =SUMPRODUCT((F6:I33=AH10)*(BE6:BE33))+SUMPRODUCT((L6:O33=AH10)*(BF6:BF33)) -> 0 | AP10: =SUMPRODUCT((F6:I33=AH10)*(BG6:BG33))+SUMPRODUCT((L6:O33=AH10)*(BH6:BH33)) -> 0 | AQ10: =SUMPRODUCT((F6:I33=AH10)*(BI6:BI33))+SUMPRODUCT((L6:O33=AH10)*(BJ6:BJ33)) -> 0 | AR10: =SUMPRODUCT((F6:I33=AH10)*(BK6:BK33))+SUMPRODUCT((L6:O33=AH10)*(BL6:BL33)) -> 0 | AS10: =SUMPRODUCT((F6:I33=AH10)*(BM6:BM33))+SUMPRODUCT((L6:O33=AH10)*(BN6:BN33)) -> 0 | AT10: =AR10-AS10 -> 0 | AU10: =SUM(AM10*1000+(AT10)/100+(AR10)/1000) -> 0 | AV10: =AU10+0.0000004 -> 4e-07 | AW10: =E10 -> 0 | AX10: =P10 -> 0 | AY10: =IF(J10="",0,IF(J10>K10,Equipes!$J$3,IF('2 POULES DE 8'!J10='2 POULES DE 8'!K10,Equipes!$J$5,IF('2 POULES DE 8'!J10<'2 POULES DE 8'!K10,Equipes!$J$7)))) -> 0 | AZ10: =IF(K10="",0,IF(K10>J10,Equipes!$J$3,IF('2 POULES DE 8'!K10='2 POULES DE 8'!J10,Equipes!$J$5,IF('2 POULES DE 8'!K10<'2 POULES DE 8'!J10,Equipes!$J$7)))) -> 0 | BA10: =AY10-AW10 -> 0 | BB10: =AZ10-AX10 -> 0 | BC10: =IF(J10="",0,1) -> 0 | BD10: =IF(K10="",0,1) -> 0 | BE10: =IF(J10<>"",IF(J10>K10,1)) -> FALSE | BF10: =IF(K10<>"",IF(K10>J10,1)) -> FALSE | BG10: =IF(J10<>"",IF(J10=K10,1)) -> FALSE | BH10: =IF(K10<>"",IF(K10=J10,1)) -> FALSE | BI10: =IF(J10<>"",IF(J10<K10,1)) -> FALSE | BJ10: =IF(K10<>"",IF(K10<J10,1)) -> FALSE | BK10: =J10 -> 0 | BL10: =K10 -> 0 | BM10: =K10 -> 0 | BN10: =J10 -> 0 | BO10: =VLOOKUP(AF10,AG6:AK13,2,0) -> ee | BP10: =VLOOKUP(BO10,AH6:AU13,14,0) -> 0 | BQ10: =RANK(BP10,BP6:BP13) -> 1
F11: =AH9 -> dd | L11: =AH7 -> bb | Q11: =VLOOKUP(AF11,AG6:AK13,2,0) -> ff | U11: =IF(BP11=BP10,BQ10,BQ11) -> 1 | V11: =VLOOKUP(Q11,AH6:AT13,6,0) -> 0 | W11: =VLOOKUP(Q11,AH6:AT13,7,0) -> 0 | X11: =VLOOKUP(Q11,AH6:AT13,8,0) -> 0 | Y11: =VLOOKUP(Q11,AH6:AT13,9,0) -> 0 | Z11: =VLOOKUP(Q11,AH6:AT13,10,0) -> 0 | AA11: =VLOOKUP(Q11,AH6:AT13,11,0) -> 0 | AB11: =VLOOKUP(Q11,AH6:AT13,12,0) -> 0 | AC11: =VLOOKUP(Q11,AH6:AT13,13,0) -> 0 | AF11: 6 | AG11: =AL11 -> 6 | AH11: =Equipes!C10 -> ff | AL11: =RANK(AV11,AV6:AV13) -> 6 | AM11: =SUMPRODUCT((F6:I33=AH11)*(BA6:BA33))+SUMPRODUCT((L6:O33=AH11)*(BB6:BB33)) -> 0 | AN11: =SUMPRODUCT((F6:I33=AH11)*(BC6:BC33))+SUMPRODUCT((L6:O33=AH11)*(BD6:BD33)) -> 0 | AO11: =SUMPRODUCT((F6:I33=AH11)*(BE6:BE33))+SUMPRODUCT((L6:O33=AH11)*(BF6:BF33)) -> 0 | AP11: =SUMPRODUCT((F6:I33=AH11)*(BG6:BG33))+SUMPRODUCT((L6:O33=AH11)*(BH6:BH33)) -> 0 | AQ11: =SUMPRODUCT((F6:I33=AH11)*(BI6:BI33))+SUMPRODUCT((L6:O33=AH11)*(BJ6:BJ33)) -> 0 | AR11: =SUMPRODUCT((F6:I33=AH11)*(BK6:BK33))+SUMPRODUCT((L6:O33=AH11)*(BL6:BL33)) -> 0 | AS11: =SUMPRODUCT((F6:I33=AH11)*(BM6:BM33))+SUMPRODUCT((L6:O33=AH11)*(BN6:BN33)) -> 0 | AT11: =AR11-AS11 -> 0 | AU11: =SUM(AM11*1000+(AT11)/100+(AR11)/1000) -> 0 | AV11: =AU11+0.0000003 -> 3e-07 | AW11: =E11 -> 0 | AX11: =P11 -> 0 | AY11: =IF(J11="",0,IF(J11>K11,Equipes!$J$3,IF('2 POULES DE 8'!J11='2 POULES DE 8'!K11,Equipes!$J$5,IF('2 POULES DE 8'!J11<'2 POULES DE 8'!K11,Equipes!$J$7)))) -> 0 | AZ11: =IF(K11="",0,IF(K11>J11,Equipes!$J$3,IF('2 POULES DE 8'!K11='2 POULES DE 8'!J11,Equipes!$J$5,IF('2 POULES DE 8'!K11<'2 POULES DE 8'!J11,Equipes!$J$7)))) -> 0 | BA11: =AY11-AW11 -> 0 | BB11: =AZ11-AX11 -> 0 | BC11: =IF(J11="",0,1) -> 0 | BD11: =IF(K11="",0,1) -> 0 | BE11: =IF(J11<>"",IF(J11>K11,1)) -> FALSE | BF11: =IF(K11<>"",IF(K11>J11,1)) -> FALSE | BG11: =IF(J11<>"",IF(J11=K11,1)) -> FALSE | BH11: =IF(K11<>"",IF(K11=J11,1)) -> FALSE | BI11: =IF(J11<>"",IF(J11<K11,1)) -> FALSE | BJ11: =IF(K11<>"",IF(K11<J11,1)) -> FALSE | BK11: =J11 -> 0 | BL11: =K11 -> 0 | BM11: =K11 -> 0 | BN11: =J11 -> 0 | BO11: =VLOOKUP(AF11,AG6:AK13,2,0) -> ff | BP11: =VLOOKUP(BO11,AH6:AU13,14,0) -> 0 | BQ11: =RANK(BP11,BP6:BP13) -> 1
F12: =AH11 -> ff | L12: =AH12 -> gg | Q12: =VLOOKUP(AF12,AG6:AK13,2,0) -> gg | U12: =IF(BP12=BP11,BQ11,BQ12) -> 1 | V12: =VLOOKUP(Q12,AH6:AT13,6,0) -> 0 | W12: =VLOOKUP(Q12,AH6:AT13,7,0) -> 0 | X12: =VLOOKUP(Q12,AH6:AT13,8,0) -> 0 | Y12: =VLOOKUP(Q12,AH6:AT13,9,0) -> 0 | Z12: =VLOOKUP(Q12,AH6:AT13,10,0) -> 0 | AA12: =VLOOKUP(Q12,AH6:AT13,11,0) -> 0 | AB12: =VLOOKUP(Q12,AH6:AT13,12,0) -> 0 | AC12: =VLOOKUP(Q12,AH6:AT13,13,0) -> 0 | AF12: 7 | AG12: =AL12 -> 7 | AH12: =Equipes!C11 -> gg | AL12: =RANK(AV12,AV6:AV13) -> 7 | AM12: =SUMPRODUCT((F6:I33=AH12)*(BA6:BA33))+SUMPRODUCT((L6:O33=AH12)*(BB6:BB33)) -> 0 | AN12: =SUMPRODUCT((F6:I33=AH12)*(BC6:BC33))+SUMPRODUCT((L6:O33=AH12)*(BD6:BD33)) -> 0 | AO12: =SUMPRODUCT((F6:I33=AH12)*(BE6:BE33))+SUMPRODUCT((L6:O33=AH12)*(BF6:BF33)) -> 0 | AP12: =SUMPRODUCT((F6:I33=AH12)*(BG6:BG33))+SUMPRODUCT((L6:O33=AH12)*(BH6:BH33)) -> 0 | AQ12: =SUMPRODUCT((F6:I33=AH12)*(BI6:BI33))+SUMPRODUCT((L6:O33=AH12)*(BJ6:BJ33)) -> 0 | AR12: =SUMPRODUCT((F6:I33=AH12)*(BK6:BK33))+SUMPRODUCT((L6:O33=AH12)*(BL6:BL33)) -> 0 | AS12: =SUMPRODUCT((F6:I33=AH12)*(BM6:BM33))+SUMPRODUCT((L6:O33=AH12)*(BN6:BN33)) -> 0 | AT12: =AR12-AS12 -> 0 | AU12: =SUM(AM12*1000+(AT12)/100+(AR12)/1000) -> 0 | AV12: =AU12+0.0000002 -> 2e-07 | AW12: =E12 -> 0 | AX12: =P12 -> 0 | AY12: =IF(J12="",0,IF(J12>K12,Equipes!$J$3,IF('2 POULES DE 8'!J12='2 POULES DE 8'!K12,Equipes!$J$5,IF('2 POULES DE 8'!J12<'2 POULES DE 8'!K12,Equipes!$J$7)))) -> 0 | AZ12: =IF(K12="",0,IF(K12>J12,Equipes!$J$3,IF('2 POULES DE 8'!K12='2 POULES DE 8'!J12,Equipes!$J$5,IF('2 POULES DE 8'!K12<'2 POULES DE 8'!J12,Equipes!$J$7)))) -> 0 | BA12: =AY12-AW12 -> 0 | BB12: =AZ12-AX12 -> 0 | BC12: =IF(J12="",0,1) -> 0 | BD12: =IF(K12="",0,1) -> 0 | BE12: =IF(J12<>"",IF(J12>K12,1)) -> FALSE | BF12: =IF(K12<>"",IF(K12>J12,1)) -> FALSE | BG12: =IF(J12<>"",IF(J12=K12,1)) -> FALSE | BH12: =IF(K12<>"",IF(K12=J12,1)) -> FALSE | BI12: =IF(J12<>"",IF(J12<K12,1)) -> FALSE | BJ12: =IF(K12<>"",IF(K12<J12,1)) -> FALSE | BK12: =J12 -> 0 | BL12: =K12 -> 0 | BM12: =K12 -> 0 | BN12: =J12 -> 0 | BO12: =VLOOKUP(AF12,AG6:AK13,2,0) -> gg | BP12: =VLOOKUP(BO12,AH6:AU13,14,0) -> 0 | BQ12: =RANK(BP12,BP6:BP13) -> 1
F13: =AH13 -> hh | L13: =AH10 -> ee | Q13: =VLOOKUP(AF13,AG6:AK13,2,0) -> hh | U13: =IF(BP13=BP12,BQ12,BQ13) -> 1 | V13: =VLOOKUP(Q13,AH6:AT13,6,0) -> 0 | W13: =VLOOKUP(Q13,AH6:AT13,7,0) -> 0 | X13: =VLOOKUP(Q13,AH6:AT13,8,0) -> 0 | Y13: =VLOOKUP(Q13,AH6:AT13,9,0) -> 0 | Z13: =VLOOKUP(Q13,AH6:AT13,10,0) -> 0 | AA13: =VLOOKUP(Q13,AH6:AT13,11,0) -> 0 | AB13: =VLOOKUP(Q13,AH6:AT13,12,0) -> 0 | AC13: =VLOOKUP(Q13,AH7:AT14,13,0) -> 0 | AF13: 8 | AG13: =AL13 -> 8 | AH13: =Equipes!C12 -> hh | AL13: =RANK(AV13,AV6:AV13) -> 8 | AM13: =SUMPRODUCT((F6:I33=AH13)*(BA6:BA33))+SUMPRODUCT((L6:O33=AH13)*(BB6:BB33)) -> 0 | AN13: =SUMPRODUCT((F6:I33=AH13)*(BC6:BC33))+SUMPRODUCT((L6:O33=AH13)*(BD6:BD33)) -> 0 | AO13: =SUMPRODUCT((F6:I33=AH13)*(BE6:BE33))+SUMPRODUCT((L6:O33=AH13)*(BF6:BF33)) -> 0 | AP13: =SUMPRODUCT((F6:I33=AH13)*(BG6:BG33))+SUMPRODUCT((L6:O33=AH13)*(BH6:BH33)) -> 0 | AQ13: =SUMPRODUCT((F6:I33=AH13)*(BI6:BI33))+SUMPRODUCT((L6:O33=AH13)*(BJ6:BJ33)) -> 0 | AR13: =SUMPRODUCT((F6:I33=AH13)*(BK6:BK33))+SUMPRODUCT((L6:O33=AH13)*(BL6:BL33)) -> 0 | AS13: =SUMPRODUCT((F6:I33=AH13)*(BM6:BM33))+SUMPRODUCT((L6:O33=AH13)*(BN6:BN33)) -> 0 | AT13: =AR13-AS13 -> 0 | AU13: =SUM(AM13*1000+(AT13)/100+(AR13)/1000) -> 0 | AV13: =AU13+0.0000001 -> 1e-07 | AW13: =E13 -> 0 | AX13: =P13 -> 0 | AY13: =IF(J13="",0,IF(J13>K13,Equipes!$J$3,IF('2 POULES DE 8'!J13='2 POULES DE 8'!K13,Equipes!$J$5,IF('2 POULES DE 8'!J13<'2 POULES DE 8'!K13,Equipes!$J$7)))) -> 0 | AZ13: =IF(K13="",0,IF(K13>J13,Equipes!$J$3,IF('2 POULES DE 8'!K13='2 POULES DE 8'!J13,Equipes!$J$5,IF('2 POULES DE 8'!K13<'2 POULES DE 8'!J13,Equipes!$J$7)))) -> 0 | BA13: =AY13-AW13 -> 0 | BB13: =AZ13-AX13 -> 0 | BC13: =IF(J13="",0,1) -> 0 | BD13: =IF(K13="",0,1) -> 0 | BE13: =IF(J13<>"",IF(J13>K13,1)) -> FALSE | BF13: =IF(K13<>"",IF(K13>J13,1)) -> FALSE | BG13: =IF(J13<>"",IF(J13=K13,1)) -> FALSE | BH13: =IF(K13<>"",IF(K13=J13,1)) -> FALSE | BI13: =IF(J13<>"",IF(J13<K13,1)) -> FALSE | BJ13: =IF(K13<>"",IF(K13<J13,1)) -> FALSE | BK13: =J13 -> 0 | BL13: =K13 -> 0 | BM13: =K13 -> 0 | BN13: =J13 -> 0 | BO13: =VLOOKUP(AF13,AG6:AK13,2,0) -> hh | BP13: =VLOOKUP(BO13,AH6:AU13,14,0) -> 0 | BQ13: =RANK(BP13,BP6:BP13) -> 1
F14: =AH7 -> bb | L14: =AH11 -> ff | AW14: =E14 -> 0 | AX14: =P14 -> 0 | AY14: =IF(J14="",0,IF(J14>K14,Equipes!$J$3,IF('2 POULES DE 8'!J14='2 POULES DE 8'!K14,Equipes!$J$5,IF('2 POULES DE 8'!J14<'2 POULES DE 8'!K14,Equipes!$J$7)))) -> 0 | AZ14: =IF(K14="",0,IF(K14>J14,Equipes!$J$3,IF('2 POULES DE 8'!K14='2 POULES DE 8'!J14,Equipes!$J$5,IF('2 POULES DE 8'!K14<'2 POULES DE 8'!J14,Equipes!$J$7)))) -> 0 | BA14: =AY14-AW14 -> 0 | BB14: =AZ14-AX14 -> 0 | BC14: =IF(J14="",0,1) -> 0 | BD14: =IF(K14="",0,1) -> 0 | BE14: =IF(J14<>"",IF(J14>K14,1)) -> FALSE | BF14: =IF(K14<>"",IF(K14>J14,1)) -> FALSE | BG14: =IF(J14<>"",IF(J14=K14,1)) -> FALSE | BH14: =IF(K14<>"",IF(K14=J14,1)) -> FALSE | BI14: =IF(J14<>"",IF(J14<K14,1)) -> FALSE | BJ14: =IF(K14<>"",IF(K14<J14,1)) -> FALSE | BK14: =J14 -> 0 | BL14: =K14 -> 0 | BM14: =K14 -> 0 | BN14: =J14 -> 0
F15: =AH9 -> dd | L15: =AH6 -> aa | AW15: =E15 -> 0 | AX15: =P15 -> 0 | AY15: =IF(J15="",0,IF(J15>K15,Equipes!$J$3,IF('2 POULES DE 8'!J15='2 POULES DE 8'!K15,Equipes!$J$5,IF('2 POULES DE 8'!J15<'2 POULES DE 8'!K15,Equipes!$J$7)))) -> 0 | AZ15: =IF(K15="",0,IF(K15>J15,Equipes!$J$3,IF('2 POULES DE 8'!K15='2 POULES DE 8'!J15,Equipes!$J$5,IF('2 POULES DE 8'!K15<'2 POULES DE 8'!J15,Equipes!$J$7)))) -> 0 | BA15: =AY15-AW15 -> 0 | BB15: =AZ15-AX15 -> 0 | BC15: =IF(J15="",0,1) -> 0 | BD15: =IF(K15="",0,1) -> 0 | BE15: =IF(J15<>"",IF(J15>K15,1)) -> FALSE | BF15: =IF(K15<>"",IF(K15>J15,1)) -> FALSE | BG15: =IF(J15<>"",IF(J15=K15,1)) -> FALSE | BH15: =IF(K15<>"",IF(K15=J15,1)) -> FALSE | BI15: =IF(J15<>"",IF(J15<K15,1)) -> FALSE | BJ15: =IF(K15<>"",IF(K15<J15,1)) -> FALSE | BK15: =J15 -> 0 | BL15: =K15 -> 0 | BM15: =K15 -> 0 | BN15: =J15 -> 0
F16: =AH10 -> ee | L16: =AH8 -> cc | AW16: =E16 -> 0 | AX16: =P16 -> 0 | AY16: =IF(J16="",0,IF(J16>K16,Equipes!$J$3,IF('2 POULES DE 8'!J16='2 POULES DE 8'!K16,Equipes!$J$5,IF('2 POULES DE 8'!J16<'2 POULES DE 8'!K16,Equipes!$J$7)))) -> 0 | AZ16: =IF(K16="",0,IF(K16>J16,Equipes!$J$3,IF('2 POULES DE 8'!K16='2 POULES DE 8'!J16,Equipes!$J$5,IF('2 POULES DE 8'!K16<'2 POULES DE 8'!J16,Equipes!$J$7)))) -> 0 | BA16: =AY16-AW16 -> 0 | BB16: =AZ16-AX16 -> 0 | BC16: =IF(J16="",0,1) -> 0 | BD16: =IF(K16="",0,1) -> 0 | BE16: =IF(J16<>"",IF(J16>K16,1)) -> FALSE | BF16: =IF(K16<>"",IF(K16>J16,1)) -> FALSE | BG16: =IF(J16<>"",IF(J16=K16,1)) -> FALSE | BH16: =IF(K16<>"",IF(K16=J16,1)) -> FALSE | BI16: =IF(J16<>"",IF(J16<K16,1)) -> FALSE | BJ16: =IF(K16<>"",IF(K16<J16,1)) -> FALSE | BK16: =J16 -> 0 | BL16: =K16 -> 0 | BM16: =K16 -> 0 | BN16: =J16 -> 0
F17: =AH12 -> gg | L17: =AH13 -> hh | AW17: =E17 -> 0 | AX17: =P17 -> 0 | AY17: =IF(J17="",0,IF(J17>K17,Equipes!$J$3,IF('2 POULES DE 8'!J17='2 POULES DE 8'!K17,Equipes!$J$5,IF('2 POULES DE 8'!J17<'2 POULES DE 8'!K17,Equipes!$J$7)))) -> 0 | AZ17: =IF(K17="",0,IF(K17>J17,Equipes!$J$3,IF('2 POULES DE 8'!K17='2 POULES DE 8'!J17,Equipes!$J$5,IF('2 POULES DE 8'!K17<'2 POULES DE 8'!J17,Equipes!$J$7)))) -> 0 | BA17: =AY17-AW17 -> 0 | BB17: =AZ17-AX17 -> 0 | BC17: =IF(J17="",0,1) -> 0 | BD17: =IF(K17="",0,1) -> 0 | BE17: =IF(J17<>"",IF(J17>K17,1)) -> FALSE | BF17: =IF(K17<>"",IF(K17>J17,1)) -> FALSE | BG17: =IF(J17<>"",IF(J17=K17,1)) -> FALSE | BH17: =IF(K17<>"",IF(K17=J17,1)) -> FALSE | BI17: =IF(J17<>"",IF(J17<K17,1)) -> FALSE | BJ17: =IF(K17<>"",IF(K17<J17,1)) -> FALSE | BK17: =J17 -> 0 | BL17: =K17 -> 0 | BM17: =K17 -> 0 | BN17: =J17 -> 0
F18: =AH6 -> aa | L18: =AH10 -> ee | AW18: =E18 -> 0 | AX18: =P18 -> 0 | AY18: =IF(J18="",0,IF(J18>K18,Equipes!$J$3,IF('2 POULES DE 8'!J18='2 POULES DE 8'!K18,Equipes!$J$5,IF('2 POULES DE 8'!J18<'2 POULES DE 8'!K18,Equipes!$J$7)))) -> 0 | AZ18: =IF(K18="",0,IF(K18>J18,Equipes!$J$3,IF('2 POULES DE 8'!K18='2 POULES DE 8'!J18,Equipes!$J$5,IF('2 POULES DE 8'!K18<'2 POULES DE 8'!J18,Equipes!$J$7)))) -> 0 | BA18: =AY18-AW18 -> 0 | BB18: =AZ18-AX18 -> 0 | BC18: =IF(J18="",0,1) -> 0 | BD18: =IF(K18="",0,1) -> 0 | BE18: =IF(J18<>"",IF(J18>K18,1)) -> FALSE | BF18: =IF(K18<>"",IF(K18>J18,1)) -> FALSE | BG18: =IF(J18<>"",IF(J18=K18,1)) -> FALSE | BH18: =IF(K18<>"",IF(K18=J18,1)) -> FALSE | BI18: =IF(J18<>"",IF(J18<K18,1)) -> FALSE | BJ18: =IF(K18<>"",IF(K18<J18,1)) -> FALSE | BK18: =J18 -> 0 | BL18: =K18 -> 0 | BM18: =K18 -> 0 | BN18: =J18 -> 0
F19: =AH8 -> cc | L19: =AH12 -> gg | AW19: =E19 -> 0 | AX19: =P19 -> 0 | AY19: =IF(J19="",0,IF(J19>K19,Equipes!$J$3,IF('2 POULES DE 8'!J19='2 POULES DE 8'!K19,Equipes!$J$5,IF('2 POULES DE 8'!J19<'2 POULES DE 8'!K19,Equipes!$J$7)))) -> 0 | AZ19: =IF(K19="",0,IF(K19>J19,Equipes!$J$3,IF('2 POULES DE 8'!K19='2 POULES DE 8'!J19,Equipes!$J$5,IF('2 POULES DE 8'!K19<'2 POULES DE 8'!J19,Equipes!$J$7)))) -> 0 | BA19: =AY19-AW19 -> 0 | BB19: =AZ19-AX19 -> 0 | BC19: =IF(J19="",0,1) -> 0 | BD19: =IF(K19="",0,1) -> 0 | BE19: =IF(J19<>"",IF(J19>K19,1)) -> FALSE | BF19: =IF(K19<>"",IF(K19>J19,1)) -> FALSE | BG19: =IF(J19<>"",IF(J19=K19,1)) -> FALSE | BH19: =IF(K19<>"",IF(K19=J19,1)) -> FALSE | BI19: =IF(J19<>"",IF(J19<K19,1)) -> FALSE | BJ19: =IF(K19<>"",IF(K19<J19,1)) -> FALSE | BK19: =J19 -> 0 | BL19: =K19 -> 0 | BM19: =K19 -> 0 | BN19: =J19 -> 0
F20: =AH11 -> ff | L20: =AH9 -> dd | AW20: =E20 -> 0 | AX20: =P20 -> 0 | AY20: =IF(J20="",0,IF(J20>K20,Equipes!$J$3,IF('2 POULES DE 8'!J20='2 POULES DE 8'!K20,Equipes!$J$5,IF('2 POULES DE 8'!J20<'2 POULES DE 8'!K20,Equipes!$J$7)))) -> 0 | AZ20: =IF(K20="",0,IF(K20>J20,Equipes!$J$3,IF('2 POULES DE 8'!K20='2 POULES DE 8'!J20,Equipes!$J$5,IF('2 POULES DE 8'!K20<'2 POULES DE 8'!J20,Equipes!$J$7)))) -> 0 | BA20: =AY20-AW20 -> 0 | BB20: =AZ20-AX20 -> 0 | BC20: =IF(J20="",0,1) -> 0 | BD20: =IF(K20="",0,1) -> 0 | BE20: =IF(J20<>"",IF(J20>K20,1)) -> FALSE | BF20: =IF(K20<>"",IF(K20>J20,1)) -> FALSE | BG20: =IF(J20<>"",IF(J20=K20,1)) -> FALSE | BH20: =IF(K20<>"",IF(K20=J20,1)) -> FALSE | BI20: =IF(J20<>"",IF(J20<K20,1)) -> FALSE | BJ20: =IF(K20<>"",IF(K20<J20,1)) -> FALSE | BK20: =J20 -> 0 | BL20: =K20 -> 0 | BM20: =K20 -> 0 | BN20: =J20 -> 0
F21: =AH13 -> hh | L21: =AH7 -> bb | AW21: =E21 -> 0 | AX21: =P21 -> 0 | AY21: =IF(J21="",0,IF(J21>K21,Equipes!$J$3,IF('2 POULES DE 8'!J21='2 POULES DE 8'!K21,Equipes!$J$5,IF('2 POULES DE 8'!J21<'2 POULES DE 8'!K21,Equipes!$J$7)))) -> 0 | AZ21: =IF(K21="",0,IF(K21>J21,Equipes!$J$3,IF('2 POULES DE 8'!K21='2 POULES DE 8'!J21,Equipes!$J$5,IF('2 POULES DE 8'!K21<'2 POULES DE 8'!J21,Equipes!$J$7)))) -> 0 | BA21: =AY21-AW21 -> 0 | BB21: =AZ21-AX21 -> 0 | BC21: =IF(J21="",0,1) -> 0 | BD21: =IF(K21="",0,1) -> 0 | BE21: =IF(J21<>"",IF(J21>K21,1)) -> FALSE | BF21: =IF(K21<>"",IF(K21>J21,1)) -> FALSE | BG21: =IF(J21<>"",IF(J21=K21,1)) -> FALSE | BH21: =IF(K21<>"",IF(K21=J21,1)) -> FALSE | BI21: =IF(J21<>"",IF(J21<K21,1)) -> FALSE | BJ21: =IF(K21<>"",IF(K21<J21,1)) -> FALSE | BK21: =J21 -> 0 | BL21: =K21 -> 0 | BM21: =K21 -> 0 | BN21: =J21 -> 0
F22: =AH7 -> bb | L22: =AH8 -> cc | AW22: =E22 -> 0 | AX22: =P22 -> 0 | AY22: =IF(J22="",0,IF(J22>K22,Equipes!$J$3,IF('2 POULES DE 8'!J22='2 POULES DE 8'!K22,Equipes!$J$5,IF('2 POULES DE 8'!J22<'2 POULES DE 8'!K22,Equipes!$J$7)))) -> 0 | AZ22: =IF(K22="",0,IF(K22>J22,Equipes!$J$3,IF('2 POULES DE 8'!K22='2 POULES DE 8'!J22,Equipes!$J$5,IF('2 POULES DE 8'!K22<'2 POULES DE 8'!J22,Equipes!$J$7)))) -> 0 | BA22: =AY22-AW22 -> 0 | BB22: =AZ22-AX22 -> 0 | BC22: =IF(J22="",0,1) -> 0 | BD22: =IF(K22="",0,1) -> 0 | BE22: =IF(J22<>"",IF(J22>K22,1)) -> FALSE | BF22: =IF(K22<>"",IF(K22>J22,1)) -> FALSE | BG22: =IF(J22<>"",IF(J22=K22,1)) -> FALSE | BH22: =IF(K22<>"",IF(K22=J22,1)) -> FALSE | BI22: =IF(J22<>"",IF(J22<K22,1)) -> FALSE | BJ22: =IF(K22<>"",IF(K22<J22,1)) -> FALSE | BK22: =J22 -> 0 | BL22: =K22 -> 0 | BM22: =K22 -> 0 | BN22: =J22 -> 0
F23: =AH9 -> dd | L23: =AH13 -> hh | AW23: =E23 -> 0 | AX23: =P23 -> 0 | AY23: =IF(J23="",0,IF(J23>K23,Equipes!$J$3,IF('2 POULES DE 8'!J23='2 POULES DE 8'!K23,Equipes!$J$5,IF('2 POULES DE 8'!J23<'2 POULES DE 8'!K23,Equipes!$J$7)))) -> 0 | AZ23: =IF(K23="",0,IF(K23>J23,Equipes!$J$3,IF('2 POULES DE 8'!K23='2 POULES DE 8'!J23,Equipes!$J$5,IF('2 POULES DE 8'!K23<'2 POULES DE 8'!J23,Equipes!$J$7)))) -> 0 | BA23: =AY23-AW23 -> 0 | BB23: =AZ23-AX23 -> 0 | BC23: =IF(J23="",0,1) -> 0 | BD23: =IF(K23="",0,1) -> 0 | BE23: =IF(J23<>"",IF(J23>K23,1)) -> FALSE | BF23: =IF(K23<>"",IF(K23>J23,1)) -> FALSE | BG23: =IF(J23<>"",IF(J23=K23,1)) -> FALSE | BH23: =IF(K23<>"",IF(K23=J23,1)) -> FALSE | BI23: =IF(J23<>"",IF(J23<K23,1)) -> FALSE | BJ23: =IF(K23<>"",IF(K23<J23,1)) -> FALSE | BK23: =J23 -> 0 | BL23: =K23 -> 0 | BM23: =K23 -> 0 | BN23: =J23 -> 0
F24: =AH11 -> ff | L24: =AH6 -> aa | AW24: =E24 -> 0 | AX24: =P24 -> 0 | AY24: =IF(J24="",0,IF(J24>K24,Equipes!$J$3,IF('2 POULES DE 8'!J24='2 POULES DE 8'!K24,Equipes!$J$5,IF('2 POULES DE 8'!J24<'2 POULES DE 8'!K24,Equipes!$J$7)))) -> 0 | AZ24: =IF(K24="",0,IF(K24>J24,Equipes!$J$3,IF('2 POULES DE 8'!K24='2 POULES DE 8'!J24,Equipes!$J$5,IF('2 POULES DE 8'!K24<'2 POULES DE 8'!J24,Equipes!$J$7)))) -> 0 | BA24: =AY24-AW24 -> 0 | BB24: =AZ24-AX24 -> 0 | BC24: =IF(J24="",0,1) -> 0 | BD24: =IF(K24="",0,1) -> 0 | BE24: =IF(J24<>"",IF(J24>K24,1)) -> FALSE | BF24: =IF(K24<>"",IF(K24>J24,1)) -> FALSE | BG24: =IF(J24<>"",IF(J24=K24,1)) -> FALSE | BH24: =IF(K24<>"",IF(K24=J24,1)) -> FALSE | BI24: =IF(J24<>"",IF(J24<K24,1)) -> FALSE | BJ24: =IF(K24<>"",IF(K24<J24,1)) -> FALSE | BK24: =J24 -> 0 | BL24: =K24 -> 0 | BM24: =K24 -> 0 | BN24: =J24 -> 0
F25: =AH12 -> gg | L25: =AH10 -> ee | AW25: =E25 -> 0 | AX25: =P25 -> 0 | AY25: =IF(J25="",0,IF(J25>K25,Equipes!$J$3,IF('2 POULES DE 8'!J25='2 POULES DE 8'!K25,Equipes!$J$5,IF('2 POULES DE 8'!J25<'2 POULES DE 8'!K25,Equipes!$J$7)))) -> 0 | AZ25: =IF(K25="",0,IF(K25>J25,Equipes!$J$3,IF('2 POULES DE 8'!K25='2 POULES DE 8'!J25,Equipes!$J$5,IF('2 POULES DE 8'!K25<'2 POULES DE 8'!J25,Equipes!$J$7)))) -> 0 | BA25: =AY25-AW25 -> 0 | BB25: =AZ25-AX25 -> 0 | BC25: =IF(J25="",0,1) -> 0 | BD25: =IF(K25="",0,1) -> 0 | BE25: =IF(J25<>"",IF(J25>K25,1)) -> FALSE | BF25: =IF(K25<>"",IF(K25>J25,1)) -> FALSE | BG25: =IF(J25<>"",IF(J25=K25,1)) -> FALSE | BH25: =IF(K25<>"",IF(K25=J25,1)) -> FALSE | BI25: =IF(J25<>"",IF(J25<K25,1)) -> FALSE | BJ25: =IF(K25<>"",IF(K25<J25,1)) -> FALSE | BK25: =J25 -> 0 | BL25: =K25 -> 0 | BM25: =K25 -> 0 | BN25: =J25 -> 0
F26: =AH6 -> aa | L26: =AH12 -> gg | AW26: =E26 -> 0 | AX26: =P26 -> 0 | AY26: =IF(J26="",0,IF(J26>K26,Equipes!$J$3,IF('2 POULES DE 8'!J26='2 POULES DE 8'!K26,Equipes!$J$5,IF('2 POULES DE 8'!J26<'2 POULES DE 8'!K26,Equipes!$J$7)))) -> 0 | AZ26: =IF(K26="",0,IF(K26>J26,Equipes!$J$3,IF('2 POULES DE 8'!K26='2 POULES DE 8'!J26,Equipes!$J$5,IF('2 POULES DE 8'!K26<'2 POULES DE 8'!J26,Equipes!$J$7)))) -> 0 | BA26: =AY26-AW26 -> 0 | BB26: =AZ26-AX26 -> 0 | BC26: =IF(J26="",0,1) -> 0 | BD26: =IF(K26="",0,1) -> 0 | BE26: =IF(J26<>"",IF(J26>K26,1)) -> FALSE | BF26: =IF(K26<>"",IF(K26>J26,1)) -> FALSE | BG26: =IF(J26<>"",IF(J26=K26,1)) -> FALSE | BH26: =IF(K26<>"",IF(K26=J26,1)) -> FALSE | BI26: =IF(J26<>"",IF(J26<K26,1)) -> FALSE | BJ26: =IF(K26<>"",IF(K26<J26,1)) -> FALSE | BK26: =J26 -> 0 | BL26: =K26 -> 0 | BM26: =K26 -> 0 | BN26: =J26 -> 0
F27: =AH8 -> cc | L27: =AH9 -> dd | AW27: =E27 -> 0 | AX27: =P27 -> 0 | AY27: =IF(J27="",0,IF(J27>K27,Equipes!$J$3,IF('2 POULES DE 8'!J27='2 POULES DE 8'!K27,Equipes!$J$5,IF('2 POULES DE 8'!J27<'2 POULES DE 8'!K27,Equipes!$J$7)))) -> 0 | AZ27: =IF(K27="",0,IF(K27>J27,Equipes!$J$3,IF('2 POULES DE 8'!K27='2 POULES DE 8'!J27,Equipes!$J$5,IF('2 POULES DE 8'!K27<'2 POULES DE 8'!J27,Equipes!$J$7)))) -> 0 | BA27: =AY27-AW27 -> 0 | BB27: =AZ27-AX27 -> 0 | BC27: =IF(J27="",0,1) -> 0 | BD27: =IF(K27="",0,1) -> 0 | BE27: =IF(J27<>"",IF(J27>K27,1)) -> FALSE | BF27: =IF(K27<>"",IF(K27>J27,1)) -> FALSE | BG27: =IF(J27<>"",IF(J27=K27,1)) -> FALSE | BH27: =IF(K27<>"",IF(K27=J27,1)) -> FALSE | BI27: =IF(J27<>"",IF(J27<K27,1)) -> FALSE | BJ27: =IF(K27<>"",IF(K27<J27,1)) -> FALSE | BK27: =J27 -> 0 | BL27: =K27 -> 0 | BM27: =K27 -> 0 | BN27: =J27 -> 0
F28: =AH10 -> ee | L28: =AH7 -> bb | AW28: =E28 -> 0 | AX28: =P28 -> 0 | AY28: =IF(J28="",0,IF(J28>K28,Equipes!$J$3,IF('2 POULES DE 8'!J28='2 POULES DE 8'!K28,Equipes!$J$5,IF('2 POULES DE 8'!J28<'2 POULES DE 8'!K28,Equipes!$J$7)))) -> 0 | AZ28: =IF(K28="",0,IF(K28>J28,Equipes!$J$3,IF('2 POULES DE 8'!K28='2 POULES DE 8'!J28,Equipes!$J$5,IF('2 POULES DE 8'!K28<'2 POULES DE 8'!J28,Equipes!$J$7)))) -> 0 | BA28: =AY28-AW28 -> 0 | BB28: =AZ28-AX28 -> 0 | BC28: =IF(J28="",0,1) -> 0 | BD28: =IF(K28="",0,1) -> 0 | BE28: =IF(J28<>"",IF(J28>K28,1)) -> FALSE | BF28: =IF(K28<>"",IF(K28>J28,1)) -> FALSE | BG28: =IF(J28<>"",IF(J28=K28,1)) -> FALSE | BH28: =IF(K28<>"",IF(K28=J28,1)) -> FALSE | BI28: =IF(J28<>"",IF(J28<K28,1)) -> FALSE | BJ28: =IF(K28<>"",IF(K28<J28,1)) -> FALSE | BK28: =J28 -> 0 | BL28: =K28 -> 0 | BM28: =K28 -> 0 | BN28: =J28 -> 0
F29: =AH13 -> hh | L29: =AH11 -> ff | AW29: =E29 -> 0 | AX29: =P29 -> 0 | AY29: =IF(J29="",0,IF(J29>K29,Equipes!$J$3,IF('2 POULES DE 8'!J29='2 POULES DE 8'!K29,Equipes!$J$5,IF('2 POULES DE 8'!J29<'2 POULES DE 8'!K29,Equipes!$J$7)))) -> 0 | AZ29: =IF(K29="",0,IF(K29>J29,Equipes!$J$3,IF('2 POULES DE 8'!K29='2 POULES DE 8'!J29,Equipes!$J$5,IF('2 POULES DE 8'!K29<'2 POULES DE 8'!J29,Equipes!$J$7)))) -> 0 | BA29: =AY29-AW29 -> 0 | BB29: =AZ29-AX29 -> 0 | BC29: =IF(J29="",0,1) -> 0 | BD29: =IF(K29="",0,1) -> 0 | BE29: =IF(J29<>"",IF(J29>K29,1)) -> FALSE | BF29: =IF(K29<>"",IF(K29>J29,1)) -> FALSE | BG29: =IF(J29<>"",IF(J29=K29,1)) -> FALSE | BH29: =IF(K29<>"",IF(K29=J29,1)) -> FALSE | BI29: =IF(J29<>"",IF(J29<K29,1)) -> FALSE | BJ29: =IF(K29<>"",IF(K29<J29,1)) -> FALSE | BK29: =J29 -> 0 | BL29: =K29 -> 0 | BM29: =K29 -> 0 | BN29: =J29 -> 0
F30: =AH7 -> bb | L30: =AH12 -> gg | AW30: =E30 -> 0 | AX30: =P30 -> 0 | AY30: =IF(J30="",0,IF(J30>K30,Equipes!$J$3,IF('2 POULES DE 8'!J30='2 POULES DE 8'!K30,Equipes!$J$5,IF('2 POULES DE 8'!J30<'2 POULES DE 8'!K30,Equipes!$J$7)))) -> 0 | AZ30: =IF(K30="",0,IF(K30>J30,Equipes!$J$3,IF('2 POULES DE 8'!K30='2 POULES DE 8'!J30,Equipes!$J$5,IF('2 POULES DE 8'!K30<'2 POULES DE 8'!J30,Equipes!$J$7)))) -> 0 | BA30: =AY30-AW30 -> 0 | BB30: =AZ30-AX30 -> 0 | BC30: =IF(J30="",0,1) -> 0 | BD30: =IF(K30="",0,1) -> 0 | BE30: =IF(J30<>"",IF(J30>K30,1)) -> FALSE | BF30: =IF(K30<>"",IF(K30>J30,1)) -> FALSE | BG30: =IF(J30<>"",IF(J30=K30,1)) -> FALSE | BH30: =IF(K30<>"",IF(K30=J30,1)) -> FALSE | BI30: =IF(J30<>"",IF(J30<K30,1)) -> FALSE | BJ30: =IF(K30<>"",IF(K30<J30,1)) -> FALSE | BK30: =J30 -> 0 | BL30: =K30 -> 0 | BM30: =K30 -> 0 | BN30: =J30 -> 0
F31: =AH9 -> dd | L31: =AH10 -> ee | AW31: =E31 -> 0 | AX31: =P31 -> 0 | AY31: =IF(J31="",0,IF(J31>K31,Equipes!$J$3,IF('2 POULES DE 8'!J31='2 POULES DE 8'!K31,Equipes!$J$5,IF('2 POULES DE 8'!J31<'2 POULES DE 8'!K31,Equipes!$J$7)))) -> 0 | AZ31: =IF(K31="",0,IF(K31>J31,Equipes!$J$3,IF('2 POULES DE 8'!K31='2 POULES DE 8'!J31,Equipes!$J$5,IF('2 POULES DE 8'!K31<'2 POULES DE 8'!J31,Equipes!$J$7)))) -> 0 | BA31: =AY31-AW31 -> 0 | BB31: =AZ31-AX31 -> 0 | BC31: =IF(J31="",0,1) -> 0 | BD31: =IF(K31="",0,1) -> 0 | BE31: =IF(J31<>"",IF(J31>K31,1)) -> FALSE | BF31: =IF(K31<>"",IF(K31>J31,1)) -> FALSE | BG31: =IF(J31<>"",IF(J31=K31,1)) -> FALSE | BH31: =IF(K31<>"",IF(K31=J31,1)) -> FALSE | BI31: =IF(J31<>"",IF(J31<K31,1)) -> FALSE | BJ31: =IF(K31<>"",IF(K31<J31,1)) -> FALSE | BK31: =J31 -> 0 | BL31: =K31 -> 0 | BM31: =K31 -> 0 | BN31: =J31 -> 0
F32: =AH11 -> ff | L32: =AH8 -> cc | AW32: =E32 -> 0 | AX32: =P32 -> 0 | AY32: =IF(J32="",0,IF(J32>K32,Equipes!$J$3,IF('2 POULES DE 8'!J32='2 POULES DE 8'!K32,Equipes!$J$5,IF('2 POULES DE 8'!J32<'2 POULES DE 8'!K32,Equipes!$J$7)))) -> 0 | AZ32: =IF(K32="",0,IF(K32>J32,Equipes!$J$3,IF('2 POULES DE 8'!K32='2 POULES DE 8'!J32,Equipes!$J$5,IF('2 POULES DE 8'!K32<'2 POULES DE 8'!J32,Equipes!$J$7)))) -> 0 | BA32: =AY32-AW32 -> 0 | BB32: =AZ32-AX32 -> 0 | BC32: =IF(J32="",0,1) -> 0 | BD32: =IF(K32="",0,1) -> 0 | BE32: =IF(J32<>"",IF(J32>K32,1)) -> FALSE | BF32: =IF(K32<>"",IF(K32>J32,1)) -> FALSE | BG32: =IF(J32<>"",IF(J32=K32,1)) -> FALSE | BH32: =IF(K32<>"",IF(K32=J32,1)) -> FALSE | BI32: =IF(J32<>"",IF(J32<K32,1)) -> FALSE | BJ32: =IF(K32<>"",IF(K32<J32,1)) -> FALSE | BK32: =J32 -> 0 | BL32: =K32 -> 0 | BM32: =K32 -> 0 | BN32: =J32 -> 0
F33: =AH13 -> hh | L33: =AH6 -> aa | AW33: =E33 -> 0 | AX33: =P33 -> 0 | AY33: =IF(J33="",0,IF(J33>K33,Equipes!$J$3,IF('2 POULES DE 8'!J33='2 POULES DE 8'!K33,Equipes!$J$5,IF('2 POULES DE 8'!J33<'2 POULES DE 8'!K33,Equipes!$J$7)))) -> 0 | AZ33: =IF(K33="",0,IF(K33>J33,Equipes!$J$3,IF('2 POULES DE 8'!K33='2 POULES DE 8'!J33,Equipes!$J$5,IF('2 POULES DE 8'!K33<'2 POULES DE 8'!J33,Equipes!$J$7)))) -> 0 | BA33: =AY33-AW33 -> 0 | BB33: =AZ33-AX33 -> 0 | BC33: =IF(J33="",0,1) -> 0 | BD33: =IF(K33="",0,1) -> 0 | BE33: =IF(J33<>"",IF(J33>K33,1)) -> FALSE | BF33: =IF(K33<>"",IF(K33>J33,1)) -> FALSE | BG33: =IF(J33<>"",IF(J33=K33,1)) -> FALSE | BH33: =IF(K33<>"",IF(K33=J33,1)) -> FALSE | BI33: =IF(J33<>"",IF(J33<K33,1)) -> FALSE | BJ33: =IF(K33<>"",IF(K33<J33,1)) -> FALSE | BK33: =J33 -> 0 | BL33: =K33 -> 0 | BM33: =K33 -> 0 | BN33: =J33 -> 0
C38: POULE B | Q38: CLASSEMENT | AH38: CLASSEMENT
C40: Heure | D40: Terrain | E40: Pts - | F40: Equipes | J40: Buts | K40: Buts | L40: Equipes | P40: Pts - | Q40: Equipes | U40: Rang | V40: Points | W40: J | X40: G | Y40: N | Z40: P | AA40: B + | AB40: B - | AC40: Diff | AG40: R | AH40: Equipes | AL40: Rang | AM40: Points | AN40: J | AO40: G | AP40: N | AQ40: P | AR40: B + | AS40: B - | AT40: Diff | AU40: % | AV40: % | AW40: P | AX40: P | AY40: Pts | AZ40: Pts | BA40: T Pts | BB40: T Pts | BC40: J | BD40: J | BE40: G | BF40: G | BG40: N | BH40: N | BI40: P | BJ40: P | BK40: B+ | BL40: B+ | BM40: B- | BN40: B- | BO40: Equipes | BP40: % | BQ40: R
F41: =AH42 -> jj | L41: =AH41 -> ii | Q41: =VLOOKUP(AF41,AG41:AK48,2,0) -> ii | U41: 1 | V41: =VLOOKUP(Q41,AH41:AT48,6,0) -> 0 | W41: =VLOOKUP(Q41,AH41:AT48,7,0) -> 0 | X41: =VLOOKUP(Q41,AH41:AT48,8,0) -> 0 | Y41: =VLOOKUP(Q41,AH41:AT48,9,0) -> 0 | Z41: =VLOOKUP(Q41,AH41:AT48,10,0) -> 0 | AA41: =VLOOKUP(Q41,AH41:AT48,11,0) -> 0 | AB41: =VLOOKUP(Q41,AH41:AT48,12,0) -> 0 | AC41: =VLOOKUP(Q41,AH41:AT48,13,0) -> 0 | AF41: 1 | AG41: =AL41 -> 1 | AH41: =Equipes!E5 -> ii | AL41: =RANK(AV41,AV41:AV48) -> 1 | AM41: =SUMPRODUCT((F41:I68=AH41)*(BA41:BA68))+SUMPRODUCT((L41:O68=AH41)*(BB41:BB68)) -> 0 | AN41: =SUMPRODUCT((F41:I68=AH41)*(BC41:BC68))+SUMPRODUCT((L41:O68=AH41)*(BD41:BD68)) -> 0 | AO41: =SUMPRODUCT((F41:I68=AH41)*(BE41:BE68))+SUMPRODUCT((L41:O68=AH41)*(BF41:BF68)) -> 0 | AP41: =SUMPRODUCT((F41:I68=AH41)*(BG41:BG68))+SUMPRODUCT((L41:O68=AH41)*(BH41:BH68)) -> 0 | AQ41: =SUMPRODUCT((F41:I68=AH41)*(BI41:BI68))+SUMPRODUCT((L41:O68=AH41)*(BJ41:BJ68)) -> 0 | AR41: =SUMPRODUCT((F41:I68=AH41)*(BK41:BK68))+SUMPRODUCT((L41:O68=AH41)*(BL41:BL68)) -> 0 | AS41: =SUMPRODUCT((F41:I68=AH41)*(BM41:BM68))+SUMPRODUCT((L41:O68=AH41)*(BN41:BN68)) -> 0 | AT41: =AR41-AS41 -> 0 | AU41: =SUM(AM41*1000+(AT41)/100+(AR41)/1000) -> 0 | AV41: =AU41+0.0000008 -> 8e-07 | AW41: =E41 -> 0 | AX41: =P41 -> 0 | AY41: =IF(J41="",0,IF(J41>K41,Equipes!$J$3,IF('2 POULES DE 8'!J41='2 POULES DE 8'!K41,Equipes!$J$5,IF('2 POULES DE 8'!J41<'2 POULES DE 8'!K41,Equipes!$J$7)))) -> 0 | AZ41: =IF(K41="",0,IF(K41>J41,Equipes!$J$3,IF('2 POULES DE 8'!K41='2 POULES DE 8'!J41,Equipes!$J$5,IF('2 POULES DE 8'!K41<'2 POULES DE 8'!J41,Equipes!$J$7)))) -> 0 | BA41: =AY41-AW41 -> 0 | BB41: =AZ41-AX41 -> 0 | BC41: =IF(J41="",0,1) -> 0 | BD41: =IF(K41="",0,1) -> 0 | BE41: =IF(J41<>"",IF(J41>K41,1)) -> FALSE | BF41: =IF(K41<>"",IF(K41>J41,1)) -> FALSE | BG41: =IF(J41<>"",IF(J41=K41,1)) -> FALSE | BH41: =IF(K41<>"",IF(K41=J41,1)) -> FALSE | BI41: =IF(J41<>"",IF(J41<K41,1)) -> FALSE | BJ41: =IF(K41<>"",IF(K41<J41,1)) -> FALSE | BK41: =J41 -> 0 | BL41: =K41 -> 0 | BM41: =K41 -> 0 | BN41: =J41 -> 0 | BO41: =VLOOKUP(AF41,AG41:AK48,2,0) -> ii | BP41: =VLOOKUP(BO41,AH41:AU48,14,0) -> 0 | BQ41: =RANK(BP41,BP41:BP48) -> 1
F42: =AH43 -> kk | L42: =AH48 -> pp | Q42: =VLOOKUP(AF42,AG41:AK48,2,0) -> jj | U42: =IF(BP42=BP41,BQ41,BQ42) -> 1 | V42: =VLOOKUP(Q42,AH41:AT48,6,0) -> 0 | W42: =VLOOKUP(Q42,AH41:AT48,7,0) -> 0 | X42: =VLOOKUP(Q42,AH41:AT48,8,0) -> 0 | Y42: =VLOOKUP(Q42,AH41:AT48,9,0) -> 0 | Z42: =VLOOKUP(Q42,AH41:AT48,10,0) -> 0 | AA42: =VLOOKUP(Q42,AH41:AT48,11,0) -> 0 | AB42: =VLOOKUP(Q42,AH41:AT48,12,0) -> 0 | AC42: =VLOOKUP(Q42,AH41:AT48,13,0) -> 0 | AF42: 2 | AG42: =AL42 -> 2 | AH42: =Equipes!E6 -> jj | AL42: =RANK(AV42,AV41:AV48) -> 2 | AM42: =SUMPRODUCT((F41:I68=AH42)*(BA41:BA68))+SUMPRODUCT((L41:O68=AH42)*(BB41:BB68)) -> 0 | AN42: =SUMPRODUCT((F41:I68=AH42)*(BC41:BC68))+SUMPRODUCT((L41:O68=AH42)*(BD41:BD68)) -> 0 | AO42: =SUMPRODUCT((F41:I68=AH42)*(BE41:BE68))+SUMPRODUCT((L41:O68=AH42)*(BF41:BF68)) -> 0 | AP42: =SUMPRODUCT((F41:I68=AH42)*(BG41:BG68))+SUMPRODUCT((L41:O68=AH42)*(BH41:BH68)) -> 0 | AQ42: =SUMPRODUCT((F41:I68=AH42)*(BI41:BI68))+SUMPRODUCT((L41:O68=AH42)*(BJ41:BJ68)) -> 0 | AR42: =SUMPRODUCT((F41:I68=AH42)*(BK41:BK68))+SUMPRODUCT((L41:O68=AH42)*(BL41:BL68)) -> 0 | AS42: =SUMPRODUCT((F41:I68=AH42)*(BM41:BM68))+SUMPRODUCT((L41:O68=AH42)*(BN41:BN68)) -> 0 | AT42: =AR42-AS42 -> 0 | AU42: =SUM(AM42*1000+(AT42)/100+(AR42)/1000) -> 0 | AV42: =AU42+0.0000007 -> 7e-07 | AW42: =E42 -> 0 | AX42: =P42 -> 0 | AY42: =IF(J42="",0,IF(J42>K42,Equipes!$J$3,IF('2 POULES DE 8'!J42='2 POULES DE 8'!K42,Equipes!$J$5,IF('2 POULES DE 8'!J42<'2 POULES DE 8'!K42,Equipes!$J$7)))) -> 0 | AZ42: =IF(K42="",0,IF(K42>J42,Equipes!$J$3,IF('2 POULES DE 8'!K42='2 POULES DE 8'!J42,Equipes!$J$5,IF('2 POULES DE 8'!K42<'2 POULES DE 8'!J42,Equipes!$J$7)))) -> 0 | BA42: =AY42-AW42 -> 0 | BB42: =AZ42-AX42 -> 0 | BC42: =IF(J42="",0,1) -> 0 | BD42: =IF(K42="",0,1) -> 0 | BE42: =IF(J42<>"",IF(J42>K42,1)) -> FALSE | BF42: =IF(K42<>"",IF(K42>J42,1)) -> FALSE | BG42: =IF(J42<>"",IF(J42=K42,1)) -> FALSE | BH42: =IF(K42<>"",IF(K42=J42,1)) -> FALSE | BI42: =IF(J42<>"",IF(J42<K42,1)) -> FALSE | BJ42: =IF(K42<>"",IF(K42<J42,1)) -> FALSE | BK42: =J42 -> 0 | BL42: =K42 -> 0 | BM42: =K42 -> 0 | BN42: =J42 -> 0 | BO42: =VLOOKUP(AF42,AG41:AK48,2,0) -> jj | BP42: =VLOOKUP(BO42,AH41:AU48,14,0) -> 0 | BQ42: =RANK(BP42,BP41:BP48) -> 1
F43: =AH45 -> mm | L43: =AH46 -> nn | Q43: =VLOOKUP(AF43,AG41:AK48,2,0) -> kk | U43: =IF(BP43=BP42,BQ42,BQ43) -> 1 | V43: =VLOOKUP(Q43,AH41:AT48,6,0) -> 0 | W43: =VLOOKUP(Q43,AH41:AT48,7,0) -> 0 | X43: =VLOOKUP(Q43,AH41:AT48,8,0) -> 0 | Y43: =VLOOKUP(Q43,AH41:AT48,9,0) -> 0 | Z43: =VLOOKUP(Q43,AH41:AT48,10,0) -> 0 | AA43: =VLOOKUP(Q43,AH41:AT48,11,0) -> 0 | AB43: =VLOOKUP(Q43,AH41:AT48,12,0) -> 0 | AC43: =VLOOKUP(Q43,AH41:AT48,13,0) -> 0 | AF43: 3 | AG43: =AL43 -> 3 | AH43: =Equipes!E7 -> kk | AL43: =RANK(AV43,AV41:AV48) -> 3 | AM43: =SUMPRODUCT((F41:I68=AH43)*(BA41:BA68))+SUMPRODUCT((L41:O68=AH43)*(BB41:BB68)) -> 0 | AN43: =SUMPRODUCT((F41:I68=AH43)*(BC41:BC68))+SUMPRODUCT((L41:O68=AH43)*(BD41:BD68)) -> 0 | AO43: =SUMPRODUCT((F41:I68=AH43)*(BE41:BE68))+SUMPRODUCT((L41:O68=AH43)*(BF41:BF68)) -> 0 | AP43: =SUMPRODUCT((F41:I68=AH43)*(BG41:BG68))+SUMPRODUCT((L41:O68=AH43)*(BH41:BH68)) -> 0 | AQ43: =SUMPRODUCT((F41:I68=AH43)*(BI41:BI68))+SUMPRODUCT((L41:O68=AH43)*(BJ41:BJ68)) -> 0 | AR43: =SUMPRODUCT((F41:I68=AH43)*(BK41:BK68))+SUMPRODUCT((L41:O68=AH43)*(BL41:BL68)) -> 0 | AS43: =SUMPRODUCT((F41:I68=AH43)*(BM41:BM68))+SUMPRODUCT((L41:O68=AH43)*(BN41:BN68)) -> 0 | AT43: =AR43-AS43 -> 0 | AU43: =SUM(AM43*1000+(AT43)/100+(AR43)/1000) -> 0 | AV43: =AU43+0.0000006 -> 6e-07 | AW43: =E43 -> 0 | AX43: =P43 -> 0 | AY43: =IF(J43="",0,IF(J43>K43,Equipes!$J$3,IF('2 POULES DE 8'!J43='2 POULES DE 8'!K43,Equipes!$J$5,IF('2 POULES DE 8'!J43<'2 POULES DE 8'!K43,Equipes!$J$7)))) -> 0 | AZ43: =IF(K43="",0,IF(K43>J43,Equipes!$J$3,IF('2 POULES DE 8'!K43='2 POULES DE 8'!J43,Equipes!$J$5,IF('2 POULES DE 8'!K43<'2 POULES DE 8'!J43,Equipes!$J$7)))) -> 0 | BA43: =AY43-AW43 -> 0 | BB43: =AZ43-AX43 -> 0 | BC43: =IF(J43="",0,1) -> 0 | BD43: =IF(K43="",0,1) -> 0 | BE43: =IF(J43<>"",IF(J43>K43,1)) -> FALSE | BF43: =IF(K43<>"",IF(K43>J43,1)) -> FALSE | BG43: =IF(J43<>"",IF(J43=K43,1)) -> FALSE | BH43: =IF(K43<>"",IF(K43=J43,1)) -> FALSE | BI43: =IF(J43<>"",IF(J43<K43,1)) -> FALSE | BJ43: =IF(K43<>"",IF(K43<J43,1)) -> FALSE | BK43: =J43 -> 0 | BL43: =K43 -> 0 | BM43: =K43 -> 0 | BN43: =J43 -> 0 | BO43: =VLOOKUP(AF43,AG41:AK48,2,0) -> kk | BP43: =VLOOKUP(BO43,AH41:AU48,14,0) -> 0 | BQ43: =RANK(BP43,BP41:BP48) -> 1
F44: =AH47 -> oo | L44: =AH44 -> ll | Q44: =VLOOKUP(AF44,AG41:AK48,2,0) -> ll | U44: =IF(BP44=BP43,BQ43,BQ44) -> 1 | V44: =VLOOKUP(Q44,AH41:AT48,6,0) -> 0 | W44: =VLOOKUP(Q44,AH41:AT48,7,0) -> 0 | X44: =VLOOKUP(Q44,AH41:AT48,8,0) -> 0 | Y44: =VLOOKUP(Q44,AH41:AT48,9,0) -> 0 | Z44: =VLOOKUP(Q44,AH41:AT48,10,0) -> 0 | AA44: =VLOOKUP(Q44,AH41:AT48,11,0) -> 0 | AB44: =VLOOKUP(Q44,AH41:AT48,12,0) -> 0 | AC44: =VLOOKUP(Q44,AH41:AT48,13,0) -> 0 | AF44: 4 | AG44: =AL44 -> 4 | AH44: =Equipes!E8 -> ll | AL44: =RANK(AV44,AV41:AV48) -> 4 | AM44: =SUMPRODUCT((F41:I68=AH44)*(BA41:BA68))+SUMPRODUCT((L41:O68=AH44)*(BB41:BB68)) -> 0 | AN44: =SUMPRODUCT((F41:I68=AH44)*(BC41:BC68))+SUMPRODUCT((L41:O68=AH44)*(BD41:BD68)) -> 0 | AO44: =SUMPRODUCT((F41:I68=AH44)*(BE41:BE68))+SUMPRODUCT((L41:O68=AH44)*(BF41:BF68)) -> 0 | AP44: =SUMPRODUCT((F41:I68=AH44)*(BG41:BG68))+SUMPRODUCT((L41:O68=AH44)*(BH41:BH68)) -> 0 | AQ44: =SUMPRODUCT((F41:I68=AH44)*(BI41:BI68))+SUMPRODUCT((L41:O68=AH44)*(BJ41:BJ68)) -> 0 | AR44: =SUMPRODUCT((F41:I68=AH44)*(BK41:BK68))+SUMPRODUCT((L41:O68=AH44)*(BL41:BL68)) -> 0 | AS44: =SUMPRODUCT((F41:I68=AH44)*(BM41:BM68))+SUMPRODUCT((L41:O68=AH44)*(BN41:BN68)) -> 0 | AT44: =AR44-AS44 -> 0 | AU44: =SUM(AM44*1000+(AT44)/100+(AR44)/1000) -> 0 | AV44: =AU44+0.0000005 -> 5e-07 | AW44: =E44 -> 0 | AX44: =P44 -> 0 | AY44: =IF(J44="",0,IF(J44>K44,Equipes!$J$3,IF('2 POULES DE 8'!J44='2 POULES DE 8'!K44,Equipes!$J$5,IF('2 POULES DE 8'!J44<'2 POULES DE 8'!K44,Equipes!$J$7)))) -> 0 | AZ44: =IF(K44="",0,IF(K44>J44,Equipes!$J$3,IF('2 POULES DE 8'!K44='2 POULES DE 8'!J44,Equipes!$J$5,IF('2 POULES DE 8'!K44<'2 POULES DE 8'!J44,Equipes!$J$7)))) -> 0 | BA44: =AY44-AW44 -> 0 | BB44: =AZ44-AX44 -> 0 | BC44: =IF(J44="",0,1) -> 0 | BD44: =IF(K44="",0,1) -> 0 | BE44: =IF(J44<>"",IF(J44>K44,1)) -> FALSE | BF44: =IF(K44<>"",IF(K44>J44,1)) -> FALSE | BG44: =IF(J44<>"",IF(J44=K44,1)) -> FALSE | BH44: =IF(K44<>"",IF(K44=J44,1)) -> FALSE | BI44: =IF(J44<>"",IF(J44<K44,1)) -> FALSE | BJ44: =IF(K44<>"",IF(K44<J44,1)) -> FALSE | BK44: =J44 -> 0 | BL44: =K44 -> 0 | BM44: =K44 -> 0 | BN44: =J44 -> 0 | BO44: =VLOOKUP(AF44,AG41:AK48,2,0) -> ll | BP44: =VLOOKUP(BO44,AH41:AU48,14,0) -> 0 | BQ44: =RANK(BP44,BP41:BP48) -> 1
F45: =AH41 -> ii | L45: =AH43 -> kk | Q45: =VLOOKUP(AF45,AG41:AK48,2,0) -> mm | U45: =IF(BP45=BP44,BQ44,BQ45) -> 1 | V45: =VLOOKUP(Q45,AH41:AT48,6,0) -> 0 | W45: =VLOOKUP(Q45,AH41:AT48,7,0) -> 0 | X45: =VLOOKUP(Q45,AH41:AT48,8,0) -> 0 | Y45: =VLOOKUP(Q45,AH41:AT48,9,0) -> 0 | Z45: =VLOOKUP(Q45,AH41:AT48,10,0) -> 0 | AA45: =VLOOKUP(Q45,AH41:AT48,11,0) -> 0 | AB45: =VLOOKUP(Q45,AH41:AT48,12,0) -> 0 | AC45: =VLOOKUP(Q45,AH41:AT48,13,0) -> 0 | AF45: 5 | AG45: =AL45 -> 5 | AH45: =Equipes!E9 -> mm | AL45: =RANK(AV45,AV41:AV48) -> 5 | AM45: =SUMPRODUCT((F41:I68=AH45)*(BA41:BA68))+SUMPRODUCT((L41:O68=AH45)*(BB41:BB68)) -> 0 | AN45: =SUMPRODUCT((F41:I68=AH45)*(BC41:BC68))+SUMPRODUCT((L41:O68=AH45)*(BD41:BD68)) -> 0 | AO45: =SUMPRODUCT((F41:I68=AH45)*(BE41:BE68))+SUMPRODUCT((L41:O68=AH45)*(BF41:BF68)) -> 0 | AP45: =SUMPRODUCT((F41:I68=AH45)*(BG41:BG68))+SUMPRODUCT((L41:O68=AH45)*(BH41:BH68)) -> 0 | AQ45: =SUMPRODUCT((F41:I68=AH45)*(BI41:BI68))+SUMPRODUCT((L41:O68=AH45)*(BJ41:BJ68)) -> 0 | AR45: =SUMPRODUCT((F41:I68=AH45)*(BK41:BK68))+SUMPRODUCT((L41:O68=AH45)*(BL41:BL68)) -> 0 | AS45: =SUMPRODUCT((F41:I68=AH45)*(BM41:BM68))+SUMPRODUCT((L41:O68=AH45)*(BN41:BN68)) -> 0 | AT45: =AR45-AS45 -> 0 | AU45: =SUM(AM45*1000+(AT45)/100+(AR45)/1000) -> 0 | AV45: =AU45+0.0000004 -> 4e-07 | AW45: =E45 -> 0 | AX45: =P45 -> 0 | AY45: =IF(J45="",0,IF(J45>K45,Equipes!$J$3,IF('2 POULES DE 8'!J45='2 POULES DE 8'!K45,Equipes!$J$5,IF('2 POULES DE 8'!J45<'2 POULES DE 8'!K45,Equipes!$J$7)))) -> 0 | AZ45: =IF(K45="",0,IF(K45>J45,Equipes!$J$3,IF('2 POULES DE 8'!K45='2 POULES DE 8'!J45,Equipes!$J$5,IF('2 POULES DE 8'!K45<'2 POULES DE 8'!J45,Equipes!$J$7)))) -> 0 | BA45: =AY45-AW45 -> 0 | BB45: =AZ45-AX45 -> 0 | BC45: =IF(J45="",0,1) -> 0 | BD45: =IF(K45="",0,1) -> 0 | BE45: =IF(J45<>"",IF(J45>K45,1)) -> FALSE | BF45: =IF(K45<>"",IF(K45>J45,1)) -> FALSE | BG45: =IF(J45<>"",IF(J45=K45,1)) -> FALSE | BH45: =IF(K45<>"",IF(K45=J45,1)) -> FALSE | BI45: =IF(J45<>"",IF(J45<K45,1)) -> FALSE | BJ45: =IF(K45<>"",IF(K45<J45,1)) -> FALSE | BK45: =J45 -> 0 | BL45: =K45 -> 0 | BM45: =K45 -> 0 | BN45: =J45 -> 0 | BO45: =VLOOKUP(AF45,AG41:AK48,2,0) -> mm | BP45: =VLOOKUP(BO45,AH41:AU48,14,0) -> 0 | BQ45: =RANK(BP45,BP41:BP48) -> 1
F46: =AH44 -> ll | L46: =AH42 -> jj | Q46: =VLOOKUP(AF46,AG41:AK48,2,0) -> nn | U46: =IF(BP46=BP45,BQ45,BQ46) -> 1 | V46: =VLOOKUP(Q46,AH41:AT48,6,0) -> 0 | W46: =VLOOKUP(Q46,AH41:AT48,7,0) -> 0 | X46: =VLOOKUP(Q46,AH41:AT48,8,0) -> 0 | Y46: =VLOOKUP(Q46,AH41:AT48,9,0) -> 0 | Z46: =VLOOKUP(Q46,AH41:AT48,10,0) -> 0 | AA46: =VLOOKUP(Q46,AH41:AT48,11,0) -> 0 | AB46: =VLOOKUP(Q46,AH41:AT48,12,0) -> 0 | AC46: =VLOOKUP(Q46,AH41:AT48,13,0) -> 0 | AF46: 6 | AG46: =AL46 -> 6 | AH46: =Equipes!E10 -> nn | AL46: =RANK(AV46,AV41:AV48) -> 6 | AM46: =SUMPRODUCT((F41:I68=AH46)*(BA41:BA68))+SUMPRODUCT((L41:O68=AH46)*(BB41:BB68)) -> 0 | AN46: =SUMPRODUCT((F41:I68=AH46)*(BC41:BC68))+SUMPRODUCT((L41:O68=AH46)*(BD41:BD68)) -> 0 | AO46: =SUMPRODUCT((F41:I68=AH46)*(BE41:BE68))+SUMPRODUCT((L41:O68=AH46)*(BF41:BF68)) -> 0 | AP46: =SUMPRODUCT((F41:I68=AH46)*(BG41:BG68))+SUMPRODUCT((L41:O68=AH46)*(BH41:BH68)) -> 0 | AQ46: =SUMPRODUCT((F41:I68=AH46)*(BI41:BI68))+SUMPRODUCT((L41:O68=AH46)*(BJ41:BJ68)) -> 0 | AR46: =SUMPRODUCT((F41:I68=AH46)*(BK41:BK68))+SUMPRODUCT((L41:O68=AH46)*(BL41:BL68)) -> 0 | AS46: =SUMPRODUCT((F41:I68=AH46)*(BM41:BM68))+SUMPRODUCT((L41:O68=AH46)*(BN41:BN68)) -> 0 | AT46: =AR46-AS46 -> 0 | AU46: =SUM(AM46*1000+(AT46)/100+(AR46)/1000) -> 0 | AV46: =AU46+0.0000003 -> 3e-07 | AW46: =E46 -> 0 | AX46: =P46 -> 0 | AY46: =IF(J46="",0,IF(J46>K46,Equipes!$J$3,IF('2 POULES DE 8'!J46='2 POULES DE 8'!K46,Equipes!$J$5,IF('2 POULES DE 8'!J46<'2 POULES DE 8'!K46,Equipes!$J$7)))) -> 0 | AZ46: =IF(K46="",0,IF(K46>J46,Equipes!$J$3,IF('2 POULES DE 8'!K46='2 POULES DE 8'!J46,Equipes!$J$5,IF('2 POULES DE 8'!K46<'2 POULES DE 8'!J46,Equipes!$J$7)))) -> 0 | BA46: =AY46-AW46 -> 0 | BB46: =AZ46-AX46 -> 0 | BC46: =IF(J46="",0,1) -> 0 | BD46: =IF(K46="",0,1) -> 0 | BE46: =IF(J46<>"",IF(J46>K46,1)) -> FALSE | BF46: =IF(K46<>"",IF(K46>J46,1)) -> FALSE | BG46: =IF(J46<>"",IF(J46=K46,1)) -> FALSE | BH46: =IF(K46<>"",IF(K46=J46,1)) -> FALSE | BI46: =IF(J46<>"",IF(J46<K46,1)) -> FALSE | BJ46: =IF(K46<>"",IF(K46<J46,1)) -> FALSE | BK46: =J46 -> 0 | BL46: =K46 -> 0 | BM46: =K46 -> 0 | BN46: =J46 -> 0 | BO46: =VLOOKUP(AF46,AG41:AK48,2,0) -> nn | BP46: =VLOOKUP(BO46,AH41:AU48,14,0) -> 0 | BQ46: =RANK(BP46,BP41:BP48) -> 1
F47: =AH46 -> nn | L47: =AH47 -> oo | Q47: =VLOOKUP(AF47,AG41:AK48,2,0) -> oo | U47: =IF(BP47=BP46,BQ46,BQ47) -> 1 | V47: =VLOOKUP(Q47,AH41:AT48,6,0) -> 0 | W47: =VLOOKUP(Q47,AH41:AT48,7,0) -> 0 | X47: =VLOOKUP(Q47,AH41:AT48,8,0) -> 0 | Y47: =VLOOKUP(Q47,AH41:AT48,9,0) -> 0 | Z47: =VLOOKUP(Q47,AH41:AT48,10,0) -> 0 | AA47: =VLOOKUP(Q47,AH41:AT48,11,0) -> 0 | AB47: =VLOOKUP(Q47,AH41:AT48,12,0) -> 0 | AC47: =VLOOKUP(Q47,AH41:AT48,13,0) -> 0 | AF47: 7 | AG47: =AL47 -> 7 | AH47: =Equipes!E11 -> oo | AL47: =RANK(AV47,AV41:AV48) -> 7 | AM47: =SUMPRODUCT((F41:I68=AH47)*(BA41:BA68))+SUMPRODUCT((L41:O68=AH47)*(BB41:BB68)) -> 0 | AN47: =SUMPRODUCT((F41:I68=AH47)*(BC41:BC68))+SUMPRODUCT((L41:O68=AH47)*(BD41:BD68)) -> 0 | AO47: =SUMPRODUCT((F41:I68=AH47)*(BE41:BE68))+SUMPRODUCT((L41:O68=AH47)*(BF41:BF68)) -> 0 | AP47: =SUMPRODUCT((F41:I68=AH47)*(BG41:BG68))+SUMPRODUCT((L41:O68=AH47)*(BH41:BH68)) -> 0 | AQ47: =SUMPRODUCT((F41:I68=AH47)*(BI41:BI68))+SUMPRODUCT((L41:O68=AH47)*(BJ41:BJ68)) -> 0 | AR47: =SUMPRODUCT((F41:I68=AH47)*(BK41:BK68))+SUMPRODUCT((L41:O68=AH47)*(BL41:BL68)) -> 0 | AS47: =SUMPRODUCT((F41:I68=AH47)*(BM41:BM68))+SUMPRODUCT((L41:O68=AH47)*(BN41:BN68)) -> 0 | AT47: =AR47-AS47 -> 0 | AU47: =SUM(AM47*1000+(AT47)/100+(AR47)/1000) -> 0 | AV47: =AU47+0.0000002 -> 2e-07 | AW47: =E47 -> 0 | AX47: =P47 -> 0 | AY47: =IF(J47="",0,IF(J47>K47,Equipes!$J$3,IF('2 POULES DE 8'!J47='2 POULES DE 8'!K47,Equipes!$J$5,IF('2 POULES DE 8'!J47<'2 POULES DE 8'!K47,Equipes!$J$7)))) -> 0 | AZ47: =IF(K47="",0,IF(K47>J47,Equipes!$J$3,IF('2 POULES DE 8'!K47='2 POULES DE 8'!J47,Equipes!$J$5,IF('2 POULES DE 8'!K47<'2 POULES DE 8'!J47,Equipes!$J$7)))) -> 0 | BA47: =AY47-AW47 -> 0 | BB47: =AZ47-AX47 -> 0 | BC47: =IF(J47="",0,1) -> 0 | BD47: =IF(K47="",0,1) -> 0 | BE47: =IF(J47<>"",IF(J47>K47,1)) -> FALSE | BF47: =IF(K47<>"",IF(K47>J47,1)) -> FALSE | BG47: =IF(J47<>"",IF(J47=K47,1)) -> FALSE | BH47: =IF(K47<>"",IF(K47=J47,1)) -> FALSE | BI47: =IF(J47<>"",IF(J47<K47,1)) -> FALSE | BJ47: =IF(K47<>"",IF(K47<J47,1)) -> FALSE | BK47: =J47 -> 0 | BL47: =K47 -> 0 | BM47: =K47 -> 0 | BN47: =J47 -> 0 | BO47: =VLOOKUP(AF47,AG41:AK48,2,0) -> oo | BP47: =VLOOKUP(BO47,AH41:AU48,14,0) -> 0 | BQ47: =RANK(BP47,BP41:BP48) -> 1
F48: =AH48 -> pp | L48: =AH45 -> mm | Q48: =VLOOKUP(AF48,AG41:AK48,2,0) -> pp | U48: =IF(BP48=BP47,BQ47,BQ48) -> 1 | V48: =VLOOKUP(Q48,AH41:AT48,6,0) -> 0 | W48: =VLOOKUP(Q48,AH41:AT48,7,0) -> 0 | X48: =VLOOKUP(Q48,AH41:AT48,8,0) -> 0 | Y48: =VLOOKUP(Q48,AH41:AT48,9,0) -> 0 | Z48: =VLOOKUP(Q48,AH41:AT48,10,0) -> 0 | AA48: =VLOOKUP(Q48,AH41:AT48,11,0) -> 0 | AB48: =VLOOKUP(Q48,AH41:AT48,12,0) -> 0 | AC48: =VLOOKUP(Q48,AH42:AT49,13,0) -> 0 | AF48: 8 | AG48: =AL48 -> 8 | AH48: =Equipes!E12 -> pp | AL48: =RANK(AV48,AV41:AV48) -> 8 | AM48: =SUMPRODUCT((F41:I68=AH48)*(BA41:BA68))+SUMPRODUCT((L41:O68=AH48)*(BB41:BB68)) -> 0 | AN48: =SUMPRODUCT((F41:I68=AH48)*(BC41:BC68))+SUMPRODUCT((L41:O68=AH48)*(BD41:BD68)) -> 0 | AO48: =SUMPRODUCT((F41:I68=AH48)*(BE41:BE68))+SUMPRODUCT((L41:O68=AH48)*(BF41:BF68)) -> 0 | AP48: =SUMPRODUCT((F41:I68=AH48)*(BG41:BG68))+SUMPRODUCT((L41:O68=AH48)*(BH41:BH68)) -> 0 | AQ48: =SUMPRODUCT((F41:I68=AH48)*(BI41:BI68))+SUMPRODUCT((L41:O68=AH48)*(BJ41:BJ68)) -> 0 | AR48: =SUMPRODUCT((F41:I68=AH48)*(BK41:BK68))+SUMPRODUCT((L41:O68=AH48)*(BL41:BL68)) -> 0 | AS48: =SUMPRODUCT((F41:I68=AH48)*(BM41:BM68))+SUMPRODUCT((L41:O68=AH48)*(BN41:BN68)) -> 0 | AT48: =AR48-AS48 -> 0 | AU48: =SUM(AM48*1000+(AT48)/100+(AR48)/1000) -> 0 | AV48: =AU48+0.0000001 -> 1e-07 | AW48: =E48 -> 0 | AX48: =P48 -> 0 | AY48: =IF(J48="",0,IF(J48>K48,Equipes!$J$3,IF('2 POULES DE 8'!J48='2 POULES DE 8'!K48,Equipes!$J$5,IF('2 POULES DE 8'!J48<'2 POULES DE 8'!K48,Equipes!$J$7)))) -> 0 | AZ48: =IF(K48="",0,IF(K48>J48,Equipes!$J$3,IF('2 POULES DE 8'!K48='2 POULES DE 8'!J48,Equipes!$J$5,IF('2 POULES DE 8'!K48<'2 POULES DE 8'!J48,Equipes!$J$7)))) -> 0 | BA48: =AY48-AW48 -> 0 | BB48: =AZ48-AX48 -> 0 | BC48: =IF(J48="",0,1) -> 0 | BD48: =IF(K48="",0,1) -> 0 | BE48: =IF(J48<>"",IF(J48>K48,1)) -> FALSE | BF48: =IF(K48<>"",IF(K48>J48,1)) -> FALSE | BG48: =IF(J48<>"",IF(J48=K48,1)) -> FALSE | BH48: =IF(K48<>"",IF(K48=J48,1)) -> FALSE | BI48: =IF(J48<>"",IF(J48<K48,1)) -> FALSE | BJ48: =IF(K48<>"",IF(K48<J48,1)) -> FALSE | BK48: =J48 -> 0 | BL48: =K48 -> 0 | BM48: =K48 -> 0 | BN48: =J48 -> 0 | BO48: =VLOOKUP(AF48,AG41:AK48,2,0) -> pp | BP48: =VLOOKUP(BO48,AH41:AU48,14,0) -> 0 | BQ48: =RANK(BP48,BP41:BP48) -> 1
F49: =AH42 -> jj | L49: =AH46 -> nn | AW49: =E49 -> 0 | AX49: =P49 -> 0 | AY49: =IF(J49="",0,IF(J49>K49,Equipes!$J$3,IF('2 POULES DE 8'!J49='2 POULES DE 8'!K49,Equipes!$J$5,IF('2 POULES DE 8'!J49<'2 POULES DE 8'!K49,Equipes!$J$7)))) -> 0 | AZ49: =IF(K49="",0,IF(K49>J49,Equipes!$J$3,IF('2 POULES DE 8'!K49='2 POULES DE 8'!J49,Equipes!$J$5,IF('2 POULES DE 8'!K49<'2 POULES DE 8'!J49,Equipes!$J$7)))) -> 0 | BA49: =AY49-AW49 -> 0 | BB49: =AZ49-AX49 -> 0 | BC49: =IF(J49="",0,1) -> 0 | BD49: =IF(K49="",0,1) -> 0 | BE49: =IF(J49<>"",IF(J49>K49,1)) -> FALSE | BF49: =IF(K49<>"",IF(K49>J49,1)) -> FALSE | BG49: =IF(J49<>"",IF(J49=K49,1)) -> FALSE | BH49: =IF(K49<>"",IF(K49=J49,1)) -> FALSE | BI49: =IF(J49<>"",IF(J49<K49,1)) -> FALSE | BJ49: =IF(K49<>"",IF(K49<J49,1)) -> FALSE | BK49: =J49 -> 0 | BL49: =K49 -> 0 | BM49: =K49 -> 0 | BN49: =J49 -> 0
F50: =AH44 -> ll | L50: =AH41 -> ii | AW50: =E50 -> 0 | AX50: =P50 -> 0 | AY50: =IF(J50="",0,IF(J50>K50,Equipes!$J$3,IF('2 POULES DE 8'!J50='2 POULES DE 8'!K50,Equipes!$J$5,IF('2 POULES DE 8'!J50<'2 POULES DE 8'!K50,Equipes!$J$7)))) -> 0 | AZ50: =IF(K50="",0,IF(K50>J50,Equipes!$J$3,IF('2 POULES DE 8'!K50='2 POULES DE 8'!J50,Equipes!$J$5,IF('2 POULES DE 8'!K50<'2 POULES DE 8'!J50,Equipes!$J$7)))) -> 0 | BA50: =AY50-AW50 -> 0 | BB50: =AZ50-AX50 -> 0 | BC50: =IF(J50="",0,1) -> 0 | BD50: =IF(K50="",0,1) -> 0 | BE50: =IF(J50<>"",IF(J50>K50,1)) -> FALSE | BF50: =IF(K50<>"",IF(K50>J50,1)) -> FALSE | BG50: =IF(J50<>"",IF(J50=K50,1)) -> FALSE | BH50: =IF(K50<>"",IF(K50=J50,1)) -> FALSE | BI50: =IF(J50<>"",IF(J50<K50,1)) -> FALSE | BJ50: =IF(K50<>"",IF(K50<J50,1)) -> FALSE | BK50: =J50 -> 0 | BL50: =K50 -> 0 | BM50: =K50 -> 0 | BN50: =J50 -> 0
F51: =AH45 -> mm | L51: =AH43 -> kk | AW51: =E51 -> 0 | AX51: =P51 -> 0 | AY51: =IF(J51="",0,IF(J51>K51,Equipes!$J$3,IF('2 POULES DE 8'!J51='2 POULES DE 8'!K51,Equipes!$J$5,IF('2 POULES DE 8'!J51<'2 POULES DE 8'!K51,Equipes!$J$7)))) -> 0 | AZ51: =IF(K51="",0,IF(K51>J51,Equipes!$J$3,IF('2 POULES DE 8'!K51='2 POULES DE 8'!J51,Equipes!$J$5,IF('2 POULES DE 8'!K51<'2 POULES DE 8'!J51,Equipes!$J$7)))) -> 0 | BA51: =AY51-AW51 -> 0 | BB51: =AZ51-AX51 -> 0 | BC51: =IF(J51="",0,1) -> 0 | BD51: =IF(K51="",0,1) -> 0 | BE51: =IF(J51<>"",IF(J51>K51,1)) -> FALSE | BF51: =IF(K51<>"",IF(K51>J51,1)) -> FALSE | BG51: =IF(J51<>"",IF(J51=K51,1)) -> FALSE | BH51: =IF(K51<>"",IF(K51=J51,1)) -> FALSE | BI51: =IF(J51<>"",IF(J51<K51,1)) -> FALSE | BJ51: =IF(K51<>"",IF(K51<J51,1)) -> FALSE | BK51: =J51 -> 0 | BL51: =K51 -> 0 | BM51: =K51 -> 0 | BN51: =J51 -> 0
F52: =AH47 -> oo | L52: =AH48 -> pp | AW52: =E52 -> 0 | AX52: =P52 -> 0 | AY52: =IF(J52="",0,IF(J52>K52,Equipes!$J$3,IF('2 POULES DE 8'!J52='2 POULES DE 8'!K52,Equipes!$J$5,IF('2 POULES DE 8'!J52<'2 POULES DE 8'!K52,Equipes!$J$7)))) -> 0 | AZ52: =IF(K52="",0,IF(K52>J52,Equipes!$J$3,IF('2 POULES DE 8'!K52='2 POULES DE 8'!J52,Equipes!$J$5,IF('2 POULES DE 8'!K52<'2 POULES DE 8'!J52,Equipes!$J$7)))) -> 0 | BA52: =AY52-AW52 -> 0 | BB52: =AZ52-AX52 -> 0 | BC52: =IF(J52="",0,1) -> 0 | BD52: =IF(K52="",0,1) -> 0 | BE52: =IF(J52<>"",IF(J52>K52,1)) -> FALSE | BF52: =IF(K52<>"",IF(K52>J52,1)) -> FALSE | BG52: =IF(J52<>"",IF(J52=K52,1)) -> FALSE | BH52: =IF(K52<>"",IF(K52=J52,1)) -> FALSE | BI52: =IF(J52<>"",IF(J52<K52,1)) -> FALSE | BJ52: =IF(K52<>"",IF(K52<J52,1)) -> FALSE | BK52: =J52 -> 0 | BL52: =K52 -> 0 | BM52: =K52 -> 0 | BN52: =J52 -> 0
F53: =AH41 -> ii | L53: =AH45 -> mm | AW53: =E53 -> 0 | AX53: =P53 -> 0 | AY53: =IF(J53="",0,IF(J53>K53,Equipes!$J$3,IF('2 POULES DE 8'!J53='2 POULES DE 8'!K53,Equipes!$J$5,IF('2 POULES DE 8'!J53<'2 POULES DE 8'!K53,Equipes!$J$7)))) -> 0 | AZ53: =IF(K53="",0,IF(K53>J53,Equipes!$J$3,IF('2 POULES DE 8'!K53='2 POULES DE 8'!J53,Equipes!$J$5,IF('2 POULES DE 8'!K53<'2 POULES DE 8'!J53,Equipes!$J$7)))) -> 0 | BA53: =AY53-AW53 -> 0 | BB53: =AZ53-AX53 -> 0 | BC53: =IF(J53="",0,1) -> 0 | BD53: =IF(K53="",0,1) -> 0 | BE53: =IF(J53<>"",IF(J53>K53,1)) -> FALSE | BF53: =IF(K53<>"",IF(K53>J53,1)) -> FALSE | BG53: =IF(J53<>"",IF(J53=K53,1)) -> FALSE | BH53: =IF(K53<>"",IF(K53=J53,1)) -> FALSE | BI53: =IF(J53<>"",IF(J53<K53,1)) -> FALSE | BJ53: =IF(K53<>"",IF(K53<J53,1)) -> FALSE | BK53: =J53 -> 0 | BL53: =K53 -> 0 | BM53: =K53 -> 0 | BN53: =J53 -> 0
F54: =AH43 -> kk | L54: =AH47 -> oo | AW54: =E54 -> 0 | AX54: =P54 -> 0 | AY54: =IF(J54="",0,IF(J54>K54,Equipes!$J$3,IF('2 POULES DE 8'!J54='2 POULES DE 8'!K54,Equipes!$J$5,IF('2 POULES DE 8'!J54<'2 POULES DE 8'!K54,Equipes!$J$7)))) -> 0 | AZ54: =IF(K54="",0,IF(K54>J54,Equipes!$J$3,IF('2 POULES DE 8'!K54='2 POULES DE 8'!J54,Equipes!$J$5,IF('2 POULES DE 8'!K54<'2 POULES DE 8'!J54,Equipes!$J$7)))) -> 0 | BA54: =AY54-AW54 -> 0 | BB54: =AZ54-AX54 -> 0 | BC54: =IF(J54="",0,1) -> 0 | BD54: =IF(K54="",0,1) -> 0 | BE54: =IF(J54<>"",IF(J54>K54,1)) -> FALSE | BF54: =IF(K54<>"",IF(K54>J54,1)) -> FALSE | BG54: =IF(J54<>"",IF(J54=K54,1)) -> FALSE | BH54: =IF(K54<>"",IF(K54=J54,1)) -> FALSE | BI54: =IF(J54<>"",IF(J54<K54,1)) -> FALSE | BJ54: =IF(K54<>"",IF(K54<J54,1)) -> FALSE | BK54: =J54 -> 0 | BL54: =K54 -> 0 | BM54: =K54 -> 0 | BN54: =J54 -> 0
F55: =AH46 -> nn | L55: =AH44 -> ll | AW55: =E55 -> 0 | AX55: =P55 -> 0 | AY55: =IF(J55="",0,IF(J55>K55,Equipes!$J$3,IF('2 POULES DE 8'!J55='2 POULES DE 8'!K55,Equipes!$J$5,IF('2 POULES DE 8'!J55<'2 POULES DE 8'!K55,Equipes!$J$7)))) -> 0 | AZ55: =IF(K55="",0,IF(K55>J55,Equipes!$J$3,IF('2 POULES DE 8'!K55='2 POULES DE 8'!J55,Equipes!$J$5,IF('2 POULES DE 8'!K55<'2 POULES DE 8'!J55,Equipes!$J$7)))) -> 0 | BA55: =AY55-AW55 -> 0 | BB55: =AZ55-AX55 -> 0 | BC55: =IF(J55="",0,1) -> 0 | BD55: =IF(K55="",0,1) -> 0 | BE55: =IF(J55<>"",IF(J55>K55,1)) -> FALSE | BF55: =IF(K55<>"",IF(K55>J55,1)) -> FALSE | BG55: =IF(J55<>"",IF(J55=K55,1)) -> FALSE | BH55: =IF(K55<>"",IF(K55=J55,1)) -> FALSE | BI55: =IF(J55<>"",IF(J55<K55,1)) -> FALSE | BJ55: =IF(K55<>"",IF(K55<J55,1)) -> FALSE | BK55: =J55 -> 0 | BL55: =K55 -> 0 | BM55: =K55 -> 0 | BN55: =J55 -> 0
F56: =AH48 -> pp | L56: =AH42 -> jj | AW56: =E56 -> 0 | AX56: =P56 -> 0 | AY56: =IF(J56="",0,IF(J56>K56,Equipes!$J$3,IF('2 POULES DE 8'!J56='2 POULES DE 8'!K56,Equipes!$J$5,IF('2 POULES DE 8'!J56<'2 POULES DE 8'!K56,Equipes!$J$7)))) -> 0 | AZ56: =IF(K56="",0,IF(K56>J56,Equipes!$J$3,IF('2 POULES DE 8'!K56='2 POULES DE 8'!J56,Equipes!$J$5,IF('2 POULES DE 8'!K56<'2 POULES DE 8'!J56,Equipes!$J$7)))) -> 0 | BA56: =AY56-AW56 -> 0 | BB56: =AZ56-AX56 -> 0 | BC56: =IF(J56="",0,1) -> 0 | BD56: =IF(K56="",0,1) -> 0 | BE56: =IF(J56<>"",IF(J56>K56,1)) -> FALSE | BF56: =IF(K56<>"",IF(K56>J56,1)) -> FALSE | BG56: =IF(J56<>"",IF(J56=K56,1)) -> FALSE | BH56: =IF(K56<>"",IF(K56=J56,1)) -> FALSE | BI56: =IF(J56<>"",IF(J56<K56,1)) -> FALSE | BJ56: =IF(K56<>"",IF(K56<J56,1)) -> FALSE | BK56: =J56 -> 0 | BL56: =K56 -> 0 | BM56: =K56 -> 0 | BN56: =J56 -> 0
F57: =AH42 -> jj | L57: =AH43 -> kk | AW57: =E57 -> 0 | AX57: =P57 -> 0 | AY57: =IF(J57="",0,IF(J57>K57,Equipes!$J$3,IF('2 POULES DE 8'!J57='2 POULES DE 8'!K57,Equipes!$J$5,IF('2 POULES DE 8'!J57<'2 POULES DE 8'!K57,Equipes!$J$7)))) -> 0 | AZ57: =IF(K57="",0,IF(K57>J57,Equipes!$J$3,IF('2 POULES DE 8'!K57='2 POULES DE 8'!J57,Equipes!$J$5,IF('2 POULES DE 8'!K57<'2 POULES DE 8'!J57,Equipes!$J$7)))) -> 0 | BA57: =AY57-AW57 -> 0 | BB57: =AZ57-AX57 -> 0 | BC57: =IF(J57="",0,1) -> 0 | BD57: =IF(K57="",0,1) -> 0 | BE57: =IF(J57<>"",IF(J57>K57,1)) -> FALSE | BF57: =IF(K57<>"",IF(K57>J57,1)) -> FALSE | BG57: =IF(J57<>"",IF(J57=K57,1)) -> FALSE | BH57: =IF(K57<>"",IF(K57=J57,1)) -> FALSE | BI57: =IF(J57<>"",IF(J57<K57,1)) -> FALSE | BJ57: =IF(K57<>"",IF(K57<J57,1)) -> FALSE | BK57: =J57 -> 0 | BL57: =K57 -> 0 | BM57: =K57 -> 0 | BN57: =J57 -> 0
F58: =AH44 -> ll | L58: =AH48 -> pp | AW58: =E58 -> 0 | AX58: =P58 -> 0 | AY58: =IF(J58="",0,IF(J58>K58,Equipes!$J$3,IF('2 POULES DE 8'!J58='2 POULES DE 8'!K58,Equipes!$J$5,IF('2 POULES DE 8'!J58<'2 POULES DE 8'!K58,Equipes!$J$7)))) -> 0 | AZ58: =IF(K58="",0,IF(K58>J58,Equipes!$J$3,IF('2 POULES DE 8'!K58='2 POULES DE 8'!J58,Equipes!$J$5,IF('2 POULES DE 8'!K58<'2 POULES DE 8'!J58,Equipes!$J$7)))) -> 0 | BA58: =AY58-AW58 -> 0 | BB58: =AZ58-AX58 -> 0 | BC58: =IF(J58="",0,1) -> 0 | BD58: =IF(K58="",0,1) -> 0 | BE58: =IF(J58<>"",IF(J58>K58,1)) -> FALSE | BF58: =IF(K58<>"",IF(K58>J58,1)) -> FALSE | BG58: =IF(J58<>"",IF(J58=K58,1)) -> FALSE | BH58: =IF(K58<>"",IF(K58=J58,1)) -> FALSE | BI58: =IF(J58<>"",IF(J58<K58,1)) -> FALSE | BJ58: =IF(K58<>"",IF(K58<J58,1)) -> FALSE | BK58: =J58 -> 0 | BL58: =K58 -> 0 | BM58: =K58 -> 0 | BN58: =J58 -> 0
F59: =AH46 -> nn | L59: =AH41 -> ii | AW59: =E59 -> 0 | AX59: =P59 -> 0 | AY59: =IF(J59="",0,IF(J59>K59,Equipes!$J$3,IF('2 POULES DE 8'!J59='2 POULES DE 8'!K59,Equipes!$J$5,IF('2 POULES DE 8'!J59<'2 POULES DE 8'!K59,Equipes!$J$7)))) -> 0 | AZ59: =IF(K59="",0,IF(K59>J59,Equipes!$J$3,IF('2 POULES DE 8'!K59='2 POULES DE 8'!J59,Equipes!$J$5,IF('2 POULES DE 8'!K59<'2 POULES DE 8'!J59,Equipes!$J$7)))) -> 0 | BA59: =AY59-AW59 -> 0 | BB59: =AZ59-AX59 -> 0 | BC59: =IF(J59="",0,1) -> 0 | BD59: =IF(K59="",0,1) -> 0 | BE59: =IF(J59<>"",IF(J59>K59,1)) -> FALSE | BF59: =IF(K59<>"",IF(K59>J59,1)) -> FALSE | BG59: =IF(J59<>"",IF(J59=K59,1)) -> FALSE | BH59: =IF(K59<>"",IF(K59=J59,1)) -> FALSE | BI59: =IF(J59<>"",IF(J59<K59,1)) -> FALSE | BJ59: =IF(K59<>"",IF(K59<J59,1)) -> FALSE | BK59: =J59 -> 0 | BL59: =K59 -> 0 | BM59: =K59 -> 0 | BN59: =J59 -> 0
F60: =AH47 -> oo | L60: =AH45 -> mm | AW60: =E60 -> 0 | AX60: =P60 -> 0 | AY60: =IF(J60="",0,IF(J60>K60,Equipes!$J$3,IF('2 POULES DE 8'!J60='2 POULES DE 8'!K60,Equipes!$J$5,IF('2 POULES DE 8'!J60<'2 POULES DE 8'!K60,Equipes!$J$7)))) -> 0 | AZ60: =IF(K60="",0,IF(K60>J60,Equipes!$J$3,IF('2 POULES DE 8'!K60='2 POULES DE 8'!J60,Equipes!$J$5,IF('2 POULES DE 8'!K60<'2 POULES DE 8'!J60,Equipes!$J$7)))) -> 0 | BA60: =AY60-AW60 -> 0 | BB60: =AZ60-AX60 -> 0 | BC60: =IF(J60="",0,1) -> 0 | BD60: =IF(K60="",0,1) -> 0 | BE60: =IF(J60<>"",IF(J60>K60,1)) -> FALSE | BF60: =IF(K60<>"",IF(K60>J60,1)) -> FALSE | BG60: =IF(J60<>"",IF(J60=K60,1)) -> FALSE | BH60: =IF(K60<>"",IF(K60=J60,1)) -> FALSE | BI60: =IF(J60<>"",IF(J60<K60,1)) -> FALSE | BJ60: =IF(K60<>"",IF(K60<J60,1)) -> FALSE | BK60: =J60 -> 0 | BL60: =K60 -> 0 | BM60: =K60 -> 0 | BN60: =J60 -> 0
F61: =AH41 -> ii | L61: =AH47 -> oo | AW61: =E61 -> 0 | AX61: =P61 -> 0 | AY61: =IF(J61="",0,IF(J61>K61,Equipes!$J$3,IF('2 POULES DE 8'!J61='2 POULES DE 8'!K61,Equipes!$J$5,IF('2 POULES DE 8'!J61<'2 POULES DE 8'!K61,Equipes!$J$7)))) -> 0 | AZ61: =IF(K61="",0,IF(K61>J61,Equipes!$J$3,IF('2 POULES DE 8'!K61='2 POULES DE 8'!J61,Equipes!$J$5,IF('2 POULES DE 8'!K61<'2 POULES DE 8'!J61,Equipes!$J$7)))) -> 0 | BA61: =AY61-AW61 -> 0 | BB61: =AZ61-AX61 -> 0 | BC61: =IF(J61="",0,1) -> 0 | BD61: =IF(K61="",0,1) -> 0 | BE61: =IF(J61<>"",IF(J61>K61,1)) -> FALSE | BF61: =IF(K61<>"",IF(K61>J61,1)) -> FALSE | BG61: =IF(J61<>"",IF(J61=K61,1)) -> FALSE | BH61: =IF(K61<>"",IF(K61=J61,1)) -> FALSE | BI61: =IF(J61<>"",IF(J61<K61,1)) -> FALSE | BJ61: =IF(K61<>"",IF(K61<J61,1)) -> FALSE | BK61: =J61 -> 0 | BL61: =K61 -> 0 | BM61: =K61 -> 0 | BN61: =J61 -> 0
F62: =AH43 -> kk | L62: =AH44 -> ll | AW62: =E62 -> 0 | AX62: =P62 -> 0 | AY62: =IF(J62="",0,IF(J62>K62,Equipes!$J$3,IF('2 POULES DE 8'!J62='2 POULES DE 8'!K62,Equipes!$J$5,IF('2 POULES DE 8'!J62<'2 POULES DE 8'!K62,Equipes!$J$7)))) -> 0 | AZ62: =IF(K62="",0,IF(K62>J62,Equipes!$J$3,IF('2 POULES DE 8'!K62='2 POULES DE 8'!J62,Equipes!$J$5,IF('2 POULES DE 8'!K62<'2 POULES DE 8'!J62,Equipes!$J$7)))) -> 0 | BA62: =AY62-AW62 -> 0 | BB62: =AZ62-AX62 -> 0 | BC62: =IF(J62="",0,1) -> 0 | BD62: =IF(K62="",0,1) -> 0 | BE62: =IF(J62<>"",IF(J62>K62,1)) -> FALSE | BF62: =IF(K62<>"",IF(K62>J62,1)) -> FALSE | BG62: =IF(J62<>"",IF(J62=K62,1)) -> FALSE | BH62: =IF(K62<>"",IF(K62=J62,1)) -> FALSE | BI62: =IF(J62<>"",IF(J62<K62,1)) -> FALSE | BJ62: =IF(K62<>"",IF(K62<J62,1)) -> FALSE | BK62: =J62 -> 0 | BL62: =K62 -> 0 | BM62: =K62 -> 0 | BN62: =J62 -> 0
F63: =AH45 -> mm | L63: =AH42 -> jj | AW63: =E63 -> 0 | AX63: =P63 -> 0 | AY63: =IF(J63="",0,IF(J63>K63,Equipes!$J$3,IF('2 POULES DE 8'!J63='2 POULES DE 8'!K63,Equipes!$J$5,IF('2 POULES DE 8'!J63<'2 POULES DE 8'!K63,Equipes!$J$7)))) -> 0 | AZ63: =IF(K63="",0,IF(K63>J63,Equipes!$J$3,IF('2 POULES DE 8'!K63='2 POULES DE 8'!J63,Equipes!$J$5,IF('2 POULES DE 8'!K63<'2 POULES DE 8'!J63,Equipes!$J$7)))) -> 0 | BA63: =AY63-AW63 -> 0 | BB63: =AZ63-AX63 -> 0 | BC63: =IF(J63="",0,1) -> 0 | BD63: =IF(K63="",0,1) -> 0 | BE63: =IF(J63<>"",IF(J63>K63,1)) -> FALSE | BF63: =IF(K63<>"",IF(K63>J63,1)) -> FALSE | BG63: =IF(J63<>"",IF(J63=K63,1)) -> FALSE | BH63: =IF(K63<>"",IF(K63=J63,1)) -> FALSE | BI63: =IF(J63<>"",IF(J63<K63,1)) -> FALSE | BJ63: =IF(K63<>"",IF(K63<J63,1)) -> FALSE | BK63: =J63 -> 0 | BL63: =K63 -> 0 | BM63: =K63 -> 0 | BN63: =J63 -> 0
F64: =AH48 -> pp | L64: =AH46 -> nn | AW64: =E64 -> 0 | AX64: =P64 -> 0 | AY64: =IF(J64="",0,IF(J64>K64,Equipes!$J$3,IF('2 POULES DE 8'!J64='2 POULES DE 8'!K64,Equipes!$J$5,IF('2 POULES DE 8'!J64<'2 POULES DE 8'!K64,Equipes!$J$7)))) -> 0 | AZ64: =IF(K64="",0,IF(K64>J64,Equipes!$J$3,IF('2 POULES DE 8'!K64='2 POULES DE 8'!J64,Equipes!$J$5,IF('2 POULES DE 8'!K64<'2 POULES DE 8'!J64,Equipes!$J$7)))) -> 0 | BA64: =AY64-AW64 -> 0 | BB64: =AZ64-AX64 -> 0 | BC64: =IF(J64="",0,1) -> 0 | BD64: =IF(K64="",0,1) -> 0 | BE64: =IF(J64<>"",IF(J64>K64,1)) -> FALSE | BF64: =IF(K64<>"",IF(K64>J64,1)) -> FALSE | BG64: =IF(J64<>"",IF(J64=K64,1)) -> FALSE | BH64: =IF(K64<>"",IF(K64=J64,1)) -> FALSE | BI64: =IF(J64<>"",IF(J64<K64,1)) -> FALSE | BJ64: =IF(K64<>"",IF(K64<J64,1)) -> FALSE | BK64: =J64 -> 0 | BL64: =K64 -> 0 | BM64: =K64 -> 0 | BN64: =J64 -> 0
F65: =AH42 -> jj | L65: =AH47 -> oo | AW65: =E65 -> 0 | AX65: =P65 -> 0 | AY65: =IF(J65="",0,IF(J65>K65,Equipes!$J$3,IF('2 POULES DE 8'!J65='2 POULES DE 8'!K65,Equipes!$J$5,IF('2 POULES DE 8'!J65<'2 POULES DE 8'!K65,Equipes!$J$7)))) -> 0 | AZ65: =IF(K65="",0,IF(K65>J65,Equipes!$J$3,IF('2 POULES DE 8'!K65='2 POULES DE 8'!J65,Equipes!$J$5,IF('2 POULES DE 8'!K65<'2 POULES DE 8'!J65,Equipes!$J$7)))) -> 0 | BA65: =AY65-AW65 -> 0 | BB65: =AZ65-AX65 -> 0 | BC65: =IF(J65="",0,1) -> 0 | BD65: =IF(K65="",0,1) -> 0 | BE65: =IF(J65<>"",IF(J65>K65,1)) -> FALSE | BF65: =IF(K65<>"",IF(K65>J65,1)) -> FALSE | BG65: =IF(J65<>"",IF(J65=K65,1)) -> FALSE | BH65: =IF(K65<>"",IF(K65=J65,1)) -> FALSE | BI65: =IF(J65<>"",IF(J65<K65,1)) -> FALSE | BJ65: =IF(K65<>"",IF(K65<J65,1)) -> FALSE | BK65: =J65 -> 0 | BL65: =K65 -> 0 | BM65: =K65 -> 0 | BN65: =J65 -> 0
F66: =AH44 -> ll | L66: =AH45 -> mm | AW66: =E66 -> 0 | AX66: =P66 -> 0 | AY66: =IF(J66="",0,IF(J66>K66,Equipes!$J$3,IF('2 POULES DE 8'!J66='2 POULES DE 8'!K66,Equipes!$J$5,IF('2 POULES DE 8'!J66<'2 POULES DE 8'!K66,Equipes!$J$7)))) -> 0 | AZ66: =IF(K66="",0,IF(K66>J66,Equipes!$J$3,IF('2 POULES DE 8'!K66='2 POULES DE 8'!J66,Equipes!$J$5,IF('2 POULES DE 8'!K66<'2 POULES DE 8'!J66,Equipes!$J$7)))) -> 0 | BA66: =AY66-AW66 -> 0 | BB66: =AZ66-AX66 -> 0 | BC66: =IF(J66="",0,1) -> 0 | BD66: =IF(K66="",0,1) -> 0 | BE66: =IF(J66<>"",IF(J66>K66,1)) -> FALSE | BF66: =IF(K66<>"",IF(K66>J66,1)) -> FALSE | BG66: =IF(J66<>"",IF(J66=K66,1)) -> FALSE | BH66: =IF(K66<>"",IF(K66=J66,1)) -> FALSE | BI66: =IF(J66<>"",IF(J66<K66,1)) -> FALSE | BJ66: =IF(K66<>"",IF(K66<J66,1)) -> FALSE | BK66: =J66 -> 0 | BL66: =K66 -> 0 | BM66: =K66 -> 0 | BN66: =J66 -> 0
F67: =AH46 -> nn | L67: =AH43 -> kk | AW67: =E67 -> 0 | AX67: =P67 -> 0 | AY67: =IF(J67="",0,IF(J67>K67,Equipes!$J$3,IF('2 POULES DE 8'!J67='2 POULES DE 8'!K67,Equipes!$J$5,IF('2 POULES DE 8'!J67<'2 POULES DE 8'!K67,Equipes!$J$7)))) -> 0 | AZ67: =IF(K67="",0,IF(K67>J67,Equipes!$J$3,IF('2 POULES DE 8'!K67='2 POULES DE 8'!J67,Equipes!$J$5,IF('2 POULES DE 8'!K67<'2 POULES DE 8'!J67,Equipes!$J$7)))) -> 0 | BA67: =AY67-AW67 -> 0 | BB67: =AZ67-AX67 -> 0 | BC67: =IF(J67="",0,1) -> 0 | BD67: =IF(K67="",0,1) -> 0 | BE67: =IF(J67<>"",IF(J67>K67,1)) -> FALSE | BF67: =IF(K67<>"",IF(K67>J67,1)) -> FALSE | BG67: =IF(J67<>"",IF(J67=K67,1)) -> FALSE | BH67: =IF(K67<>"",IF(K67=J67,1)) -> FALSE | BI67: =IF(J67<>"",IF(J67<K67,1)) -> FALSE | BJ67: =IF(K67<>"",IF(K67<J67,1)) -> FALSE | BK67: =J67 -> 0 | BL67: =K67 -> 0 | BM67: =K67 -> 0 | BN67: =J67 -> 0
F68: =AH48 -> pp | L68: =AH41 -> ii | AW68: =E68 -> 0 | AX68: =P68 -> 0 | AY68: =IF(J68="",0,IF(J68>K68,Equipes!$J$3,IF('2 POULES DE 8'!J68='2 POULES DE 8'!K68,Equipes!$J$5,IF('2 POULES DE 8'!J68<'2 POULES DE 8'!K68,Equipes!$J$7)))) -> 0 | AZ68: =IF(K68="",0,IF(K68>J68,Equipes!$J$3,IF('2 POULES DE 8'!K68='2 POULES DE 8'!J68,Equipes!$J$5,IF('2 POULES DE 8'!K68<'2 POULES DE 8'!J68,Equipes!$J$7)))) -> 0 | BA68: =AY68-AW68 -> 0 | BB68: =AZ68-AX68 -> 0 | BC68: =IF(J68="",0,1) -> 0 | BD68: =IF(K68="",0,1) -> 0 | BE68: =IF(J68<>"",IF(J68>K68,1)) -> FALSE | BF68: =IF(K68<>"",IF(K68>J68,1)) -> FALSE | BG68: =IF(J68<>"",IF(J68=K68,1)) -> FALSE | BH68: =IF(K68<>"",IF(K68=J68,1)) -> FALSE | BI68: =IF(J68<>"",IF(J68<K68,1)) -> FALSE | BJ68: =IF(K68<>"",IF(K68<J68,1)) -> FALSE | BK68: =J68 -> 0 | BL68: =K68 -> 0 | BM68: =K68 -> 0 | BN68: =J68 -> 0

Sheet 2 POULES DE 9
C3: POULE A | Q3: CLASSEMENT | AG3: CLASSEMENT
C5: Heure | D5: Terrain | E5: Pts - | F5: Equipes | J5: Buts | K5: Buts | L5: Equipes | P5: Pts - | Q5: Equipes | U5: Rang | V5: Points | W5: J | X5: G | Y5: N | Z5: P | AA5: B + | AB5: B - | AC5: Diff | AF5: R | AG5: Equipes | AK5: Rang | AL5: Points | AM5: J | AN5: G | AO5: N | AP5: P | AQ5: B + | AR5: B - | AS5: Diff | AT5: % | AU5: % | AV5: P | AW5: P | AX5: Pts | AY5: Pts | AZ5: T Pts | BA5: T Pts | BB5: J | BC5: J | BD5: G | BE5: G | BF5: N | BG5: N | BH5: P | BI5: P | BJ5: B+ | BK5: B+ | BL5: B- | BM5: B- | BN5: Equipes | BO5: % | BP5: R
F6: =AG7 -> bb | L6: =AG6 -> aa | Q6: =VLOOKUP(AE6,AF6:AJ14,2,0) -> aa | U6: 1 | V6: =VLOOKUP(Q6,AG6:AS14,6,0) -> 0 | W6: =VLOOKUP(Q6,AG6:AS14,7,0) -> 0 | X6: =VLOOKUP(Q6,AG6:AS14,8,0) -> 0 | Y6: =VLOOKUP(Q6,AG6:AS14,9,0) -> 0 | Z6: =VLOOKUP(Q6,AG6:AS14,10,0) -> 0 | AA6: =VLOOKUP(Q6,AG6:AS14,11,0) -> 0 | AB6: =VLOOKUP(Q6,AG6:AS14,12,0) -> 0 | AC6: =VLOOKUP(Q6,AG6:AS14,13,0) -> 0 | AE6: 1 | AF6: =AK6 -> 1 | AG6: =Equipes!C18 -> aa | AK6: =RANK(AU6,AU6:AU14) -> 1 | AL6: =SUMPRODUCT((F6:I41=AG6)*(AZ6:AZ41))+SUMPRODUCT((L6:O41=AG6)*(BA6:BA41)) -> 0 | AM6: =SUMPRODUCT((F6:I41=AG6)*(BB6:BB41))+SUMPRODUCT((L6:O41=AG6)*(BC6:BC41)) -> 0 | AN6: =SUMPRODUCT((F6:I41=AG6)*(BD6:BD41))+SUMPRODUCT((L6:O41=AG6)*(BE6:BE41)) -> 0 | AO6: =SUMPRODUCT((F6:I41=AG6)*(BF6:BF41))+SUMPRODUCT((L6:O41=AG6)*(BG6:BG41)) -> 0 | AP6: =SUMPRODUCT((F6:I41=AG6)*(BH6:BH41))+SUMPRODUCT((L6:O41=AG6)*(BI6:BI41)) -> 0 | AQ6: =SUMPRODUCT((F6:I41=AG6)*(BJ6:BJ41))+SUMPRODUCT((L6:O41=AG6)*(BK6:BK41)) -> 0 | AR6: =SUMPRODUCT((F6:I41=AG6)*(BL6:BL41))+SUMPRODUCT((L6:O41=AG6)*(BM6:BM41)) -> 0 | AS6: =AQ6-AR6 -> 0 | AT6: =SUM(AL6*1000+(AS6)/100+(AQ6)/1000) -> 0 | AU6: =AT6+0.000009 -> 9e-06 | AV6: =E6 -> 0 | AW6: =P6 -> 0 | AX6: =IF(J6="",0,IF(J6>K6,Equipes!$J$16,IF('2 POULES DE 9'!J6='2 POULES DE 9'!K6,Equipes!$J$18,IF('2 POULES DE 9'!J6<'2 POULES DE 9'!K6,Equipes!$J$20)))) -> 0 | AY6: =IF(K6="",0,IF(K6>J6,Equipes!$J$16,IF('2 POULES DE 9'!K6='2 POULES DE 9'!J6,Equipes!$J$18,IF('2 POULES DE 9'!K6<'2 POULES DE 9'!J6,Equipes!$J$20)))) -> 0 | AZ6: =AX6-AV6 -> 0 | BA6: =AY6-AW6 -> 0 | BB6: =IF(J6="",0,1) -> 0 | BC6: =IF(K6="",0,1) -> 0 | BD6: =IF(J6<>"",IF(J6>K6,1)) -> FALSE | BE6: =IF(K6<>"",IF(K6>J6,1)) -> FALSE | BF6: =IF(J6<>"",IF(J6=K6,1)) -> FALSE | BG6: =IF(K6<>"",IF(K6=J6,1)) -> FALSE | BH6: =IF(J6<>"",IF(J6<K6,1)) -> FALSE | BI6: =IF(K6<>"",IF(K6<J6,1)) -> FALSE | BJ6: =J6 -> 0 | BK6: =K6 -> 0 | BL6: =K6 -> 0 | BM6: =J6 -> 0 | BN6: =VLOOKUP(AE6,AF6:AJ14,2,0) -> aa | BO6: =VLOOKUP(BN6,AG6:AT14,14,0) -> 0 | BP6: =RANK(BO6,BO6:BO14) -> 1
F7: =AG10 -> ee | L7: =AG13 -> hh | Q7: =VLOOKUP(AE7,AF6:AJ14,2,0) -> bb | U7: =IF(BO7=BO6,BP6,BP7) -> 1 | V7: =VLOOKUP(Q7,AG6:AS14,6,0) -> 0 | W7: =VLOOKUP(Q7,AG6:AS14,7,0) -> 0 | X7: =VLOOKUP(Q7,AG6:AS14,8,0) -> 0 | Y7: =VLOOKUP(Q7,AG6:AS14,9,0) -> 0 | Z7: =VLOOKUP(Q7,AG6:AS14,10,0) -> 0 | AA7: =VLOOKUP(Q7,AG6:AS14,11,0) -> 0 | AB7: =VLOOKUP(Q7,AG6:AS14,12,0) -> 0 | AC7: =VLOOKUP(Q7,AG6:AS14,13,0) -> 0 | AE7: 2 | AF7: =AK7 -> 2 | AG7: =Equipes!C19 -> bb | AK7: =RANK(AU7,AU6:AU14) -> 2 | AL7: =SUMPRODUCT((F6:I41=AG7)*(AZ6:AZ41))+SUMPRODUCT((L6:O41=AG7)*(BA6:BA41)) -> 0 | AM7: =SUMPRODUCT((F6:I41=AG7)*(BB6:BB41))+SUMPRODUCT((L6:O41=AG7)*(BC6:BC41)) -> 0 | AN7: =SUMPRODUCT((F6:I41=AG7)*(BD6:BD41))+SUMPRODUCT((L6:O41=AG7)*(BE6:BE41)) -> 0 | AO7: =SUMPRODUCT((F6:I41=AG7)*(BF6:BF41))+SUMPRODUCT((L6:O41=AG7)*(BG6:BG41)) -> 0 | AP7: =SUMPRODUCT((F6:I41=AG7)*(BH6:BH41))+SUMPRODUCT((L6:O41=AG7)*(BI6:BI41)) -> 0 | AQ7: =SUMPRODUCT((F6:I41=AG7)*(BJ6:BJ41))+SUMPRODUCT((L6:O41=AG7)*(BK6:BK41)) -> 0 | AR7: =SUMPRODUCT((F6:I41=AG7)*(BL6:BL41))+SUMPRODUCT((L6:O41=AG7)*(BM6:BM41)) -> 0 | AS7: =AQ7-AR7 -> 0 | AT7: =SUM(AL7*1000+(AS7)/100+(AQ7)/1000) -> 0 | AU7: =AT7+0.000008 -> 8e-06 | AV7: =E7 -> 0 | AW7: =P7 -> 0 | AX7: =IF(J7="",0,IF(J7>K7,Equipes!$J$16,IF('2 POULES DE 9'!J7='2 POULES DE 9'!K7,Equipes!$J$18,IF('2 POULES DE 9'!J7<'2 POULES DE 9'!K7,Equipes!$J$20)))) -> 0 | AY7: =IF(K7="",0,IF(K7>J7,Equipes!$J$16,IF('2 POULES DE 9'!K7='2 POULES DE 9'!J7,Equipes!$J$18,IF('2 POULES DE 9'!K7<'2 POULES DE 9'!J7,Equipes!$J$20)))) -> 0 | AZ7: =AX7-AV7 -> 0 | BA7: =AY7-AW7 -> 0 | BB7: =IF(J7="",0,1) -> 0 | BC7: =IF(K7="",0,1) -> 0 | BD7: =IF(J7<>"",IF(J7>K7,1)) -> FALSE | BE7: =IF(K7<>"",IF(K7>J7,1)) -> FALSE | BF7: =IF(J7<>"",IF(J7=K7,1)) -> FALSE | BG7: =IF(K7<>"",IF(K7=J7,1)) -> FALSE | BH7: =IF(J7<>"",IF(J7<K7,1)) -> FALSE | BI7: =IF(K7<>"",IF(K7<J7,1)) -> FALSE | BJ7: =J7 -> 0 | BK7: =K7 -> 0 | BL7: =K7 -> 0 | BM7: =J7 -> 0 | BN7: =VLOOKUP(AE7,AF6:AJ14,2,0) -> bb | BO7: =VLOOKUP(BN7,AG6:AT14,14,0) -> 0 | BP7: =RANK(BO7,BO6:BO14) -> 1
F8: =AG12 -> gg | L8: =AG11 -> ff | Q8: =VLOOKUP(AE8,AF6:AJ14,2,0) -> cc | U8: =IF(BO8=BO7,BP7,BP8) -> 1 | V8: =VLOOKUP(Q8,AG6:AS14,6,0) -> 0 | W8: =VLOOKUP(Q8,AG6:AS14,7,0) -> 0 | X8: =VLOOKUP(Q8,AG6:AS14,8,0) -> 0 | Y8: =VLOOKUP(Q8,AG6:AS14,9,0) -> 0 | Z8: =VLOOKUP(Q8,AG6:AS14,10,0) -> 0 | AA8: =VLOOKUP(Q8,AG6:AS14,11,0) -> 0 | AB8: =VLOOKUP(Q8,AG6:AS14,12,0) -> 0 | AC8: =VLOOKUP(Q8,AG6:AS14,13,0) -> 0 | AE8: 3 | AF8: =AK8 -> 3 | AG8: =Equipes!C20 -> cc | AK8: =RANK(AU8,AU6:AU14) -> 3 | AL8: =SUMPRODUCT((F6:I41=AG8)*(AZ6:AZ41))+SUMPRODUCT((L6:O41=AG8)*(BA6:BA41)) -> 0 | AM8: =SUMPRODUCT((F6:I41=AG8)*(BB6:BB41))+SUMPRODUCT((L6:O41=AG8)*(BC6:BC41)) -> 0 | AN8: =SUMPRODUCT((F6:I41=AG8)*(BD6:BD41))+SUMPRODUCT((L6:O41=AG8)*(BE6:BE41)) -> 0 | AO8: =SUMPRODUCT((F6:I41=AG8)*(BF6:BF41))+SUMPRODUCT((L6:O41=AG8)*(BG6:BG41)) -> 0 | AP8: =SUMPRODUCT((F6:I41=AG8)*(BH6:BH41))+SUMPRODUCT((L6:O41=AG8)*(BI6:BI41)) -> 0 | AQ8: =SUMPRODUCT((F6:I41=AG8)*(BJ6:BJ41))+SUMPRODUCT((L6:O41=AG8)*(BK6:BK41)) -> 0 | AR8: =SUMPRODUCT((F6:I41=AG8)*(BL6:BL41))+SUMPRODUCT((L6:O41=AG8)*(BM6:BM41)) -> 0 | AS8: =AQ8-AR8 -> 0 | AT8: =SUM(AL8*1000+(AS8)/100+(AQ8)/1000) -> 0 | AU8: =AT8+0.000007 -> 7e-06 | AV8: =E8 -> 0 | AW8: =P8 -> 0 | AX8: =IF(J8="",0,IF(J8>K8,Equipes!$J$16,IF('2 POULES DE 9'!J8='2 POULES DE 9'!K8,Equipes!$J$18,IF('2 POULES DE 9'!J8<'2 POULES DE 9'!K8,Equipes!$J$20)))) -> 0 | AY8: =IF(K8="",0,IF(K8>J8,Equipes!$J$16,IF('2 POULES DE 9'!K8='2 POULES DE 9'!J8,Equipes!$J$18,IF('2 POULES DE 9'!K8<'2 POULES DE 9'!J8,Equipes!$J$20)))) -> 0 | AZ8: =AX8-AV8 -> 0 | BA8: =AY8-AW8 -> 0 | BB8: =IF(J8="",0,1) -> 0 | BC8: =IF(K8="",0,1) -> 0 | BD8: =IF(J8<>"",IF(J8>K8,1)) -> FALSE | BE8: =IF(K8<>"",IF(K8>J8,1)) -> FALSE | BF8: =IF(J8<>"",IF(J8=K8,1)) -> FALSE | BG8: =IF(K8<>"",IF(K8=J8,1)) -> FALSE | BH8: =IF(J8<>"",IF(J8<K8,1)) -> FALSE | BI8: =IF(K8<>"",IF(K8<J8,1)) -> FALSE | BJ8: =J8 -> 0 | BK8: =K8 -> 0 | BL8: =K8 -> 0 | BM8: =J8 -> 0 | BN8: =VLOOKUP(AE8,AF6:AJ14,2,0) -> cc | BO8: =VLOOKUP(BN8,AG6:AT14,14,0) -> 0 | BP8: =RANK(BO8,BO6:BO14) -> 1
F9: =AG14 -> ii | L9: =AG9 -> dd | Q9: =VLOOKUP(AE9,AF6:AJ14,2,0) -> dd | U9: =IF(BO9=BO8,BP8,BP9) -> 1 | V9: =VLOOKUP(Q9,AG6:AS14,6,0) -> 0 | W9: =VLOOKUP(Q9,AG6:AS14,7,0) -> 0 | X9: =VLOOKUP(Q9,AG6:AS14,8,0) -> 0 | Y9: =VLOOKUP(Q9,AG6:AS14,9,0) -> 0 | Z9: =VLOOKUP(Q9,AG6:AS14,10,0) -> 0 | AA9: =VLOOKUP(Q9,AG6:AS14,11,0) -> 0 | AB9: =VLOOKUP(Q9,AG6:AS14,12,0) -> 0 | AC9: =VLOOKUP(Q9,AG6:AS14,13,0) -> 0 | AE9: 4 | AF9: =AK9 -> 4 | AG9: =Equipes!C21 -> dd | AK9: =RANK(AU9,AU6:AU14) -> 4 | AL9: =SUMPRODUCT((F6:I41=AG9)*(AZ6:AZ41))+SUMPRODUCT((L6:O41=AG9)*(BA6:BA41)) -> 0 | AM9: =SUMPRODUCT((F6:I41=AG9)*(BB6:BB41))+SUMPRODUCT((L6:O41=AG9)*(BC6:BC41)) -> 0 | AN9: =SUMPRODUCT((F6:I41=AG9)*(BD6:BD41))+SUMPRODUCT((L6:O41=AG9)*(BE6:BE41)) -> 0 | AO9: =SUMPRODUCT((F6:I41=AG9)*(BF6:BF41))+SUMPRODUCT((L6:O41=AG9)*(BG6:BG41)) -> 0 | AP9: =SUMPRODUCT((F6:I41=AG9)*(BH6:BH41))+SUMPRODUCT((L6:O41=AG9)*(BI6:BI41)) -> 0 | AQ9: =SUMPRODUCT((F6:I41=AG9)*(BJ6:BJ41))+SUMPRODUCT((L6:O41=AG9)*(BK6:BK41)) -> 0 | AR9: =SUMPRODUCT((F6:I41=AG9)*(BL6:BL41))+SUMPRODUCT((L6:O41=AG9)*(BM6:BM41)) -> 0 | AS9: =AQ9-AR9 -> 0 | AT9: =SUM(AL9*1000+(AS9)/100+(AQ9)/1000) -> 0 | AU9: =AT9+0.000006 -> 6e-06 | AV9: =E9 -> 0 | AW9: =P9 -> 0 | AX9: =IF(J9="",0,IF(J9>K9,Equipes!$J$16,IF('2 POULES DE 9'!J9='2 POULES DE 9'!K9,Equipes!$J$18,IF('2 POULES DE 9'!J9<'2 POULES DE 9'!K9,Equipes!$J$20)))) -> 0 | AY9: =IF(K9="",0,IF(K9>J9,Equipes!$J$16,IF('2 POULES DE 9'!K9='2 POULES DE 9'!J9,Equipes!$J$18,IF('2 POULES DE 9'!K9<'2 POULES DE 9'!J9,Equipes!$J$20)))) -> 0 | AZ9: =AX9-AV9 -> 0 | BA9: =AY9-AW9 -> 0 | BB9: =IF(J9="",0,1) -> 0 | BC9: =IF(K9="",0,1) -> 0 | BD9: =IF(J9<>"",IF(J9>K9,1)) -> FALSE | BE9: =IF(K9<>"",IF(K9>J9,1)) -> FALSE | BF9: =IF(J9<>"",IF(J9=K9,1)) -> FALSE | BG9: =IF(K9<>"",IF(K9=J9,1)) -> FALSE | BH9: =IF(J9<>"",IF(J9<K9,1)) -> FALSE | BI9: =IF(K9<>"",IF(K9<J9,1)) -> FALSE | BJ9: =J9 -> 0 | BK9: =K9 -> 0 | BL9: =K9 -> 0 | BM9: =J9 -> 0 | BN9: =VLOOKUP(AE9,AF6:AJ14,2,0) -> dd | BO9: =VLOOKUP(BN9,AG6:AT14,14,0) -> 0 | BP9: =RANK(BO9,BO6:BO14) -> 1
F10: =AG6 -> aa | L10: =AG8 -> cc | Q10: =VLOOKUP(AE10,AF6:AJ14,2,0) -> ee | U10: =IF(BO10=BO9,BP9,BP10) -> 1 | V10: =VLOOKUP(Q10,AG6:AS14,6,0) -> 0 | W10: =VLOOKUP(Q10,AG6:AS14,7,0) -> 0 | X10: =VLOOKUP(Q10,AG6:AS14,8,0) -> 0 | Y10: =VLOOKUP(Q10,AG6:AS14,9,0) -> 0 | Z10: =VLOOKUP(Q10,AG6:AS14,10,0) -> 0 | AA10: =VLOOKUP(Q10,AG6:AS14,11,0) -> 0 | AB10: =VLOOKUP(Q10,AG6:AS14,12,0) -> 0 | AC10: =VLOOKUP(Q10,AG6:AS14,13,0) -> 0 | AE10: 5 | AF10: =AK10 -> 5 | AG10: =Equipes!C22 -> ee | AK10: =RANK(AU10,AU6:AU14) -> 5 | AL10: =SUMPRODUCT((F6:I41=AG10)*(AZ6:AZ41))+SUMPRODUCT((L6:O41=AG10)*(BA6:BA41)) -> 0 | AM10: =SUMPRODUCT((F6:I41=AG10)*(BB6:BB41))+SUMPRODUCT((L6:O41=AG10)*(BC6:BC41)) -> 0 | AN10: =SUMPRODUCT((F6:I41=AG10)*(BD6:BD41))+SUMPRODUCT((L6:O41=AG10)*(BE6:BE41)) -> 0 | AO10: =SUMPRODUCT((F6:I41=AG10)*(BF6:BF41))+SUMPRODUCT((L6:O41=AG10)*(BG6:BG41)) -> 0 | AP10: =SUMPRODUCT((F6:I41=AG10)*(BH6:BH41))+SUMPRODUCT((L6:O41=AG10)*(BI6:BI41)) -> 0 | AQ10: =SUMPRODUCT((F6:I41=AG10)*(BJ6:BJ41))+SUMPRODUCT((L6:O41=AG10)*(BK6:BK41)) -> 0 | AR10: =SUMPRODUCT((F6:I41=AG10)*(BL6:BL41))+SUMPRODUCT((L6:O41=AG10)*(BM6:BM41)) -> 0 | AS10: =AQ10-AR10 -> 0 | AT10: =SUM(AL10*1000+(AS10)/100+(AQ10)/1000) -> 0 | AU10: =AT10+0.000005 -> 5e-06 | AV10: =E10 -> 0 | AW10: =P10 -> 0 | AX10: =IF(J10="",0,IF(J10>K10,Equipes!$J$16,IF('2 POULES DE 9'!J10='2 POULES DE 9'!K10,Equipes!$J$18,IF('2 POULES DE 9'!J10<'2 POULES DE 9'!K10,Equipes!$J$20)))) -> 0 | AY10: =IF(K10="",0,IF(K10>J10,Equipes!$J$16,IF('2 POULES DE 9'!K10='2 POULES DE 9'!J10,Equipes!$J$18,IF('2 POULES DE 9'!K10<'2 POULES DE 9'!J10,Equipes!$J$20)))) -> 0 | AZ10: =AX10-AV10 -> 0 | BA10: =AY10-AW10 -> 0 | BB10: =IF(J10="",0,1) -> 0 | BC10: =IF(K10="",0,1) -> 0 | BD10: =IF(J10<>"",IF(J10>K10,1)) -> FALSE | BE10: =IF(K10<>"",IF(K10>J10,1)) -> FALSE | BF10: =IF(J10<>"",IF(J10=K10,1)) -> FALSE | BG10: =IF(K10<>"",IF(K10=J10,1)) -> FALSE | BH10: =IF(J10<>"",IF(J10<K10,1)) -> FALSE | BI10: =IF(K10<>"",IF(K10<J10,1)) -> FALSE | BJ10: =J10 -> 0 | BK10: =K10 -> 0 | BL10: =K10 -> 0 | BM10: =J10 -> 0 | BN10: =VLOOKUP(AE10,AF6:AJ14,2,0) -> ee | BO10: =VLOOKUP(BN10,AG6:AT14,14,0) -> 0 | BP10: =RANK(BO10,BO6:BO14) -> 1
F11: =AG9 -> dd | L11: =AG7 -> bb | Q11: =VLOOKUP(AE11,AF6:AJ14,2,0) -> ff | U11: =IF(BO11=BO10,BP10,BP11) -> 1 | V11: =VLOOKUP(Q11,AG6:AS14,6,0) -> 0 | W11: =VLOOKUP(Q11,AG6:AS14,7,0) -> 0 | X11: =VLOOKUP(Q11,AG6:AS14,8,0) -> 0 | Y11: =VLOOKUP(Q11,AG6:AS14,9,0) -> 0 | Z11: =VLOOKUP(Q11,AG6:AS14,10,0) -> 0 | AA11: =VLOOKUP(Q11,AG6:AS14,11,0) -> 0 | AB11: =VLOOKUP(Q11,AG6:AS14,12,0) -> 0 | AC11: =VLOOKUP(Q11,AG6:AS14,13,0) -> 0 | AE11: 6 | AF11: =AK11 -> 6 | AG11: =Equipes!C23 -> ff | AK11: =RANK(AU11,AU6:AU14) -> 6 | AL11: =SUMPRODUCT((F6:I41=AG11)*(AZ6:AZ41))+SUMPRODUCT((L6:O41=AG11)*(BA6:BA41)) -> 0 | AM11: =SUMPRODUCT((F6:I41=AG11)*(BB6:BB41))+SUMPRODUCT((L6:O41=AG11)*(BC6:BC41)) -> 0 | AN11: =SUMPRODUCT((F6:I41=AG11)*(BD6:BD41))+SUMPRODUCT((L6:O41=AG11)*(BE6:BE41)) -> 0 | AO11: =SUMPRODUCT((F6:I41=AG11)*(BF6:BF41))+SUMPRODUCT((L6:O41=AG11)*(BG6:BG41)) -> 0 | AP11: =SUMPRODUCT((F6:I41=AG11)*(BH6:BH41))+SUMPRODUCT((L6:O41=AG11)*(BI6:BI41)) -> 0 | AQ11: =SUMPRODUCT((F6:I41=AG11)*(BJ6:BJ41))+SUMPRODUCT((L6:O41=AG11)*(BK6:BK41)) -> 0 | AR11: =SUMPRODUCT((F6:I41=AG11)*(BL6:BL41))+SUMPRODUCT((L6:O41=AG11)*(BM6:BM41)) -> 0 | AS11: =AQ11-AR11 -> 0 | AT11: =SUM(AL11*1000+(AS11)/100+(AQ11)/1000) -> 0 | AU11: =AT11+0.000004 -> 4e-06 | AV11: =E11 -> 0 | AW11: =P11 -> 0 | AX11: =IF(J11="",0,IF(J11>K11,Equipes!$J$16,IF('2 POULES DE 9'!J11='2 POULES DE 9'!K11,Equipes!$J$18,IF('2 POULES DE 9'!J11<'2 POULES DE 9'!K11,Equipes!$J$20)))) -> 0 | AY11: =IF(K11="",0,IF(K11>J11,Equipes!$J$16,IF('2 POULES DE 9'!K11='2 POULES DE 9'!J11,Equipes!$J$18,IF('2 POULES DE 9'!K11<'2 POULES DE 9'!J11,Equipes!$J$20)))) -> 0 | AZ11: =AX11-AV11 -> 0 | BA11: =AY11-AW11 -> 0 | BB11: =IF(J11="",0,1) -> 0 | BC11: =IF(K11="",0,1) -> 0 | BD11: =IF(J11<>"",IF(J11>K11,1)) -> FALSE | BE11: =IF(K11<>"",IF(K11>J11,1)) -> FALSE | BF11: =IF(J11<>"",IF(J11=K11,1)) -> FALSE | BG11: =IF(K11<>"",IF(K11=J11,1)) -> FALSE | BH11: =IF(J11<>"",IF(J11<K11,1)) -> FALSE | BI11: =IF(K11<>"",IF(K11<J11,1)) -> FALSE | BJ11: =J11 -> 0 | BK11: =K11 -> 0 | BL11: =K11 -> 0 | BM11: =J11 -> 0 | BN11: =VLOOKUP(AE11,AF6:AJ14,2,0) -> ff | BO11: =VLOOKUP(BN11,AG6:AT14,14,0) -> 0 | BP11: =RANK(BO11,BO6:BO14) -> 1
F12: =AG11 -> ff | L12: =AG14 -> ii | Q12: =VLOOKUP(AE12,AF6:AJ14,2,0) -> gg | U12: =IF(BO12=BO11,BP11,BP12) -> 1 | V12: =VLOOKUP(Q12,AG6:AS14,6,0) -> 0 | W12: =VLOOKUP(Q12,AG6:AS14,7,0) -> 0 | X12: =VLOOKUP(Q12,AG6:AS14,8,0) -> 0 | Y12: =VLOOKUP(Q12,AG6:AS14,9,0) -> 0 | Z12: =VLOOKUP(Q12,AG6:AS14,10,0) -> 0 | AA12: =VLOOKUP(Q12,AG6:AS14,11,0) -> 0 | AB12: =VLOOKUP(Q12,AG6:AS14,12,0) -> 0 | AC12: =VLOOKUP(Q12,AG6:AS14,13,0) -> 0 | AE12: 7 | AF12: =AK12 -> 7 | AG12: =Equipes!C24 -> gg | AK12: =RANK(AU12,AU6:AU14) -> 7 | AL12: =SUMPRODUCT((F6:I41=AG12)*(AZ6:AZ41))+SUMPRODUCT((L6:O41=AG12)*(BA6:BA41)) -> 0 | AM12: =SUMPRODUCT((F6:I41=AG12)*(BB6:BB41))+SUMPRODUCT((L6:O41=AG12)*(BC6:BC41)) -> 0 | AN12: =SUMPRODUCT((F6:I41=AG12)*(BD6:BD41))+SUMPRODUCT((L6:O41=AG12)*(BE6:BE41)) -> 0 | AO12: =SUMPRODUCT((F6:I41=AG12)*(BF6:BF41))+SUMPRODUCT((L6:O41=AG12)*(BG6:BG41)) -> 0 | AP12: =SUMPRODUCT((F6:I41=AG12)*(BH6:BH41))+SUMPRODUCT((L6:O41=AG12)*(BI6:BI41)) -> 0 | AQ12: =SUMPRODUCT((F6:I41=AG12)*(BJ6:BJ41))+SUMPRODUCT((L6:O41=AG12)*(BK6:BK41)) -> 0 | AR12: =SUMPRODUCT((F6:I41=AG12)*(BL6:BL41))+SUMPRODUCT((L6:O41=AG12)*(BM6:BM41)) -> 0 | AS12: =AQ12-AR12 -> 0 | AT12: =SUM(AL12*1000+(AS12)/100+(AQ12)/1000) -> 0 | AU12: =AT12+0.000003 -> 3e-06 | AV12: =E12 -> 0 | AW12: =P12 -> 0 | AX12: =IF(J12="",0,IF(J12>K12,Equipes!$J$16,IF('2 POULES DE 9'!J12='2 POULES DE 9'!K12,Equipes!$J$18,IF('2 POULES DE 9'!J12<'2 POULES DE 9'!K12,Equipes!$J$20)))) -> 0 | AY12: =IF(K12="",0,IF(K12>J12,Equipes!$J$16,IF('2 POULES DE 9'!K12='2 POULES DE 9'!J12,Equipes!$J$18,IF('2 POULES DE 9'!K12<'2 POULES DE 9'!J12,Equipes!$J$20)))) -> 0 | AZ12: =AX12-AV12 -> 0 | BA12: =AY12-AW12 -> 0 | BB12: =IF(J12="",0,1) -> 0 | BC12: =IF(K12="",0,1) -> 0 | BD12: =IF(J12<>"",IF(J12>K12,1)) -> FALSE | BE12: =IF(K12<>"",IF(K12>J12,1)) -> FALSE | BF12: =IF(J12<>"",IF(J12=K12,1)) -> FALSE | BG12: =IF(K12<>"",IF(K12=J12,1)) -> FALSE | BH12: =IF(J12<>"",IF(J12<K12,1)) -> FALSE | BI12: =IF(K12<>"",IF(K12<J12,1)) -> FALSE | BJ12: =J12 -> 0 | BK12: =K12 -> 0 | BL12: =K12 -> 0 | BM12: =J12 -> 0 | BN12: =VLOOKUP(AE12,AF6:AJ14,2,0) -> gg | BO12: =VLOOKUP(BN12,AG6:AT14,14,0) -> 0 | BP12: =RANK(BO12,BO6:BO14) -> 1
F13: =AG13 -> hh | L13: =AG12 -> gg | Q13: =VLOOKUP(AE13,AF6:AJ14,2,0) -> hh | U13: =IF(BO13=BO12,BP12,BP13) -> 1 | V13: =VLOOKUP(Q13,AG6:AS14,6,0) -> 0 | W13: =VLOOKUP(Q13,AG6:AS14,7,0) -> 0 | X13: =VLOOKUP(Q13,AG6:AS14,8,0) -> 0 | Y13: =VLOOKUP(Q13,AG6:AS14,9,0) -> 0 | Z13: =VLOOKUP(Q13,AG6:AS14,10,0) -> 0 | AA13: =VLOOKUP(Q13,AG6:AS14,11,0) -> 0 | AB13: =VLOOKUP(Q13,AG6:AS14,12,0) -> 0 | AC13: =VLOOKUP(Q13,AG6:AS14,13,0) -> 0 | AE13: 8 | AF13: =AK13 -> 8 | AG13: =Equipes!C25 -> hh | AK13: =RANK(AU13,AU6:AU14) -> 8 | AL13: =SUMPRODUCT((F6:I41=AG13)*(AZ6:AZ41))+SUMPRODUCT((L6:O41=AG13)*(BA6:BA41)) -> 0 | AM13: =SUMPRODUCT((F6:I41=AG13)*(BB6:BB41))+SUMPRODUCT((L6:O41=AG13)*(BC6:BC41)) -> 0 | AN13: =SUMPRODUCT((F6:I41=AG13)*(BD6:BD41))+SUMPRODUCT((L6:O41=AG13)*(BE6:BE41)) -> 0 | AO13: =SUMPRODUCT((F6:I41=AG13)*(BF6:BF41))+SUMPRODUCT((L6:O41=AG13)*(BG6:BG41)) -> 0 | AP13: =SUMPRODUCT((F6:I41=AG13)*(BH6:BH41))+SUMPRODUCT((L6:O41=AG13)*(BI6:BI41)) -> 0 | AQ13: =SUMPRODUCT((F6:I41=AG13)*(BJ6:BJ41))+SUMPRODUCT((L6:O41=AG13)*(BK6:BK41)) -> 0 | AR13: =SUMPRODUCT((F6:I41=AG13)*(BL6:BL41))+SUMPRODUCT((L6:O41=AG13)*(BM6:BM41)) -> 0 | AS13: =AQ13-AR13 -> 0 | AT13: =SUM(AL13*1000+(AS13)/100+(AQ13)/1000) -> 0 | AU13: =AT13+0.000002 -> 2e-06 | AV13: =E13 -> 0 | AW13: =P13 -> 0 | AX13: =IF(J13="",0,IF(J13>K13,Equipes!$J$16,IF('2 POULES DE 9'!J13='2 POULES DE 9'!K13,Equipes!$J$18,IF('2 POULES DE 9'!J13<'2 POULES DE 9'!K13,Equipes!$J$20)))) -> 0 | AY13: =IF(K13="",0,IF(K13>J13,Equipes!$J$16,IF('2 POULES DE 9'!K13='2 POULES DE 9'!J13,Equipes!$J$18,IF('2 POULES DE 9'!K13<'2 POULES DE 9'!J13,Equipes!$J$20)))) -> 0 | AZ13: =AX13-AV13 -> 0 | BA13: =AY13-AW13 -> 0 | BB13: =IF(J13="",0,1) -> 0 | BC13: =IF(K13="",0,1) -> 0 | BD13: =IF(J13<>"",IF(J13>K13,1)) -> FALSE | BE13: =IF(K13<>"",IF(K13>J13,1)) -> FALSE | BF13: =IF(J13<>"",IF(J13=K13,1)) -> FALSE | BG13: =IF(K13<>"",IF(K13=J13,1)) -> FALSE | BH13: =IF(J13<>"",IF(J13<K13,1)) -> FALSE | BI13: =IF(K13<>"",IF(K13<J13,1)) -> FALSE | BJ13: =J13 -> 0 | BK13: =K13 -> 0 | BL13: =K13 -> 0 | BM13: =J13 -> 0 | BN13: =VLOOKUP(AE13,AF6:AJ14,2,0) -> hh | BO13: =VLOOKUP(BN13,AG6:AT14,14,0) -> 0 | BP13: =RANK(BO13,BO6:BO14) -> 1
F14: =AG7 -> bb | L14: =AG11 -> ff | Q14: =VLOOKUP(AE14,AF6:AJ14,2,0) -> ii | U14: =IF(BO14=BO13,BP13,BP14) -> 1 | V14: =VLOOKUP(Q14,AG6:AS14,6,0) -> 0 | W14: =VLOOKUP(Q14,AG6:AS14,7,0) -> 0 | X14: =VLOOKUP(Q14,AG6:AS14,8,0) -> 0 | Y14: =VLOOKUP(Q14,AG6:AS14,9,0) -> 0 | Z14: =VLOOKUP(Q14,AG6:AS14,10,0) -> 0 | AA14: =VLOOKUP(Q14,AG6:AS14,11,0) -> 0 | AB14: =VLOOKUP(Q14,AG6:AS14,12,0) -> 0 | AC14: =VLOOKUP(Q14,AG6:AS14,13,0) -> 0 | AE14: 9 | AF14: =AK14 -> 9 | AG14: =Equipes!C26 -> ii | AK14: =RANK(AU14,AU6:AU14) -> 9 | AL14: =SUMPRODUCT((F6:I41=AG14)*(AZ6:AZ41))+SUMPRODUCT((L6:O41=AG14)*(BA6:BA41)) -> 0 | AM14: =SUMPRODUCT((F6:I41=AG14)*(BB6:BB41))+SUMPRODUCT((L6:O41=AG14)*(BC6:BC41)) -> 0 | AN14: =SUMPRODUCT((F6:I41=AG14)*(BD6:BD41))+SUMPRODUCT((L6:O41=AG14)*(BE6:BE41)) -> 0 | AO14: =SUMPRODUCT((F6:I41=AG14)*(BF6:BF41))+SUMPRODUCT((L6:O41=AG14)*(BG6:BG41)) -> 0 | AP14: =SUMPRODUCT((F6:I41=AG14)*(BH6:BH41))+SUMPRODUCT((L6:O41=AG14)*(BI6:BI41)) -> 0 | AQ14: =SUMPRODUCT((F6:I41=AG14)*(BJ6:BJ41))+SUMPRODUCT((L6:O41=AG14)*(BK6:BK41)) -> 0 | AR14: =SUMPRODUCT((F6:I41=AG14)*(BL6:BL41))+SUMPRODUCT((L6:O41=AG14)*(BM6:BM41)) -> 0 | AS14: =AQ14-AR14 -> 0 | AT14: =SUM(AL14*1000+(AS14)/100+(AQ14)/1000) -> 0 | AU14: =AT14+0.000001 -> 1e-06 | AV14: =E14 -> 0 | AW14: =P14 -> 0 | AX14: =IF(J14="",0,IF(J14>K14,Equipes!$J$16,IF('2 POULES DE 9'!J14='2 POULES DE 9'!K14,Equipes!$J$18,IF('2 POULES DE 9'!J14<'2 POULES DE 9'!K14,Equipes!$J$20)))) -> 0 | AY14: =IF(K14="",0,IF(K14>J14,Equipes!$J$16,IF('2 POULES DE 9'!K14='2 POULES DE 9'!J14,Equipes!$J$18,IF('2 POULES DE 9'!K14<'2 POULES DE 9'!J14,Equipes!$J$20)))) -> 0 | AZ14: =AX14-AV14 -> 0 | BA14: =AY14-AW14 -> 0 | BB14: =IF(J14="",0,1) -> 0 | BC14: =IF(K14="",0,1) -> 0 | BD14: =IF(J14<>"",IF(J14>K14,1)) -> FALSE | BE14: =IF(K14<>"",IF(K14>J14,1)) -> FALSE | BF14: =IF(J14<>"",IF(J14=K14,1)) -> FALSE | BG14: =IF(K14<>"",IF(K14=J14,1)) -> FALSE | BH14: =IF(J14<>"",IF(J14<K14,1)) -> FALSE | BI14: =IF(K14<>"",IF(K14<J14,1)) -> FALSE | BJ14: =J14 -> 0 | BK14: =K14 -> 0 | BL14: =K14 -> 0 | BM14: =J14 -> 0 | BN14: =VLOOKUP(AE14,AF6:AJ14,2,0) -> ii | BO14: =VLOOKUP(BN14,AG6:AT14,14,0) -> 0 | BP14: =RANK(BO14,BO6:BO14) -> 1
F15: =AG9 -> dd | L15: =AG6 -> aa | AV15: =E15 -> 0 | AW15: =P15 -> 0 | AX15: =IF(J15="",0,IF(J15>K15,Equipes!$J$16,IF('2 POULES DE 9'!J15='2 POULES DE 9'!K15,Equipes!$J$18,IF('2 POULES DE 9'!J15<'2 POULES DE 9'!K15,Equipes!$J$20)))) -> 0 | AY15: =IF(K15="",0,IF(K15>J15,Equipes!$J$16,IF('2 POULES DE 9'!K15='2 POULES DE 9'!J15,Equipes!$J$18,IF('2 POULES DE 9'!K15<'2 POULES DE 9'!J15,Equipes!$J$20)))) -> 0 | AZ15: =AX15-AV15 -> 0 | BA15: =AY15-AW15 -> 0 | BB15: =IF(J15="",0,1) -> 0 | BC15: =IF(K15="",0,1) -> 0 | BD15: =IF(J15<>"",IF(J15>K15,1)) -> FALSE | BE15: =IF(K15<>"",IF(K15>J15,1)) -> FALSE | BF15: =IF(J15<>"",IF(J15=K15,1)) -> FALSE | BG15: =IF(K15<>"",IF(K15=J15,1)) -> FALSE | BH15: =IF(J15<>"",IF(J15<K15,1)) -> FALSE | BI15: =IF(K15<>"",IF(K15<J15,1)) -> FALSE | BJ15: =J15 -> 0 | BK15: =K15 -> 0 | BL15: =K15 -> 0 | BM15: =J15 -> 0
F16: =AG10 -> ee | L16: =AG8 -> cc | AV16: =E16 -> 0 | AW16: =P16 -> 0 | AX16: =IF(J16="",0,IF(J16>K16,Equipes!$J$16,IF('2 POULES DE 9'!J16='2 POULES DE 9'!K16,Equipes!$J$18,IF('2 POULES DE 9'!J16<'2 POULES DE 9'!K16,Equipes!$J$20)))) -> 0 | AY16: =IF(K16="",0,IF(K16>J16,Equipes!$J$16,IF('2 POULES DE 9'!K16='2 POULES DE 9'!J16,Equipes!$J$18,IF('2 POULES DE 9'!K16<'2 POULES DE 9'!J16,Equipes!$J$20)))) -> 0 | AZ16: =AX16-AV16 -> 0 | BA16: =AY16-AW16 -> 0 | BB16: =IF(J16="",0,1) -> 0 | BC16: =IF(K16="",0,1) -> 0 | BD16: =IF(J16<>"",IF(J16>K16,1)) -> FALSE | BE16: =IF(K16<>"",IF(K16>J16,1)) -> FALSE | BF16: =IF(J16<>"",IF(J16=K16,1)) -> FALSE | BG16: =IF(K16<>"",IF(K16=J16,1)) -> FALSE | BH16: =IF(J16<>"",IF(J16<K16,1)) -> FALSE | BI16: =IF(K16<>"",IF(K16<J16,1)) -> FALSE | BJ16: =J16 -> 0 | BK16: =K16 -> 0 | BL16: =K16 -> 0 | BM16: =J16 -> 0
F17: =AG14 -> ii | L17: =AG13 -> hh | AV17: =E17 -> 0 | AW17: =P17 -> 0 | AX17: =IF(J17="",0,IF(J17>K17,Equipes!$J$16,IF('2 POULES DE 9'!J17='2 POULES DE 9'!K17,Equipes!$J$18,IF('2 POULES DE 9'!J17<'2 POULES DE 9'!K17,Equipes!$J$20)))) -> 0 | AY17: =IF(K17="",0,IF(K17>J17,Equipes!$J$16,IF('2 POULES DE 9'!K17='2 POULES DE 9'!J17,Equipes!$J$18,IF('2 POULES DE 9'!K17<'2 POULES DE 9'!J17,Equipes!$J$20)))) -> 0 | AZ17: =AX17-AV17 -> 0 | BA17: =AY17-AW17 -> 0 | BB17: =IF(J17="",0,1) -> 0 | BC17: =IF(K17="",0,1) -> 0 | BD17: =IF(J17<>"",IF(J17>K17,1)) -> FALSE | BE17: =IF(K17<>"",IF(K17>J17,1)) -> FALSE | BF17: =IF(J17<>"",IF(J17=K17,1)) -> FALSE | BG17: =IF(K17<>"",IF(K17=J17,1)) -> FALSE | BH17: =IF(J17<>"",IF(J17<K17,1)) -> FALSE | BI17: =IF(K17<>"",IF(K17<J17,1)) -> FALSE | BJ17: =J17 -> 0 | BK17: =K17 -> 0 | BL17: =K17 -> 0 | BM17: =J17 -> 0
F18: =AG6 -> aa | L18: =AG10 -> ee | AV18: =E18 -> 0 | AW18: =P18 -> 0 | AX18: =IF(J18="",0,IF(J18>K18,Equipes!$J$16,IF('2 POULES DE 9'!J18='2 POULES DE 9'!K18,Equipes!$J$18,IF('2 POULES DE 9'!J18<'2 POULES DE 9'!K18,Equipes!$J$20)))) -> 0 | AY18: =IF(K18="",0,IF(K18>J18,Equipes!$J$16,IF('2 POULES DE 9'!K18='2 POULES DE 9'!J18,Equipes!$J$18,IF('2 POULES DE 9'!K18<'2 POULES DE 9'!J18,Equipes!$J$20)))) -> 0 | AZ18: =AX18-AV18 -> 0 | BA18: =AY18-AW18 -> 0 | BB18: =IF(J18="",0,1) -> 0 | BC18: =IF(K18="",0,1) -> 0 | BD18: =IF(J18<>"",IF(J18>K18,1)) -> FALSE | BE18: =IF(K18<>"",IF(K18>J18,1)) -> FALSE | BF18: =IF(J18<>"",IF(J18=K18,1)) -> FALSE | BG18: =IF(K18<>"",IF(K18=J18,1)) -> FALSE | BH18: =IF(J18<>"",IF(J18<K18,1)) -> FALSE | BI18: =IF(K18<>"",IF(K18<J18,1)) -> FALSE | BJ18: =J18 -> 0 | BK18: =K18 -> 0 | BL18: =K18 -> 0 | BM18: =J18 -> 0
F19: =AG8 -> cc | L19: =AG12 -> gg | AV19: =E19 -> 0 | AW19: =P19 -> 0 | AX19: =IF(J19="",0,IF(J19>K19,Equipes!$J$16,IF('2 POULES DE 9'!J19='2 POULES DE 9'!K19,Equipes!$J$18,IF('2 POULES DE 9'!J19<'2 POULES DE 9'!K19,Equipes!$J$20)))) -> 0 | AY19: =IF(K19="",0,IF(K19>J19,Equipes!$J$16,IF('2 POULES DE 9'!K19='2 POULES DE 9'!J19,Equipes!$J$18,IF('2 POULES DE 9'!K19<'2 POULES DE 9'!J19,Equipes!$J$20)))) -> 0 | AZ19: =AX19-AV19 -> 0 | BA19: =AY19-AW19 -> 0 | BB19: =IF(J19="",0,1) -> 0 | BC19: =IF(K19="",0,1) -> 0 | BD19: =IF(J19<>"",IF(J19>K19,1)) -> FALSE | BE19: =IF(K19<>"",IF(K19>J19,1)) -> FALSE | BF19: =IF(J19<>"",IF(J19=K19,1)) -> FALSE | BG19: =IF(K19<>"",IF(K19=J19,1)) -> FALSE | BH19: =IF(J19<>"",IF(J19<K19,1)) -> FALSE | BI19: =IF(K19<>"",IF(K19<J19,1)) -> FALSE | BJ19: =J19 -> 0 | BK19: =K19 -> 0 | BL19: =K19 -> 0 | BM19: =J19 -> 0
F20: =AG11 -> ff | L20: =AG9 -> dd | AV20: =E20 -> 0 | AW20: =P20 -> 0 | AX20: =IF(J20="",0,IF(J20>K20,Equipes!$J$16,IF('2 POULES DE 9'!J20='2 POULES DE 9'!K20,Equipes!$J$18,IF('2 POULES DE 9'!J20<'2 POULES DE 9'!K20,Equipes!$J$20)))) -> 0 | AY20: =IF(K20="",0,IF(K20>J20,Equipes!$J$16,IF('2 POULES DE 9'!K20='2 POULES DE 9'!J20,Equipes!$J$18,IF('2 POULES DE 9'!K20<'2 POULES DE 9'!J20,Equipes!$J$20)))) -> 0 | AZ20: =AX20-AV20 -> 0 | BA20: =AY20-AW20 -> 0 | BB20: =IF(J20="",0,1) -> 0 | BC20: =IF(K20="",0,1) -> 0 | BD20: =IF(J20<>"",IF(J20>K20,1)) -> FALSE | BE20: =IF(K20<>"",IF(K20>J20,1)) -> FALSE | BF20: =IF(J20<>"",IF(J20=K20,1)) -> FALSE | BG20: =IF(K20<>"",IF(K20=J20,1)) -> FALSE | BH20: =IF(J20<>"",IF(J20<K20,1)) -> FALSE | BI20: =IF(K20<>"",IF(K20<J20,1)) -> FALSE | BJ20: =J20 -> 0 | BK20: =K20 -> 0 | BL20: =K20 -> 0 | BM20: =J20 -> 0
F21: =AG13 -> hh | L21: =AG7 -> bb | AV21: =E21 -> 0 | AW21: =P21 -> 0 | AX21: =IF(J21="",0,IF(J21>K21,Equipes!$J$16,IF('2 POULES DE 9'!J21='2 POULES DE 9'!K21,Equipes!$J$18,IF('2 POULES DE 9'!J21<'2 POULES DE 9'!K21,Equipes!$J$20)))) -> 0 | AY21: =IF(K21="",0,IF(K21>J21,Equipes!$J$16,IF('2 POULES DE 9'!K21='2 POULES DE 9'!J21,Equipes!$J$18,IF('2 POULES DE 9'!K21<'2 POULES DE 9'!J21,Equipes!$J$20)))) -> 0 | AZ21: =AX21-AV21 -> 0 | BA21: =AY21-AW21 -> 0 | BB21: =IF(J21="",0,1) -> 0 | BC21: =IF(K21="",0,1) -> 0 | BD21: =IF(J21<>"",IF(J21>K21,1)) -> FALSE | BE21: =IF(K21<>"",IF(K21>J21,1)) -> FALSE | BF21: =IF(J21<>"",IF(J21=K21,1)) -> FALSE | BG21: =IF(K21<>"",IF(K21=J21,1)) -> FALSE | BH21: =IF(J21<>"",IF(J21<K21,1)) -> FALSE | BI21: =IF(K21<>"",IF(K21<J21,1)) -> FALSE | BJ21: =J21 -> 0 | BK21: =K21 -> 0 | BL21: =K21 -> 0 | BM21: =J21 -> 0
F22: =AG9 -> dd | L22: =AG13 -> hh | AV22: =E22 -> 0 | AW22: =P22 -> 0 | AX22: =IF(J22="",0,IF(J22>K22,Equipes!$J$16,IF('2 POULES DE 9'!J22='2 POULES DE 9'!K22,Equipes!$J$18,IF('2 POULES DE 9'!J22<'2 POULES DE 9'!K22,Equipes!$J$20)))) -> 0 | AY22: =IF(K22="",0,IF(K22>J22,Equipes!$J$16,IF('2 POULES DE 9'!K22='2 POULES DE 9'!J22,Equipes!$J$18,IF('2 POULES DE 9'!K22<'2 POULES DE 9'!J22,Equipes!$J$20)))) -> 0 | AZ22: =AX22-AV22 -> 0 | BA22: =AY22-AW22 -> 0 | BB22: =IF(J22="",0,1) -> 0 | BC22: =IF(K22="",0,1) -> 0 | BD22: =IF(J22<>"",IF(J22>K22,1)) -> FALSE | BE22: =IF(K22<>"",IF(K22>J22,1)) -> FALSE | BF22: =IF(J22<>"",IF(J22=K22,1)) -> FALSE | BG22: =IF(K22<>"",IF(K22=J22,1)) -> FALSE | BH22: =IF(J22<>"",IF(J22<K22,1)) -> FALSE | BI22: =IF(K22<>"",IF(K22<J22,1)) -> FALSE | BJ22: =J22 -> 0 | BK22: =K22 -> 0 | BL22: =K22 -> 0 | BM22: =J22 -> 0
F23: =AG11 -> ff | L23: =AG6 -> aa | AV23: =E23 -> 0 | AW23: =P23 -> 0 | AX23: =IF(J23="",0,IF(J23>K23,Equipes!$J$16,IF('2 POULES DE 9'!J23='2 POULES DE 9'!K23,Equipes!$J$18,IF('2 POULES DE 9'!J23<'2 POULES DE 9'!K23,Equipes!$J$20)))) -> 0 | AY23: =IF(K23="",0,IF(K23>J23,Equipes!$J$16,IF('2 POULES DE 9'!K23='2 POULES DE 9'!J23,Equipes!$J$18,IF('2 POULES DE 9'!K23<'2 POULES DE 9'!J23,Equipes!$J$20)))) -> 0 | AZ23: =AX23-AV23 -> 0 | BA23: =AY23-AW23 -> 0 | BB23: =IF(J23="",0,1) -> 0 | BC23: =IF(K23="",0,1) -> 0 | BD23: =IF(J23<>"",IF(J23>K23,1)) -> FALSE | BE23: =IF(K23<>"",IF(K23>J23,1)) -> FALSE | BF23: =IF(J23<>"",IF(J23=K23,1)) -> FALSE | BG23: =IF(K23<>"",IF(K23=J23,1)) -> FALSE | BH23: =IF(J23<>"",IF(J23<K23,1)) -> FALSE | BI23: =IF(K23<>"",IF(K23<J23,1)) -> FALSE | BJ23: =J23 -> 0 | BK23: =K23 -> 0 | BL23: =K23 -> 0 | BM23: =J23 -> 0
F24: =AG12 -> gg | L24: =AG10 -> ee | AV24: =E24 -> 0 | AW24: =P24 -> 0 | AX24: =IF(J24="",0,IF(J24>K24,Equipes!$J$16,IF('2 POULES DE 9'!J24='2 POULES DE 9'!K24,Equipes!$J$18,IF('2 POULES DE 9'!J24<'2 POULES DE 9'!K24,Equipes!$J$20)))) -> 0 | AY24: =IF(K24="",0,IF(K24>J24,Equipes!$J$16,IF('2 POULES DE 9'!K24='2 POULES DE 9'!J24,Equipes!$J$18,IF('2 POULES DE 9'!K24<'2 POULES DE 9'!J24,Equipes!$J$20)))) -> 0 | AZ24: =AX24-AV24 -> 0 | BA24: =AY24-AW24 -> 0 | BB24: =IF(J24="",0,1) -> 0 | BC24: =IF(K24="",0,1) -> 0 | BD24: =IF(J24<>"",IF(J24>K24,1)) -> FALSE | BE24: =IF(K24<>"",IF(K24>J24,1)) -> FALSE | BF24: =IF(J24<>"",IF(J24=K24,1)) -> FALSE | BG24: =IF(K24<>"",IF(K24=J24,1)) -> FALSE | BH24: =IF(J24<>"",IF(J24<K24,1)) -> FALSE | BI24: =IF(K24<>"",IF(K24<J24,1)) -> FALSE | BJ24: =J24 -> 0 | BK24: =K24 -> 0 | BL24: =K24 -> 0 | BM24: =J24 -> 0
F25: =AG14 -> ii | L25: =AG8 -> cc | AV25: =E25 -> 0 | AW25: =P25 -> 0 | AX25: =IF(J25="",0,IF(J25>K25,Equipes!$J$16,IF('2 POULES DE 9'!J25='2 POULES DE 9'!K25,Equipes!$J$18,IF('2 POULES DE 9'!J25<'2 POULES DE 9'!K25,Equipes!$J$20)))) -> 0 | AY25: =IF(K25="",0,IF(K25>J25,Equipes!$J$16,IF('2 POULES DE 9'!K25='2 POULES DE 9'!J25,Equipes!$J$18,IF('2 POULES DE 9'!K25<'2 POULES DE 9'!J25,Equipes!$J$20)))) -> 0 | AZ25: =AX25-AV25 -> 0 | BA25: =AY25-AW25 -> 0 | BB25: =IF(J25="",0,1) -> 0 | BC25: =IF(K25="",0,1) -> 0 | BD25: =IF(J25<>"",IF(J25>K25,1)) -> FALSE | BE25: =IF(K25<>"",IF(K25>J25,1)) -> FALSE | BF25: =IF(J25<>"",IF(J25=K25,1)) -> FALSE | BG25: =IF(K25<>"",IF(K25=J25,1)) -> FALSE | BH25: =IF(J25<>"",IF(J25<K25,1)) -> FALSE | BI25: =IF(K25<>"",IF(K25<J25,1)) -> FALSE | BJ25: =J25 -> 0 | BK25: =K25 -> 0 | BL25: =K25 -> 0 | BM25: =J25 -> 0
F26: =AG6 -> aa | L26: =AG12 -> gg | AV26: =E26 -> 0 | AW26: =P26 -> 0 | AX26: =IF(J26="",0,IF(J26>K26,Equipes!$J$16,IF('2 POULES DE 9'!J26='2 POULES DE 9'!K26,Equipes!$J$18,IF('2 POULES DE 9'!J26<'2 POULES DE 9'!K26,Equipes!$J$20)))) -> 0 | AY26: =IF(K26="",0,IF(K26>J26,Equipes!$J$16,IF('2 POULES DE 9'!K26='2 POULES DE 9'!J26,Equipes!$J$18,IF('2 POULES DE 9'!K26<'2 POULES DE 9'!J26,Equipes!$J$20)))) -> 0 | AZ26: =AX26-AV26 -> 0 | BA26: =AY26-AW26 -> 0 | BB26: =IF(J26="",0,1) -> 0 | BC26: =IF(K26="",0,1) -> 0 | BD26: =IF(J26<>"",IF(J26>K26,1)) -> FALSE | BE26: =IF(K26<>"",IF(K26>J26,1)) -> FALSE | BF26: =IF(J26<>"",IF(J26=K26,1)) -> FALSE | BG26: =IF(K26<>"",IF(K26=J26,1)) -> FALSE | BH26: =IF(J26<>"",IF(J26<K26,1)) -> FALSE | BI26: =IF(K26<>"",IF(K26<J26,1)) -> FALSE | BJ26: =J26 -> 0 | BK26: =K26 -> 0 | BL26: =K26 -> 0 | BM26: =J26 -> 0
F27: =AG8 -> cc | L27: =AG7 -> bb | AV27: =E27 -> 0 | AW27: =P27 -> 0 | AX27: =IF(J27="",0,IF(J27>K27,Equipes!$J$16,IF('2 POULES DE 9'!J27='2 POULES DE 9'!K27,Equipes!$J$18,IF('2 POULES DE 9'!J27<'2 POULES DE 9'!K27,Equipes!$J$20)))) -> 0 | AY27: =IF(K27="",0,IF(K27>J27,Equipes!$J$16,IF('2 POULES DE 9'!K27='2 POULES DE 9'!J27,Equipes!$J$18,IF('2 POULES DE 9'!K27<'2 POULES DE 9'!J27,Equipes!$J$20)))) -> 0 | AZ27: =AX27-AV27 -> 0 | BA27: =AY27-AW27 -> 0 | BB27: =IF(J27="",0,1) -> 0 | BC27: =IF(K27="",0,1) -> 0 | BD27: =IF(J27<>"",IF(J27>K27,1)) -> FALSE | BE27: =IF(K27<>"",IF(K27>J27,1)) -> FALSE | BF27: =IF(J27<>"",IF(J27=K27,1)) -> FALSE | BG27: =IF(K27<>"",IF(K27=J27,1)) -> FALSE | BH27: =IF(J27<>"",IF(J27<K27,1)) -> FALSE | BI27: =IF(K27<>"",IF(K27<J27,1)) -> FALSE | BJ27: =J27 -> 0 | BK27: =K27 -> 0 | BL27: =K27 -> 0 | BM27: =J27 -> 0
F28: =AG10 -> ee | L28: =AG14 -> ii | AV28: =E28 -> 0 | AW28: =P28 -> 0 | AX28: =IF(J28="",0,IF(J28>K28,Equipes!$J$16,IF('2 POULES DE 9'!J28='2 POULES DE 9'!K28,Equipes!$J$18,IF('2 POULES DE 9'!J28<'2 POULES DE 9'!K28,Equipes!$J$20)))) -> 0 | AY28: =IF(K28="",0,IF(K28>J28,Equipes!$J$16,IF('2 POULES DE 9'!K28='2 POULES DE 9'!J28,Equipes!$J$18,IF('2 POULES DE 9'!K28<'2 POULES DE 9'!J28,Equipes!$J$20)))) -> 0 | AZ28: =AX28-AV28 -> 0 | BA28: =AY28-AW28 -> 0 | BB28: =IF(J28="",0,1) -> 0 | BC28: =IF(K28="",0,1) -> 0 | BD28: =IF(J28<>"",IF(J28>K28,1)) -> FALSE | BE28: =IF(K28<>"",IF(K28>J28,1)) -> FALSE | BF28: =IF(J28<>"",IF(J28=K28,1)) -> FALSE | BG28: =IF(K28<>"",IF(K28=J28,1)) -> FALSE | BH28: =IF(J28<>"",IF(J28<K28,1)) -> FALSE | BI28: =IF(K28<>"",IF(K28<J28,1)) -> FALSE | BJ28: =J28 -> 0 | BK28: =K28 -> 0 | BL28: =K28 -> 0 | BM28: =J28 -> 0
F29: =AG13 -> hh | L29: =AG11 -> ff | AV29: =E29 -> 0 | AW29: =P29 -> 0 | AX29: =IF(J29="",0,IF(J29>K29,Equipes!$J$16,IF('2 POULES DE 9'!J29='2 POULES DE 9'!K29,Equipes!$J$18,IF('2 POULES DE 9'!J29<'2 POULES DE 9'!K29,Equipes!$J$20)))) -> 0 | AY29: =IF(K29="",0,IF(K29>J29,Equipes!$J$16,IF('2 POULES DE 9'!K29='2 POULES DE 9'!J29,Equipes!$J$18,IF('2 POULES DE 9'!K29<'2 POULES DE 9'!J29,Equipes!$J$20)))) -> 0 | AZ29: =AX29-AV29 -> 0 | BA29: =AY29-AW29 -> 0 | BB29: =IF(J29="",0,1) -> 0 | BC29: =IF(K29="",0,1) -> 0 | BD29: =IF(J29<>"",IF(J29>K29,1)) -> FALSE | BE29: =IF(K29<>"",IF(K29>J29,1)) -> FALSE | BF29: =IF(J29<>"",IF(J29=K29,1)) -> FALSE | BG29: =IF(K29<>"",IF(K29=J29,1)) -> FALSE | BH29: =IF(J29<>"",IF(J29<K29,1)) -> FALSE | BI29: =IF(K29<>"",IF(K29<J29,1)) -> FALSE | BJ29: =J29 -> 0 | BK29: =K29 -> 0 | BL29: =K29 -> 0 | BM29: =J29 -> 0
F30: =AG7 -> bb | L30: =AG10 -> ee | AV30: =E30 -> 0 | AW30: =P30 -> 0 | AX30: =IF(J30="",0,IF(J30>K30,Equipes!$J$16,IF('2 POULES DE 9'!J30='2 POULES DE 9'!K30,Equipes!$J$18,IF('2 POULES DE 9'!J30<'2 POULES DE 9'!K30,Equipes!$J$20)))) -> 0 | AY30: =IF(K30="",0,IF(K30>J30,Equipes!$J$16,IF('2 POULES DE 9'!K30='2 POULES DE 9'!J30,Equipes!$J$18,IF('2 POULES DE 9'!K30<'2 POULES DE 9'!J30,Equipes!$J$20)))) -> 0 | AZ30: =AX30-AV30 -> 0 | BA30: =AY30-AW30 -> 0 | BB30: =IF(J30="",0,1) -> 0 | BC30: =IF(K30="",0,1) -> 0 | BD30: =IF(J30<>"",IF(J30>K30,1)) -> FALSE | BE30: =IF(K30<>"",IF(K30>J30,1)) -> FALSE | BF30: =IF(J30<>"",IF(J30=K30,1)) -> FALSE | BG30: =IF(K30<>"",IF(K30=J30,1)) -> FALSE | BH30: =IF(J30<>"",IF(J30<K30,1)) -> FALSE | BI30: =IF(K30<>"",IF(K30<J30,1)) -> FALSE | BJ30: =J30 -> 0 | BK30: =K30 -> 0 | BL30: =K30 -> 0 | BM30: =J30 -> 0
F31: =AG9 -> dd | L31: =AG8 -> cc | AV31: =E31 -> 0 | AW31: =P31 -> 0 | AX31: =IF(J31="",0,IF(J31>K31,Equipes!$J$16,IF('2 POULES DE 9'!J31='2 POULES DE 9'!K31,Equipes!$J$18,IF('2 POULES DE 9'!J31<'2 POULES DE 9'!K31,Equipes!$J$20)))) -> 0 | AY31: =IF(K31="",0,IF(K31>J31,Equipes!$J$16,IF('2 POULES DE 9'!K31='2 POULES DE 9'!J31,Equipes!$J$18,IF('2 POULES DE 9'!K31<'2 POULES DE 9'!J31,Equipes!$J$20)))) -> 0 | AZ31: =AX31-AV31 -> 0 | BA31: =AY31-AW31 -> 0 | BB31: =IF(J31="",0,1) -> 0 | BC31: =IF(K31="",0,1) -> 0 | BD31: =IF(J31<>"",IF(J31>K31,1)) -> FALSE | BE31: =IF(K31<>"",IF(K31>J31,1)) -> FALSE | BF31: =IF(J31<>"",IF(J31=K31,1)) -> FALSE | BG31: =IF(K31<>"",IF(K31=J31,1)) -> FALSE | BH31: =IF(J31<>"",IF(J31<K31,1)) -> FALSE | BI31: =IF(K31<>"",IF(K31<J31,1)) -> FALSE | BJ31: =J31 -> 0 | BK31: =K31 -> 0 | BL31: =K31 -> 0 | BM31: =J31 -> 0
F32: =AG13 -> hh | L32: =AG6 -> aa | AV32: =E32 -> 0 | AW32: =P32 -> 0 | AX32: =IF(J32="",0,IF(J32>K32,Equipes!$J$16,IF('2 POULES DE 9'!J32='2 POULES DE 9'!K32,Equipes!$J$18,IF('2 POULES DE 9'!J32<'2 POULES DE 9'!K32,Equipes!$J$20)))) -> 0 | AY32: =IF(K32="",0,IF(K32>J32,Equipes!$J$16,IF('2 POULES DE 9'!K32='2 POULES DE 9'!J32,Equipes!$J$18,IF('2 POULES DE 9'!K32<'2 POULES DE 9'!J32,Equipes!$J$20)))) -> 0 | AZ32: =AX32-AV32 -> 0 | BA32: =AY32-AW32 -> 0 | BB32: =IF(J32="",0,1) -> 0 | BC32: =IF(K32="",0,1) -> 0 | BD32: =IF(J32<>"",IF(J32>K32,1)) -> FALSE | BE32: =IF(K32<>"",IF(K32>J32,1)) -> FALSE | BF32: =IF(J32<>"",IF(J32=K32,1)) -> FALSE | BG32: =IF(K32<>"",IF(K32=J32,1)) -> FALSE | BH32: =IF(J32<>"",IF(J32<K32,1)) -> FALSE | BI32: =IF(K32<>"",IF(K32<J32,1)) -> FALSE | BJ32: =J32 -> 0 | BK32: =K32 -> 0 | BL32: =K32 -> 0 | BM32: =J32 -> 0
F33: =AG14 -> ii | L33: =AG12 -> gg | AV33: =E33 -> 0 | AW33: =P33 -> 0 | AX33: =IF(J33="",0,IF(J33>K33,Equipes!$J$16,IF('2 POULES DE 9'!J33='2 POULES DE 9'!K33,Equipes!$J$18,IF('2 POULES DE 9'!J33<'2 POULES DE 9'!K33,Equipes!$J$20)))) -> 0 | AY33: =IF(K33="",0,IF(K33>J33,Equipes!$J$16,IF('2 POULES DE 9'!K33='2 POULES DE 9'!J33,Equipes!$J$18,IF('2 POULES DE 9'!K33<'2 POULES DE 9'!J33,Equipes!$J$20)))) -> 0 | AZ33: =AX33-AV33 -> 0 | BA33: =AY33-AW33 -> 0 | BB33: =IF(J33="",0,1) -> 0 | BC33: =IF(K33="",0,1) -> 0 | BD33: =IF(J33<>"",IF(J33>K33,1)) -> FALSE | BE33: =IF(K33<>"",IF(K33>J33,1)) -> FALSE | BF33: =IF(J33<>"",IF(J33=K33,1)) -> FALSE | BG33: =IF(K33<>"",IF(K33=J33,1)) -> FALSE | BH33: =IF(J33<>"",IF(J33<K33,1)) -> FALSE | BI33: =IF(K33<>"",IF(K33<J33,1)) -> FALSE | BJ33: =J33 -> 0 | BK33: =K33 -> 0 | BL33: =K33 -> 0 | BM33: =J33 -> 0
F34: =AG6 -> aa | L34: =AG14 -> ii | AV34: =E34 -> 0 | AW34: =P34 -> 0 | AX34: =IF(J34="",0,IF(J34>K34,Equipes!$J$16,IF('2 POULES DE 9'!J34='2 POULES DE 9'!K34,Equipes!$J$18,IF('2 POULES DE 9'!J34<'2 POULES DE 9'!K34,Equipes!$J$20)))) -> 0 | AY34: =IF(K34="",0,IF(K34>J34,Equipes!$J$16,IF('2 POULES DE 9'!K34='2 POULES DE 9'!J34,Equipes!$J$18,IF('2 POULES DE 9'!K34<'2 POULES DE 9'!J34,Equipes!$J$20)))) -> 0 | AZ34: =AX34-AV34 -> 0 | BA34: =AY34-AW34 -> 0 | BB34: =IF(J34="",0,1) -> 0 | BC34: =IF(K34="",0,1) -> 0 | BD34: =IF(J34<>"",IF(J34>K34,1)) -> FALSE | BE34: =IF(K34<>"",IF(K34>J34,1)) -> FALSE | BF34: =IF(J34<>"",IF(J34=K34,1)) -> FALSE | BG34: =IF(K34<>"",IF(K34=J34,1)) -> FALSE | BH34: =IF(J34<>"",IF(J34<K34,1)) -> FALSE | BI34: =IF(K34<>"",IF(K34<J34,1)) -> FALSE | BJ34: =J34 -> 0 | BK34: =K34 -> 0 | BL34: =K34 -> 0 | BM34: =J34 -> 0
F35: =AG8 -> cc | L35: =AG11 -> ff | AV35: =E35 -> 0 | AW35: =P35 -> 0 | AX35: =IF(J35="",0,IF(J35>K35,Equipes!$J$16,IF('2 POULES DE 9'!J35='2 POULES DE 9'!K35,Equipes!$J$18,IF('2 POULES DE 9'!J35<'2 POULES DE 9'!K35,Equipes!$J$20)))) -> 0 | AY35: =IF(K35="",0,IF(K35>J35,Equipes!$J$16,IF('2 POULES DE 9'!K35='2 POULES DE 9'!J35,Equipes!$J$18,IF('2 POULES DE 9'!K35<'2 POULES DE 9'!J35,Equipes!$J$20)))) -> 0 | AZ35: =AX35-AV35 -> 0 | BA35: =AY35-AW35 -> 0 | BB35: =IF(J35="",0,1) -> 0 | BC35: =IF(K35="",0,1) -> 0 | BD35: =IF(J35<>"",IF(J35>K35,1)) -> FALSE | BE35: =IF(K35<>"",IF(K35>J35,1)) -> FALSE | BF35: =IF(J35<>"",IF(J35=K35,1)) -> FALSE | BG35: =IF(K35<>"",IF(K35=J35,1)) -> FALSE | BH35: =IF(J35<>"",IF(J35<K35,1)) -> FALSE | BI35: =IF(K35<>"",IF(K35<J35,1)) -> FALSE | BJ35: =J35 -> 0 | BK35: =K35 -> 0 | BL35: =K35 -> 0 | BM35: =J35 -> 0
F36: =AG10 -> ee | L36: =AG9 -> dd | AV36: =E36 -> 0 | AW36: =P36 -> 0 | AX36: =IF(J36="",0,IF(J36>K36,Equipes!$J$16,IF('2 POULES DE 9'!J36='2 POULES DE 9'!K36,Equipes!$J$18,IF('2 POULES DE 9'!J36<'2 POULES DE 9'!K36,Equipes!$J$20)))) -> 0 | AY36: =IF(K36="",0,IF(K36>J36,Equipes!$J$16,IF('2 POULES DE 9'!K36='2 POULES DE 9'!J36,Equipes!$J$18,IF('2 POULES DE 9'!K36<'2 POULES DE 9'!J36,Equipes!$J$20)))) -> 0 | AZ36: =AX36-AV36 -> 0 | BA36: =AY36-AW36 -> 0 | BB36: =IF(J36="",0,1) -> 0 | BC36: =IF(K36="",0,1) -> 0 | BD36: =IF(J36<>"",IF(J36>K36,1)) -> FALSE | BE36: =IF(K36<>"",IF(K36>J36,1)) -> FALSE | BF36: =IF(J36<>"",IF(J36=K36,1)) -> FALSE | BG36: =IF(K36<>"",IF(K36=J36,1)) -> FALSE | BH36: =IF(J36<>"",IF(J36<K36,1)) -> FALSE | BI36: =IF(K36<>"",IF(K36<J36,1)) -> FALSE | BJ36: =J36 -> 0 | BK36: =K36 -> 0 | BL36: =K36 -> 0 | BM36: =J36 -> 0
F37: =AG12 -> gg | L37: =AG7 -> bb | AV37: =E37 -> 0 | AW37: =P37 -> 0 | AX37: =IF(J37="",0,IF(J37>K37,Equipes!$J$16,IF('2 POULES DE 9'!J37='2 POULES DE 9'!K37,Equipes!$J$18,IF('2 POULES DE 9'!J37<'2 POULES DE 9'!K37,Equipes!$J$20)))) -> 0 | AY37: =IF(K37="",0,IF(K37>J37,Equipes!$J$16,IF('2 POULES DE 9'!K37='2 POULES DE 9'!J37,Equipes!$J$18,IF('2 POULES DE 9'!K37<'2 POULES DE 9'!J37,Equipes!$J$20)))) -> 0 | AZ37: =AX37-AV37 -> 0 | BA37: =AY37-AW37 -> 0 | BB37: =IF(J37="",0,1) -> 0 | BC37: =IF(K37="",0,1) -> 0 | BD37: =IF(J37<>"",IF(J37>K37,1)) -> FALSE | BE37: =IF(K37<>"",IF(K37>J37,1)) -> FALSE | BF37: =IF(J37<>"",IF(J37=K37,1)) -> FALSE | BG37: =IF(K37<>"",IF(K37=J37,1)) -> FALSE | BH37: =IF(J37<>"",IF(J37<K37,1)) -> FALSE | BI37: =IF(K37<>"",IF(K37<J37,1)) -> FALSE | BJ37: =J37 -> 0 | BK37: =K37 -> 0 | BL37: =K37 -> 0 | BM37: =J37 -> 0
F38: =AG7 -> bb | L38: =AG14 -> ii | AV38: =E38 -> 0 | AW38: =P38 -> 0 | AX38: =IF(J38="",0,IF(J38>K38,Equipes!$J$16,IF('2 POULES DE 9'!J38='2 POULES DE 9'!K38,Equipes!$J$18,IF('2 POULES DE 9'!J38<'2 POULES DE 9'!K38,Equipes!$J$20)))) -> 0 | AY38: =IF(K38="",0,IF(K38>J38,Equipes!$J$16,IF('2 POULES DE 9'!K38='2 POULES DE 9'!J38,Equipes!$J$18,IF('2 POULES DE 9'!K38<'2 POULES DE 9'!J38,Equipes!$J$20)))) -> 0 | AZ38: =AX38-AV38 -> 0 | BA38: =AY38-AW38 -> 0 | BB38: =IF(J38="",0,1) -> 0 | BC38: =IF(K38="",0,1) -> 0 | BD38: =IF(J38<>"",IF(J38>K38,1)) -> FALSE | BE38: =IF(K38<>"",IF(K38>J38,1)) -> FALSE | BF38: =IF(J38<>"",IF(J38=K38,1)) -> FALSE | BG38: =IF(K38<>"",IF(K38=J38,1)) -> FALSE | BH38: =IF(J38<>"",IF(J38<K38,1)) -> FALSE | BI38: =IF(K38<>"",IF(K38<J38,1)) -> FALSE | BJ38: =J38 -> 0 | BK38: =K38 -> 0 | BL38: =K38 -> 0 | BM38: =J38 -> 0
F39: =AG9 -> dd | L39: =AG12 -> gg | AV39: =E39 -> 0 | AW39: =P39 -> 0 | AX39: =IF(J39="",0,IF(J39>K39,Equipes!$J$16,IF('2 POULES DE 9'!J39='2 POULES DE 9'!K39,Equipes!$J$18,IF('2 POULES DE 9'!J39<'2 POULES DE 9'!K39,Equipes!$J$20)))) -> 0 | AY39: =IF(K39="",0,IF(K39>J39,Equipes!$J$16,IF('2 POULES DE 9'!K39='2 POULES DE 9'!J39,Equipes!$J$18,IF('2 POULES DE 9'!K39<'2 POULES DE 9'!J39,Equipes!$J$20)))) -> 0 | AZ39: =AX39-AV39 -> 0 | BA39: =AY39-AW39 -> 0 | BB39: =IF(J39="",0,1) -> 0 | BC39: =IF(K39="",0,1) -> 0 | BD39: =IF(J39<>"",IF(J39>K39,1)) -> FALSE | BE39: =IF(K39<>"",IF(K39>J39,1)) -> FALSE | BF39: =IF(J39<>"",IF(J39=K39,1)) -> FALSE | BG39: =IF(K39<>"",IF(K39=J39,1)) -> FALSE | BH39: =IF(J39<>"",IF(J39<K39,1)) -> FALSE | BI39: =IF(K39<>"",IF(K39<J39,1)) -> FALSE | BJ39: =J39 -> 0 | BK39: =K39 -> 0 | BL39: =K39 -> 0 | BM39: =J39 -> 0
F40: =AG11 -> ff | L40: =AG10 -> ee | AV40: =E40 -> 0 | AW40: =P40 -> 0 | AX40: =IF(J40="",0,IF(J40>K40,Equipes!$J$16,IF('2 POULES DE 9'!J40='2 POULES DE 9'!K40,Equipes!$J$18,IF('2 POULES DE 9'!J40<'2 POULES DE 9'!K40,Equipes!$J$20)))) -> 0 | AY40: =IF(K40="",0,IF(K40>J40,Equipes!$J$16,IF('2 POULES DE 9'!K40='2 POULES DE 9'!J40,Equipes!$J$18,IF('2 POULES DE 9'!K40<'2 POULES DE 9'!J40,Equipes!$J$20)))) -> 0 | AZ40: =AX40-AV40 -> 0 | BA40: =AY40-AW40 -> 0 | BB40: =IF(J40="",0,1) -> 0 | BC40: =IF(K40="",0,1) -> 0 | BD40: =IF(J40<>"",IF(J40>K40,1)) -> FALSE | BE40: =IF(K40<>"",IF(K40>J40,1)) -> FALSE | BF40: =IF(J40<>"",IF(J40=K40,1)) -> FALSE | BG40: =IF(K40<>"",IF(K40=J40,1)) -> FALSE | BH40: =IF(J40<>"",IF(J40<K40,1)) -> FALSE | BI40: =IF(K40<>"",IF(K40<J40,1)) -> FALSE | BJ40: =J40 -> 0 | BK40: =K40 -> 0 | BL40: =K40 -> 0 | BM40: =J40 -> 0
F41: =AG13 -> hh | L41: =AG8 -> cc | AV41: =E41 -> 0 | AW41: =P41 -> 0 | AX41: =IF(J41="",0,IF(J41>K41,Equipes!$J$16,IF('2 POULES DE 9'!J41='2 POULES DE 9'!K41,Equipes!$J$18,IF('2 POULES DE 9'!J41<'2 POULES DE 9'!K41,Equipes!$J$20)))) -> 0 | AY41: =IF(K41="",0,IF(K41>J41,Equipes!$J$16,IF('2 POULES DE 9'!K41='2 POULES DE 9'!J41,Equipes!$J$18,IF('2 POULES DE 9'!K41<'2 POULES DE 9'!J41,Equipes!$J$20)))) -> 0 | AZ41: =AX41-AV41 -> 0 | BA41: =AY41-AW41 -> 0 | BB41: =IF(J41="",0,1) -> 0 | BC41: =IF(K41="",0,1) -> 0 | BD41: =IF(J41<>"",IF(J41>K41,1)) -> FALSE | BE41: =IF(K41<>"",IF(K41>J41,1)) -> FALSE | BF41: =IF(J41<>"",IF(J41=K41,1)) -> FALSE | BG41: =IF(K41<>"",IF(K41=J41,1)) -> FALSE | BH41: =IF(J41<>"",IF(J41<K41,1)) -> FALSE | BI41: =IF(K41<>"",IF(K41<J41,1)) -> FALSE | BJ41: =J41 -> 0 | BK41: =K41 -> 0 | BL41: =K41 -> 0 | BM41: =J41 -> 0
C46: POULE B | Q46: CLASSEMENT | AG46: CLASSEMENT
C48: Heure | D48: Terrain | E48: Pts - | F48: Equipes | J48: Buts | K48: Buts | L48: Equipes | P48: Pts - | Q48: Equipes | U48: Rang | V48: Points | W48: J | X48: G | Y48: N | Z48: P | AA48: B + | AB48: B - | AC48: Diff | AF48: R | AG48: Equipes | AK48: Rang | AL48: Points | AM48: J | AN48: G | AO48: N | AP48: P | AQ48: B + | AR48: B - | AS48: Diff | AT48: % | AU48: % | AV48: P | AW48: P | AX48: Pts | AY48: Pts | AZ48: T Pts | BA48: T Pts | BB48: J | BC48: J | BD48: G | BE48: G | BF48: N | BG48: N | BH48: P | BI48: P | BJ48: B+ | BK48: B+ | BL48: B- | BM48: B- | BN48: Equipes | BO48: % | BP48: R
F49: =AG50 -> kk | L49: =AG49 -> jj | Q49: =VLOOKUP(AE49,AF49:AJ57,2,0) -> jj | U49: 1 | V49: =VLOOKUP(Q49,AG49:AS57,6,0) -> 0 | W49: =VLOOKUP(Q49,AG49:AS57,7,0) -> 0 | X49: =VLOOKUP(Q49,AG49:AS57,8,0) -> 0 | Y49: =VLOOKUP(Q49,AG49:AS57,9,0) -> 0 | Z49: =VLOOKUP(Q49,AG49:AS57,10,0) -> 0 | AA49: =VLOOKUP(Q49,AG49:AS57,11,0) -> 0 | AB49: =VLOOKUP(Q49,AG49:AS57,12,0) -> 0 | AC49: =VLOOKUP(Q49,AG49:AS57,13,0) -> 0 | AE49: 1 | AF49: =AK49 -> 1 | AG49: =Equipes!E18 -> jj | AK49: =RANK(AU49,AU49:AU57) -> 1 | AL49: =SUMPRODUCT((F49:I84=AG49)*(AZ49:AZ84))+SUMPRODUCT((L49:O84=AG49)*(BA49:BA84)) -> 0 | AM49: =SUMPRODUCT((F49:I84=AG49)*(BB49:BB84))+SUMPRODUCT((L49:O84=AG49)*(BC49:BC84)) -> 0 | AN49: =SUMPRODUCT((F49:I84=AG49)*(BD49:BD84))+SUMPRODUCT((L49:O84=AG49)*(BE49:BE84)) -> 0 | AO49: =SUMPRODUCT((F49:I84=AG49)*(BF49:BF84))+SUMPRODUCT((L49:O84=AG49)*(BG49:BG84)) -> 0 | AP49: =SUMPRODUCT((F49:I84=AG49)*(BH49:BH84))+SUMPRODUCT((L49:O84=AG49)*(BI49:BI84)) -> 0 | AQ49: =SUMPRODUCT((F49:I84=AG49)*(BJ49:BJ84))+SUMPRODUCT((L49:O84=AG49)*(BK49:BK84)) -> 0 | AR49: =SUMPRODUCT((F49:I84=AG49)*(BL49:BL84))+SUMPRODUCT((L49:O84=AG49)*(BM49:BM84)) -> 0 | AS49: =AQ49-AR49 -> 0 | AT49: =SUM(AL49*1000+(AS49)/100+(AQ49)/1000) -> 0 | AU49: =AT49+0.000009 -> 9e-06 | AV49: =E49 -> 0 | AW49: =P49 -> 0 | AX49: =IF(J49="",0,IF(J49>K49,Equipes!$J$16,IF('2 POULES DE 9'!J49='2 POULES DE 9'!K49,Equipes!$J$18,IF('2 POULES DE 9'!J49<'2 POULES DE 9'!K49,Equipes!$J$20)))) -> 0 | AY49: =IF(K49="",0,IF(K49>J49,Equipes!$J$16,IF('2 POULES DE 9'!K49='2 POULES DE 9'!J49,Equipes!$J$18,IF('2 POULES DE 9'!K49<'2 POULES DE 9'!J49,Equipes!$J$20)))) -> 0 | AZ49: =AX49-AV49 -> 0 | BA49: =AY49-AW49 -> 0 | BB49: =IF(J49="",0,1) -> 0 | BC49: =IF(K49="",0,1) -> 0 | BD49: =IF(J49<>"",IF(J49>K49,1)) -> FALSE | BE49: =IF(K49<>"",IF(K49>J49,1)) -> FALSE | BF49: =IF(J49<>"",IF(J49=K49,1)) -> FALSE | BG49: =IF(K49<>"",IF(K49=J49,1)) -> FALSE | BH49: =IF(J49<>"",IF(J49<K49,1)) -> FALSE | BI49: =IF(K49<>"",IF(K49<J49,1)) -> FALSE | BJ49: =J49 -> 0 | BK49: =K49 -> 0 | BL49: =K49 -> 0 | BM49: =J49 -> 0 | BN49: =VLOOKUP(AE49,AF49:AJ57,2,0) -> jj | BO49: =VLOOKUP(BN49,AG49:AT57,14,0) -> 0 | BP49: =RANK(BO49,BO49:BO57) -> 1
F50: =AG53 -> nn | L50: =AG56 -> qq | Q50: =VLOOKUP(AE50,AF49:AJ57,2,0) -> kk | U50: =IF(BO50=BO49,BP49,BP50) -> 1 | V50: =VLOOKUP(Q50,AG49:AS57,6,0) -> 0 | W50: =VLOOKUP(Q50,AG49:AS57,7,0) -> 0 | X50: =VLOOKUP(Q50,AG49:AS57,8,0) -> 0 | Y50: =VLOOKUP(Q50,AG49:AS57,9,0) -> 0 | Z50: =VLOOKUP(Q50,AG49:AS57,10,0) -> 0 | AA50: =VLOOKUP(Q50,AG49:AS57,11,0) -> 0 | AB50: =VLOOKUP(Q50,AG49:AS57,12,0) -> 0 | AC50: =VLOOKUP(Q50,AG49:AS57,13,0) -> 0 | AE50: 2 | AF50: =AK50 -> 2 | AG50: =Equipes!E19 -> kk | AK50: =RANK(AU50,AU49:AU57) -> 2 | AL50: =SUMPRODUCT((F49:I84=AG50)*(AZ49:AZ84))+SUMPRODUCT((L49:O84=AG50)*(BA49:BA84)) -> 0 | AM50: =SUMPRODUCT((F49:I84=AG50)*(BB49:BB84))+SUMPRODUCT((L49:O84=AG50)*(BC49:BC84)) -> 0 | AN50: =SUMPRODUCT((F49:I84=AG50)*(BD49:BD84))+SUMPRODUCT((L49:O84=AG50)*(BE49:BE84)) -> 0 | AO50: =SUMPRODUCT((F49:I84=AG50)*(BF49:BF84))+SUMPRODUCT((L49:O84=AG50)*(BG49:BG84)) -> 0 | AP50: =SUMPRODUCT((F49:I84=AG50)*(BH49:BH84))+SUMPRODUCT((L49:O84=AG50)*(BI49:BI84)) -> 0 | AQ50: =SUMPRODUCT((F49:I84=AG50)*(BJ49:BJ84))+SUMPRODUCT((L49:O84=AG50)*(BK49:BK84)) -> 0 | AR50: =SUMPRODUCT((F49:I84=AG50)*(BL49:BL84))+SUMPRODUCT((L49:O84=AG50)*(BM49:BM84)) -> 0 | AS50: =AQ50-AR50 -> 0 | AT50: =SUM(AL50*1000+(AS50)/100+(AQ50)/1000) -> 0 | AU50: =AT50+0.000008 -> 8e-06 | AV50: =E50 -> 0 | AW50: =P50 -> 0 | AX50: =IF(J50="",0,IF(J50>K50,Equipes!$J$16,IF('2 POULES DE 9'!J50='2 POULES DE 9'!K50,Equipes!$J$18,IF('2 POULES DE 9'!J50<'2 POULES DE 9'!K50,Equipes!$J$20)))) -> 0 | AY50: =IF(K50="",0,IF(K50>J50,Equipes!$J$16,IF('2 POULES DE 9'!K50='2 POULES DE 9'!J50,Equipes!$J$18,IF('2 POULES DE 9'!K50<'2 POULES DE 9'!J50,Equipes!$J$20)))) -> 0 | AZ50: =AX50-AV50 -> 0 | BA50: =AY50-AW50 -> 0 | BB50: =IF(J50="",0,1) -> 0 | BC50: =IF(K50="",0,1) -> 0 | BD50: =IF(J50<>"",IF(J50>K50,1)) -> FALSE | BE50: =IF(K50<>"",IF(K50>J50,1)) -> FALSE | BF50: =IF(J50<>"",IF(J50=K50,1)) -> FALSE | BG50: =IF(K50<>"",IF(K50=J50,1)) -> FALSE | BH50: =IF(J50<>"",IF(J50<K50,1)) -> FALSE | BI50: =IF(K50<>"",IF(K50<J50,1)) -> FALSE | BJ50: =J50 -> 0 | BK50: =K50 -> 0 | BL50: =K50 -> 0 | BM50: =J50 -> 0 | BN50: =VLOOKUP(AE50,AF49:AJ57,2,0) -> kk | BO50: =VLOOKUP(BN50,AG49:AT57,14,0) -> 0 | BP50: =RANK(BO50,BO49:BO57) -> 1
F51: =AG55 -> pp | L51: =AG54 -> oo | Q51: =VLOOKUP(AE51,AF49:AJ57,2,0) -> ll | U51: =IF(BO51=BO50,BP50,BP51) -> 1 | V51: =VLOOKUP(Q51,AG49:AS57,6,0) -> 0 | W51: =VLOOKUP(Q51,AG49:AS57,7,0) -> 0 | X51: =VLOOKUP(Q51,AG49:AS57,8,0) -> 0 | Y51: =VLOOKUP(Q51,AG49:AS57,9,0) -> 0 | Z51: =VLOOKUP(Q51,AG49:AS57,10,0) -> 0 | AA51: =VLOOKUP(Q51,AG49:AS57,11,0) -> 0 | AB51: =VLOOKUP(Q51,AG49:AS57,12,0) -> 0 | AC51: =VLOOKUP(Q51,AG49:AS57,13,0) -> 0 | AE51: 3 | AF51: =AK51 -> 3 | AG51: =Equipes!E20 -> ll | AK51: =RANK(AU51,AU49:AU57) -> 3 | AL51: =SUMPRODUCT((F49:I84=AG51)*(AZ49:AZ84))+SUMPRODUCT((L49:O84=AG51)*(BA49:BA84)) -> 0 | AM51: =SUMPRODUCT((F49:I84=AG51)*(BB49:BB84))+SUMPRODUCT((L49:O84=AG51)*(BC49:BC84)) -> 0 | AN51: =SUMPRODUCT((F49:I84=AG51)*(BD49:BD84))+SUMPRODUCT((L49:O84=AG51)*(BE49:BE84)) -> 0 | AO51: =SUMPRODUCT((F49:I84=AG51)*(BF49:BF84))+SUMPRODUCT((L49:O84=AG51)*(BG49:BG84)) -> 0 | AP51: =SUMPRODUCT((F49:I84=AG51)*(BH49:BH84))+SUMPRODUCT((L49:O84=AG51)*(BI49:BI84)) -> 0 | AQ51: =SUMPRODUCT((F49:I84=AG51)*(BJ49:BJ84))+SUMPRODUCT((L49:O84=AG51)*(BK49:BK84)) -> 0 | AR51: =SUMPRODUCT((F49:I84=AG51)*(BL49:BL84))+SUMPRODUCT((L49:O84=AG51)*(BM49:BM84)) -> 0 | AS51: =AQ51-AR51 -> 0 | AT51: =SUM(AL51*1000+(AS51)/100+(AQ51)/1000) -> 0 | AU51: =AT51+0.000007 -> 7e-06 | AV51: =E51 -> 0 | AW51: =P51 -> 0 | AX51: =IF(J51="",0,IF(J51>K51,Equipes!$J$16,IF('2 POULES DE 9'!J51='2 POULES DE 9'!K51,Equipes!$J$18,IF('2 POULES DE 9'!J51<'2 POULES DE 9'!K51,Equipes!$J$20)))) -> 0 | AY51: =IF(K51="",0,IF(K51>J51,Equipes!$J$16,IF('2 POULES DE 9'!K51='2 POULES DE 9'!J51,Equipes!$J$18,IF('2 POULES DE 9'!K51<'2 POULES DE 9'!J51,Equipes!$J$20)))) -> 0 | AZ51: =AX51-AV51 -> 0 | BA51: =AY51-AW51 -> 0 | BB51: =IF(J51="",0,1) -> 0 | BC51: =IF(K51="",0,1) -> 0 | BD51: =IF(J51<>"",IF(J51>K51,1)) -> FALSE | BE51: =IF(K51<>"",IF(K51>J51,1)) -> FALSE | BF51: =IF(J51<>"",IF(J51=K51,1)) -> FALSE | BG51: =IF(K51<>"",IF(K51=J51,1)) -> FALSE | BH51: =IF(J51<>"",IF(J51<K51,1)) -> FALSE | BI51: =IF(K51<>"",IF(K51<J51,1)) -> FALSE | BJ51: =J51 -> 0 | BK51: =K51 -> 0 | BL51: =K51 -> 0 | BM51: =J51 -> 0 | BN51: =VLOOKUP(AE51,AF49:AJ57,2,0) -> ll | BO51: =VLOOKUP(BN51,AG49:AT57,14,0) -> 0 | BP51: =RANK(BO51,BO49:BO57) -> 1
F52: =AG57 -> rr | L52: =AG52 -> mm | Q52: =VLOOKUP(AE52,AF49:AJ57,2,0) -> mm | U52: =IF(BO52=BO51,BP51,BP52) -> 1 | V52: =VLOOKUP(Q52,AG49:AS57,6,0) -> 0 | W52: =VLOOKUP(Q52,AG49:AS57,7,0) -> 0 | X52: =VLOOKUP(Q52,AG49:AS57,8,0) -> 0 | Y52: =VLOOKUP(Q52,AG49:AS57,9,0) -> 0 | Z52: =VLOOKUP(Q52,AG49:AS57,10,0) -> 0 | AA52: =VLOOKUP(Q52,AG49:AS57,11,0) -> 0 | AB52: =VLOOKUP(Q52,AG49:AS57,12,0) -> 0 | AC52: =VLOOKUP(Q52,AG49:AS57,13,0) -> 0 | AE52: 4 | AF52: =AK52 -> 4 | AG52: =Equipes!E21 -> mm | AK52: =RANK(AU52,AU49:AU57) -> 4 | AL52: =SUMPRODUCT((F49:I84=AG52)*(AZ49:AZ84))+SUMPRODUCT((L49:O84=AG52)*(BA49:BA84)) -> 0 | AM52: =SUMPRODUCT((F49:I84=AG52)*(BB49:BB84))+SUMPRODUCT((L49:O84=AG52)*(BC49:BC84)) -> 0 | AN52: =SUMPRODUCT((F49:I84=AG52)*(BD49:BD84))+SUMPRODUCT((L49:O84=AG52)*(BE49:BE84)) -> 0 | AO52: =SUMPRODUCT((F49:I84=AG52)*(BF49:BF84))+SUMPRODUCT((L49:O84=AG52)*(BG49:BG84)) -> 0 | AP52: =SUMPRODUCT((F49:I84=AG52)*(BH49:BH84))+SUMPRODUCT((L49:O84=AG52)*(BI49:BI84)) -> 0 | AQ52: =SUMPRODUCT((F49:I84=AG52)*(BJ49:BJ84))+SUMPRODUCT((L49:O84=AG52)*(BK49:BK84)) -> 0 | AR52: =SUMPRODUCT((F49:I84=AG52)*(BL49:BL84))+SUMPRODUCT((L49:O84=AG52)*(BM49:BM84)) -> 0 | AS52: =AQ52-AR52 -> 0 | AT52: =SUM(AL52*1000+(AS52)/100+(AQ52)/1000) -> 0 | AU52: =AT52+0.000006 -> 6e-06 | AV52: =E52 -> 0 | AW52: =P52 -> 0 | AX52: =IF(J52="",0,IF(J52>K52,Equipes!$J$16,IF('2 POULES DE 9'!J52='2 POULES DE 9'!K52,Equipes!$J$18,IF('2 POULES DE 9'!J52<'2 POULES DE 9'!K52,Equipes!$J$20)))) -> 0 | AY52: =IF(K52="",0,IF(K52>J52,Equipes!$J$16,IF('2 POULES DE 9'!K52='2 POULES DE 9'!J52,Equipes!$J$18,IF('2 POULES DE 9'!K52<'2 POULES DE 9'!J52,Equipes!$J$20)))) -> 0 | AZ52: =AX52-AV52 -> 0 | BA52: =AY52-AW52 -> 0 | BB52: =IF(J52="",0,1) -> 0 | BC52: =IF(K52="",0,1) -> 0 | BD52: =IF(J52<>"",IF(J52>K52,1)) -> FALSE | BE52: =IF(K52<>"",IF(K52>J52,1)) -> FALSE | BF52: =IF(J52<>"",IF(J52=K52,1)) -> FALSE | BG52: =IF(K52<>"",IF(K52=J52,1)) -> FALSE | BH52: =IF(J52<>"",IF(J52<K52,1)) -> FALSE | BI52: =IF(K52<>"",IF(K52<J52,1)) -> FALSE | BJ52: =J52 -> 0 | BK52: =K52 -> 0 | BL52: =K52 -> 0 | BM52: =J52 -> 0 | BN52: =VLOOKUP(AE52,AF49:AJ57,2,0) -> mm | BO52: =VLOOKUP(BN52,AG49:AT57,14,0) -> 0 | BP52: =RANK(BO52,BO49:BO57) -> 1
F53: =AG49 -> jj | L53: =AG51 -> ll | Q53: =VLOOKUP(AE53,AF49:AJ57,2,0) -> nn | U53: =IF(BO53=BO52,BP52,BP53) -> 1 | V53: =VLOOKUP(Q53,AG49:AS57,6,0) -> 0 | W53: =VLOOKUP(Q53,AG49:AS57,7,0) -> 0 | X53: =VLOOKUP(Q53,AG49:AS57,8,0) -> 0 | Y53: =VLOOKUP(Q53,AG49:AS57,9,0) -> 0 | Z53: =VLOOKUP(Q53,AG49:AS57,10,0) -> 0 | AA53: =VLOOKUP(Q53,AG49:AS57,11,0) -> 0 | AB53: =VLOOKUP(Q53,AG49:AS57,12,0) -> 0 | AC53: =VLOOKUP(Q53,AG49:AS57,13,0) -> 0 | AE53: 5 | AF53: =AK53 -> 5 | AG53: =Equipes!E22 -> nn | AK53: =RANK(AU53,AU49:AU57) -> 5 | AL53: =SUMPRODUCT((F49:I84=AG53)*(AZ49:AZ84))+SUMPRODUCT((L49:O84=AG53)*(BA49:BA84)) -> 0 | AM53: =SUMPRODUCT((F49:I84=AG53)*(BB49:BB84))+SUMPRODUCT((L49:O84=AG53)*(BC49:BC84)) -> 0 | AN53: =SUMPRODUCT((F49:I84=AG53)*(BD49:BD84))+SUMPRODUCT((L49:O84=AG53)*(BE49:BE84)) -> 0 | AO53: =SUMPRODUCT((F49:I84=AG53)*(BF49:BF84))+SUMPRODUCT((L49:O84=AG53)*(BG49:BG84)) -> 0 | AP53: =SUMPRODUCT((F49:I84=AG53)*(BH49:BH84))+SUMPRODUCT((L49:O84=AG53)*(BI49:BI84)) -> 0 | AQ53: =SUMPRODUCT((F49:I84=AG53)*(BJ49:BJ84))+SUMPRODUCT((L49:O84=AG53)*(BK49:BK84)) -> 0 | AR53: =SUMPRODUCT((F49:I84=AG53)*(BL49:BL84))+SUMPRODUCT((L49:O84=AG53)*(BM49:BM84)) -> 0 | AS53: =AQ53-AR53 -> 0 | AT53: =SUM(AL53*1000+(AS53)/100+(AQ53)/1000) -> 0 | AU53: =AT53+0.000005 -> 5e-06 | AV53: =E53 -> 0 | AW53: =P53 -> 0 | AX53: =IF(J53="",0,IF(J53>K53,Equipes!$J$16,IF('2 POULES DE 9'!J53='2 POULES DE 9'!K53,Equipes!$J$18,IF('2 POULES DE 9'!J53<'2 POULES DE 9'!K53,Equipes!$J$20)))) -> 0 | AY53: =IF(K53="",0,IF(K53>J53,Equipes!$J$16,IF('2 POULES DE 9'!K53='2 POULES DE 9'!J53,Equipes!$J$18,IF('2 POULES DE 9'!K53<'2 POULES DE 9'!J53,Equipes!$J$20)))) -> 0 | AZ53: =AX53-AV53 -> 0 | BA53: =AY53-AW53 -> 0 | BB53: =IF(J53="",0,1) -> 0 | BC53: =IF(K53="",0,1) -> 0 | BD53: =IF(J53<>"",IF(J53>K53,1)) -> FALSE | BE53: =IF(K53<>"",IF(K53>J53,1)) -> FALSE | BF53: =IF(J53<>"",IF(J53=K53,1)) -> FALSE | BG53: =IF(K53<>"",IF(K53=J53,1)) -> FALSE | BH53: =IF(J53<>"",IF(J53<K53,1)) -> FALSE | BI53: =IF(K53<>"",IF(K53<J53,1)) -> FALSE | BJ53: =J53 -> 0 | BK53: =K53 -> 0 | BL53: =K53 -> 0 | BM53: =J53 -> 0 | BN53: =VLOOKUP(AE53,AF49:AJ57,2,0) -> nn | BO53: =VLOOKUP(BN53,AG49:AT57,14,0) -> 0 | BP53: =RANK(BO53,BO49:BO57) -> 1
F54: =AG52 -> mm | L54: =AG50 -> kk | Q54: =VLOOKUP(AE54,AF49:AJ57,2,0) -> oo | U54: =IF(BO54=BO53,BP53,BP54) -> 1 | V54: =VLOOKUP(Q54,AG49:AS57,6,0) -> 0 | W54: =VLOOKUP(Q54,AG49:AS57,7,0) -> 0 | X54: =VLOOKUP(Q54,AG49:AS57,8,0) -> 0 | Y54: =VLOOKUP(Q54,AG49:AS57,9,0) -> 0 | Z54: =VLOOKUP(Q54,AG49:AS57,10,0) -> 0 | AA54: =VLOOKUP(Q54,AG49:AS57,11,0) -> 0 | AB54: =VLOOKUP(Q54,AG49:AS57,12,0) -> 0 | AC54: =VLOOKUP(Q54,AG49:AS57,13,0) -> 0 | AE54: 6 | AF54: =AK54 -> 6 | AG54: =Equipes!E23 -> oo | AK54: =RANK(AU54,AU49:AU57) -> 6 | AL54: =SUMPRODUCT((F49:I84=AG54)*(AZ49:AZ84))+SUMPRODUCT((L49:O84=AG54)*(BA49:BA84)) -> 0 | AM54: =SUMPRODUCT((F49:I84=AG54)*(BB49:BB84))+SUMPRODUCT((L49:O84=AG54)*(BC49:BC84)) -> 0 | AN54: =SUMPRODUCT((F49:I84=AG54)*(BD49:BD84))+SUMPRODUCT((L49:O84=AG54)*(BE49:BE84)) -> 0 | AO54: =SUMPRODUCT((F49:I84=AG54)*(BF49:BF84))+SUMPRODUCT((L49:O84=AG54)*(BG49:BG84)) -> 0 | AP54: =SUMPRODUCT((F49:I84=AG54)*(BH49:BH84))+SUMPRODUCT((L49:O84=AG54)*(BI49:BI84)) -> 0 | AQ54: =SUMPRODUCT((F49:I84=AG54)*(BJ49:BJ84))+SUMPRODUCT((L49:O84=AG54)*(BK49:BK84)) -> 0 | AR54: =SUMPRODUCT((F49:I84=AG54)*(BL49:BL84))+SUMPRODUCT((L49:O84=AG54)*(BM49:BM84)) -> 0 | AS54: =AQ54-AR54 -> 0 | AT54: =SUM(AL54*1000+(AS54)/100+(AQ54)/1000) -> 0 | AU54: =AT54+0.000004 -> 4e-06 | AV54: =E54 -> 0 | AW54: =P54 -> 0 | AX54: =IF(J54="",0,IF(J54>K54,Equipes!$J$16,IF('2 POULES DE 9'!J54='2 POULES DE 9'!K54,Equipes!$J$18,IF('2 POULES DE 9'!J54<'2 POULES DE 9'!K54,Equipes!$J$20)))) -> 0 | AY54: =IF(K54="",0,IF(K54>J54,Equipes!$J$16,IF('2 POULES DE 9'!K54='2 POULES DE 9'!J54,Equipes!$J$18,IF('2 POULES DE 9'!K54<'2 POULES DE 9'!J54,Equipes!$J$20)))) -> 0 | AZ54: =AX54-AV54 -> 0 | BA54: =AY54-AW54 -> 0 | BB54: =IF(J54="",0,1) -> 0 | BC54: =IF(K54="",0,1) -> 0 | BD54: =IF(J54<>"",IF(J54>K54,1)) -> FALSE | BE54: =IF(K54<>"",IF(K54>J54,1)) -> FALSE | BF54: =IF(J54<>"",IF(J54=K54,1)) -> FALSE | BG54: =IF(K54<>"",IF(K54=J54,1)) -> FALSE | BH54: =IF(J54<>"",IF(J54<K54,1)) -> FALSE | BI54: =IF(K54<>"",IF(K54<J54,1)) -> FALSE | BJ54: =J54 -> 0 | BK54: =K54 -> 0 | BL54: =K54 -> 0 | BM54: =J54 -> 0 | BN54: =VLOOKUP(AE54,AF49:AJ57,2,0) -> oo | BO54: =VLOOKUP(BN54,AG49:AT57,14,0) -> 0 | BP54: =RANK(BO54,BO49:BO57) -> 1
F55: =AG54 -> oo | L55: =AG57 -> rr | Q55: =VLOOKUP(AE55,AF49:AJ57,2,0) -> pp | U55: =IF(BO55=BO54,BP54,BP55) -> 1 | V55: =VLOOKUP(Q55,AG49:AS57,6,0) -> 0 | W55: =VLOOKUP(Q55,AG49:AS57,7,0) -> 0 | X55: =VLOOKUP(Q55,AG49:AS57,8,0) -> 0 | Y55: =VLOOKUP(Q55,AG49:AS57,9,0) -> 0 | Z55: =VLOOKUP(Q55,AG49:AS57,10,0) -> 0 | AA55: =VLOOKUP(Q55,AG49:AS57,11,0) -> 0 | AB55: =VLOOKUP(Q55,AG49:AS57,12,0) -> 0 | AC55: =VLOOKUP(Q55,AG49:AS57,13,0) -> 0 | AE55: 7 | AF55: =AK55 -> 7 | AG55: =Equipes!E24 -> pp | AK55: =RANK(AU55,AU49:AU57) -> 7 | AL55: =SUMPRODUCT((F49:I84=AG55)*(AZ49:AZ84))+SUMPRODUCT((L49:O84=AG55)*(BA49:BA84)) -> 0 | AM55: =SUMPRODUCT((F49:I84=AG55)*(BB49:BB84))+SUMPRODUCT((L49:O84=AG55)*(BC49:BC84)) -> 0 | AN55: =SUMPRODUCT((F49:I84=AG55)*(BD49:BD84))+SUMPRODUCT((L49:O84=AG55)*(BE49:BE84)) -> 0 | AO55: =SUMPRODUCT((F49:I84=AG55)*(BF49:BF84))+SUMPRODUCT((L49:O84=AG55)*(BG49:BG84)) -> 0 | AP55: =SUMPRODUCT((F49:I84=AG55)*(BH49:BH84))+SUMPRODUCT((L49:O84=AG55)*(BI49:BI84)) -> 0 | AQ55: =SUMPRODUCT((F49:I84=AG55)*(BJ49:BJ84))+SUMPRODUCT((L49:O84=AG55)*(BK49:BK84)) -> 0 | AR55: =SUMPRODUCT((F49:I84=AG55)*(BL49:BL84))+SUMPRODUCT((L49:O84=AG55)*(BM49:BM84)) -> 0 | AS55: =AQ55-AR55 -> 0 | AT55: =SUM(AL55*1000+(AS55)/100+(AQ55)/1000) -> 0 | AU55: =AT55+0.000003 -> 3e-06 | AV55: =E55 -> 0 | AW55: =P55 -> 0 | AX55: =IF(J55="",0,IF(J55>K55,Equipes!$J$16,IF('2 POULES DE 9'!J55='2 POULES DE 9'!K55,Equipes!$J$18,IF('2 POULES DE 9'!J55<'2 POULES DE 9'!K55,Equipes!$J$20)))) -> 0 | AY55: =IF(K55="",0,IF(K55>J55,Equipes!$J$16,IF('2 POULES DE 9'!K55='2 POULES DE 9'!J55,Equipes!$J$18,IF('2 POULES DE 9'!K55<'2 POULES DE 9'!J55,Equipes!$J$20)))) -> 0 | AZ55: =AX55-AV55 -> 0 | BA55: =AY55-AW55 -> 0 | BB55: =IF(J55="",0,1) -> 0 | BC55: =IF(K55="",0,1) -> 0 | BD55: =IF(J55<>"",IF(J55>K55,1)) -> FALSE | BE55: =IF(K55<>"",IF(K55>J55,1)) -> FALSE | BF55: =IF(J55<>"",IF(J55=K55,1)) -> FALSE | BG55: =IF(K55<>"",IF(K55=J55,1)) -> FALSE | BH55: =IF(J55<>"",IF(J55<K55,1)) -> FALSE | BI55: =IF(K55<>"",IF(K55<J55,1)) -> FALSE | BJ55: =J55 -> 0 | BK55: =K55 -> 0 | BL55: =K55 -> 0 | BM55: =J55 -> 0 | BN55: =VLOOKUP(AE55,AF49:AJ57,2,0) -> pp | BO55: =VLOOKUP(BN55,AG49:AT57,14,0) -> 0 | BP55: =RANK(BO55,BO49:BO57) -> 1
F56: =AG56 -> qq | L56: =AG55 -> pp | Q56: =VLOOKUP(AE56,AF49:AJ57,2,0) -> qq | U56: =IF(BO56=BO55,BP55,BP56) -> 1 | V56: =VLOOKUP(Q56,AG49:AS57,6,0) -> 0 | W56: =VLOOKUP(Q56,AG49:AS57,7,0) -> 0 | X56: =VLOOKUP(Q56,AG49:AS57,8,0) -> 0 | Y56: =VLOOKUP(Q56,AG49:AS57,9,0) -> 0 | Z56: =VLOOKUP(Q56,AG49:AS57,10,0) -> 0 | AA56: =VLOOKUP(Q56,AG49:AS57,11,0) -> 0 | AB56: =VLOOKUP(Q56,AG49:AS57,12,0) -> 0 | AC56: =VLOOKUP(Q56,AG49:AS57,13,0) -> 0 | AE56: 8 | AF56: =AK56 -> 8 | AG56: =Equipes!E25 -> qq | AK56: =RANK(AU56,AU49:AU57) -> 8 | AL56: =SUMPRODUCT((F49:I84=AG56)*(AZ49:AZ84))+SUMPRODUCT((L49:O84=AG56)*(BA49:BA84)) -> 0 | AM56: =SUMPRODUCT((F49:I84=AG56)*(BB49:BB84))+SUMPRODUCT((L49:O84=AG56)*(BC49:BC84)) -> 0 | AN56: =SUMPRODUCT((F49:I84=AG56)*(BD49:BD84))+SUMPRODUCT((L49:O84=AG56)*(BE49:BE84)) -> 0 | AO56: =SUMPRODUCT((F49:I84=AG56)*(BF49:BF84))+SUMPRODUCT((L49:O84=AG56)*(BG49:BG84)) -> 0 | AP56: =SUMPRODUCT((F49:I84=AG56)*(BH49:BH84))+SUMPRODUCT((L49:O84=AG56)*(BI49:BI84)) -> 0 | AQ56: =SUMPRODUCT((F49:I84=AG56)*(BJ49:BJ84))+SUMPRODUCT((L49:O84=AG56)*(BK49:BK84)) -> 0 | AR56: =SUMPRODUCT((F49:I84=AG56)*(BL49:BL84))+SUMPRODUCT((L49:O84=AG56)*(BM49:BM84)) -> 0 | AS56: =AQ56-AR56 -> 0 | AT56: =SUM(AL56*1000+(AS56)/100+(AQ56)/1000) -> 0 | AU56: =AT56+0.000002 -> 2e-06 | AV56: =E56 -> 0 | AW56: =P56 -> 0 | AX56: =IF(J56="",0,IF(J56>K56,Equipes!$J$16,IF('2 POULES DE 9'!J56='2 POULES DE 9'!K56,Equipes!$J$18,IF('2 POULES DE 9'!J56<'2 POULES DE 9'!K56,Equipes!$J$20)))) -> 0 | AY56: =IF(K56="",0,IF(K56>J56,Equipes!$J$16,IF('2 POULES DE 9'!K56='2 POULES DE 9'!J56,Equipes!$J$18,IF('2 POULES DE 9'!K56<'2 POULES DE 9'!J56,Equipes!$J$20)))) -> 0 | AZ56: =AX56-AV56 -> 0 | BA56: =AY56-AW56 -> 0 | BB56: =IF(J56="",0,1) -> 0 | BC56: =IF(K56="",0,1) -> 0 | BD56: =IF(J56<>"",IF(J56>K56,1)) -> FALSE | BE56: =IF(K56<>"",IF(K56>J56,1)) -> FALSE | BF56: =IF(J56<>"",IF(J56=K56,1)) -> FALSE | BG56: =IF(K56<>"",IF(K56=J56,1)) -> FALSE | BH56: =IF(J56<>"",IF(J56<K56,1)) -> FALSE | BI56: =IF(K56<>"",IF(K56<J56,1)) -> FALSE | BJ56: =J56 -> 0 | BK56: =K56 -> 0 | BL56: =K56 -> 0 | BM56: =J56 -> 0 | BN56: =VLOOKUP(AE56,AF49:AJ57,2,0) -> qq | BO56: =VLOOKUP(BN56,AG49:AT57,14,0) -> 0 | BP56: =RANK(BO56,BO49:BO57) -> 1
F57: =AG50 -> kk | L57: =AG54 -> oo | Q57: =VLOOKUP(AE57,AF49:AJ57,2,0) -> rr | U57: =IF(BO57=BO56,BP56,BP57) -> 1 | V57: =VLOOKUP(Q57,AG49:AS57,6,0) -> 0 | W57: =VLOOKUP(Q57,AG49:AS57,7,0) -> 0 | X57: =VLOOKUP(Q57,AG49:AS57,8,0) -> 0 | Y57: =VLOOKUP(Q57,AG49:AS57,9,0) -> 0 | Z57: =VLOOKUP(Q57,AG49:AS57,10,0) -> 0 | AA57: =VLOOKUP(Q57,AG49:AS57,11,0) -> 0 | AB57: =VLOOKUP(Q57,AG49:AS57,12,0) -> 0 | AC57: =VLOOKUP(Q57,AG49:AS57,13,0) -> 0 | AE57: 9 | AF57: =AK57 -> 9 | AG57: =Equipes!E26 -> rr | AK57: =RANK(AU57,AU49:AU57) -> 9 | AL57: =SUMPRODUCT((F49:I84=AG57)*(AZ49:AZ84))+SUMPRODUCT((L49:O84=AG57)*(BA49:BA84)) -> 0 | AM57: =SUMPRODUCT((F49:I84=AG57)*(BB49:BB84))+SUMPRODUCT((L49:O84=AG57)*(BC49:BC84)) -> 0 | AN57: =SUMPRODUCT((F49:I84=AG57)*(BD49:BD84))+SUMPRODUCT((L49:O84=AG57)*(BE49:BE84)) -> 0 | AO57: =SUMPRODUCT((F49:I84=AG57)*(BF49:BF84))+SUMPRODUCT((L49:O84=AG57)*(BG49:BG84)) -> 0 | AP57: =SUMPRODUCT((F49:I84=AG57)*(BH49:BH84))+SUMPRODUCT((L49:O84=AG57)*(BI49:BI84)) -> 0 | AQ57: =SUMPRODUCT((F49:I84=AG57)*(BJ49:BJ84))+SUMPRODUCT((L49:O84=AG57)*(BK49:BK84)) -> 0 | AR57: =SUMPRODUCT((F49:I84=AG57)*(BL49:BL84))+SUMPRODUCT((L49:O84=AG57)*(BM49:BM84)) -> 0 | AS57: =AQ57-AR57 -> 0 | AT57: =SUM(AL57*1000+(AS57)/100+(AQ57)/1000) -> 0 | AU57: =AT57+0.000001 -> 1e-06 | AV57: =E57 -> 0 | AW57: =P57 -> 0 | AX57: =IF(J57="",0,IF(J57>K57,Equipes!$J$16,IF('2 POULES DE 9'!J57='2 POULES DE 9'!K57,Equipes!$J$18,IF('2 POULES DE 9'!J57<'2 POULES DE 9'!K57,Equipes!$J$20)))) -> 0 | AY57: =IF(K57="",0,IF(K57>J57,Equipes!$J$16,IF('2 POULES DE 9'!K57='2 POULES DE 9'!J57,Equipes!$J$18,IF('2 POULES DE 9'!K57<'2 POULES DE 9'!J57,Equipes!$J$20)))) -> 0 | AZ57: =AX57-AV57 -> 0 | BA57: =AY57-AW57 -> 0 | BB57: =IF(J57="",0,1) -> 0 | BC57: =IF(K57="",0,1) -> 0 | BD57: =IF(J57<>"",IF(J57>K57,1)) -> FALSE | BE57: =IF(K57<>"",IF(K57>J57,1)) -> FALSE | BF57: =IF(J57<>"",IF(J57=K57,1)) -> FALSE | BG57: =IF(K57<>"",IF(K57=J57,1)) -> FALSE | BH57: =IF(J57<>"",IF(J57<K57,1)) -> FALSE | BI57: =IF(K57<>"",IF(K57<J57,1)) -> FALSE | BJ57: =J57 -> 0 | BK57: =K57 -> 0 | BL57: =K57 -> 0 | BM57: =J57 -> 0 | BN57: =VLOOKUP(AE57,AF49:AJ57,2,0) -> rr | BO57: =VLOOKUP(BN57,AG49:AT57,14,0) -> 0 | BP57: =RANK(BO57,BO49:BO57) -> 1
F58: =AG52 -> mm | L58: =AG49 -> jj | AV58: =E58 -> 0 | AW58: =P58 -> 0 | AX58: =IF(J58="",0,IF(J58>K58,Equipes!$J$16,IF('2 POULES DE 9'!J58='2 POULES DE 9'!K58,Equipes!$J$18,IF('2 POULES DE 9'!J58<'2 POULES DE 9'!K58,Equipes!$J$20)))) -> 0 | AY58: =IF(K58="",0,IF(K58>J58,Equipes!$J$16,IF('2 POULES DE 9'!K58='2 POULES DE 9'!J58,Equipes!$J$18,IF('2 POULES DE 9'!K58<'2 POULES DE 9'!J58,Equipes!$J$20)))) -> 0 | AZ58: =AX58-AV58 -> 0 | BA58: =AY58-AW58 -> 0 | BB58: =IF(J58="",0,1) -> 0 | BC58: =IF(K58="",0,1) -> 0 | BD58: =IF(J58<>"",IF(J58>K58,1)) -> FALSE | BE58: =IF(K58<>"",IF(K58>J58,1)) -> FALSE | BF58: =IF(J58<>"",IF(J58=K58,1)) -> FALSE | BG58: =IF(K58<>"",IF(K58=J58,1)) -> FALSE | BH58: =IF(J58<>"",IF(J58<K58,1)) -> FALSE | BI58: =IF(K58<>"",IF(K58<J58,1)) -> FALSE | BJ58: =J58 -> 0 | BK58: =K58 -> 0 | BL58: =K58 -> 0 | BM58: =J58 -> 0
F59: =AG53 -> nn | L59: =AG51 -> ll | AV59: =E59 -> 0 | AW59: =P59 -> 0 | AX59: =IF(J59="",0,IF(J59>K59,Equipes!$J$16,IF('2 POULES DE 9'!J59='2 POULES DE 9'!K59,Equipes!$J$18,IF('2 POULES DE 9'!J59<'2 POULES DE 9'!K59,Equipes!$J$20)))) -> 0 | AY59: =IF(K59="",0,IF(K59>J59,Equipes!$J$16,IF('2 POULES DE 9'!K59='2 POULES DE 9'!J59,Equipes!$J$18,IF('2 POULES DE 9'!K59<'2 POULES DE 9'!J59,Equipes!$J$20)))) -> 0 | AZ59: =AX59-AV59 -> 0 | BA59: =AY59-AW59 -> 0 | BB59: =IF(J59="",0,1) -> 0 | BC59: =IF(K59="",0,1) -> 0 | BD59: =IF(J59<>"",IF(J59>K59,1)) -> FALSE | BE59: =IF(K59<>"",IF(K59>J59,1)) -> FALSE | BF59: =IF(J59<>"",IF(J59=K59,1)) -> FALSE | BG59: =IF(K59<>"",IF(K59=J59,1)) -> FALSE | BH59: =IF(J59<>"",IF(J59<K59,1)) -> FALSE | BI59: =IF(K59<>"",IF(K59<J59,1)) -> FALSE | BJ59: =J59 -> 0 | BK59: =K59 -> 0 | BL59: =K59 -> 0 | BM59: =J59 -> 0
F60: =AG57 -> rr | L60: =AG56 -> qq | AV60: =E60 -> 0 | AW60: =P60 -> 0 | AX60: =IF(J60="",0,IF(J60>K60,Equipes!$J$16,IF('2 POULES DE 9'!J60='2 POULES DE 9'!K60,Equipes!$J$18,IF('2 POULES DE 9'!J60<'2 POULES DE 9'!K60,Equipes!$J$20)))) -> 0 | AY60: =IF(K60="",0,IF(K60>J60,Equipes!$J$16,IF('2 POULES DE 9'!K60='2 POULES DE 9'!J60,Equipes!$J$18,IF('2 POULES DE 9'!K60<'2 POULES DE 9'!J60,Equipes!$J$20)))) -> 0 | AZ60: =AX60-AV60 -> 0 | BA60: =AY60-AW60 -> 0 | BB60: =IF(J60="",0,1) -> 0 | BC60: =IF(K60="",0,1) -> 0 | BD60: =IF(J60<>"",IF(J60>K60,1)) -> FALSE | BE60: =IF(K60<>"",IF(K60>J60,1)) -> FALSE | BF60: =IF(J60<>"",IF(J60=K60,1)) -> FALSE | BG60: =IF(K60<>"",IF(K60=J60,1)) -> FALSE | BH60: =IF(J60<>"",IF(J60<K60,1)) -> FALSE | BI60: =IF(K60<>"",IF(K60<J60,1)) -> FALSE | BJ60: =J60 -> 0 | BK60: =K60 -> 0 | BL60: =K60 -> 0 | BM60: =J60 -> 0
F61: =AG49 -> jj | L61: =AG53 -> nn | AV61: =E61 -> 0 | AW61: =P61 -> 0 | AX61: =IF(J61="",0,IF(J61>K61,Equipes!$J$16,IF('2 POULES DE 9'!J61='2 POULES DE 9'!K61,Equipes!$J$18,IF('2 POULES DE 9'!J61<'2 POULES DE 9'!K61,Equipes!$J$20)))) -> 0 | AY61: =IF(K61="",0,IF(K61>J61,Equipes!$J$16,IF('2 POULES DE 9'!K61='2 POULES DE 9'!J61,Equipes!$J$18,IF('2 POULES DE 9'!K61<'2 POULES DE 9'!J61,Equipes!$J$20)))) -> 0 | AZ61: =AX61-AV61 -> 0 | BA61: =AY61-AW61 -> 0 | BB61: =IF(J61="",0,1) -> 0 | BC61: =IF(K61="",0,1) -> 0 | BD61: =IF(J61<>"",IF(J61>K61,1)) -> FALSE | BE61: =IF(K61<>"",IF(K61>J61,1)) -> FALSE | BF61: =IF(J61<>"",IF(J61=K61,1)) -> FALSE | BG61: =IF(K61<>"",IF(K61=J61,1)) -> FALSE | BH61: =IF(J61<>"",IF(J61<K61,1)) -> FALSE | BI61: =IF(K61<>"",IF(K61<J61,1)) -> FALSE | BJ61: =J61 -> 0 | BK61: =K61 -> 0 | BL61: =K61 -> 0 | BM61: =J61 -> 0
F62: =AG51 -> ll | L62: =AG55 -> pp | AV62: =E62 -> 0 | AW62: =P62 -> 0 | AX62: =IF(J62="",0,IF(J62>K62,Equipes!$J$16,IF('2 POULES DE 9'!J62='2 POULES DE 9'!K62,Equipes!$J$18,IF('2 POULES DE 9'!J62<'2 POULES DE 9'!K62,Equipes!$J$20)))) -> 0 | AY62: =IF(K62="",0,IF(K62>J62,Equipes!$J$16,IF('2 POULES DE 9'!K62='2 POULES DE 9'!J62,Equipes!$J$18,IF('2 POULES DE 9'!K62<'2 POULES DE 9'!J62,Equipes!$J$20)))) -> 0 | AZ62: =AX62-AV62 -> 0 | BA62: =AY62-AW62 -> 0 | BB62: =IF(J62="",0,1) -> 0 | BC62: =IF(K62="",0,1) -> 0 | BD62: =IF(J62<>"",IF(J62>K62,1)) -> FALSE | BE62: =IF(K62<>"",IF(K62>J62,1)) -> FALSE | BF62: =IF(J62<>"",IF(J62=K62,1)) -> FALSE | BG62: =IF(K62<>"",IF(K62=J62,1)) -> FALSE | BH62: =IF(J62<>"",IF(J62<K62,1)) -> FALSE | BI62: =IF(K62<>"",IF(K62<J62,1)) -> FALSE | BJ62: =J62 -> 0 | BK62: =K62 -> 0 | BL62: =K62 -> 0 | BM62: =J62 -> 0
F63: =AG54 -> oo | L63: =AG52 -> mm | AV63: =E63 -> 0 | AW63: =P63 -> 0 | AX63: =IF(J63="",0,IF(J63>K63,Equipes!$J$16,IF('2 POULES DE 9'!J63='2 POULES DE 9'!K63,Equipes!$J$18,IF('2 POULES DE 9'!J63<'2 POULES DE 9'!K63,Equipes!$J$20)))) -> 0 | AY63: =IF(K63="",0,IF(K63>J63,Equipes!$J$16,IF('2 POULES DE 9'!K63='2 POULES DE 9'!J63,Equipes!$J$18,IF('2 POULES DE 9'!K63<'2 POULES DE 9'!J63,Equipes!$J$20)))) -> 0 | AZ63: =AX63-AV63 -> 0 | BA63: =AY63-AW63 -> 0 | BB63: =IF(J63="",0,1) -> 0 | BC63: =IF(K63="",0,1) -> 0 | BD63: =IF(J63<>"",IF(J63>K63,1)) -> FALSE | BE63: =IF(K63<>"",IF(K63>J63,1)) -> FALSE | BF63: =IF(J63<>"",IF(J63=K63,1)) -> FALSE | BG63: =IF(K63<>"",IF(K63=J63,1)) -> FALSE | BH63: =IF(J63<>"",IF(J63<K63,1)) -> FALSE | BI63: =IF(K63<>"",IF(K63<J63,1)) -> FALSE | BJ63: =J63 -> 0 | BK63: =K63 -> 0 | BL63: =K63 -> 0 | BM63: =J63 -> 0
F64: =AG56 -> qq | L64: =AG50 -> kk | AV64: =E64 -> 0 | AW64: =P64 -> 0 | AX64: =IF(J64="",0,IF(J64>K64,Equipes!$J$16,IF('2 POULES DE 9'!J64='2 POULES DE 9'!K64,Equipes!$J$18,IF('2 POULES DE 9'!J64<'2 POULES DE 9'!K64,Equipes!$J$20)))) -> 0 | AY64: =IF(K64="",0,IF(K64>J64,Equipes!$J$16,IF('2 POULES DE 9'!K64='2 POULES DE 9'!J64,Equipes!$J$18,IF('2 POULES DE 9'!K64<'2 POULES DE 9'!J64,Equipes!$J$20)))) -> 0 | AZ64: =AX64-AV64 -> 0 | BA64: =AY64-AW64 -> 0 | BB64: =IF(J64="",0,1) -> 0 | BC64: =IF(K64="",0,1) -> 0 | BD64: =IF(J64<>"",IF(J64>K64,1)) -> FALSE | BE64: =IF(K64<>"",IF(K64>J64,1)) -> FALSE | BF64: =IF(J64<>"",IF(J64=K64,1)) -> FALSE | BG64: =IF(K64<>"",IF(K64=J64,1)) -> FALSE | BH64: =IF(J64<>"",IF(J64<K64,1)) -> FALSE | BI64: =IF(K64<>"",IF(K64<J64,1)) -> FALSE | BJ64: =J64 -> 0 | BK64: =K64 -> 0 | BL64: =K64 -> 0 | BM64: =J64 -> 0
F65: =AG52 -> mm | L65: =AG56 -> qq | AV65: =E65 -> 0 | AW65: =P65 -> 0 | AX65: =IF(J65="",0,IF(J65>K65,Equipes!$J$16,IF('2 POULES DE 9'!J65='2 POULES DE 9'!K65,Equipes!$J$18,IF('2 POULES DE 9'!J65<'2 POULES DE 9'!K65,Equipes!$J$20)))) -> 0 | AY65: =IF(K65="",0,IF(K65>J65,Equipes!$J$16,IF('2 POULES DE 9'!K65='2 POULES DE 9'!J65,Equipes!$J$18,IF('2 POULES DE 9'!K65<'2 POULES DE 9'!J65,Equipes!$J$20)))) -> 0 | AZ65: =AX65-AV65 -> 0 | BA65: =AY65-AW65 -> 0 | BB65: =IF(J65="",0,1) -> 0 | BC65: =IF(K65="",0,1) -> 0 | BD65: =IF(J65<>"",IF(J65>K65,1)) -> FALSE | BE65: =IF(K65<>"",IF(K65>J65,1)) -> FALSE | BF65: =IF(J65<>"",IF(J65=K65,1)) -> FALSE | BG65: =IF(K65<>"",IF(K65=J65,1)) -> FALSE | BH65: =IF(J65<>"",IF(J65<K65,1)) -> FALSE | BI65: =IF(K65<>"",IF(K65<J65,1)) -> FALSE | BJ65: =J65 -> 0 | BK65: =K65 -> 0 | BL65: =K65 -> 0 | BM65: =J65 -> 0
F66: =AG54 -> oo | L66: =AG49 -> jj | AV66: =E66 -> 0 | AW66: =P66 -> 0 | AX66: =IF(J66="",0,IF(J66>K66,Equipes!$J$16,IF('2 POULES DE 9'!J66='2 POULES DE 9'!K66,Equipes!$J$18,IF('2 POULES DE 9'!J66<'2 POULES DE 9'!K66,Equipes!$J$20)))) -> 0 | AY66: =IF(K66="",0,IF(K66>J66,Equipes!$J$16,IF('2 POULES DE 9'!K66='2 POULES DE 9'!J66,Equipes!$J$18,IF('2 POULES DE 9'!K66<'2 POULES DE 9'!J66,Equipes!$J$20)))) -> 0 | AZ66: =AX66-AV66 -> 0 | BA66: =AY66-AW66 -> 0 | BB66: =IF(J66="",0,1) -> 0 | BC66: =IF(K66="",0,1) -> 0 | BD66: =IF(J66<>"",IF(J66>K66,1)) -> FALSE | BE66: =IF(K66<>"",IF(K66>J66,1)) -> FALSE | BF66: =IF(J66<>"",IF(J66=K66,1)) -> FALSE | BG66: =IF(K66<>"",IF(K66=J66,1)) -> FALSE | BH66: =IF(J66<>"",IF(J66<K66,1)) -> FALSE | BI66: =IF(K66<>"",IF(K66<J66,1)) -> FALSE | BJ66: =J66 -> 0 | BK66: =K66 -> 0 | BL66: =K66 -> 0 | BM66: =J66 -> 0
F67: =AG55 -> pp | L67: =AG53 -> nn | AV67: =E67 -> 0 | AW67: =P67 -> 0 | AX67: =IF(J67="",0,IF(J67>K67,Equipes!$J$16,IF('2 POULES DE 9'!J67='2 POULES DE 9'!K67,Equipes!$J$18,IF('2 POULES DE 9'!J67<'2 POULES DE 9'!K67,Equipes!$J$20)))) -> 0 | AY67: =IF(K67="",0,IF(K67>J67,Equipes!$J$16,IF('2 POULES DE 9'!K67='2 POULES DE 9'!J67,Equipes!$J$18,IF('2 POULES DE 9'!K67<'2 POULES DE 9'!J67,Equipes!$J$20)))) -> 0 | AZ67: =AX67-AV67 -> 0 | BA67: =AY67-AW67 -> 0 | BB67: =IF(J67="",0,1) -> 0 | BC67: =IF(K67="",0,1) -> 0 | BD67: =IF(J67<>"",IF(J67>K67,1)) -> FALSE | BE67: =IF(K67<>"",IF(K67>J67,1)) -> FALSE | BF67: =IF(J67<>"",IF(J67=K67,1)) -> FALSE | BG67: =IF(K67<>"",IF(K67=J67,1)) -> FALSE | BH67: =IF(J67<>"",IF(J67<K67,1)) -> FALSE | BI67: =IF(K67<>"",IF(K67<J67,1)) -> FALSE | BJ67: =J67 -> 0 | BK67: =K67 -> 0 | BL67: =K67 -> 0 | BM67: =J67 -> 0
F68: =AG57 -> rr | L68: =AG51 -> ll | AV68: =E68 -> 0 | AW68: =P68 -> 0 | AX68: =IF(J68="",0,IF(J68>K68,Equipes!$J$16,IF('2 POULES DE 9'!J68='2 POULES DE 9'!K68,Equipes!$J$18,IF('2 POULES DE 9'!J68<'2 POULES DE 9'!K68,Equipes!$J$20)))) -> 0 | AY68: =IF(K68="",0,IF(K68>J68,Equipes!$J$16,IF('2 POULES DE 9'!K68='2 POULES DE 9'!J68,Equipes!$J$18,IF('2 POULES DE 9'!K68<'2 POULES DE 9'!J68,Equipes!$J$20)))) -> 0 | AZ68: =AX68-AV68 -> 0 | BA68: =AY68-AW68 -> 0 | BB68: =IF(J68="",0,1) -> 0 | BC68: =IF(K68="",0,1) -> 0 | BD68: =IF(J68<>"",IF(J68>K68,1)) -> FALSE | BE68: =IF(K68<>"",IF(K68>J68,1)) -> FALSE | BF68: =IF(J68<>"",IF(J68=K68,1)) -> FALSE | BG68: =IF(K68<>"",IF(K68=J68,1)) -> FALSE | BH68: =IF(J68<>"",IF(J68<K68,1)) -> FALSE | BI68: =IF(K68<>"",IF(K68<J68,1)) -> FALSE | BJ68: =J68 -> 0 | BK68: =K68 -> 0 | BL68: =K68 -> 0 | BM68: =J68 -> 0
F69: =AG49 -> jj | L69: =AG55 -> pp | AV69: =E69 -> 0 | AW69: =P69 -> 0 | AX69: =IF(J69="",0,IF(J69>K69,Equipes!$J$16,IF('2 POULES DE 9'!J69='2 POULES DE 9'!K69,Equipes!$J$18,IF('2 POULES DE 9'!J69<'2 POULES DE 9'!K69,Equipes!$J$20)))) -> 0 | AY69: =IF(K69="",0,IF(K69>J69,Equipes!$J$16,IF('2 POULES DE 9'!K69='2 POULES DE 9'!J69,Equipes!$J$18,IF('2 POULES DE 9'!K69<'2 POULES DE 9'!J69,Equipes!$J$20)))) -> 0 | AZ69: =AX69-AV69 -> 0 | BA69: =AY69-AW69 -> 0 | BB69: =IF(J69="",0,1) -> 0 | BC69: =IF(K69="",0,1) -> 0 | BD69: =IF(J69<>"",IF(J69>K69,1)) -> FALSE | BE69: =IF(K69<>"",IF(K69>J69,1)) -> FALSE | BF69: =IF(J69<>"",IF(J69=K69,1)) -> FALSE | BG69: =IF(K69<>"",IF(K69=J69,1)) -> FALSE | BH69: =IF(J69<>"",IF(J69<K69,1)) -> FALSE | BI69: =IF(K69<>"",IF(K69<J69,1)) -> FALSE | BJ69: =J69 -> 0 | BK69: =K69 -> 0 | BL69: =K69 -> 0 | BM69: =J69 -> 0
F70: =AG51 -> ll | L70: =AG50 -> kk | AV70: =E70 -> 0 | AW70: =P70 -> 0 | AX70: =IF(J70="",0,IF(J70>K70,Equipes!$J$16,IF('2 POULES DE 9'!J70='2 POULES DE 9'!K70,Equipes!$J$18,IF('2 POULES DE 9'!J70<'2 POULES DE 9'!K70,Equipes!$J$20)))) -> 0 | AY70: =IF(K70="",0,IF(K70>J70,Equipes!$J$16,IF('2 POULES DE 9'!K70='2 POULES DE 9'!J70,Equipes!$J$18,IF('2 POULES DE 9'!K70<'2 POULES DE 9'!J70,Equipes!$J$20)))) -> 0 | AZ70: =AX70-AV70 -> 0 | BA70: =AY70-AW70 -> 0 | BB70: =IF(J70="",0,1) -> 0 | BC70: =IF(K70="",0,1) -> 0 | BD70: =IF(J70<>"",IF(J70>K70,1)) -> FALSE | BE70: =IF(K70<>"",IF(K70>J70,1)) -> FALSE | BF70: =IF(J70<>"",IF(J70=K70,1)) -> FALSE | BG70: =IF(K70<>"",IF(K70=J70,1)) -> FALSE | BH70: =IF(J70<>"",IF(J70<K70,1)) -> FALSE | BI70: =IF(K70<>"",IF(K70<J70,1)) -> FALSE | BJ70: =J70 -> 0 | BK70: =K70 -> 0 | BL70: =K70 -> 0 | BM70: =J70 -> 0
F71: =AG53 -> nn | L71: =AG57 -> rr | AV71: =E71 -> 0 | AW71: =P71 -> 0 | AX71: =IF(J71="",0,IF(J71>K71,Equipes!$J$16,IF('2 POULES DE 9'!J71='2 POULES DE 9'!K71,Equipes!$J$18,IF('2 POULES DE 9'!J71<'2 POULES DE 9'!K71,Equipes!$J$20)))) -> 0 | AY71: =IF(K71="",0,IF(K71>J71,Equipes!$J$16,IF('2 POULES DE 9'!K71='2 POULES DE 9'!J71,Equipes!$J$18,IF('2 POULES DE 9'!K71<'2 POULES DE 9'!J71,Equipes!$J$20)))) -> 0 | AZ71: =AX71-AV71 -> 0 | BA71: =AY71-AW71 -> 0 | BB71: =IF(J71="",0,1) -> 0 | BC71: =IF(K71="",0,1) -> 0 | BD71: =IF(J71<>"",IF(J71>K71,1)) -> FALSE | BE71: =IF(K71<>"",IF(K71>J71,1)) -> FALSE | BF71: =IF(J71<>"",IF(J71=K71,1)) -> FALSE | BG71: =IF(K71<>"",IF(K71=J71,1)) -> FALSE | BH71: =IF(J71<>"",IF(J71<K71,1)) -> FALSE | BI71: =IF(K71<>"",IF(K71<J71,1)) -> FALSE | BJ71: =J71 -> 0 | BK71: =K71 -> 0 | BL71: =K71 -> 0 | BM71: =J71 -> 0
F72: =AG56 -> qq | L72: =AG54 -> oo | AV72: =E72 -> 0 | AW72: =P72 -> 0 | AX72: =IF(J72="",0,IF(J72>K72,Equipes!$J$16,IF('2 POULES DE 9'!J72='2 POULES DE 9'!K72,Equipes!$J$18,IF('2 POULES DE 9'!J72<'2 POULES DE 9'!K72,Equipes!$J$20)))) -> 0 | AY72: =IF(K72="",0,IF(K72>J72,Equipes!$J$16,IF('2 POULES DE 9'!K72='2 POULES DE 9'!J72,Equipes!$J$18,IF('2 POULES DE 9'!K72<'2 POULES DE 9'!J72,Equipes!$J$20)))) -> 0 | AZ72: =AX72-AV72 -> 0 | BA72: =AY72-AW72 -> 0 | BB72: =IF(J72="",0,1) -> 0 | BC72: =IF(K72="",0,1) -> 0 | BD72: =IF(J72<>"",IF(J72>K72,1)) -> FALSE | BE72: =IF(K72<>"",IF(K72>J72,1)) -> FALSE | BF72: =IF(J72<>"",IF(J72=K72,1)) -> FALSE | BG72: =IF(K72<>"",IF(K72=J72,1)) -> FALSE | BH72: =IF(J72<>"",IF(J72<K72,1)) -> FALSE | BI72: =IF(K72<>"",IF(K72<J72,1)) -> FALSE | BJ72: =J72 -> 0 | BK72: =K72 -> 0 | BL72: =K72 -> 0 | BM72: =J72 -> 0
F73: =AG50 -> kk | L73: =AG53 -> nn | AV73: =E73 -> 0 | AW73: =P73 -> 0 | AX73: =IF(J73="",0,IF(J73>K73,Equipes!$J$16,IF('2 POULES DE 9'!J73='2 POULES DE 9'!K73,Equipes!$J$18,IF('2 POULES DE 9'!J73<'2 POULES DE 9'!K73,Equipes!$J$20)))) -> 0 | AY73: =IF(K73="",0,IF(K73>J73,Equipes!$J$16,IF('2 POULES DE 9'!K73='2 POULES DE 9'!J73,Equipes!$J$18,IF('2 POULES DE 9'!K73<'2 POULES DE 9'!J73,Equipes!$J$20)))) -> 0 | AZ73: =AX73-AV73 -> 0 | BA73: =AY73-AW73 -> 0 | BB73: =IF(J73="",0,1) -> 0 | BC73: =IF(K73="",0,1) -> 0 | BD73: =IF(J73<>"",IF(J73>K73,1)) -> FALSE | BE73: =IF(K73<>"",IF(K73>J73,1)) -> FALSE | BF73: =IF(J73<>"",IF(J73=K73,1)) -> FALSE | BG73: =IF(K73<>"",IF(K73=J73,1)) -> FALSE | BH73: =IF(J73<>"",IF(J73<K73,1)) -> FALSE | BI73: =IF(K73<>"",IF(K73<J73,1)) -> FALSE | BJ73: =J73 -> 0 | BK73: =K73 -> 0 | BL73: =K73 -> 0 | BM73: =J73 -> 0
F74: =AG52 -> mm | L74: =AG51 -> ll | AV74: =E74 -> 0 | AW74: =P74 -> 0 | AX74: =IF(J74="",0,IF(J74>K74,Equipes!$J$16,IF('2 POULES DE 9'!J74='2 POULES DE 9'!K74,Equipes!$J$18,IF('2 POULES DE 9'!J74<'2 POULES DE 9'!K74,Equipes!$J$20)))) -> 0 | AY74: =IF(K74="",0,IF(K74>J74,Equipes!$J$16,IF('2 POULES DE 9'!K74='2 POULES DE 9'!J74,Equipes!$J$18,IF('2 POULES DE 9'!K74<'2 POULES DE 9'!J74,Equipes!$J$20)))) -> 0 | AZ74: =AX74-AV74 -> 0 | BA74: =AY74-AW74 -> 0 | BB74: =IF(J74="",0,1) -> 0 | BC74: =IF(K74="",0,1) -> 0 | BD74: =IF(J74<>"",IF(J74>K74,1)) -> FALSE | BE74: =IF(K74<>"",IF(K74>J74,1)) -> FALSE | BF74: =IF(J74<>"",IF(J74=K74,1)) -> FALSE | BG74: =IF(K74<>"",IF(K74=J74,1)) -> FALSE | BH74: =IF(J74<>"",IF(J74<K74,1)) -> FALSE | BI74: =IF(K74<>"",IF(K74<J74,1)) -> FALSE | BJ74: =J74 -> 0 | BK74: =K74 -> 0 | BL74: =K74 -> 0 | BM74: =J74 -> 0
F75: =AG56 -> qq | L75: =AG49 -> jj | AV75: =E75 -> 0 | AW75: =P75 -> 0 | AX75: =IF(J75="",0,IF(J75>K75,Equipes!$J$16,IF('2 POULES DE 9'!J75='2 POULES DE 9'!K75,Equipes!$J$18,IF('2 POULES DE 9'!J75<'2 POULES DE 9'!K75,Equipes!$J$20)))) -> 0 | AY75: =IF(K75="",0,IF(K75>J75,Equipes!$J$16,IF('2 POULES DE 9'!K75='2 POULES DE 9'!J75,Equipes!$J$18,IF('2 POULES DE 9'!K75<'2 POULES DE 9'!J75,Equipes!$J$20)))) -> 0 | AZ75: =AX75-AV75 -> 0 | BA75: =AY75-AW75 -> 0 | BB75: =IF(J75="",0,1) -> 0 | BC75: =IF(K75="",0,1) -> 0 | BD75: =IF(J75<>"",IF(J75>K75,1)) -> FALSE | BE75: =IF(K75<>"",IF(K75>J75,1)) -> FALSE | BF75: =IF(J75<>"",IF(J75=K75,1)) -> FALSE | BG75: =IF(K75<>"",IF(K75=J75,1)) -> FALSE | BH75: =IF(J75<>"",IF(J75<K75,1)) -> FALSE | BI75: =IF(K75<>"",IF(K75<J75,1)) -> FALSE | BJ75: =J75 -> 0 | BK75: =K75 -> 0 | BL75: =K75 -> 0 | BM75: =J75 -> 0
F76: =AG57 -> rr | L76: =AG55 -> pp | AV76: =E76 -> 0 | AW76: =P76 -> 0 | AX76: =IF(J76="",0,IF(J76>K76,Equipes!$J$16,IF('2 POULES DE 9'!J76='2 POULES DE 9'!K76,Equipes!$J$18,IF('2 POULES DE 9'!J76<'2 POULES DE 9'!K76,Equipes!$J$20)))) -> 0 | AY76: =IF(K76="",0,IF(K76>J76,Equipes!$J$16,IF('2 POULES DE 9'!K76='2 POULES DE 9'!J76,Equipes!$J$18,IF('2 POULES DE 9'!K76<'2 POULES DE 9'!J76,Equipes!$J$20)))) -> 0 | AZ76: =AX76-AV76 -> 0 | BA76: =AY76-AW76 -> 0 | BB76: =IF(J76="",0,1) -> 0 | BC76: =IF(K76="",0,1) -> 0 | BD76: =IF(J76<>"",IF(J76>K76,1)) -> FALSE | BE76: =IF(K76<>"",IF(K76>J76,1)) -> FALSE | BF76: =IF(J76<>"",IF(J76=K76,1)) -> FALSE | BG76: =IF(K76<>"",IF(K76=J76,1)) -> FALSE | BH76: =IF(J76<>"",IF(J76<K76,1)) -> FALSE | BI76: =IF(K76<>"",IF(K76<J76,1)) -> FALSE | BJ76: =J76 -> 0 | BK76: =K76 -> 0 | BL76: =K76 -> 0 | BM76: =J76 -> 0
F77: =AG49 -> jj | L77: =AG57 -> rr | AV77: =E77 -> 0 | AW77: =P77 -> 0 | AX77: =IF(J77="",0,IF(J77>K77,Equipes!$J$16,IF('2 POULES DE 9'!J77='2 POULES DE 9'!K77,Equipes!$J$18,IF('2 POULES DE 9'!J77<'2 POULES DE 9'!K77,Equipes!$J$20)))) -> 0 | AY77: =IF(K77="",0,IF(K77>J77,Equipes!$J$16,IF('2 POULES DE 9'!K77='2 POULES DE 9'!J77,Equipes!$J$18,IF('2 POULES DE 9'!K77<'2 POULES DE 9'!J77,Equipes!$J$20)))) -> 0 | AZ77: =AX77-AV77 -> 0 | BA77: =AY77-AW77 -> 0 | BB77: =IF(J77="",0,1) -> 0 | BC77: =IF(K77="",0,1) -> 0 | BD77: =IF(J77<>"",IF(J77>K77,1)) -> FALSE | BE77: =IF(K77<>"",IF(K77>J77,1)) -> FALSE | BF77: =IF(J77<>"",IF(J77=K77,1)) -> FALSE | BG77: =IF(K77<>"",IF(K77=J77,1)) -> FALSE | BH77: =IF(J77<>"",IF(J77<K77,1)) -> FALSE | BI77: =IF(K77<>"",IF(K77<J77,1)) -> FALSE | BJ77: =J77 -> 0 | BK77: =K77 -> 0 | BL77: =K77 -> 0 | BM77: =J77 -> 0
F78: =AG51 -> ll | L78: =AG54 -> oo | AV78: =E78 -> 0 | AW78: =P78 -> 0 | AX78: =IF(J78="",0,IF(J78>K78,Equipes!$J$16,IF('2 POULES DE 9'!J78='2 POULES DE 9'!K78,Equipes!$J$18,IF('2 POULES DE 9'!J78<'2 POULES DE 9'!K78,Equipes!$J$20)))) -> 0 | AY78: =IF(K78="",0,IF(K78>J78,Equipes!$J$16,IF('2 POULES DE 9'!K78='2 POULES DE 9'!J78,Equipes!$J$18,IF('2 POULES DE 9'!K78<'2 POULES DE 9'!J78,Equipes!$J$20)))) -> 0 | AZ78: =AX78-AV78 -> 0 | BA78: =AY78-AW78 -> 0 | BB78: =IF(J78="",0,1) -> 0 | BC78: =IF(K78="",0,1) -> 0 | BD78: =IF(J78<>"",IF(J78>K78,1)) -> FALSE | BE78: =IF(K78<>"",IF(K78>J78,1)) -> FALSE | BF78: =IF(J78<>"",IF(J78=K78,1)) -> FALSE | BG78: =IF(K78<>"",IF(K78=J78,1)) -> FALSE | BH78: =IF(J78<>"",IF(J78<K78,1)) -> FALSE | BI78: =IF(K78<>"",IF(K78<J78,1)) -> FALSE | BJ78: =J78 -> 0 | BK78: =K78 -> 0 | BL78: =K78 -> 0 | BM78: =J78 -> 0
F79: =AG53 -> nn | L79: =AG52 -> mm | AV79: =E79 -> 0 | AW79: =P79 -> 0 | AX79: =IF(J79="",0,IF(J79>K79,Equipes!$J$16,IF('2 POULES DE 9'!J79='2 POULES DE 9'!K79,Equipes!$J$18,IF('2 POULES DE 9'!J79<'2 POULES DE 9'!K79,Equipes!$J$20)))) -> 0 | AY79: =IF(K79="",0,IF(K79>J79,Equipes!$J$16,IF('2 POULES DE 9'!K79='2 POULES DE 9'!J79,Equipes!$J$18,IF('2 POULES DE 9'!K79<'2 POULES DE 9'!J79,Equipes!$J$20)))) -> 0 | AZ79: =AX79-AV79 -> 0 | BA79: =AY79-AW79 -> 0 | BB79: =IF(J79="",0,1) -> 0 | BC79: =IF(K79="",0,1) -> 0 | BD79: =IF(J79<>"",IF(J79>K79,1)) -> FALSE | BE79: =IF(K79<>"",IF(K79>J79,1)) -> FALSE | BF79: =IF(J79<>"",IF(J79=K79,1)) -> FALSE | BG79: =IF(K79<>"",IF(K79=J79,1)) -> FALSE | BH79: =IF(J79<>"",IF(J79<K79,1)) -> FALSE | BI79: =IF(K79<>"",IF(K79<J79,1)) -> FALSE | BJ79: =J79 -> 0 | BK79: =K79 -> 0 | BL79: =K79 -> 0 | BM79: =J79 -> 0
F80: =AG55 -> pp | L80: =AG50 -> kk | AV80: =E80 -> 0 | AW80: =P80 -> 0 | AX80: =IF(J80="",0,IF(J80>K80,Equipes!$J$16,IF('2 POULES DE 9'!J80='2 POULES DE 9'!K80,Equipes!$J$18,IF('2 POULES DE 9'!J80<'2 POULES DE 9'!K80,Equipes!$J$20)))) -> 0 | AY80: =IF(K80="",0,IF(K80>J80,Equipes!$J$16,IF('2 POULES DE 9'!K80='2 POULES DE 9'!J80,Equipes!$J$18,IF('2 POULES DE 9'!K80<'2 POULES DE 9'!J80,Equipes!$J$20)))) -> 0 | AZ80: =AX80-AV80 -> 0 | BA80: =AY80-AW80 -> 0 | BB80: =IF(J80="",0,1) -> 0 | BC80: =IF(K80="",0,1) -> 0 | BD80: =IF(J80<>"",IF(J80>K80,1)) -> FALSE | BE80: =IF(K80<>"",IF(K80>J80,1)) -> FALSE | BF80: =IF(J80<>"",IF(J80=K80,1)) -> FALSE | BG80: =IF(K80<>"",IF(K80=J80,1)) -> FALSE | BH80: =IF(J80<>"",IF(J80<K80,1)) -> FALSE | BI80: =IF(K80<>"",IF(K80<J80,1)) -> FALSE | BJ80: =J80 -> 0 | BK80: =K80 -> 0 | BL80: =K80 -> 0 | BM80: =J80 -> 0
F81: =AG50 -> kk | L81: =AG57 -> rr | AV81: =E81 -> 0 | AW81: =P81 -> 0 | AX81: =IF(J81="",0,IF(J81>K81,Equipes!$J$16,IF('2 POULES DE 9'!J81='2 POULES DE 9'!K81,Equipes!$J$18,IF('2 POULES DE 9'!J81<'2 POULES DE 9'!K81,Equipes!$J$20)))) -> 0 | AY81: =IF(K81="",0,IF(K81>J81,Equipes!$J$16,IF('2 POULES DE 9'!K81='2 POULES DE 9'!J81,Equipes!$J$18,IF('2 POULES DE 9'!K81<'2 POULES DE 9'!J81,Equipes!$J$20)))) -> 0 | AZ81: =AX81-AV81 -> 0 | BA81: =AY81-AW81 -> 0 | BB81: =IF(J81="",0,1) -> 0 | BC81: =IF(K81="",0,1) -> 0 | BD81: =IF(J81<>"",IF(J81>K81,1)) -> FALSE | BE81: =IF(K81<>"",IF(K81>J81,1)) -> FALSE | BF81: =IF(J81<>"",IF(J81=K81,1)) -> FALSE | BG81: =IF(K81<>"",IF(K81=J81,1)) -> FALSE | BH81: =IF(J81<>"",IF(J81<K81,1)) -> FALSE | BI81: =IF(K81<>"",IF(K81<J81,1)) -> FALSE | BJ81: =J81 -> 0 | BK81: =K81 -> 0 | BL81: =K81 -> 0 | BM81: =J81 -> 0
F82: =AG52 -> mm | L82: =AG55 -> pp | AV82: =E82 -> 0 | AW82: =P82 -> 0 | AX82: =IF(J82="",0,IF(J82>K82,Equipes!$J$16,IF('2 POULES DE 9'!J82='2 POULES DE 9'!K82,Equipes!$J$18,IF('2 POULES DE 9'!J82<'2 POULES DE 9'!K82,Equipes!$J$20)))) -> 0 | AY82: =IF(K82="",0,IF(K82>J82,Equipes!$J$16,IF('2 POULES DE 9'!K82='2 POULES DE 9'!J82,Equipes!$J$18,IF('2 POULES DE 9'!K82<'2 POULES DE 9'!J82,Equipes!$J$20)))) -> 0 | AZ82: =AX82-AV82 -> 0 | BA82: =AY82-AW82 -> 0 | BB82: =IF(J82="",0,1) -> 0 | BC82: =IF(K82="",0,1) -> 0 | BD82: =IF(J82<>"",IF(J82>K82,1)) -> FALSE | BE82: =IF(K82<>"",IF(K82>J82,1)) -> FALSE | BF82: =IF(J82<>"",IF(J82=K82,1)) -> FALSE | BG82: =IF(K82<>"",IF(K82=J82,1)) -> FALSE | BH82: =IF(J82<>"",IF(J82<K82,1)) -> FALSE | BI82: =IF(K82<>"",IF(K82<J82,1)) -> FALSE | BJ82: =J82 -> 0 | BK82: =K82 -> 0 | BL82: =K82 -> 0 | BM82: =J82 -> 0
F83: =AG54 -> oo | L83: =AG53 -> nn | AV83: =E83 -> 0 | AW83: =P83 -> 0 | AX83: =IF(J83="",0,IF(J83>K83,Equipes!$J$16,IF('2 POULES DE 9'!J83='2 POULES DE 9'!K83,Equipes!$J$18,IF('2 POULES DE 9'!J83<'2 POULES DE 9'!K83,Equipes!$J$20)))) -> 0 | AY83: =IF(K83="",0,IF(K83>J83,Equipes!$J$16,IF('2 POULES DE 9'!K83='2 POULES DE 9'!J83,Equipes!$J$18,IF('2 POULES DE 9'!K83<'2 POULES DE 9'!J83,Equipes!$J$20)))) -> 0 | AZ83: =AX83-AV83 -> 0 | BA83: =AY83-AW83 -> 0 | BB83: =IF(J83="",0,1) -> 0 | BC83: =IF(K83="",0,1) -> 0 | BD83: =IF(J83<>"",IF(J83>K83,1)) -> FALSE | BE83: =IF(K83<>"",IF(K83>J83,1)) -> FALSE | BF83: =IF(J83<>"",IF(J83=K83,1)) -> FALSE | BG83: =IF(K83<>"",IF(K83=J83,1)) -> FALSE | BH83: =IF(J83<>"",IF(J83<K83,1)) -> FALSE | BI83: =IF(K83<>"",IF(K83<J83,1)) -> FALSE | BJ83: =J83 -> 0 | BK83: =K83 -> 0 | BL83: =K83 -> 0 | BM83: =J83 -> 0
F84: =AG56 -> qq | L84: =AG51 -> ll | AV84: =E84 -> 0 | AW84: =P84 -> 0 | AX84: =IF(J84="",0,IF(J84>K84,Equipes!$J$16,IF('2 POULES DE 9'!J84='2 POULES DE 9'!K84,Equipes!$J$18,IF('2 POULES DE 9'!J84<'2 POULES DE 9'!K84,Equipes!$J$20)))) -> 0 | AY84: =IF(K84="",0,IF(K84>J84,Equipes!$J$16,IF('2 POULES DE 9'!K84='2 POULES DE 9'!J84,Equipes!$J$18,IF('2 POULES DE 9'!K84<'2 POULES DE 9'!J84,Equipes!$J$20)))) -> 0 | AZ84: =AX84-AV84 -> 0 | BA84: =AY84-AW84 -> 0 | BB84: =IF(J84="",0,1) -> 0 | BC84: =IF(K84="",0,1) -> 0 | BD84: =IF(J84<>"",IF(J84>K84,1)) -> FALSE | BE84: =IF(K84<>"",IF(K84>J84,1)) -> FALSE | BF84: =IF(J84<>"",IF(J84=K84,1)) -> FALSE | BG84: =IF(K84<>"",IF(K84=J84,1)) -> FALSE | BH84: =IF(J84<>"",IF(J84<K84,1)) -> FALSE | BI84: =IF(K84<>"",IF(K84<J84,1)) -> FALSE | BJ84: =J84 -> 0 | BK84: =K84 -> 0 | BL84: =K84 -> 0 | BM84: =J84 -> 0

Sheet 2 POULES DE 10
C3: POULE A | Q3: CLASSEMENT | AG3: CLASSEMENT
C5: Heure | D5: Terrain | E5: Pts - | F5: Equipes | J5: Buts | K5: Buts | L5: Equipes | P5: Pts - | Q5: Equipes | U5: Rang | V5: Points | W5: J | X5: G | Y5: N | Z5: P | AA5: B + | AB5: B - | AC5: Diff | AF5: R | AG5: Equipes | AK5: Rang | AL5: Points | AM5: J | AN5: G | AO5: N | AP5: P | AQ5: B + | AR5: B - | AS5: Diff | AT5: % | AU5: % | AV5: P | AW5: P | AX5: Pts | AY5: Pts | AZ5: T Pts | BA5: T Pts | BB5: J | BC5: J | BD5: G | BE5: G | BF5: N | BG5: N | BH5: P | BI5: P | BJ5: B+ | BK5: B+ | BL5: B- | BM5: B- | BN5: Equipes | BO5: % | BP5: R
F6: =AG7 -> bb | L6: =AG6 -> aa | Q6: =VLOOKUP(AE6,AF6:AJ15,2,0) -> aa | U6: 1 | V6: =VLOOKUP(Q6,AG6:AS15,6,0) -> 0 | W6: =VLOOKUP(Q6,AG6:AS15,7,0) -> 0 | X6: =VLOOKUP(Q6,AG6:AS15,8,0) -> 0 | Y6: =VLOOKUP(Q6,AG6:AS15,9,0) -> 0 | Z6: =VLOOKUP(Q6,AG6:AS15,10,0) -> 0 | AA6: =VLOOKUP(Q6,AG6:AS15,11,0) -> 0 | AB6: =VLOOKUP(Q6,AG6:AS15,12,0) -> 0 | AC6: =VLOOKUP(Q6,AG6:AS15,13,0) -> 0 | AE6: 1 | AF6: =AK6 -> 1 | AG6: =Equipes!C32 -> aa | AK6: =RANK(AU6,AU6:AU15) -> 1 | AL6: =SUMPRODUCT((F6:I50=AG6)*(AZ6:AZ50))+SUMPRODUCT((L6:O50=AG6)*(BA6:BA50)) -> 0 | AM6: =SUMPRODUCT((F6:I50=AG6)*(BB6:BB50))+SUMPRODUCT((L6:O50=AG6)*(BC6:BC50)) -> 0 | AN6: =SUMPRODUCT((F6:I50=AG6)*(BD6:BD50))+SUMPRODUCT((L6:O50=AG6)*(BE6:BE50)) -> 0 | AO6: =SUMPRODUCT((F6:I50=AG6)*(BF6:BF50))+SUMPRODUCT((L6:O50=AG6)*(BG6:BG50)) -> 0 | AP6: =SUMPRODUCT((F6:I50=AG6)*(BH6:BH50))+SUMPRODUCT((L6:O50=AG6)*(BI6:BI50)) -> 0 | AQ6: =SUMPRODUCT((F6:I50=AG6)*(BJ6:BJ50))+SUMPRODUCT((L6:O50=AG6)*(BK6:BK50)) -> 0 | AR6: =SUMPRODUCT((F6:I50=AG6)*(BL6:BL50))+SUMPRODUCT((L6:O50=AG6)*(BM6:BM50)) -> 0 | AS6: =AQ6-AR6 -> 0 | AT6: =SUM(AL6*1000+(AS6)/100+(AQ6)/1000) -> 0 | AU6: =AT6+0.00001 -> 1e-05 | AV6: =E6 -> 0 | AW6: =P6 -> 0 | AX6: =IF(J6="",0,IF(J6>K6,Equipes!$J$30,IF('2 POULES DE 10'!J6='2 POULES DE 10'!K6,Equipes!$J$32,IF('2 POULES DE 10'!J6<'2 POULES DE 10'!K6,Equipes!$J$34)))) -> 0 | AY6: =IF(K6="",0,IF(K6>J6,Equipes!$J$30,IF('2 POULES DE 10'!K6='2 POULES DE 10'!J6,Equipes!$J$32,IF('2 POULES DE 10'!K6<'2 POULES DE 10'!J6,Equipes!$J$34)))) -> 0 | AZ6: =AX6-AV6 -> 0 | BA6: =AY6-AW6 -> 0 | BB6: =IF(J6="",0,1) -> 0 | BC6: =IF(K6="",0,1) -> 0 | BD6: =IF(J6<>"",IF(J6>K6,1)) -> FALSE | BE6: =IF(K6<>"",IF(K6>J6,1)) -> FALSE | BF6: =IF(J6<>"",IF(J6=K6,1)) -> FALSE | BG6: =IF(K6<>"",IF(K6=J6,1)) -> FALSE | BH6: =IF(J6<>"",IF(J6<K6,1)) -> FALSE | BI6: =IF(K6<>"",IF(K6<J6,1)) -> FALSE | BJ6: =J6 -> 0 | BK6: =K6 -> 0 | BL6: =K6 -> 0 | BM6: =J6 -> 0 | BN6: =VLOOKUP(AE6,AF6:AJ15,2,0) -> aa | BO6: =VLOOKUP(BN6,AG6:AT15,14,0) -> 0 | BP6: =RANK(BO6,BO6:BO15) -> 1
F7: =AG8 -> cc | L7: =AG15 -> jj | Q7: =VLOOKUP(AE7,AF6:AJ15,2,0) -> bb | U7: =IF(BO7=BO6,BP6,BP7) -> 1 | V7: =VLOOKUP(Q7,AG6:AS15,6,0) -> 0 | W7: =VLOOKUP(Q7,AG6:AS15,7,0) -> 0 | X7: =VLOOKUP(Q7,AG6:AS15,8,0) -> 0 | Y7: =VLOOKUP(Q7,AG6:AS15,9,0) -> 0 | Z7: =VLOOKUP(Q7,AG6:AS15,10,0) -> 0 | AA7: =VLOOKUP(Q7,AG6:AS15,11,0) -> 0 | AB7: =VLOOKUP(Q7,AG6:AS15,12,0) -> 0 | AC7: =VLOOKUP(Q7,AG6:AS15,13,0) -> 0 | AE7: 2 | AF7: =AK7 -> 2 | AG7: =Equipes!C33 -> bb | AK7: =RANK(AU7,AU6:AU15) -> 2 | AL7: =SUMPRODUCT((F6:I50=AG7)*(AZ6:AZ50))+SUMPRODUCT((L6:O50=AG7)*(BA6:BA50)) -> 0 | AM7: =SUMPRODUCT((F6:I50=AG7)*(BB6:BB50))+SUMPRODUCT((L6:O50=AG7)*(BC6:BC50)) -> 0 | AN7: =SUMPRODUCT((F6:I50=AG7)*(BD6:BD50))+SUMPRODUCT((L6:O50=AG7)*(BE6:BE50)) -> 0 | AO7: =SUMPRODUCT((F6:I50=AG7)*(BF6:BF50))+SUMPRODUCT((L6:O50=AG7)*(BG6:BG50)) -> 0 | AP7: =SUMPRODUCT((F6:I50=AG7)*(BH6:BH50))+SUMPRODUCT((L6:O50=AG7)*(BI6:BI50)) -> 0 | AQ7: =SUMPRODUCT((F6:I50=AG7)*(BJ6:BJ50))+SUMPRODUCT((L6:O50=AG7)*(BK6:BK50)) -> 0 | AR7: =SUMPRODUCT((F6:I50=AG7)*(BL6:BL50))+SUMPRODUCT((L6:O50=AG7)*(BM6:BM50)) -> 0 | AS7: =AQ7-AR7 -> 0 | AT7: =SUM(AL7*1000+(AS7)/100+(AQ7)/1000) -> 0 | AU7: =AT7+0.000009 -> 9e-06 | AV7: =E7 -> 0 | AW7: =P7 -> 0 | AX7: =IF(J7="",0,IF(J7>K7,Equipes!$J$30,IF('2 POULES DE 10'!J7='2 POULES DE 10'!K7,Equipes!$J$32,IF('2 POULES DE 10'!J7<'2 POULES DE 10'!K7,Equipes!$J$34)))) -> 0 | AY7: =IF(K7="",0,IF(K7>J7,Equipes!$J$30,IF('2 POULES DE 10'!K7='2 POULES DE 10'!J7,Equipes!$J$32,IF('2 POULES DE 10'!K7<'2 POULES DE 10'!J7,Equipes!$J$34)))) -> 0 | AZ7: =AX7-AV7 -> 0 | BA7: =AY7-AW7 -> 0 | BB7: =IF(J7="",0,1) -> 0 | BC7: =IF(K7="",0,1) -> 0 | BD7: =IF(J7<>"",IF(J7>K7,1)) -> FALSE | BE7: =IF(K7<>"",IF(K7>J7,1)) -> FALSE | BF7: =IF(J7<>"",IF(J7=K7,1)) -> FALSE | BG7: =IF(K7<>"",IF(K7=J7,1)) -> FALSE | BH7: =IF(J7<>"",IF(J7<K7,1)) -> FALSE | BI7: =IF(K7<>"",IF(K7<J7,1)) -> FALSE | BJ7: =J7 -> 0 | BK7: =K7 -> 0 | BL7: =K7 -> 0 | BM7: =J7 -> 0 | BN7: =VLOOKUP(AE7,AF6:AJ15,2,0) -> bb | BO7: =VLOOKUP(BN7,AG6:AT15,14,0) -> 0 | BP7: =RANK(BO7,BO6:BO15) -> 1
F8: =AG10 -> ee | L8: =AG13 -> hh | Q8: =VLOOKUP(AE8,AF6:AJ15,2,0) -> cc | U8: =IF(BO8=BO7,BP7,BP8) -> 1 | V8: =VLOOKUP(Q8,AG6:AS15,6,0) -> 0 | W8: =VLOOKUP(Q8,AG6:AS15,7,0) -> 0 | X8: =VLOOKUP(Q8,AG6:AS15,8,0) -> 0 | Y8: =VLOOKUP(Q8,AG6:AS15,9,0) -> 0 | Z8: =VLOOKUP(Q8,AG6:AS15,10,0) -> 0 | AA8: =VLOOKUP(Q8,AG6:AS15,11,0) -> 0 | AB8: =VLOOKUP(Q8,AG6:AS15,12,0) -> 0 | AC8: =VLOOKUP(Q8,AG6:AS15,13,0) -> 0 | AE8: 3 | AF8: =AK8 -> 3 | AG8: =Equipes!C34 -> cc | AK8: =RANK(AU8,AU6:AU15) -> 3 | AL8: =SUMPRODUCT((F6:I50=AG8)*(AZ6:AZ50))+SUMPRODUCT((L6:O50=AG8)*(BA6:BA50)) -> 0 | AM8: =SUMPRODUCT((F6:I50=AG8)*(BB6:BB50))+SUMPRODUCT((L6:O50=AG8)*(BC6:BC50)) -> 0 | AN8: =SUMPRODUCT((F6:I50=AG8)*(BD6:BD50))+SUMPRODUCT((L6:O50=AG8)*(BE6:BE50)) -> 0 | AO8: =SUMPRODUCT((F6:I50=AG8)*(BF6:BF50))+SUMPRODUCT((L6:O50=AG8)*(BG6:BG50)) -> 0 | AP8: =SUMPRODUCT((F6:I50=AG8)*(BH6:BH50))+SUMPRODUCT((L6:O50=AG8)*(BI6:BI50)) -> 0 | AQ8: =SUMPRODUCT((F6:I50=AG8)*(BJ6:BJ50))+SUMPRODUCT((L6:O50=AG8)*(BK6:BK50)) -> 0 | AR8: =SUMPRODUCT((F6:I50=AG8)*(BL6:BL50))+SUMPRODUCT((L6:O50=AG8)*(BM6:BM50)) -> 0 | AS8: =AQ8-AR8 -> 0 | AT8: =SUM(AL8*1000+(AS8)/100+(AQ8)/1000) -> 0 | AU8: =AT8+0.000008 -> 8e-06 | AV8: =E8 -> 0 | AW8: =P8 -> 0 | AX8: =IF(J8="",0,IF(J8>K8,Equipes!$J$30,IF('2 POULES DE 10'!J8='2 POULES DE 10'!K8,Equipes!$J$32,IF('2 POULES DE 10'!J8<'2 POULES DE 10'!K8,Equipes!$J$34)))) -> 0 | AY8: =IF(K8="",0,IF(K8>J8,Equipes!$J$30,IF('2 POULES DE 10'!K8='2 POULES DE 10'!J8,Equipes!$J$32,IF('2 POULES DE 10'!K8<'2 POULES DE 10'!J8,Equipes!$J$34)))) -> 0 | AZ8: =AX8-AV8 -> 0 | BA8: =AY8-AW8 -> 0 | BB8: =IF(J8="",0,1) -> 0 | BC8: =IF(K8="",0,1) -> 0 | BD8: =IF(J8<>"",IF(J8>K8,1)) -> FALSE | BE8: =IF(K8<>"",IF(K8>J8,1)) -> FALSE | BF8: =IF(J8<>"",IF(J8=K8,1)) -> FALSE | BG8: =IF(K8<>"",IF(K8=J8,1)) -> FALSE | BH8: =IF(J8<>"",IF(J8<K8,1)) -> FALSE | BI8: =IF(K8<>"",IF(K8<J8,1)) -> FALSE | BJ8: =J8 -> 0 | BK8: =K8 -> 0 | BL8: =K8 -> 0 | BM8: =J8 -> 0 | BN8: =VLOOKUP(AE8,AF6:AJ15,2,0) -> cc | BO8: =VLOOKUP(BN8,AG6:AT15,14,0) -> 0 | BP8: =RANK(BO8,BO6:BO15) -> 1
F9: =AG12 -> gg | L9: =AG11 -> ff | Q9: =VLOOKUP(AE9,AF6:AJ15,2,0) -> dd | U9: =IF(BO9=BO8,BP8,BP9) -> 1 | V9: =VLOOKUP(Q9,AG6:AS15,6,0) -> 0 | W9: =VLOOKUP(Q9,AG6:AS15,7,0) -> 0 | X9: =VLOOKUP(Q9,AG6:AS15,8,0) -> 0 | Y9: =VLOOKUP(Q9,AG6:AS15,9,0) -> 0 | Z9: =VLOOKUP(Q9,AG6:AS15,10,0) -> 0 | AA9: =VLOOKUP(Q9,AG6:AS15,11,0) -> 0 | AB9: =VLOOKUP(Q9,AG6:AS15,12,0) -> 0 | AC9: =VLOOKUP(Q9,AG6:AS15,13,0) -> 0 | AE9: 4 | AF9: =AK9 -> 4 | AG9: =Equipes!C35 -> dd | AK9: =RANK(AU9,AU6:AU15) -> 4 | AL9: =SUMPRODUCT((F6:I50=AG9)*(AZ6:AZ50))+SUMPRODUCT((L6:O50=AG9)*(BA6:BA50)) -> 0 | AM9: =SUMPRODUCT((F6:I50=AG9)*(BB6:BB50))+SUMPRODUCT((L6:O50=AG9)*(BC6:BC50)) -> 0 | AN9: =SUMPRODUCT((F6:I50=AG9)*(BD6:BD50))+SUMPRODUCT((L6:O50=AG9)*(BE6:BE50)) -> 0 | AO9: =SUMPRODUCT((F6:I50=AG9)*(BF6:BF50))+SUMPRODUCT((L6:O50=AG9)*(BG6:BG50)) -> 0 | AP9: =SUMPRODUCT((F6:I50=AG9)*(BH6:BH50))+SUMPRODUCT((L6:O50=AG9)*(BI6:BI50)) -> 0 | AQ9: =SUMPRODUCT((F6:I50=AG9)*(BJ6:BJ50))+SUMPRODUCT((L6:O50=AG9)*(BK6:BK50)) -> 0 | AR9: =SUMPRODUCT((F6:I50=AG9)*(BL6:BL50))+SUMPRODUCT((L6:O50=AG9)*(BM6:BM50)) -> 0 | AS9: =AQ9-AR9 -> 0 | AT9: =SUM(AL9*1000+(AS9)/100+(AQ9)/1000) -> 0 | AU9: =AT9+0.000007 -> 7e-06 | AV9: =E9 -> 0 | AW9: =P9 -> 0 | AX9: =IF(J9="",0,IF(J9>K9,Equipes!$J$30,IF('2 POULES DE 10'!J9='2 POULES DE 10'!K9,Equipes!$J$32,IF('2 POULES DE 10'!J9<'2 POULES DE 10'!K9,Equipes!$J$34)))) -> 0 | AY9: =IF(K9="",0,IF(K9>J9,Equipes!$J$30,IF('2 POULES DE 10'!K9='2 POULES DE 10'!J9,Equipes!$J$32,IF('2 POULES DE 10'!K9<'2 POULES DE 10'!J9,Equipes!$J$34)))) -> 0 | AZ9: =AX9-AV9 -> 0 | BA9: =AY9-AW9 -> 0 | BB9: =IF(J9="",0,1) -> 0 | BC9: =IF(K9="",0,1) -> 0 | BD9: =IF(J9<>"",IF(J9>K9,1)) -> FALSE | BE9: =IF(K9<>"",IF(K9>J9,1)) -> FALSE | BF9: =IF(J9<>"",IF(J9=K9,1)) -> FALSE | BG9: =IF(K9<>"",IF(K9=J9,1)) -> FALSE | BH9: =IF(J9<>"",IF(J9<K9,1)) -> FALSE | BI9: =IF(K9<>"",IF(K9<J9,1)) -> FALSE | BJ9: =J9 -> 0 | BK9: =K9 -> 0 | BL9: =K9 -> 0 | BM9: =J9 -> 0 | BN9: =VLOOKUP(AE9,AF6:AJ15,2,0) -> dd | BO9: =VLOOKUP(BN9,AG6:AT15,14,0) -> 0 | BP9: =RANK(BO9,BO6:BO15) -> 1
F10: =AG14 -> ii | L10: =AG9 -> dd | Q10: =VLOOKUP(AE10,AF6:AJ15,2,0) -> ee | U10: =IF(BO10=BO9,BP9,BP10) -> 1 | V10: =VLOOKUP(Q10,AG6:AS15,6,0) -> 0 | W10: =VLOOKUP(Q10,AG6:AS15,7,0) -> 0 | X10: =VLOOKUP(Q10,AG6:AS15,8,0) -> 0 | Y10: =VLOOKUP(Q10,AG6:AS15,9,0) -> 0 | Z10: =VLOOKUP(Q10,AG6:AS15,10,0) -> 0 | AA10: =VLOOKUP(Q10,AG6:AS15,11,0) -> 0 | AB10: =VLOOKUP(Q10,AG6:AS15,12,0) -> 0 | AC10: =VLOOKUP(Q10,AG6:AS15,13,0) -> 0 | AE10: 5 | AF10: =AK10 -> 5 | AG10: =Equipes!C36 -> ee | AK10: =RANK(AU10,AU6:AU15) -> 5 | AL10: =SUMPRODUCT((F6:I50=AG10)*(AZ6:AZ50))+SUMPRODUCT((L6:O50=AG10)*(BA6:BA50)) -> 0 | AM10: =SUMPRODUCT((F6:I50=AG10)*(BB6:BB50))+SUMPRODUCT((L6:O50=AG10)*(BC6:BC50)) -> 0 | AN10: =SUMPRODUCT((F6:I50=AG10)*(BD6:BD50))+SUMPRODUCT((L6:O50=AG10)*(BE6:BE50)) -> 0 | AO10: =SUMPRODUCT((F6:I50=AG10)*(BF6:BF50))+SUMPRODUCT((L6:O50=AG10)*(BG6:BG50)) -> 0 | AP10: =SUMPRODUCT((F6:I50=AG10)*(BH6:BH50))+SUMPRODUCT((L6:O50=AG10)*(BI6:BI50)) -> 0 | AQ10: =SUMPRODUCT((F6:I50=AG10)*(BJ6:BJ50))+SUMPRODUCT((L6:O50=AG10)*(BK6:BK50)) -> 0 | AR10: =SUMPRODUCT((F6:I50=AG10)*(BL6:BL50))+SUMPRODUCT((L6:O50=AG10)*(BM6:BM50)) -> 0 | AS10: =AQ10-AR10 -> 0 | AT10: =SUM(AL10*1000+(AS10)/100+(AQ10)/1000) -> 0 | AU10: =AT10+0.000006 -> 6e-06 | AV10: =E10 -> 0 | AW10: =P10 -> 0 | AX10: =IF(J10="",0,IF(J10>K10,Equipes!$J$30,IF('2 POULES DE 10'!J10='2 POULES DE 10'!K10,Equipes!$J$32,IF('2 POULES DE 10'!J10<'2 POULES DE 10'!K10,Equipes!$J$34)))) -> 0 | AY10: =IF(K10="",0,IF(K10>J10,Equipes!$J$30,IF('2 POULES DE 10'!K10='2 POULES DE 10'!J10,Equipes!$J$32,IF('2 POULES DE 10'!K10<'2 POULES DE 10'!J10,Equipes!$J$34)))) -> 0 | AZ10: =AX10-AV10 -> 0 | BA10: =AY10-AW10 -> 0 | BB10: =IF(J10="",0,1) -> 0 | BC10: =IF(K10="",0,1) -> 0 | BD10: =IF(J10<>"",IF(J10>K10,1)) -> FALSE | BE10: =IF(K10<>"",IF(K10>J10,1)) -> FALSE | BF10: =IF(J10<>"",IF(J10=K10,1)) -> FALSE | BG10: =IF(K10<>"",IF(K10=J10,1)) -> FALSE | BH10: =IF(J10<>"",IF(J10<K10,1)) -> FALSE | BI10: =IF(K10<>"",IF(K10<J10,1)) -> FALSE | BJ10: =J10 -> 0 | BK10: =K10 -> 0 | BL10: =K10 -> 0 | BM10: =J10 -> 0 | BN10: =VLOOKUP(AE10,AF6:AJ15,2,0) -> ee | BO10: =VLOOKUP(BN10,AG6:AT15,14,0) -> 0 | BP10: =RANK(BO10,BO6:BO15) -> 1
F11: =AG6 -> aa | L11: =AG8 -> cc | Q11: =VLOOKUP(AE11,AF6:AJ15,2,0) -> ff | U11: =IF(BO11=BO10,BP10,BP11) -> 1 | V11: =VLOOKUP(Q11,AG6:AS15,6,0) -> 0 | W11: =VLOOKUP(Q11,AG6:AS15,7,0) -> 0 | X11: =VLOOKUP(Q11,AG6:AS15,8,0) -> 0 | Y11: =VLOOKUP(Q11,AG6:AS15,9,0) -> 0 | Z11: =VLOOKUP(Q11,AG6:AS15,10,0) -> 0 | AA11: =VLOOKUP(Q11,AG6:AS15,11,0) -> 0 | AB11: =VLOOKUP(Q11,AG6:AS15,12,0) -> 0 | AC11: =VLOOKUP(Q11,AG6:AS15,13,0) -> 0 | AE11: 6 | AF11: =AK11 -> 6 | AG11: =Equipes!C37 -> ff | AK11: =RANK(AU11,AU6:AU15) -> 6 | AL11: =SUMPRODUCT((F6:I50=AG11)*(AZ6:AZ50))+SUMPRODUCT((L6:O50=AG11)*(BA6:BA50)) -> 0 | AM11: =SUMPRODUCT((F6:I50=AG11)*(BB6:BB50))+SUMPRODUCT((L6:O50=AG11)*(BC6:BC50)) -> 0 | AN11: =SUMPRODUCT((F6:I50=AG11)*(BD6:BD50))+SUMPRODUCT((L6:O50=AG11)*(BE6:BE50)) -> 0 | AO11: =SUMPRODUCT((F6:I50=AG11)*(BF6:BF50))+SUMPRODUCT((L6:O50=AG11)*(BG6:BG50)) -> 0 | AP11: =SUMPRODUCT((F6:I50=AG11)*(BH6:BH50))+SUMPRODUCT((L6:O50=AG11)*(BI6:BI50)) -> 0 | AQ11: =SUMPRODUCT((F6:I50=AG11)*(BJ6:BJ50))+SUMPRODUCT((L6:O50=AG11)*(BK6:BK50)) -> 0 | AR11: =SUMPRODUCT((F6:I50=AG11)*(BL6:BL50))+SUMPRODUCT((L6:O50=AG11)*(BM6:BM50)) -> 0 | AS11: =AQ11-AR11 -> 0 | AT11: =SUM(AL11*1000+(AS11)/100+(AQ11)/1000) -> 0 | AU11: =AT11+0.000005 -> 5e-06 | AV11: =E11 -> 0 | AW11: =P11 -> 0 | AX11: =IF(J11="",0,IF(J11>K11,Equipes!$J$30,IF('2 POULES DE 10'!J11='2 POULES DE 10'!K11,Equipes!$J$32,IF('2 POULES DE 10'!J11<'2 POULES DE 10'!K11,Equipes!$J$34)))) -> 0 | AY11: =IF(K11="",0,IF(K11>J11,Equipes!$J$30,IF('2 POULES DE 10'!K11='2 POULES DE 10'!J11,Equipes!$J$32,IF('2 POULES DE 10'!K11<'2 POULES DE 10'!J11,Equipes!$J$34)))) -> 0 | AZ11: =AX11-AV11 -> 0 | BA11: =AY11-AW11 -> 0 | BB11: =IF(J11="",0,1) -> 0 | BC11: =IF(K11="",0,1) -> 0 | BD11: =IF(J11<>"",IF(J11>K11,1)) -> FALSE | BE11: =IF(K11<>"",IF(K11>J11,1)) -> FALSE | BF11: =IF(J11<>"",IF(J11=K11,1)) -> FALSE | BG11: =IF(K11<>"",IF(K11=J11,1)) -> FALSE | BH11: =IF(J11<>"",IF(J11<K11,1)) -> FALSE | BI11: =IF(K11<>"",IF(K11<J11,1)) -> FALSE | BJ11: =J11 -> 0 | BK11: =K11 -> 0 | BL11: =K11 -> 0 | BM11: =J11 -> 0 | BN11: =VLOOKUP(AE11,AF6:AJ15,2,0) -> ff | BO11: =VLOOKUP(BN11,AG6:AT15,14,0) -> 0 | BP11: =RANK(BO11,BO6:BO15) -> 1
F12: =AG9 -> dd | L12: =AG7 -> bb | Q12: =VLOOKUP(AE12,AF6:AJ15,2,0) -> gg | U12: =IF(BO12=BO11,BP11,BP12) -> 1 | V12: =VLOOKUP(Q12,AG6:AS15,6,0) -> 0 | W12: =VLOOKUP(Q12,AG6:AS15,7,0) -> 0 | X12: =VLOOKUP(Q12,AG6:AS15,8,0) -> 0 | Y12: =VLOOKUP(Q12,AG6:AS15,9,0) -> 0 | Z12: =VLOOKUP(Q12,AG6:AS15,10,0) -> 0 | AA12: =VLOOKUP(Q12,AG6:AS15,11,0) -> 0 | AB12: =VLOOKUP(Q12,AG6:AS15,12,0) -> 0 | AC12: =VLOOKUP(Q12,AG6:AS15,13,0) -> 0 | AE12: 7 | AF12: =AK12 -> 7 | AG12: =Equipes!C38 -> gg | AK12: =RANK(AU12,AU6:AU15) -> 7 | AL12: =SUMPRODUCT((F6:I50=AG12)*(AZ6:AZ50))+SUMPRODUCT((L6:O50=AG12)*(BA6:BA50)) -> 0 | AM12: =SUMPRODUCT((F6:I50=AG12)*(BB6:BB50))+SUMPRODUCT((L6:O50=AG12)*(BC6:BC50)) -> 0 | AN12: =SUMPRODUCT((F6:I50=AG12)*(BD6:BD50))+SUMPRODUCT((L6:O50=AG12)*(BE6:BE50)) -> 0 | AO12: =SUMPRODUCT((F6:I50=AG12)*(BF6:BF50))+SUMPRODUCT((L6:O50=AG12)*(BG6:BG50)) -> 0 | AP12: =SUMPRODUCT((F6:I50=AG12)*(BH6:BH50))+SUMPRODUCT((L6:O50=AG12)*(BI6:BI50)) -> 0 | AQ12: =SUMPRODUCT((F6:I50=AG12)*(BJ6:BJ50))+SUMPRODUCT((L6:O50=AG12)*(BK6:BK50)) -> 0 | AR12: =SUMPRODUCT((F6:I50=AG12)*(BL6:BL50))+SUMPRODUCT((L6:O50=AG12)*(BM6:BM50)) -> 0 | AS12: =AQ12-AR12 -> 0 | AT12: =SUM(AL12*1000+(AS12)/100+(AQ12)/1000) -> 0 | AU12: =AT12+0.000004 -> 4e-06 | AV12: =E12 -> 0 | AW12: =P12 -> 0 | AX12: =IF(J12="",0,IF(J12>K12,Equipes!$J$30,IF('2 POULES DE 10'!J12='2 POULES DE 10'!K12,Equipes!$J$32,IF('2 POULES DE 10'!J12<'2 POULES DE 10'!K12,Equipes!$J$34)))) -> 0 | AY12: =IF(K12="",0,IF(K12>J12,Equipes!$J$30,IF('2 POULES DE 10'!K12='2 POULES DE 10'!J12,Equipes!$J$32,IF('2 POULES DE 10'!K12<'2 POULES DE 10'!J12,Equipes!$J$34)))) -> 0 | AZ12: =AX12-AV12 -> 0 | BA12: =AY12-AW12 -> 0 | BB12: =IF(J12="",0,1) -> 0 | BC12: =IF(K12="",0,1) -> 0 | BD12: =IF(J12<>"",IF(J12>K12,1)) -> FALSE | BE12: =IF(K12<>"",IF(K12>J12,1)) -> FALSE | BF12: =IF(J12<>"",IF(J12=K12,1)) -> FALSE | BG12: =IF(K12<>"",IF(K12=J12,1)) -> FALSE | BH12: =IF(J12<>"",IF(J12<K12,1)) -> FALSE | BI12: =IF(K12<>"",IF(K12<J12,1)) -> FALSE | BJ12: =J12 -> 0 | BK12: =K12 -> 0 | BL12: =K12 -> 0 | BM12: =J12 -> 0 | BN12: =VLOOKUP(AE12,AF6:AJ15,2,0) -> gg | BO12: =VLOOKUP(BN12,AG6:AT15,14,0) -> 0 | BP12: =RANK(BO12,BO6:BO15) -> 1
F13: =AG11 -> ff | L13: =AG14 -> ii | Q13: =VLOOKUP(AE13,AF6:AJ15,2,0) -> hh | U13: =IF(BO13=BO12,BP12,BP13) -> 1 | V13: =VLOOKUP(Q13,AG6:AS15,6,0) -> 0 | W13: =VLOOKUP(Q13,AG6:AS15,7,0) -> 0 | X13: =VLOOKUP(Q13,AG6:AS15,8,0) -> 0 | Y13: =VLOOKUP(Q13,AG6:AS15,9,0) -> 0 | Z13: =VLOOKUP(Q13,AG6:AS15,10,0) -> 0 | AA13: =VLOOKUP(Q13,AG6:AS15,11,0) -> 0 | AB13: =VLOOKUP(Q13,AG6:AS15,12,0) -> 0 | AC13: =VLOOKUP(Q13,AG6:AS15,13,0) -> 0 | AE13: 8 | AF13: =AK13 -> 8 | AG13: =Equipes!C39 -> hh | AK13: =RANK(AU13,AU6:AU15) -> 8 | AL13: =SUMPRODUCT((F6:I50=AG13)*(AZ6:AZ50))+SUMPRODUCT((L6:O50=AG13)*(BA6:BA50)) -> 0 | AM13: =SUMPRODUCT((F6:I50=AG13)*(BB6:BB50))+SUMPRODUCT((L6:O50=AG13)*(BC6:BC50)) -> 0 | AN13: =SUMPRODUCT((F6:I50=AG13)*(BD6:BD50))+SUMPRODUCT((L6:O50=AG13)*(BE6:BE50)) -> 0 | AO13: =SUMPRODUCT((F6:I50=AG13)*(BF6:BF50))+SUMPRODUCT((L6:O50=AG13)*(BG6:BG50)) -> 0 | AP13: =SUMPRODUCT((F6:I50=AG13)*(BH6:BH50))+SUMPRODUCT((L6:O50=AG13)*(BI6:BI50)) -> 0 | AQ13: =SUMPRODUCT((F6:I50=AG13)*(BJ6:BJ50))+SUMPRODUCT((L6:O50=AG13)*(BK6:BK50)) -> 0 | AR13: =SUMPRODUCT((F6:I50=AG13)*(BL6:BL50))+SUMPRODUCT((L6:O50=AG13)*(BM6:BM50)) -> 0 | AS13: =AQ13-AR13 -> 0 | AT13: =SUM(AL13*1000+(AS13)/100+(AQ13)/1000) -> 0 | AU13: =AT13+0.000003 -> 3e-06 | AV13: =E13 -> 0 | AW13: =P13 -> 0 | AX13: =IF(J13="",0,IF(J13>K13,Equipes!$J$30,IF('2 POULES DE 10'!J13='2 POULES DE 10'!K13,Equipes!$J$32,IF('2 POULES DE 10'!J13<'2 POULES DE 10'!K13,Equipes!$J$34)))) -> 0 | AY13: =IF(K13="",0,IF(K13>J13,Equipes!$J$30,IF('2 POULES DE 10'!K13='2 POULES DE 10'!J13,Equipes!$J$32,IF('2 POULES DE 10'!K13<'2 POULES DE 10'!J13,Equipes!$J$34)))) -> 0 | AZ13: =AX13-AV13 -> 0 | BA13: =AY13-AW13 -> 0 | BB13: =IF(J13="",0,1) -> 0 | BC13: =IF(K13="",0,1) -> 0 | BD13: =IF(J13<>"",IF(J13>K13,1)) -> FALSE | BE13: =IF(K13<>"",IF(K13>J13,1)) -> FALSE | BF13: =IF(J13<>"",IF(J13=K13,1)) -> FALSE | BG13: =IF(K13<>"",IF(K13=J13,1)) -> FALSE | BH13: =IF(J13<>"",IF(J13<K13,1)) -> FALSE | BI13: =IF(K13<>"",IF(K13<J13,1)) -> FALSE | BJ13: =J13 -> 0 | BK13: =K13 -> 0 | BL13: =K13 -> 0 | BM13: =J13 -> 0 | BN13: =VLOOKUP(AE13,AF6:AJ15,2,0) -> hh | BO13: =VLOOKUP(BN13,AG6:AT15,14,0) -> 0 | BP13: =RANK(BO13,BO6:BO15) -> 1
F14: =AG13 -> hh | L14: =AG12 -> gg | Q14: =VLOOKUP(AE14,AF6:AJ15,2,0) -> ii | U14: =IF(BO14=BO13,BP13,BP14) -> 1 | V14: =VLOOKUP(Q14,AG6:AS15,6,0) -> 0 | W14: =VLOOKUP(Q14,AG6:AS15,7,0) -> 0 | X14: =VLOOKUP(Q14,AG6:AS15,8,0) -> 0 | Y14: =VLOOKUP(Q14,AG6:AS15,9,0) -> 0 | Z14: =VLOOKUP(Q14,AG6:AS15,10,0) -> 0 | AA14: =VLOOKUP(Q14,AG6:AS15,11,0) -> 0 | AB14: =VLOOKUP(Q14,AG6:AS15,12,0) -> 0 | AC14: =VLOOKUP(Q14,AG6:AS15,13,0) -> 0 | AE14: 9 | AF14: =AK14 -> 9 | AG14: =Equipes!C40 -> ii | AK14: =RANK(AU14,AU6:AU15) -> 9 | AL14: =SUMPRODUCT((F6:I50=AG14)*(AZ6:AZ50))+SUMPRODUCT((L6:O50=AG14)*(BA6:BA50)) -> 0 | AM14: =SUMPRODUCT((F6:I50=AG14)*(BB6:BB50))+SUMPRODUCT((L6:O50=AG14)*(BC6:BC50)) -> 0 | AN14: =SUMPRODUCT((F6:I50=AG14)*(BD6:BD50))+SUMPRODUCT((L6:O50=AG14)*(BE6:BE50)) -> 0 | AO14: =SUMPRODUCT((F6:I50=AG14)*(BF6:BF50))+SUMPRODUCT((L6:O50=AG14)*(BG6:BG50)) -> 0 | AP14: =SUMPRODUCT((F6:I50=AG14)*(BH6:BH50))+SUMPRODUCT((L6:O50=AG14)*(BI6:BI50)) -> 0 | AQ14: =SUMPRODUCT((F6:I50=AG14)*(BJ6:BJ50))+SUMPRODUCT((L6:O50=AG14)*(BK6:BK50)) -> 0 | AR14: =SUMPRODUCT((F6:I50=AG14)*(BL6:BL50))+SUMPRODUCT((L6:O50=AG14)*(BM6:BM50)) -> 0 | AS14: =AQ14-AR14 -> 0 | AT14: =SUM(AL14*1000+(AS14)/100+(AQ14)/1000) -> 0 | AU14: =AT14+0.000002 -> 2e-06 | AV14: =E14 -> 0 | AW14: =P14 -> 0 | AX14: =IF(J14="",0,IF(J14>K14,Equipes!$J$30,IF('2 POULES DE 10'!J14='2 POULES DE 10'!K14,Equipes!$J$32,IF('2 POULES DE 10'!J14<'2 POULES DE 10'!K14,Equipes!$J$34)))) -> 0 | AY14: =IF(K14="",0,IF(K14>J14,Equipes!$J$30,IF('2 POULES DE 10'!K14='2 POULES DE 10'!J14,Equipes!$J$32,IF('2 POULES DE 10'!K14<'2 POULES DE 10'!J14,Equipes!$J$34)))) -> 0 | AZ14: =AX14-AV14 -> 0 | BA14: =AY14-AW14 -> 0 | BB14: =IF(J14="",0,1) -> 0 | BC14: =IF(K14="",0,1) -> 0 | BD14: =IF(J14<>"",IF(J14>K14,1)) -> FALSE | BE14: =IF(K14<>"",IF(K14>J14,1)) -> FALSE | BF14: =IF(J14<>"",IF(J14=K14,1)) -> FALSE | BG14: =IF(K14<>"",IF(K14=J14,1)) -> FALSE | BH14: =IF(J14<>"",IF(J14<K14,1)) -> FALSE | BI14: =IF(K14<>"",IF(K14<J14,1)) -> FALSE | BJ14: =J14 -> 0 | BK14: =K14 -> 0 | BL14: =K14 -> 0 | BM14: =J14 -> 0 | BN14: =VLOOKUP(AE14,AF6:AJ15,2,0) -> ii | BO14: =VLOOKUP(BN14,AG6:AT15,14,0) -> 0 | BP14: =RANK(BO14,BO6:BO15) -> 1
F15: =AG15 -> jj | L15: =AG10 -> ee | Q15: =VLOOKUP(AE15,AF6:AJ15,2,0) -> jj | U15: =IF(BO15=BO14,BP14,BP15) -> 1 | V15: =VLOOKUP(Q15,AG6:AS15,6,0) -> 0 | W15: =VLOOKUP(Q15,AG6:AS15,7,0) -> 0 | X15: =VLOOKUP(Q15,AG6:AS15,8,0) -> 0 | Y15: =VLOOKUP(Q15,AG6:AS15,9,0) -> 0 | Z15: =VLOOKUP(Q15,AG6:AS15,10,0) -> 0 | AA15: =VLOOKUP(Q15,AG6:AS15,11,0) -> 0 | AB15: =VLOOKUP(Q15,AG6:AS15,12,0) -> 0 | AC15: =VLOOKUP(Q15,AG6:AS15,13,0) -> 0 | AE15: 10 | AF15: =AK15 -> 10 | AG15: =Equipes!C41 -> jj | AK15: =RANK(AU15,AU6:AU15) -> 10 | AL15: =SUMPRODUCT((F6:I50=AG15)*(AZ6:AZ50))+SUMPRODUCT((L6:O50=AG15)*(BA6:BA50)) -> 0 | AM15: =SUMPRODUCT((F6:I50=AG15)*(BB6:BB50))+SUMPRODUCT((L6:O50=AG15)*(BC6:BC50)) -> 0 | AN15: =SUMPRODUCT((F6:I50=AG15)*(BD6:BD50))+SUMPRODUCT((L6:O50=AG15)*(BE6:BE50)) -> 0 | AO15: =SUMPRODUCT((F6:I50=AG15)*(BF6:BF50))+SUMPRODUCT((L6:O50=AG15)*(BG6:BG50)) -> 0 | AP15: =SUMPRODUCT((F6:I50=AG15)*(BH6:BH50))+SUMPRODUCT((L6:O50=AG15)*(BI6:BI50)) -> 0 | AQ15: =SUMPRODUCT((F6:I50=AG15)*(BJ6:BJ50))+SUMPRODUCT((L6:O50=AG15)*(BK6:BK50)) -> 0 | AR15: =SUMPRODUCT((F6:I50=AG15)*(BL6:BL50))+SUMPRODUCT((L6:O50=AG15)*(BM6:BM50)) -> 0 | AS15: =AQ15-AR15 -> 0 | AT15: =SUM(AL15*1000+(AS15)/100+(AQ15)/1000) -> 0 | AU15: =AT15+0.000001 -> 1e-06 | AV15: =E15 -> 0 | AW15: =P15 -> 0 | AX15: =IF(J15="",0,IF(J15>K15,Equipes!$J$30,IF('2 POULES DE 10'!J15='2 POULES DE 10'!K15,Equipes!$J$32,IF('2 POULES DE 10'!J15<'2 POULES DE 10'!K15,Equipes!$J$34)))) -> 0 | AY15: =IF(K15="",0,IF(K15>J15,Equipes!$J$30,IF('2 POULES DE 10'!K15='2 POULES DE 10'!J15,Equipes!$J$32,IF('2 POULES DE 10'!K15<'2 POULES DE 10'!J15,Equipes!$J$34)))) -> 0 | AZ15: =AX15-AV15 -> 0 | BA15: =AY15-AW15 -> 0 | BB15: =IF(J15="",0,1) -> 0 | BC15: =IF(K15="",0,1) -> 0 | BD15: =IF(J15<>"",IF(J15>K15,1)) -> FALSE | BE15: =IF(K15<>"",IF(K15>J15,1)) -> FALSE | BF15: =IF(J15<>"",IF(J15=K15,1)) -> FALSE | BG15: =IF(K15<>"",IF(K15=J15,1)) -> FALSE | BH15: =IF(J15<>"",IF(J15<K15,1)) -> FALSE | BI15: =IF(K15<>"",IF(K15<J15,1)) -> FALSE | BJ15: =J15 -> 0 | BK15: =K15 -> 0 | BL15: =K15 -> 0 | BM15: =J15 -> 0 | BN15: =VLOOKUP(AE15,AF6:AJ15,2,0) -> jj | BO15: =VLOOKUP(BN15,AG6:AT15,14,0) -> 0 | BP15: =RANK(BO15,BO6:BO15) -> 1
F16: =AG7 -> bb | L16: =AG11 -> ff | AV16: =E16 -> 0 | AW16: =P16 -> 0 | AX16: =IF(J16="",0,IF(J16>K16,Equipes!$J$30,IF('2 POULES DE 10'!J16='2 POULES DE 10'!K16,Equipes!$J$32,IF('2 POULES DE 10'!J16<'2 POULES DE 10'!K16,Equipes!$J$34)))) -> 0 | AY16: =IF(K16="",0,IF(K16>J16,Equipes!$J$30,IF('2 POULES DE 10'!K16='2 POULES DE 10'!J16,Equipes!$J$32,IF('2 POULES DE 10'!K16<'2 POULES DE 10'!J16,Equipes!$J$34)))) -> 0 | AZ16: =AX16-AV16 -> 0 | BA16: =AY16-AW16 -> 0 | BB16: =IF(J16="",0,1) -> 0 | BC16: =IF(K16="",0,1) -> 0 | BD16: =IF(J16<>"",IF(J16>K16,1)) -> FALSE | BE16: =IF(K16<>"",IF(K16>J16,1)) -> FALSE | BF16: =IF(J16<>"",IF(J16=K16,1)) -> FALSE | BG16: =IF(K16<>"",IF(K16=J16,1)) -> FALSE | BH16: =IF(J16<>"",IF(J16<K16,1)) -> FALSE | BI16: =IF(K16<>"",IF(K16<J16,1)) -> FALSE | BJ16: =J16 -> 0 | BK16: =K16 -> 0 | BL16: =K16 -> 0 | BM16: =J16 -> 0
F17: =AG9 -> dd | L17: =AG6 -> aa | AV17: =E17 -> 0 | AW17: =P17 -> 0 | AX17: =IF(J17="",0,IF(J17>K17,Equipes!$J$30,IF('2 POULES DE 10'!J17='2 POULES DE 10'!K17,Equipes!$J$32,IF('2 POULES DE 10'!J17<'2 POULES DE 10'!K17,Equipes!$J$34)))) -> 0 | AY17: =IF(K17="",0,IF(K17>J17,Equipes!$J$30,IF('2 POULES DE 10'!K17='2 POULES DE 10'!J17,Equipes!$J$32,IF('2 POULES DE 10'!K17<'2 POULES DE 10'!J17,Equipes!$J$34)))) -> 0 | AZ17: =AX17-AV17 -> 0 | BA17: =AY17-AW17 -> 0 | BB17: =IF(J17="",0,1) -> 0 | BC17: =IF(K17="",0,1) -> 0 | BD17: =IF(J17<>"",IF(J17>K17,1)) -> FALSE | BE17: =IF(K17<>"",IF(K17>J17,1)) -> FALSE | BF17: =IF(J17<>"",IF(J17=K17,1)) -> FALSE | BG17: =IF(K17<>"",IF(K17=J17,1)) -> FALSE | BH17: =IF(J17<>"",IF(J17<K17,1)) -> FALSE | BI17: =IF(K17<>"",IF(K17<J17,1)) -> FALSE | BJ17: =J17 -> 0 | BK17: =K17 -> 0 | BL17: =K17 -> 0 | BM17: =J17 -> 0
F18: =AG10 -> ee | L18: =AG8 -> cc | AV18: =E18 -> 0 | AW18: =P18 -> 0 | AX18: =IF(J18="",0,IF(J18>K18,Equipes!$J$30,IF('2 POULES DE 10'!J18='2 POULES DE 10'!K18,Equipes!$J$32,IF('2 POULES DE 10'!J18<'2 POULES DE 10'!K18,Equipes!$J$34)))) -> 0 | AY18: =IF(K18="",0,IF(K18>J18,Equipes!$J$30,IF('2 POULES DE 10'!K18='2 POULES DE 10'!J18,Equipes!$J$32,IF('2 POULES DE 10'!K18<'2 POULES DE 10'!J18,Equipes!$J$34)))) -> 0 | AZ18: =AX18-AV18 -> 0 | BA18: =AY18-AW18 -> 0 | BB18: =IF(J18="",0,1) -> 0 | BC18: =IF(K18="",0,1) -> 0 | BD18: =IF(J18<>"",IF(J18>K18,1)) -> FALSE | BE18: =IF(K18<>"",IF(K18>J18,1)) -> FALSE | BF18: =IF(J18<>"",IF(J18=K18,1)) -> FALSE | BG18: =IF(K18<>"",IF(K18=J18,1)) -> FALSE | BH18: =IF(J18<>"",IF(J18<K18,1)) -> FALSE | BI18: =IF(K18<>"",IF(K18<J18,1)) -> FALSE | BJ18: =J18 -> 0 | BK18: =K18 -> 0 | BL18: =K18 -> 0 | BM18: =J18 -> 0
F19: =AG12 -> gg | L19: =AG15 -> jj | AV19: =E19 -> 0 | AW19: =P19 -> 0 | AX19: =IF(J19="",0,IF(J19>K19,Equipes!$J$30,IF('2 POULES DE 10'!J19='2 POULES DE 10'!K19,Equipes!$J$32,IF('2 POULES DE 10'!J19<'2 POULES DE 10'!K19,Equipes!$J$34)))) -> 0 | AY19: =IF(K19="",0,IF(K19>J19,Equipes!$J$30,IF('2 POULES DE 10'!K19='2 POULES DE 10'!J19,Equipes!$J$32,IF('2 POULES DE 10'!K19<'2 POULES DE 10'!J19,Equipes!$J$34)))) -> 0 | AZ19: =AX19-AV19 -> 0 | BA19: =AY19-AW19 -> 0 | BB19: =IF(J19="",0,1) -> 0 | BC19: =IF(K19="",0,1) -> 0 | BD19: =IF(J19<>"",IF(J19>K19,1)) -> FALSE | BE19: =IF(K19<>"",IF(K19>J19,1)) -> FALSE | BF19: =IF(J19<>"",IF(J19=K19,1)) -> FALSE | BG19: =IF(K19<>"",IF(K19=J19,1)) -> FALSE | BH19: =IF(J19<>"",IF(J19<K19,1)) -> FALSE | BI19: =IF(K19<>"",IF(K19<J19,1)) -> FALSE | BJ19: =J19 -> 0 | BK19: =K19 -> 0 | BL19: =K19 -> 0 | BM19: =J19 -> 0
F20: =AG14 -> ii | L20: =AG13 -> hh | AV20: =E20 -> 0 | AW20: =P20 -> 0 | AX20: =IF(J20="",0,IF(J20>K20,Equipes!$J$30,IF('2 POULES DE 10'!J20='2 POULES DE 10'!K20,Equipes!$J$32,IF('2 POULES DE 10'!J20<'2 POULES DE 10'!K20,Equipes!$J$34)))) -> 0 | AY20: =IF(K20="",0,IF(K20>J20,Equipes!$J$30,IF('2 POULES DE 10'!K20='2 POULES DE 10'!J20,Equipes!$J$32,IF('2 POULES DE 10'!K20<'2 POULES DE 10'!J20,Equipes!$J$34)))) -> 0 | AZ20: =AX20-AV20 -> 0 | BA20: =AY20-AW20 -> 0 | BB20: =IF(J20="",0,1) -> 0 | BC20: =IF(K20="",0,1) -> 0 | BD20: =IF(J20<>"",IF(J20>K20,1)) -> FALSE | BE20: =IF(K20<>"",IF(K20>J20,1)) -> FALSE | BF20: =IF(J20<>"",IF(J20=K20,1)) -> FALSE | BG20: =IF(K20<>"",IF(K20=J20,1)) -> FALSE | BH20: =IF(J20<>"",IF(J20<K20,1)) -> FALSE | BI20: =IF(K20<>"",IF(K20<J20,1)) -> FALSE | BJ20: =J20 -> 0 | BK20: =K20 -> 0 | BL20: =K20 -> 0 | BM20: =J20 -> 0
F21: =AG6 -> aa | L21: =AG10 -> ee | AV21: =E21 -> 0 | AW21: =P21 -> 0 | AX21: =IF(J21="",0,IF(J21>K21,Equipes!$J$30,IF('2 POULES DE 10'!J21='2 POULES DE 10'!K21,Equipes!$J$32,IF('2 POULES DE 10'!J21<'2 POULES DE 10'!K21,Equipes!$J$34)))) -> 0 | AY21: =IF(K21="",0,IF(K21>J21,Equipes!$J$30,IF('2 POULES DE 10'!K21='2 POULES DE 10'!J21,Equipes!$J$32,IF('2 POULES DE 10'!K21<'2 POULES DE 10'!J21,Equipes!$J$34)))) -> 0 | AZ21: =AX21-AV21 -> 0 | BA21: =AY21-AW21 -> 0 | BB21: =IF(J21="",0,1) -> 0 | BC21: =IF(K21="",0,1) -> 0 | BD21: =IF(J21<>"",IF(J21>K21,1)) -> FALSE | BE21: =IF(K21<>"",IF(K21>J21,1)) -> FALSE | BF21: =IF(J21<>"",IF(J21=K21,1)) -> FALSE | BG21: =IF(K21<>"",IF(K21=J21,1)) -> FALSE | BH21: =IF(J21<>"",IF(J21<K21,1)) -> FALSE | BI21: =IF(K21<>"",IF(K21<J21,1)) -> FALSE | BJ21: =J21 -> 0 | BK21: =K21 -> 0 | BL21: =K21 -> 0 | BM21: =J21 -> 0
F22: =AG8 -> cc | L22: =AG12 -> gg | AV22: =E22 -> 0 | AW22: =P22 -> 0 | AX22: =IF(J22="",0,IF(J22>K22,Equipes!$J$30,IF('2 POULES DE 10'!J22='2 POULES DE 10'!K22,Equipes!$J$32,IF('2 POULES DE 10'!J22<'2 POULES DE 10'!K22,Equipes!$J$34)))) -> 0 | AY22: =IF(K22="",0,IF(K22>J22,Equipes!$J$30,IF('2 POULES DE 10'!K22='2 POULES DE 10'!J22,Equipes!$J$32,IF('2 POULES DE 10'!K22<'2 POULES DE 10'!J22,Equipes!$J$34)))) -> 0 | AZ22: =AX22-AV22 -> 0 | BA22: =AY22-AW22 -> 0 | BB22: =IF(J22="",0,1) -> 0 | BC22: =IF(K22="",0,1) -> 0 | BD22: =IF(J22<>"",IF(J22>K22,1)) -> FALSE | BE22: =IF(K22<>"",IF(K22>J22,1)) -> FALSE | BF22: =IF(J22<>"",IF(J22=K22,1)) -> FALSE | BG22: =IF(K22<>"",IF(K22=J22,1)) -> FALSE | BH22: =IF(J22<>"",IF(J22<K22,1)) -> FALSE | BI22: =IF(K22<>"",IF(K22<J22,1)) -> FALSE | BJ22: =J22 -> 0 | BK22: =K22 -> 0 | BL22: =K22 -> 0 | BM22: =J22 -> 0
F23: =AG11 -> ff | L23: =AG9 -> dd | AV23: =E23 -> 0 | AW23: =P23 -> 0 | AX23: =IF(J23="",0,IF(J23>K23,Equipes!$J$30,IF('2 POULES DE 10'!J23='2 POULES DE 10'!K23,Equipes!$J$32,IF('2 POULES DE 10'!J23<'2 POULES DE 10'!K23,Equipes!$J$34)))) -> 0 | AY23: =IF(K23="",0,IF(K23>J23,Equipes!$J$30,IF('2 POULES DE 10'!K23='2 POULES DE 10'!J23,Equipes!$J$32,IF('2 POULES DE 10'!K23<'2 POULES DE 10'!J23,Equipes!$J$34)))) -> 0 | AZ23: =AX23-AV23 -> 0 | BA23: =AY23-AW23 -> 0 | BB23: =IF(J23="",0,1) -> 0 | BC23: =IF(K23="",0,1) -> 0 | BD23: =IF(J23<>"",IF(J23>K23,1)) -> FALSE | BE23: =IF(K23<>"",IF(K23>J23,1)) -> FALSE | BF23: =IF(J23<>"",IF(J23=K23,1)) -> FALSE | BG23: =IF(K23<>"",IF(K23=J23,1)) -> FALSE | BH23: =IF(J23<>"",IF(J23<K23,1)) -> FALSE | BI23: =IF(K23<>"",IF(K23<J23,1)) -> FALSE | BJ23: =J23 -> 0 | BK23: =K23 -> 0 | BL23: =K23 -> 0 | BM23: =J23 -> 0
F24: =AG13 -> hh | L24: =AG7 -> bb | AV24: =E24 -> 0 | AW24: =P24 -> 0 | AX24: =IF(J24="",0,IF(J24>K24,Equipes!$J$30,IF('2 POULES DE 10'!J24='2 POULES DE 10'!K24,Equipes!$J$32,IF('2 POULES DE 10'!J24<'2 POULES DE 10'!K24,Equipes!$J$34)))) -> 0 | AY24: =IF(K24="",0,IF(K24>J24,Equipes!$J$30,IF('2 POULES DE 10'!K24='2 POULES DE 10'!J24,Equipes!$J$32,IF('2 POULES DE 10'!K24<'2 POULES DE 10'!J24,Equipes!$J$34)))) -> 0 | AZ24: =AX24-AV24 -> 0 | BA24: =AY24-AW24 -> 0 | BB24: =IF(J24="",0,1) -> 0 | BC24: =IF(K24="",0,1) -> 0 | BD24: =IF(J24<>"",IF(J24>K24,1)) -> FALSE | BE24: =IF(K24<>"",IF(K24>J24,1)) -> FALSE | BF24: =IF(J24<>"",IF(J24=K24,1)) -> FALSE | BG24: =IF(K24<>"",IF(K24=J24,1)) -> FALSE | BH24: =IF(J24<>"",IF(J24<K24,1)) -> FALSE | BI24: =IF(K24<>"",IF(K24<J24,1)) -> FALSE | BJ24: =J24 -> 0 | BK24: =K24 -> 0 | BL24: =K24 -> 0 | BM24: =J24 -> 0
F25: =AG15 -> jj | L25: =AG14 -> ii | AV25: =E25 -> 0 | AW25: =P25 -> 0 | AX25: =IF(J25="",0,IF(J25>K25,Equipes!$J$30,IF('2 POULES DE 10'!J25='2 POULES DE 10'!K25,Equipes!$J$32,IF('2 POULES DE 10'!J25<'2 POULES DE 10'!K25,Equipes!$J$34)))) -> 0 | AY25: =IF(K25="",0,IF(K25>J25,Equipes!$J$30,IF('2 POULES DE 10'!K25='2 POULES DE 10'!J25,Equipes!$J$32,IF('2 POULES DE 10'!K25<'2 POULES DE 10'!J25,Equipes!$J$34)))) -> 0 | AZ25: =AX25-AV25 -> 0 | BA25: =AY25-AW25 -> 0 | BB25: =IF(J25="",0,1) -> 0 | BC25: =IF(K25="",0,1) -> 0 | BD25: =IF(J25<>"",IF(J25>K25,1)) -> FALSE | BE25: =IF(K25<>"",IF(K25>J25,1)) -> FALSE | BF25: =IF(J25<>"",IF(J25=K25,1)) -> FALSE | BG25: =IF(K25<>"",IF(K25=J25,1)) -> FALSE | BH25: =IF(J25<>"",IF(J25<K25,1)) -> FALSE | BI25: =IF(K25<>"",IF(K25<J25,1)) -> FALSE | BJ25: =J25 -> 0 | BK25: =K25 -> 0 | BL25: =K25 -> 0 | BM25: =J25 -> 0
F26: =AG7 -> bb | L26: =AG15 -> jj | AV26: =E26 -> 0 | AW26: =P26 -> 0 | AX26: =IF(J26="",0,IF(J26>K26,Equipes!$J$30,IF('2 POULES DE 10'!J26='2 POULES DE 10'!K26,Equipes!$J$32,IF('2 POULES DE 10'!J26<'2 POULES DE 10'!K26,Equipes!$J$34)))) -> 0 | AY26: =IF(K26="",0,IF(K26>J26,Equipes!$J$30,IF('2 POULES DE 10'!K26='2 POULES DE 10'!J26,Equipes!$J$32,IF('2 POULES DE 10'!K26<'2 POULES DE 10'!J26,Equipes!$J$34)))) -> 0 | AZ26: =AX26-AV26 -> 0 | BA26: =AY26-AW26 -> 0 | BB26: =IF(J26="",0,1) -> 0 | BC26: =IF(K26="",0,1) -> 0 | BD26: =IF(J26<>"",IF(J26>K26,1)) -> FALSE | BE26: =IF(K26<>"",IF(K26>J26,1)) -> FALSE | BF26: =IF(J26<>"",IF(J26=K26,1)) -> FALSE | BG26: =IF(K26<>"",IF(K26=J26,1)) -> FALSE | BH26: =IF(J26<>"",IF(J26<K26,1)) -> FALSE | BI26: =IF(K26<>"",IF(K26<J26,1)) -> FALSE | BJ26: =J26 -> 0 | BK26: =K26 -> 0 | BL26: =K26 -> 0 | BM26: =J26 -> 0
F27: =AG9 -> dd | L27: =AG13 -> hh | AV27: =E27 -> 0 | AW27: =P27 -> 0 | AX27: =IF(J27="",0,IF(J27>K27,Equipes!$J$30,IF('2 POULES DE 10'!J27='2 POULES DE 10'!K27,Equipes!$J$32,IF('2 POULES DE 10'!J27<'2 POULES DE 10'!K27,Equipes!$J$34)))) -> 0 | AY27: =IF(K27="",0,IF(K27>J27,Equipes!$J$30,IF('2 POULES DE 10'!K27='2 POULES DE 10'!J27,Equipes!$J$32,IF('2 POULES DE 10'!K27<'2 POULES DE 10'!J27,Equipes!$J$34)))) -> 0 | AZ27: =AX27-AV27 -> 0 | BA27: =AY27-AW27 -> 0 | BB27: =IF(J27="",0,1) -> 0 | BC27: =IF(K27="",0,1) -> 0 | BD27: =IF(J27<>"",IF(J27>K27,1)) -> FALSE | BE27: =IF(K27<>"",IF(K27>J27,1)) -> FALSE | BF27: =IF(J27<>"",IF(J27=K27,1)) -> FALSE | BG27: =IF(K27<>"",IF(K27=J27,1)) -> FALSE | BH27: =IF(J27<>"",IF(J27<K27,1)) -> FALSE | BI27: =IF(K27<>"",IF(K27<J27,1)) -> FALSE | BJ27: =J27 -> 0 | BK27: =K27 -> 0 | BL27: =K27 -> 0 | BM27: =J27 -> 0
F28: =AG11 -> ff | L28: =AG6 -> aa | AV28: =E28 -> 0 | AW28: =P28 -> 0 | AX28: =IF(J28="",0,IF(J28>K28,Equipes!$J$30,IF('2 POULES DE 10'!J28='2 POULES DE 10'!K28,Equipes!$J$32,IF('2 POULES DE 10'!J28<'2 POULES DE 10'!K28,Equipes!$J$34)))) -> 0 | AY28: =IF(K28="",0,IF(K28>J28,Equipes!$J$30,IF('2 POULES DE 10'!K28='2 POULES DE 10'!J28,Equipes!$J$32,IF('2 POULES DE 10'!K28<'2 POULES DE 10'!J28,Equipes!$J$34)))) -> 0 | AZ28: =AX28-AV28 -> 0 | BA28: =AY28-AW28 -> 0 | BB28: =IF(J28="",0,1) -> 0 | BC28: =IF(K28="",0,1) -> 0 | BD28: =IF(J28<>"",IF(J28>K28,1)) -> FALSE | BE28: =IF(K28<>"",IF(K28>J28,1)) -> FALSE | BF28: =IF(J28<>"",IF(J28=K28,1)) -> FALSE | BG28: =IF(K28<>"",IF(K28=J28,1)) -> FALSE | BH28: =IF(J28<>"",IF(J28<K28,1)) -> FALSE | BI28: =IF(K28<>"",IF(K28<J28,1)) -> FALSE | BJ28: =J28 -> 0 | BK28: =K28 -> 0 | BL28: =K28 -> 0 | BM28: =J28 -> 0
F29: =AG12 -> gg | L29: =AG10 -> ee | AV29: =E29 -> 0 | AW29: =P29 -> 0 | AX29: =IF(J29="",0,IF(J29>K29,Equipes!$J$30,IF('2 POULES DE 10'!J29='2 POULES DE 10'!K29,Equipes!$J$32,IF('2 POULES DE 10'!J29<'2 POULES DE 10'!K29,Equipes!$J$34)))) -> 0 | AY29: =IF(K29="",0,IF(K29>J29,Equipes!$J$30,IF('2 POULES DE 10'!K29='2 POULES DE 10'!J29,Equipes!$J$32,IF('2 POULES DE 10'!K29<'2 POULES DE 10'!J29,Equipes!$J$34)))) -> 0 | AZ29: =AX29-AV29 -> 0 | BA29: =AY29-AW29 -> 0 | BB29: =IF(J29="",0,1) -> 0 | BC29: =IF(K29="",0,1) -> 0 | BD29: =IF(J29<>"",IF(J29>K29,1)) -> FALSE | BE29: =IF(K29<>"",IF(K29>J29,1)) -> FALSE | BF29: =IF(J29<>"",IF(J29=K29,1)) -> FALSE | BG29: =IF(K29<>"",IF(K29=J29,1)) -> FALSE | BH29: =IF(J29<>"",IF(J29<K29,1)) -> FALSE | BI29: =IF(K29<>"",IF(K29<J29,1)) -> FALSE | BJ29: =J29 -> 0 | BK29: =K29 -> 0 | BL29: =K29 -> 0 | BM29: =J29 -> 0
F30: =AG14 -> ii | L30: =AG8 -> cc | AV30: =E30 -> 0 | AW30: =P30 -> 0 | AX30: =IF(J30="",0,IF(J30>K30,Equipes!$J$30,IF('2 POULES DE 10'!J30='2 POULES DE 10'!K30,Equipes!$J$32,IF('2 POULES DE 10'!J30<'2 POULES DE 10'!K30,Equipes!$J$34)))) -> 0 | AY30: =IF(K30="",0,IF(K30>J30,Equipes!$J$30,IF('2 POULES DE 10'!K30='2 POULES DE 10'!J30,Equipes!$J$32,IF('2 POULES DE 10'!K30<'2 POULES DE 10'!J30,Equipes!$J$34)))) -> 0 | AZ30: =AX30-AV30 -> 0 | BA30: =AY30-AW30 -> 0 | BB30: =IF(J30="",0,1) -> 0 | BC30: =IF(K30="",0,1) -> 0 | BD30: =IF(J30<>"",IF(J30>K30,1)) -> FALSE | BE30: =IF(K30<>"",IF(K30>J30,1)) -> FALSE | BF30: =IF(J30<>"",IF(J30=K30,1)) -> FALSE | BG30: =IF(K30<>"",IF(K30=J30,1)) -> FALSE | BH30: =IF(J30<>"",IF(J30<K30,1)) -> FALSE | BI30: =IF(K30<>"",IF(K30<J30,1)) -> FALSE | BJ30: =J30 -> 0 | BK30: =K30 -> 0 | BL30: =K30 -> 0 | BM30: =J30 -> 0
F31: =AG6 -> aa | L31: =AG12 -> gg | AV31: =E31 -> 0 | AW31: =P31 -> 0 | AX31: =IF(J31="",0,IF(J31>K31,Equipes!$J$30,IF('2 POULES DE 10'!J31='2 POULES DE 10'!K31,Equipes!$J$32,IF('2 POULES DE 10'!J31<'2 POULES DE 10'!K31,Equipes!$J$34)))) -> 0 | AY31: =IF(K31="",0,IF(K31>J31,Equipes!$J$30,IF('2 POULES DE 10'!K31='2 POULES DE 10'!J31,Equipes!$J$32,IF('2 POULES DE 10'!K31<'2 POULES DE 10'!J31,Equipes!$J$34)))) -> 0 | AZ31: =AX31-AV31 -> 0 | BA31: =AY31-AW31 -> 0 | BB31: =IF(J31="",0,1) -> 0 | BC31: =IF(K31="",0,1) -> 0 | BD31: =IF(J31<>"",IF(J31>K31,1)) -> FALSE | BE31: =IF(K31<>"",IF(K31>J31,1)) -> FALSE | BF31: =IF(J31<>"",IF(J31=K31,1)) -> FALSE | BG31: =IF(K31<>"",IF(K31=J31,1)) -> FALSE | BH31: =IF(J31<>"",IF(J31<K31,1)) -> FALSE | BI31: =IF(K31<>"",IF(K31<J31,1)) -> FALSE | BJ31: =J31 -> 0 | BK31: =K31 -> 0 | BL31: =K31 -> 0 | BM31: =J31 -> 0
F32: =AG8 -> cc | L32: =AG7 -> bb | AV32: =E32 -> 0 | AW32: =P32 -> 0 | AX32: =IF(J32="",0,IF(J32>K32,Equipes!$J$30,IF('2 POULES DE 10'!J32='2 POULES DE 10'!K32,Equipes!$J$32,IF('2 POULES DE 10'!J32<'2 POULES DE 10'!K32,Equipes!$J$34)))) -> 0 | AY32: =IF(K32="",0,IF(K32>J32,Equipes!$J$30,IF('2 POULES DE 10'!K32='2 POULES DE 10'!J32,Equipes!$J$32,IF('2 POULES DE 10'!K32<'2 POULES DE 10'!J32,Equipes!$J$34)))) -> 0 | AZ32: =AX32-AV32 -> 0 | BA32: =AY32-AW32 -> 0 | BB32: =IF(J32="",0,1) -> 0 | BC32: =IF(K32="",0,1) -> 0 | BD32: =IF(J32<>"",IF(J32>K32,1)) -> FALSE | BE32: =IF(K32<>"",IF(K32>J32,1)) -> FALSE | BF32: =IF(J32<>"",IF(J32=K32,1)) -> FALSE | BG32: =IF(K32<>"",IF(K32=J32,1)) -> FALSE | BH32: =IF(J32<>"",IF(J32<K32,1)) -> FALSE | BI32: =IF(K32<>"",IF(K32<J32,1)) -> FALSE | BJ32: =J32 -> 0 | BK32: =K32 -> 0 | BL32: =K32 -> 0 | BM32: =J32 -> 0
F33: =AG10 -> ee | L33: =AG14 -> ii | AV33: =E33 -> 0 | AW33: =P33 -> 0 | AX33: =IF(J33="",0,IF(J33>K33,Equipes!$J$30,IF('2 POULES DE 10'!J33='2 POULES DE 10'!K33,Equipes!$J$32,IF('2 POULES DE 10'!J33<'2 POULES DE 10'!K33,Equipes!$J$34)))) -> 0 | AY33: =IF(K33="",0,IF(K33>J33,Equipes!$J$30,IF('2 POULES DE 10'!K33='2 POULES DE 10'!J33,Equipes!$J$32,IF('2 POULES DE 10'!K33<'2 POULES DE 10'!J33,Equipes!$J$34)))) -> 0 | AZ33: =AX33-AV33 -> 0 | BA33: =AY33-AW33 -> 0 | BB33: =IF(J33="",0,1) -> 0 | BC33: =IF(K33="",0,1) -> 0 | BD33: =IF(J33<>"",IF(J33>K33,1)) -> FALSE | BE33: =IF(K33<>"",IF(K33>J33,1)) -> FALSE | BF33: =IF(J33<>"",IF(J33=K33,1)) -> FALSE | BG33: =IF(K33<>"",IF(K33=J33,1)) -> FALSE | BH33: =IF(J33<>"",IF(J33<K33,1)) -> FALSE | BI33: =IF(K33<>"",IF(K33<J33,1)) -> FALSE | BJ33: =J33 -> 0 | BK33: =K33 -> 0 | BL33: =K33 -> 0 | BM33: =J33 -> 0
F34: =AG13 -> hh | L34: =AG11 -> ff | AV34: =E34 -> 0 | AW34: =P34 -> 0 | AX34: =IF(J34="",0,IF(J34>K34,Equipes!$J$30,IF('2 POULES DE 10'!J34='2 POULES DE 10'!K34,Equipes!$J$32,IF('2 POULES DE 10'!J34<'2 POULES DE 10'!K34,Equipes!$J$34)))) -> 0 | AY34: =IF(K34="",0,IF(K34>J34,Equipes!$J$30,IF('2 POULES DE 10'!K34='2 POULES DE 10'!J34,Equipes!$J$32,IF('2 POULES DE 10'!K34<'2 POULES DE 10'!J34,Equipes!$J$34)))) -> 0 | AZ34: =AX34-AV34 -> 0 | BA34: =AY34-AW34 -> 0 | BB34: =IF(J34="",0,1) -> 0 | BC34: =IF(K34="",0,1) -> 0 | BD34: =IF(J34<>"",IF(J34>K34,1)) -> FALSE | BE34: =IF(K34<>"",IF(K34>J34,1)) -> FALSE | BF34: =IF(J34<>"",IF(J34=K34,1)) -> FALSE | BG34: =IF(K34<>"",IF(K34=J34,1)) -> FALSE | BH34: =IF(J34<>"",IF(J34<K34,1)) -> FALSE | BI34: =IF(K34<>"",IF(K34<J34,1)) -> FALSE | BJ34: =J34 -> 0 | BK34: =K34 -> 0 | BL34: =K34 -> 0 | BM34: =J34 -> 0
F35: =AG15 -> jj | L35: =AG9 -> dd | AV35: =E35 -> 0 | AW35: =P35 -> 0 | AX35: =IF(J35="",0,IF(J35>K35,Equipes!$J$30,IF('2 POULES DE 10'!J35='2 POULES DE 10'!K35,Equipes!$J$32,IF('2 POULES DE 10'!J35<'2 POULES DE 10'!K35,Equipes!$J$34)))) -> 0 | AY35: =IF(K35="",0,IF(K35>J35,Equipes!$J$30,IF('2 POULES DE 10'!K35='2 POULES DE 10'!J35,Equipes!$J$32,IF('2 POULES DE 10'!K35<'2 POULES DE 10'!J35,Equipes!$J$34)))) -> 0 | AZ35: =AX35-AV35 -> 0 | BA35: =AY35-AW35 -> 0 | BB35: =IF(J35="",0,1) -> 0 | BC35: =IF(K35="",0,1) -> 0 | BD35: =IF(J35<>"",IF(J35>K35,1)) -> FALSE | BE35: =IF(K35<>"",IF(K35>J35,1)) -> FALSE | BF35: =IF(J35<>"",IF(J35=K35,1)) -> FALSE | BG35: =IF(K35<>"",IF(K35=J35,1)) -> FALSE | BH35: =IF(J35<>"",IF(J35<K35,1)) -> FALSE | BI35: =IF(K35<>"",IF(K35<J35,1)) -> FALSE | BJ35: =J35 -> 0 | BK35: =K35 -> 0 | BL35: =K35 -> 0 | BM35: =J35 -> 0
F36: =AG7 -> bb | L36: =AG10 -> ee | AV36: =E36 -> 0 | AW36: =P36 -> 0 | AX36: =IF(J36="",0,IF(J36>K36,Equipes!$J$30,IF('2 POULES DE 10'!J36='2 POULES DE 10'!K36,Equipes!$J$32,IF('2 POULES DE 10'!J36<'2 POULES DE 10'!K36,Equipes!$J$34)))) -> 0 | AY36: =IF(K36="",0,IF(K36>J36,Equipes!$J$30,IF('2 POULES DE 10'!K36='2 POULES DE 10'!J36,Equipes!$J$32,IF('2 POULES DE 10'!K36<'2 POULES DE 10'!J36,Equipes!$J$34)))) -> 0 | AZ36: =AX36-AV36 -> 0 | BA36: =AY36-AW36 -> 0 | BB36: =IF(J36="",0,1) -> 0 | BC36: =IF(K36="",0,1) -> 0 | BD36: =IF(J36<>"",IF(J36>K36,1)) -> FALSE | BE36: =IF(K36<>"",IF(K36>J36,1)) -> FALSE | BF36: =IF(J36<>"",IF(J36=K36,1)) -> FALSE | BG36: =IF(K36<>"",IF(K36=J36,1)) -> FALSE | BH36: =IF(J36<>"",IF(J36<K36,1)) -> FALSE | BI36: =IF(K36<>"",IF(K36<J36,1)) -> FALSE | BJ36: =J36 -> 0 | BK36: =K36 -> 0 | BL36: =K36 -> 0 | BM36: =J36 -> 0
F37: =AG9 -> dd | L37: =AG8 -> cc | AV37: =E37 -> 0 | AW37: =P37 -> 0 | AX37: =IF(J37="",0,IF(J37>K37,Equipes!$J$30,IF('2 POULES DE 10'!J37='2 POULES DE 10'!K37,Equipes!$J$32,IF('2 POULES DE 10'!J37<'2 POULES DE 10'!K37,Equipes!$J$34)))) -> 0 | AY37: =IF(K37="",0,IF(K37>J37,Equipes!$J$30,IF('2 POULES DE 10'!K37='2 POULES DE 10'!J37,Equipes!$J$32,IF('2 POULES DE 10'!K37<'2 POULES DE 10'!J37,Equipes!$J$34)))) -> 0 | AZ37: =AX37-AV37 -> 0 | BA37: =AY37-AW37 -> 0 | BB37: =IF(J37="",0,1) -> 0 | BC37: =IF(K37="",0,1) -> 0 | BD37: =IF(J37<>"",IF(J37>K37,1)) -> FALSE | BE37: =IF(K37<>"",IF(K37>J37,1)) -> FALSE | BF37: =IF(J37<>"",IF(J37=K37,1)) -> FALSE | BG37: =IF(K37<>"",IF(K37=J37,1)) -> FALSE | BH37: =IF(J37<>"",IF(J37<K37,1)) -> FALSE | BI37: =IF(K37<>"",IF(K37<J37,1)) -> FALSE | BJ37: =J37 -> 0 | BK37: =K37 -> 0 | BL37: =K37 -> 0 | BM37: =J37 -> 0
F38: =AG11 -> ff | L38: =AG15 -> jj | AV38: =E38 -> 0 | AW38: =P38 -> 0 | AX38: =IF(J38="",0,IF(J38>K38,Equipes!$J$30,IF('2 POULES DE 10'!J38='2 POULES DE 10'!K38,Equipes!$J$32,IF('2 POULES DE 10'!J38<'2 POULES DE 10'!K38,Equipes!$J$34)))) -> 0 | AY38: =IF(K38="",0,IF(K38>J38,Equipes!$J$30,IF('2 POULES DE 10'!K38='2 POULES DE 10'!J38,Equipes!$J$32,IF('2 POULES DE 10'!K38<'2 POULES DE 10'!J38,Equipes!$J$34)))) -> 0 | AZ38: =AX38-AV38 -> 0 | BA38: =AY38-AW38 -> 0 | BB38: =IF(J38="",0,1) -> 0 | BC38: =IF(K38="",0,1) -> 0 | BD38: =IF(J38<>"",IF(J38>K38,1)) -> FALSE | BE38: =IF(K38<>"",IF(K38>J38,1)) -> FALSE | BF38: =IF(J38<>"",IF(J38=K38,1)) -> FALSE | BG38: =IF(K38<>"",IF(K38=J38,1)) -> FALSE | BH38: =IF(J38<>"",IF(J38<K38,1)) -> FALSE | BI38: =IF(K38<>"",IF(K38<J38,1)) -> FALSE | BJ38: =J38 -> 0 | BK38: =K38 -> 0 | BL38: =K38 -> 0 | BM38: =J38 -> 0
F39: =AG13 -> hh | L39: =AG6 -> aa | AV39: =E39 -> 0 | AW39: =P39 -> 0 | AX39: =IF(J39="",0,IF(J39>K39,Equipes!$J$30,IF('2 POULES DE 10'!J39='2 POULES DE 10'!K39,Equipes!$J$32,IF('2 POULES DE 10'!J39<'2 POULES DE 10'!K39,Equipes!$J$34)))) -> 0 | AY39: =IF(K39="",0,IF(K39>J39,Equipes!$J$30,IF('2 POULES DE 10'!K39='2 POULES DE 10'!J39,Equipes!$J$32,IF('2 POULES DE 10'!K39<'2 POULES DE 10'!J39,Equipes!$J$34)))) -> 0 | AZ39: =AX39-AV39 -> 0 | BA39: =AY39-AW39 -> 0 | BB39: =IF(J39="",0,1) -> 0 | BC39: =IF(K39="",0,1) -> 0 | BD39: =IF(J39<>"",IF(J39>K39,1)) -> FALSE | BE39: =IF(K39<>"",IF(K39>J39,1)) -> FALSE | BF39: =IF(J39<>"",IF(J39=K39,1)) -> FALSE | BG39: =IF(K39<>"",IF(K39=J39,1)) -> FALSE | BH39: =IF(J39<>"",IF(J39<K39,1)) -> FALSE | BI39: =IF(K39<>"",IF(K39<J39,1)) -> FALSE | BJ39: =J39 -> 0 | BK39: =K39 -> 0 | BL39: =K39 -> 0 | BM39: =J39 -> 0
