Workbook

Sheet Equipes
C3: 2 poules de 8 | E3: 2 poules de 8 | G3: Valeur des buts | I3: Gagné | J3: 3 | L3: Horaires | N3: Début | O3: 0.33333333
C4: POULE A | E4: POULE B
C5: aa | E5: ii | I5: Nul | J5: 1 | N5: Temps de match | O5: 0.0041666667
C6: bb | E6: jj
C7: cc | E7: kk | I7: Perdu | J7: 0 | N7: Temps de repos | O7: 0.0013888889
C8: dd | E8: ll
C9: ee | E9: mm
C10: ff | E10: nn
C11: gg | E11: oo
C12: hh | E12: pp
C16: 2 poules de 9 | E16: 2 poules de 9 | G16: Valeur des buts | I16: Gagné | J16: 3 | L16: Horaires | N16: Début | O16: 0.33333333
C17: POULE A | E17: POULE B
C18: aa | E18: jj | I18: Nul | J18: 1 | N18: Temps de match | O18: 0.0041666667
C19: bb | E19: kk
C20: cc | E20: ll | I20: Perdu | J20: 0 | N20: Temps de repos | O20: 0.0013888889
C21: dd | E21: mm
C22: ee | E22: nn
C23: ff | E23: oo
C24: gg | E24: pp
C25: hh | E25: qq
C26: ii | E26: rr
C30: 2 poules de 10 | E30: 2 poules de 10 | G30: Valeur des buts | I30: Gagné | J30: 3 | L30: Horaires | N30: Début | O30: 0.33333333
C31: POULE A | E31: POULE B
C32: aa | E32: kk | I32: Nul | J32: 1 | N32: Temps de match | O32: 0.0041666667
C33: bb | E33: ll
C34: cc | E34: mm | I34: Perdu | J34: 0 | N34: Temps de repos | O34: 0.0013888889
C35: dd | E35: nn
C36: ee | E36: oo
C37: ff | E37: pp
C38: gg | E38: qq
C39: hh | E39: rr
C40: ii | E40: ss
C41: jj | E41: tt

Sheet 2 POULES DE 8
C3: POULE A | Q3: CLASSEMENT | AH3: CLASSEMENT
C5: Heure | D5: Terrain | E5: Pts - | F5: Equipes | J5: Buts | K5: Buts | L5: Equipes | P5: Pts - | Q5: Equipes | U5: Rang | V5: Points | W5: J | X5: G | Y5: N | Z5: P | AA5: B + | AB5: B - | AC5: Diff | AG5: R | AH5: Equipes | AL5: Rang | AM5: Points | AN5: J | AO5: G | AP5: N | AQ5: P | AR5: B + | AS5: B - | AT5: Diff | AU5: % | AV5: % | AW5: P | AX5: P | AY5: Pts | AZ5: Pts | BA5: T Pts | BB5: T Pts | BC5: J | BD5: J | BE5: G | BF5: G | BG5: N | BH5: N | BI5: P | BJ5: P | BK5: B+ | BL5: B+ | BM5: B- | BN5: B- | BO5: Equipes | BP5: % | BQ5: R
F6: =AH7 -> bb | L6: =AH6 -> aa | Q6: =VLOOKUP(AF6,AG6:AK13,2,0) -> aa | U6: 1 | V6: =VLOOKUP(Q6,AH6:AT13,6,0) -> 0 | W6: =VLOOKUP(Q6,AH6:AT13,7,0) -> 0 | X6: =VLOOKUP(Q6,AH6:AT13,8,0) -> 0 | Y6: =VLOOKUP(Q6,AH6:AT13,9,0) -> 0 | Z6: =VLOOKUP(Q6,AH6:AT13,10,0) -> 0 | AA6: =VLOOKUP(Q6,AH6:AT13,11,0) -> 0 | AB6: =VLOOKUP(Q6,AH6:AT13,12,0) -> 0 | AC6: =VLOOKUP(Q6,AH6:AT13,13,0) -> 0 | AF6: 1 | AG6: =AL6 -> 1 | AH6: =Equipes!C5 -> aa | AL6: =RANK(AV6,AV6:AV13) -> 1 | AM6: =SUMPRODUCT((F6:I33=AH6)*(BA6:BA33))+SUMPRODUCT((L6:O33=AH6)*(BB6:BB33)) -> 0 | AN6: =SUMPRODUCT((F6:I33=AH6)*(BC6:BC33))+SUMPRODUCT((L6:O33=AH6)*(BD6:BD33)) -> 0 | AO6: =SUMPRODUCT((F6:I33=AH6)*(BE6:BE33))+SUMPRODUCT((L6:O33=AH6)*(BF6:BF33)) -> 0 | AP6: =SUMPRODUCT((F6:I33=AH6)*(BG6:BG33))+SUMPRODUCT((L6:O33=AH6)*(BH6:BH33)) -> 0 | AQ6: =SUMPRODUCT((F6:I33=AH6)*(BI6:BI33))+SUMPRODUCT((L6:O33=AH6)*(BJ6:BJ33)) -> 0 | AR6: =SUMPRODUCT((F6:I33=AH6)*(BK6:BK33))+SUMPRODUCT((L6:O33=AH6)*(BL6:BL33)) -> 0 | AS6: =SUMPRODUCT((F6:I33=AH6)*(BM6:BM33))+SUMPRODUCT((L6:O33=AH6)*(BN6:BN33)) -> 0 | AT6: =AR6-AS6 -> 0 | AU6: =SUM(AM6*1000+(AT6)/100+(AR6)/1000) -> 0 | AV6: =AU6+0.0000008 -> 8e-07 | AW6: =E6 -> 0 | AX6: =P6 -> 0 | AY6: =IF(J6="",0,IF(J6>K6,Equipes!$J$3,IF('2 POULES DE 8'!J6='2 POULES DE 8'!K6,Equipes!$J$5,IF('2 POULES DE 8'!J6<'2 POULES DE 8'!K6,Equipes!$J$7)))) -> 0 | AZ6: =IF(K6="",0,IF(K6>J6,Equipes!$J$3,IF('2 POULES DE 8'!K6='2 POULES DE 8'!J6,Equipes!$J$5,IF('2 POULES DE 8'!K6<'2 POULES DE 8'!J6,Equipes!$J$7)))) -> 0 | BA6: =AY6-AW6 -> 0 | BB6: =AZ6-AX6 -> 0 | BC6: =IF(J6="",0,1) -> 0 | BD6: =IF(K6="",0,1) -> 0 | BE6: =IF(J6<>"",IF(J6>K6,1)) -> FALSE | BF6: =IF(K6<>"",IF(K6>J6,1)) -> FALSE | BG6: =IF(J6<>"",IF(J6=K6,1)) -> FALSE | BH6: =IF(K6<>"",IF(K6=J6,1)) -> FALSE | BI6: =IF(J6<>"",IF(J6<K6,1)) -> FALSE | BJ6: =IF(K6<>"",IF(K6<J6,1)) -> FALSE | BK6: =J6 -> 0 | BL6: =K6 -> 0 | BM6: =K6 -> 0 | BN6: =J6 -> 0 | BO6: =VLOOKUP(AF6,AG6:AK13,2,0) -> aa | BP6: =VLOOKUP(BO6,AH6:AU13,14,0) -> 0 | BQ6: =RANK(BP6,BP6:BP13) -> 1
F7: =AH8 -> cc | L7: =AH13 -> hh | Q7: =VLOOKUP(AF7,AG6:AK13,2,0) -> bb | U7: =IF(BP7=BP6,BQ6,BQ7) -> 1 | V7: =VLOOKUP(Q7,AH6:AT13,6,0) -> 0 | W7: =VLOOKUP(Q7,AH6:AT13,7,0) -> 0 | X7: =VLOOKUP(Q7,AH6:AT13,8,0) -> 0 | Y7: =VLOOKUP(Q7,AH6:AT13,9,0) -> 0 | Z7: =VLOOKUP(Q7,AH6:AT13,10,0) -> 0 | AA7: =VLOOKUP(Q7,AH6:AT13,11,0) -> 0 | AB7: =VLOOKUP(Q7,AH6:AT13,12,0) -> 0 | AC7: =VLOOKUP(Q7,AH6:AT13,13,0) -> 0 | AF7: 2 | AG7: =AL7 -> 2 | AH7: =Equipes!C6 -> bb | AL7: =RANK(AV7,AV6:AV13) -> 2 | AM7: =SUMPRODUCT((F6:I33=AH7)*(BA6:BA33))+SUMPRODUCT((L6:O33=AH7)*(BB6:BB33)) -> 0 | AN7: =SUMPRODUCT((F6:I33=AH7)*(BC6:BC33))+SUMPRODUCT((L6:O33=AH7)*(BD6:BD33)) -> 0 | AO7: =SUMPRODUCT((F6:I33=AH7)*(BE6:BE33))+SUMPRODUCT((L6:O33=AH7)*(BF6:BF33)) -> 0 | AP7: =SUMPRODUCT((F6:I33=AH7)*(BG6:BG33))+SUMPRODUCT((L6:O33=AH7)*(BH6:BH33)) -> 0 | AQ7: =SUMPRODUCT((F6:I33=AH7)*(BI6:BI33))+SUMPRODUCT((L6:O33=AH7)*(BJ6:BJ33)) -> 0 | AR7: =SUMPRODUCT((F6:I33=AH7)*(BK6:BK33))+SUMPRODUCT((L6:O33=AH7)*(BL6:BL33)) -> 0 | AS7: =SUMPRODUCT((F6:I33=AH7)*(BM6:BM33))+SUMPRODUCT((L6:O33=AH7)*(BN6:BN33)) -> 0 | AT7: =AR7-AS7 -> 0 | AU7: =SUM(AM7*1000+(AT7)/100+(AR7)/1000) -> 0 | AV7: =AU7+0.0000007 -> 7e-07 | AW7: =E7 -> 0 | AX7: =P7 -> 0 | AY7: =IF(J7="",0,IF(J7>K7,Equipes!$J$3,IF('2 POULES DE 8'!J7='2 POULES DE 8'!K7,Equipes!$J$5,IF('2 POULES DE 8'!J7<'2 POULES DE 8'!K7,Equipes!$J$7)))) -> 0 | AZ7: =IF(K7="",0,IF(K7>J7,Equipes!$J$3,IF('2 POULES DE 8'!K7='2 POULES DE 8'!J7,Equipes!$J$5,IF('2 POULES DE 8'!K7<'2 POULES DE 8'!J7,Equipes!$J$7)))) -> 0 | BA7: =AY7-AW7 -> 0 | BB7: =AZ7-AX7 -> 0 | BC7: =IF(J7="",0,1) -> 0 | BD7: =IF(K7="",0,1) -> 0 | BE7: =IF(J7<>"",IF(J7>K7,1)) -> FALSE | BF7: =IF(K7<>"",IF(K7>J7,1)) -> FALSE | BG7: =IF(J7<>"",IF(J7=K7,1)) -> FALSE | BH7: =IF(K7<>"",IF(K7=J7,1)) -> FALSE | BI7: =IF(J7<>"",IF(J7<K7,1)) -> FALSE | BJ7: =IF(K7<>"",IF(K7<J7,1)) -> FALSE | BK7: =J7 -> 0 | BL7: =K7 -> 0 | BM7: =K7 -> 0 | BN7: =J7 -> 0 | BO7: =VLOOKUP(AF7,AG6:AK13,2,0) -> bb | BP7: =VLOOKUP(BO7,AH6:AU13,14,0) -> 0 | BQ7: =RANK(BP7,BP6:BP13) -> 1
F8: =AH10 -> ee | L8: =AH11 -> ff | Q8: =VLOOKUP(AF8,AG6:AK13,2,0) -> cc | U8: =IF(BP8=BP7,BQ7,BQ8) -> 1 | V8: =VLOOKUP(Q8,AH6:AT13,6,0) -> 0 | W8: =VLOOKUP(Q8,AH6:AT13,7,0) -> 0 | X8: =VLOOKUP(Q8,AH6:AT13,8,0) -> 0 | Y8: =VLOOKUP(Q8,AH6:AT13,9,0) -> 0 | Z8: =VLOOKUP(Q8,AH6:AT13,10,0) -> 0 | AA8: =VLOOKUP(Q8,AH6:AT13,11,0) -> 0 | AB8: =VLOOKUP(Q8,AH6:AT13,12,0) -> 0 | AC8: =VLOOKUP(Q8,AH6:AT13,13,0) -> 0 | AF8: 3 | AG8: =AL8 -> 3 | AH8: =Equipes!C7 -> cc | AL8: =RANK(AV8,AV6:AV13) -> 3 | AM8: =SUMPRODUCT((F6:I33=AH8)*(BA6:BA33))+SUMPRODUCT((L6:O33=AH8)*(BB6:BB33)) -> 0 | AN8: =SUMPRODUCT((F6:I33=AH8)*(BC6:BC33))+SUMPRODUCT((L6:O33=AH8)*(BD6:BD33)) -> 0 | AO8: =SUMPRODUCT((F6:I33=AH8)*(BE6:BE33))+SUMPRODUCT((L6:O33=AH8)*(BF6:BF33)) -> 0 | AP8: =SUMPRODUCT((F6:I33=AH8)*(BG6:BG33))+SUMPRODUCT((L6:O33=AH8)*(BH6:BH33)) -> 0 | AQ8: =SUMPRODUCT((F6:I33=AH8)*(BI6:BI33))+SUMPRODUCT((L6:O33=AH8)*(BJ6:BJ33)) -> 0 | AR8: =SUMPRODUCT((F6:I33=AH8)*(BK6:BK33))+SUMPRODUCT((L6:O33=AH8)*(BL6:BL33)) -> 0 | AS8: =SUMPRODUCT((F6:I33=AH8)*(BM6:BM33))+SUMPRODUCT((L6:O33=AH8)*(BN6:BN33)) -> 0 | AT8: =AR8-AS8 -> 0 | AU8: =SUM(AM8*1000+(AT8)/100+(AR8)/1000) -> 0 | AV8: =AU8+0.0000006 -> 6e-07 | AW8: =E8 -> 0 | AX8: =P8 -> 0 | AY8: =IF(J8="",0,IF(J8>K8,Equipes!$J$3,IF('2 POULES DE 8'!J8='2 POULES DE 8'!K8,Equipes!$J$5,IF('2 POULES DE 8'!J8<'2 POULES DE 8'!K8,Equipes!$J$7)))) -> 0 | AZ8: =IF(K8="",0,IF(K8>J8,Equipes!$J$3,IF('2 POULES DE 8'!K8='2 POULES DE 8'!J8,Equipes!$J$5,IF('2 POULES DE 8'!K8<'2 POULES DE 8'!J8,Equipes!$J$7)))) -> 0 | BA8: =AY8-AW8 -> 0 | BB8: =AZ8-AX8 -> 0 | BC8: =IF(J8="",0,1) -> 0 | BD8: =IF(K8="",0,1) -> 0 | BE8: =IF(J8<>"",IF(J8>K8,1)) -> FALSE | BF8: =IF(K8<>"",IF(K8>J8,1)) -> FALSE | BG8: =IF(J8<>"",IF(J8=K8,1)) -> FALSE | BH8: =IF(K8<>"",IF(K8=J8,1)) -> FALSE | BI8: =IF(J8<>"",IF(J8<K8,1)) -> FALSE | BJ8: =IF(K8<>"",IF(K8<J8,1)) -> FALSE | BK8: =J8 -> 0 | BL8: =K8 -> 0 | BM8: =K8 -> 0 | BN8: =J8 -> 0 | BO8: =VLOOKUP(AF8,AG6:AK13,2,0) -> cc | BP8: =VLOOKUP(BO8,AH6:AU13,14,0) -> 0 | BQ8: =RANK(BP8,BP6:BP13) -> 1
F9: =AH12 -> gg | L9: =AH9 -> dd | Q9: =VLOOKUP(AF9,AG6:AK13,2,0) -> dd | U9: =IF(BP9=BP8,BQ8,BQ9) -> 1 | V9: =VLOOKUP(Q9,AH6:AT13,6,0) -> 0 | W9: =VLOOKUP(Q9,AH6:AT13,7,0) -> 0 | X9: =VLOOKUP(Q9,AH6:AT13,8,0) -> 0 | Y9: =VLOOKUP(Q9,AH6:AT13,9,0) -> 0 | Z9: =VLOOKUP(Q9,AH6:AT13,10,0) -> 0 | AA9: =VLOOKUP(Q9,AH6:AT13,11,0) -> 0 | AB9: =VLOOKUP(Q9,AH6:AT13,12,0) -> 0 | AC9: =VLOOKUP(Q9,AH6:AT13,13,0) -> 0 | AF9: 4 | AG9: =AL9 -> 4 | AH9: =Equipes!C8 -> dd | AL9: =RANK(AV9,AV6:AV13) -> 4 | AM9: =SUMPRODUCT((F6:I33=AH9)*(BA6:BA33))+SUMPRODUCT((L6:O33=AH9)*(BB6:BB33)) -> 0 | AN9: =SUMPRODUCT((F6:I33=AH9)*(BC6:BC33))+SUMPRODUCT((L6:O33=AH9)*(BD6:BD33)) -> 0 | AO9: =SUMPRODUCT((F6:I33=AH9)*(BE6:BE33))+SUMPRODUCT((L6:O33=AH9)*(BF6:BF33)) -> 0 | AP9: =SUMPRODUCT((F6:I33=AH9)*(BG6:BG33))+SUMPRODUCT((L6:O33=AH9)*(BH6:BH33)) -> 0 | AQ9: =SUMPRODUCT((F6:I33=AH9)*(BI6:BI33))+SUMPRODUCT((L6:O33=AH9)*(BJ6:BJ33)) -> 0 | AR9: =SUMPRODUCT((F6:I33=AH9)*(BK6:BK33))+SUMPRODUCT((L6:O33=AH9)*(BL6:BL33)) -> 0 | AS9: =SUMPRODUCT((F6:I33=AH9)*(BM6:BM33))+SUMPRODUCT((L6:O33=AH9)*(BN6:BN33)) -> 0 | AT9: =AR9-AS9 -> 0 | AU9: =SUM(AM9*1000+(AT9)/100+(AR9)/1000) -> 0 | AV9: =AU9+0.0000005 -> 5e-07 | AW9: =E9 -> 0 | AX9: =P9 -> 0 | AY9: =IF(J9="",0,IF(J9>K9,Equipes!$J$3,IF('2 POULES DE 8'!J9='2 POULES DE 8'!K9,Equipes!$J$5,IF('2 POULES DE 8'!J9<'2 POULES DE 8'!K9,Equipes!$J$7)))) -> 0 | AZ9: =IF(K9="",0,IF(K9>J9,Equipes!$J$3,IF('2 POULES DE 8'!K9='2 POULES DE 8'!J9,Equipes!$J$5,IF('2 POULES DE 8'!K9<'2 POULES DE 8'!J9,Equipes!$J$7)))) -> 0 | BA9: =AY9-AW9 -> 0 | BB9: =AZ9-AX9 -> 0 | BC9: =IF(J9="",0,1) -> 0 | BD9: =IF(K9="",0,1) -> 0 | BE9: =IF(J9<>"",IF(J9>K9,1)) -> FALSE | BF9: =IF(K9<>"",IF(K9>J9,1)) -> FALSE | BG9: =IF(J9<>"",IF(J9=K9,1)) -> FALSE | BH9: =IF(K9<>"",IF(K9=J9,1)) -> FALSE | BI9: =IF(J9<>"",IF(J9<K9,1)) -> FALSE | BJ9: =IF(K9<>"",IF(K9<J9,1)) -> FALSE | BK9: =J9 -> 0 | BL9: =K9 -> 0 | BM9: =K9 -> 0 | BN9: =J9 -> 0 | BO9: =VLOOKUP(AF9,AG6:AK13,2,0) -> dd | BP9: =VLOOKUP(BO9,AH6:AU13,14,0) -> 0 | BQ9: =RANK(BP9,BP6:BP13) -> 1
F10: =AH6 -> aa | L10: =AH8 -> cc | Q10: =VLOOKUP(AF10,AG6:AK13,2,0) -> ee | U10: =IF(BP10=BP9,BQ9,BQ10) -> 1 | V10: =VLOOKUP(Q10,AH6:AT13,6,0) -> 0 | W10: =VLOOKUP(Q10,AH6:AT13,7,0) -> 0 | X10: =VLOOKUP(Q10,AH6:AT13,8,0) -> 0 | Y10: =VLOOKUP(Q10,AH6:AT13,9,0) -> 0 | Z10: =VLOOKUP(Q10,AH6:AT13,10,0) -> 0 | AA10: =VLOOKUP(Q10,AH6:AT13,11,0) -> 0 | AB10: =VLOOKUP(Q10,AH6:AT13,12,0) -> 0 | AC10: =VLOOKUP(Q10,AH6:AT13,13,0) -> 0 | AF10: 5 | AG10: =AL10 -> 5 | AH10: =Equipes!C9 -> ee | AL10: =RANK(AV10,AV6:AV13) -> 5 | AM10: =SUMPRODUCT((F6:I33=AH10)*(BA6:BA33))+SUMPRODUCT((L6:O33=AH10)*(BB6:BB33)) -> 0 | AN10: =SUMPRODUCT((F6:I33=AH10)*(BC6:BC33))+SUMPRODUCT((L6:O33=AH10)*(BD6:BD33)) -> 0 | AO10: =SUMPRODUCT((F6:I33=AH10)*(BE6:BE33))+SUMPRODUCT((L6:O33=AH10)*(BF6:BF33)) -> 0 | AP10: =SUMPRODUCT((F6:I33=AH10)*(BG6:BG33))+SUMPRODUCT((L6:O33=AH10)*(BH6:BH33)) -> 0 | AQ10: =SUMPRODUCT((F6:I33=AH10)*(BI6:BI33))+SUMPRODUCT((L6:O33=AH10)*(BJ6:BJ33)) -> 0 | AR10: =SUMPRODUCT((F6:I33=AH10)*(BK6:BK33))+SUMPRODUCT((L6:O33=AH10)*(BL6:BL33)) -> 0 | AS10: =SUMPRODUCT((F6:I33=AH10)*(BM6:BM33))+SUMPRODUCT((L6:O33=AH10)*(BN6:BN33)) -> 0 | AT10: =AR10-AS10 -> 0 | AU10: =SUM(AM10*1000+(AT10)/100+(AR10)/1000) -> 0 | AV10: =AU10+0.0000004 -> 4e-07 | AW10: =E10 -> 0 | AX10: =P10 -> 0 | AY10: =IF(J10="",0,IF(J10>K10,Equipes!$J$3,IF('2 POULES DE 8'!J10='2 POULES DE 8'!K10,Equipes!$J$5,IF('2 POULES DE 8'!J10<'2 POULES DE 8'!K10,Equipes!$J$7)))) -> 0 | AZ10: =IF(K10="",0,IF(K10>J10,Equipes!$J$3,IF('2 POULES DE 8'!K10='2 POULES DE 8'!J10,Equipes!$J$5,IF('2 POULES DE 8'!K10<'2 POULES DE 8'!J10,Equipes!$J$7)))) -> 0 | BA10: =AY10-AW10 -> 0 | BB10: =AZ10-AX10 -> 0 | BC10: =IF(J10="",0,1) -> 0 | BD10: =IF(K10="",0,1) -> 0 | BE10: =IF(J10<>"",IF(J10>K10,1)) -> FALSE | BF10: =IF(K10<>"",IF(K10>J10,1)) -> FALSE | BG10: =IF(J10<>"",IF(J10=K10,1)) -> FALSE | BH10: =IF(K10<>"",IF(K10=J10,1)) -> FALSE | BI10: =IF(J10<>"",IF(J10<K10,1)) -> FALSE | BJ10: =IF(K10<>"",IF(K10<J10,1)) -> FALSE | BK10: =J10 -> 0 | BL10: =K10 -> 0 | BM10: =K10 -> 0 | BN10: =J10 -> 0 | BO10: =VLOOKUP(AF10,AG6:AK13,2,0) -> ee | BP10: =VLOOKUP(BO10,AH6:AU13,14,0) -> 0 | BQ10: =RANK(BP10,BP6:BP13) -> 1
F11: =AH9 -> dd | L11: =AH7 -> bb | Q11: =VLOOKUP(AF11,AG6:AK13,2,0) -> ff | U11: =IF(BP11=BP10,BQ10,BQ11) -> 1 | V11: =VLOOKUP(Q11,AH6:AT13,6,0) -> 0 | W11: =VLOOKUP(Q11,AH6:AT13,7,0) -> 0 | X11: =VLOOKUP(Q11,AH6:AT13,8,0) -> 0 | Y11: =VLOOKUP(Q11,AH6:AT13,9,0) -> 0 | Z11: =VLOOKUP(Q11,AH6:AT13,10,0) -> 0 | AA11: =VLOOKUP(Q11,AH6:AT13,11,0) -> 0 | AB11: =VLOOKUP(Q11,AH6:AT13,12,0) -> 0 | AC11: =VLOOKUP(Q11,AH6:AT13,13,0) -> 0 | AF11: 6 | AG11: =AL11 -> 6 | AH11: =Equipes!C10 -> ff | AL11: =RANK(AV11,AV6:AV13) -> 6 | AM11: =SUMPRODUCT((F6:I33=AH11)*(BA6:BA33))+SUMPRODUCT((L6:O33=AH11)*(BB6:BB33)) -> 0 | AN11: =SUMPRODUCT((F6:I33=AH11)*(BC6:BC33))+SUMPRODUCT((L6:O33=AH11)*(BD6:BD33)) -> 0 | AO11: =SUMPRODUCT((F6:I33=AH11)*(BE6:BE33))+SUMPRODUCT((L6:O33=AH11)*(BF6:BF33)) -> 0 | AP11: =SUMPRODUCT((F6:I33=AH11)*(BG6:BG33))+SUMPRODUCT((L6:O33=AH11)*(BH6:BH33)) -> 0 | AQ11: =SUMPRODUCT((F6:I33=AH11)*(BI6:BI33))+SUMPRODUCT((L6:O33=AH11)*(BJ6:BJ33)) -> 0 | AR11: =SUMPRODUCT((F6:I33=AH11)*(BK6:BK33))+SUMPRODUCT((L6:O33=AH11)*(BL6:BL33)) -> 0 | AS11: =SUMPRODUCT((F6:I33=AH11)*(BM6:BM33))+SUMPRODUCT((L6:O33=AH11)*(BN6:BN33)) -> 0 | AT11: =AR11-AS11 -> 0 | AU11: =SUM(AM11*1000+(AT11)/100+(AR11)/1000) -> 0 | AV11: =AU11+0.0000003 -> 3e-07 | AW11: =E11 -> 0 | AX11: =P11 -> 0 | AY11: =IF(J11="",0,IF(J11>K11,Equipes!$J$3,IF('2 POULES DE 8'!J11='2 POULES DE 8'!K11,Equipes!$J$5,IF('2 POULES DE 8'!J11<'2 POULES DE 8'!K11,Equipes!$J$7)))) -> 0 | AZ11: =IF(K11="",0,IF(K11>J11,Equipes!$J$3,IF('2 POULES DE 8'!K11='2 POULES DE 8'!J11,Equipes!$J$5,IF('2 POULES DE 8'!K11<'2 POULES DE 8'!J11,Equipes!$J$7)))) -> 0 | BA11: =AY11-AW11 -> 0 | BB11: =AZ11-AX11 -> 0 | BC11: =IF(J11="",0,1) -> 0 | BD11: =IF(K11="",0,1) -> 0 | BE11: =IF(J11<>"",IF(J11>K11,1)) -> FALSE | BF11: =IF(K11<>"",IF(K11>J11,1)) -> FALSE | BG11: =IF(J11<>"",IF(J11=K11,1)) -> FALSE | BH11: =IF(K11<>"",IF(K11=J11,1)) -> FALSE | BI11: =IF(J11<>"",IF(J11<K11,1)) -> FALSE | BJ11: =IF(K11<>"",IF(K11<J11,1)) -> FALSE | BK11: =J11 -> 0 | BL11: =K11 -> 0 | BM11: =K11 -> 0 | BN11: =J11 -> 0 | BO11: =VLOOKUP(AF11,AG6:AK13,2,0) -> ff | BP11: =VLOOKUP(BO11,AH6:AU13,14,0) -> 0 | BQ11: =RANK(BP11,BP6:BP13) -> 1
F12: =AH11 -> ff | L12: =AH12 -> gg | Q12: =VLOOKUP(AF12,AG6:AK13,2,0) -> gg | U12: =IF(BP12=BP11,BQ11,BQ12) -> 1 | V12: =VLOOKUP(Q12,AH6:AT13,6,0) -> 0 | W12: =VLOOKUP(Q12,AH6:AT13,7,0) -> 0 | X12: =VLOOKUP(Q12,AH6:AT13,8,0) -> 0 | Y12: =VLOOKUP(Q12,AH6:AT13,9,0) -> 0 | Z12: =VLOOKUP(Q12,AH6:AT13,10,0) -> 0 | AA12: =VLOOKUP(Q12,AH6:AT13,11,0) -> 0 | AB12: =VLOOKUP(Q12,AH6:AT13,12,0) -> 0 | AC12: =VLOOKUP(Q12,AH6:AT13,13,0) -> 0 | AF12: 7 | AG12: =AL12 -> 7 | AH12: =Equipes!C11 -> gg | AL12: =RANK(AV12,AV6:AV13) -> 7 | AM12: =SUMPRODUCT((F6:I33=AH12)*(BA6:BA33))+SUMPRODUCT((L6:O33=AH12)*(BB6:BB33)) -> 0 | AN12: =SUMPRODUCT((F6:I33=AH12)*(BC6:BC33))+SUMPRODUCT((L6:O33=AH12)*(BD6:BD33)) -> 0 | AO12: =SUMPRODUCT((F6:I33=AH12)*(BE6:BE33))+SUMPRODUCT((L6:O33=AH12)*(BF6:BF33)) -> 0 | AP12: =SUMPRODUCT((F6:I33=AH12)*(BG6:BG33))+SUMPRODUCT((L6:O33=AH12)*(BH6:BH33)) -> 0 | AQ12: =SUMPRODUCT((F6:I33=AH12)*(BI6:BI33))+SUMPRODUCT((L6:O33=AH12)*(BJ6:BJ33)) -> 0 | AR12: =SUMPRODUCT((F6:I33=AH12)*(BK6:BK33))+SUMPRODUCT((L6:O33=AH12)*(BL6:BL33)) -> 0 | AS12: =SUMPRODUCT((F6:I33=AH12)*(BM6:BM33))+SUMPRODUCT((L6:O33=AH12)*(BN6:BN33)) -> 0 | AT12: =AR12-AS12 -> 0 | AU12: =SUM(AM12*1000+(AT12)/100+(AR12)/1000) -> 0 | AV12: =AU12+0.0000002 -> 2e-07 | AW12: =E12 -> 0 | AX12: =P12 -> 0 | AY12: =IF(J12="",0,IF(J12>K12,Equipes!$J$3,IF('2 POULES DE 8'!J12='2 POULES DE 8'!K12,Equipes!$J$5,IF('2 POULES DE 8'!J12<'2 POULES DE 8'!K12,Equipes!$J$7)))) -> 0 | AZ12: =IF(K12="",0,IF(K12>J12,Equipes!$J$3,IF('2 POULES DE 8'!K12='2 POULES DE 8'!J12,Equipes!$J$5,IF('2 POULES DE 8'!K12<'2 POULES DE 8'!J12,Equipes!$J$7)))) -> 0 | BA12: =AY12-AW12 -> 0 | BB12: =AZ12-AX12 -> 0 | BC12: =IF(J12="",0,1) -> 0 | BD12: =IF(K12="",0,1) -> 0 | BE12: =IF(J12<>"",IF(J12>K12,1)) -> FALSE | BF12: =IF(K12<>"",IF(K12>J12,1)) -> FALSE | BG12: =IF(J12<>"",IF(J12=K12,1)) -> FALSE | BH12: =IF(K12<>"",IF(K12=J12,1)) -> FALSE | BI12: =IF(J12<>"",IF(J12<K12,1)) -> FALSE | BJ12: =IF(K12<>"",IF(K12<J12,1)) -> FALSE | BK12: =J12 -> 0 | BL12: =K12 -> 0 | BM12: =K12 -> 0 | BN12: =J12 -> 0 | BO12: =VLOOKUP(AF12,AG6:AK13,2,0) -> gg | BP12: =VLOOKUP(BO12,AH6:AU13,14,0) -> 0 | BQ12: =RANK(BP12,BP6:BP13) -> 1
F13: =AH13 -> hh | L13: =AH10 -> ee | Q13: =VLOOKUP(AF13,AG6:AK13,2,0) -> hh | U13: =IF(BP13=BP12,BQ12,BQ13) -> 1 | V13: =VLOOKUP(Q13,AH6:AT13,6,0) -> 0 | W13: =VLOOKUP(Q13,AH6:AT13,7,0) -> 0 | X13: =VLOOKUP(Q13,AH6:AT13,8,0) -> 0 | Y13: =VLOOKUP(Q13,AH6:AT13,9,0) -> 0 | Z13: =VLOOKUP(Q13,AH6:AT13,10,0) -> 0 | AA13: =VLOOKUP(Q13,AH6:AT13,11,0) -> 0 | AB13: =VLOOKUP(Q13,AH6:AT13,12,0) -> 0 | AC13: =VLOOKUP(Q13,AH7:AT14,13,0) -> 0 | AF13: 8 | AG13: =AL13 -> 8 | AH13: =Equipes!C12 -> hh | AL13: =RANK(AV13,AV6:AV13) -> 8 | AM13: =SUMPRODUCT((F6:I33=AH13)*(BA6:BA33))+SUMPRODUCT((L6:O33=AH13)*(BB6:BB33)) -> 0 | AN13: =SUMPRODUCT((F6:I33=AH13)*(BC6:BC33))+SUMPRODUCT((L6:O33=AH13)*(BD6:BD33)) -> 0 | AO13: =SUMPRODUCT((F6:I33=AH13)*(BE6:BE33))+SUMPRODUCT((L6:O33=AH13)*(BF6:BF33)) -> 0 | AP13: =SUMPRODUCT((F6:I33=AH13)*(BG6:BG33))+SUMPRODUCT((L6:O33=AH13)*(BH6:BH33)) -> 0 | AQ13: =SUMPRODUCT((F6:I33=AH13)*(BI6:BI33))+SUMPRODUCT((L6:O33=AH13)*(BJ6:BJ33)) -> 0 | AR13: =SUMPRODUCT((F6:I33=AH13)*(BK6:BK33))+SUMPRODUCT((L6:O33=AH13)*(BL6:BL33)) -> 0 | AS13: =SUMPRODUCT((F6:I33=AH13)*(BM6:BM33))+SUMPRODUCT((L6:O33=AH13)*(BN6:BN33)) -> 0 | AT13: =AR13-AS13 -> 0 | AU13: =SUM(AM13*1000+(AT13)/100+(AR13)/1000) -> 0 | AV13: =AU13+0.0000001 -> 1e-07 | AW13: =E13 -> 0 | AX13: =P13 -> 0 | AY13: =IF(J13="",0,IF(J13>K13,Equipes!$J$3,IF('2 POULES DE 8'!J13='2 POULES DE 8'!K13,Equipes!$J$5,IF('2 POULES DE 8'!J13<'2 POULES DE 8'!K13,Equipes!$J$7)))) -> 0 | AZ13: =IF(K13="",0,IF(K13>J13,Equipes!$J$3,IF('2 POULES DE 8'!K13='2 POULES DE 8'!J13,Equipes!$J$5,IF('2 POULES DE 8'!K13<'2 POULES DE 8'!J13,Equipes!$J$7)))) -> 0 | BA13: =AY13-AW13 -> 0 | BB13: =AZ13-AX13 -> 0 | BC13: =IF(J13="",0,1) -> 0 | BD13: =IF(K13="",0,1) -> 0 | BE13: =IF(J13<>"",IF(J13>K13,1)) -> FALSE | BF13: =IF(K13<>"",IF(K13>J13,1)) -> FALSE | BG13: =IF(J13<>"",IF(J13=K13,1)) -> FALSE | BH13: =IF(K13<>"",IF(K13=J13,1)) -> FALSE | BI13: =IF(J13<>"",IF(J13<K13,1)) -> FALSE | BJ13: =IF(K13<>"",IF(K13<J13,1)) -> FALSE | BK13: =J13 -> 0 | BL13: =K13 -> 0 | BM13: =K13 -> 0 | BN13: =J13 -> 0 | BO13: =VLOOKUP(AF13,AG6:AK13,2,0) -> hh | BP13: =VLOOKUP(BO13,AH6:AU13,14,0) -> 0 | BQ13: =RANK(BP13,BP6:BP13) -> 1
F14: =AH7 -> bb | L14: =AH11 -> ff | AW14: =E14 -> 0 | AX14: =P14 -> 0 | AY14: =IF(J14="",0,IF(J14>K14,Equipes!$J$3,IF('2 POULES DE 8'!J14='2 POULES DE 8'!K14,Equipes!$J$5,IF('2 POULES DE 8'!J14<'2 POULES DE 8'!K14,Equipes!$J$7)))) -> 0 | AZ14: =IF(K14="",0,IF(K14>J14,Equipes!$J$3,IF('2 POULES DE 8'!K14='2 POULES DE 8'!J14,Equipes!$J$5,IF('2 POULES DE 8'!K14<'2 POULES DE 8'!J14,Equipes!$J$7)))) -> 0 | BA14: =AY14-AW14 -> 0 | BB14: =AZ14-AX14 -> 0 | BC14: =IF(J14="",0,1) -> 0 | BD14: =IF(K14="",0,1) -> 0 | BE14: =IF(J14<>"",IF(J14>K14,1)) -> FALSE | BF14: =IF(K14<>"",IF(K14>J14,1)) -> FALSE | BG14: =IF(J14<>"",IF(J14=K14,1)) -> FALSE | BH14: =IF(K14<>"",IF(K14=J14,1)) -> FALSE | BI14: =IF(J14<>"",IF(J14<K14,1)) -> FALSE | BJ14: =IF(K14<>"",IF(K14<J14,1)) -> FALSE | BK14: =J14 -> 0 | BL14: =K14 -> 0 | BM14: =K14 -> 0 | BN14: =J14 -> 0
F15: =AH9 -> dd | L15: =AH6 -> aa | AW15: =E15 -> 0 | AX15: =P15 -> 0 | AY15: =IF(J15="",0,IF(J15>K15,Equipes!$J$3,IF('2 POULES DE 8'!J15='2 POULES DE 8'!K15,Equipes!$J$5,IF('2 POULES DE 8'!J15<'2 POULES DE 8'!K15,Equipes!$J$7)))) -> 0 | AZ15: =IF(K15="",0,IF(K15>J15,Equipes!$J$3,IF('2 POULES DE 8'!K15='2 POULES DE 8'!J15,Equipes!$J$5,IF('2 POULES DE 8'!K15<'2 POULES DE 8'!J15,Equipes!$J$7)))) -> 0 | BA15: =AY15-AW15 -> 0 | BB15: =AZ15-AX15 -> 0 | BC15: =IF(J15="",0,1) -> 0 | BD15: =IF(K15="",0,1) -> 0 | BE15: =IF(J15<>"",IF(J15>K15,1)) -> FALSE | BF15: =IF(K15<>"",IF(K15>J15,1)) -> FALSE | BG15: =IF(J15<>"",IF(J15=K15,1)) -> FALSE | BH15: =IF(K15<>"",IF(K15=J15,1)) -> FALSE | BI15: =IF(J15<>"",IF(J15<K15,1)) -> FALSE | BJ15: =IF(K15<>"",IF(K15<J15,1)) -> FALSE | BK15: =J15 -> 0 | BL15: =K15 -> 0 | BM15: =K15 -> 0 | BN15: =J15 -> 0
F16: =AH10 -> ee | L16: =AH8 -> cc | AW16: =E16 -> 0 | AX16: =P16 -> 0 | AY16: =IF(J16="",0,IF(J16>K16,Equipes!$J$3,IF('2 POULES DE 8'!J16='2 POULES DE 8'!K16,Equipes!$J$5,IF('2 POULES DE 8'!J16<'2 POULES DE 8'!K16,Equipes!$J$7)))) -> 0 | AZ16: =IF(K16="",0,IF(K16>J16,Equipes!$J$3,IF('2 POULES DE 8'!K16='2 POULES DE 8'!J16,Equipes!$J$5,IF('2 POULES DE 8'!K16<'2 POULES DE 8'!J16,Equipes!$J$7)))) -> 0 | BA16: =AY16-AW16 -> 0 | BB16: =AZ16-AX16 -> 0 | BC16: =IF(J16="",0,1) -> 0 | BD16: =IF(K16="",0,1) -> 0 | BE16: =IF(J16<>"",IF(J16>K16,1)) -> FALSE | BF16: =IF(K16<>"",IF(K16>J16,1)) -> FALSE | BG16: =IF(J16<>"",IF(J16=K16,1)) -> FALSE | BH16: =IF(K16<>"",IF(K16=J16,1)) -> FALSE | BI16: =IF(J16<>"",IF(J16<K16,1)) -> FALSE | BJ16: =IF(K16<>"",IF(K16<J16,1)) -> FALSE | BK16: =J16 -> 0 | BL16: =K16 -> 0 | BM16: =K16 -> 0 | BN16: =J16 -> 0
F17: =AH12 -> gg | L17: =AH13 -> hh | AW17: =E17 -> 0 | AX17: =P17 -> 0 | AY17: =IF(J17="",0,IF(J17>K17,Equipes!$J$3,IF('2 POULES DE 8'!J17='2 POULES DE 8'!K17,Equipes!$J$5,IF('2 POULES DE 8'!J17<'2 POULES DE 8'!K17,Equipes!$J$7)))) -> 0 | AZ17: =IF(K17="",0,IF(K17>J17,Equipes!$J$3,IF('2 POULES DE 8'!K17='2 POULES DE 8'!J17,Equipes!$J$5,IF('2 POULES DE 8'!K17<'2 POULES DE 8'!J17,Equipes!$J$7)))) -> 0 | BA17: =AY17-AW17 -> 0 | BB17: =AZ17-AX17 -> 0 | BC17: =IF(J17="",0,1) -> 0 | BD17: =IF(K17="",0,1) -> 0 | BE17: =IF(J17<>"",IF(J17>K17,1)) -> FALSE | BF17: =IF(K17<>"",IF(K17>J17,1)) -> FALSE | BG17: =IF(J17<>"",IF(J17=K17,1)) -> FALSE | BH17: =IF(K17<>"",IF(K17=J17,1)) -> FALSE | BI17: =IF(J17<>"",IF(J17<K17,1)) -> FALSE | BJ17: =IF(K17<>"",IF(K17<J17,1)) -> FALSE | BK17: =J17 -> 0 | BL17: =K17 -> 0 | BM17: =K17 -> 0 | BN17: =J17 -> 0
F18: =AH6 -> aa | L18: =AH10 -> ee | AW18: =E18 -> 0 | AX18: =P18 -> 0 | AY18: =IF(J18="",0,IF(J18>K18,Equipes!$J$3,IF('2 POULES DE 8'!J18='2 POULES DE 8'!K18,Equipes!$J$5,IF('2 POULES DE 8'!J18<'2 POULES DE 8'!K18,Equipes!$J$7)))) -> 0 | AZ18: =IF(K18="",0,IF(K18>J18,Equipes!$J$3,IF('2 POULES DE 8'!K18='2 POULES DE 8'!J18,Equipes!$J$5,IF('2 POULES DE 8'!K18<'2 POULES DE 8'!J18,Equipes!$J$7)))) -> 0 | BA18: =AY18-AW18 -> 0 | BB18: =AZ18-AX18 -> 0 | BC18: =IF(J18="",0,1) -> 0 | BD18: =IF(K18="",0,1) -> 0 | BE18: =IF(J18<>"",IF(J18>K18,1)) -> FALSE | BF18: =IF(K18<>"",IF(K18>J18,1)) -> FALSE | BG18: =IF(J18<>"",IF(J18=K18,1)) -> FALSE | BH18: =IF(K18<>"",IF(K18=J18,1)) -> FALSE | BI18: =IF(J18<>"",IF(J18<K18,1)) -> FALSE | BJ18: =IF(K18<>"",IF(K18<J18,1)) -> FALSE | BK18: =J18 -> 0 | BL18: =K18 -> 0 | BM18: =K18 -> 0 | BN18: =J18 -> 0
F19: =AH8 -> cc | L19: =AH12 -> gg | AW19: =E19 -> 0 | AX19: =P19 -> 0 | AY19: =IF(J19="",0,IF(J19>K19,Equipes!$J$3,IF('2 POULES DE 8'!J19='2 POULES DE 8'!K19,Equipes!$J$5,IF('2 POULES DE 8'!J19<'2 POULES DE 8'!K19,Equipes!$J$7)))) -> 0 | AZ19: =IF(K19="",0,IF(K19>J19,Equipes!$J$3,IF('2 POULES DE 8'!K19='2 POULES DE 8'!J19,Equipes!$J$5,IF('2 POULES DE 8'!K19<'2 POULES DE 8'!J19,Equipes!$J$7)))) -> 0 | BA19: =AY19-AW19 -> 0 | BB19: =AZ19-AX19 -> 0 | BC19: =IF(J19="",0,1) -> 0 | BD19: =IF(K19="",0,1) -> 0 | BE19: =IF(J19<>"",IF(J19>K19,1)) -> FALSE | BF19: =IF(K19<>"",IF(K19>J19,1)) -> FALSE | BG19: =IF(J19<>"",IF(J19=K19,1)) -> FALSE | BH19: =IF(K19<>"",IF(K19=J19,1)) -> FALSE | BI19: =IF(J19<>"",IF(J19<K19,1)) -> FALSE | BJ19: =IF(K19<>"",IF(K19<J19,1)) -> FALSE | BK19: =J19 -> 0 | BL19: =K19 -> 0 | BM19: =K19 -> 0 | BN19: =J19 -> 0
F20: =AH11 -> ff | L20: =AH9 -> dd | AW20: =E20 -> 0 | AX20: =P20 -> 0 | AY20: =IF(J20="",0,IF(J20>K20,Equipes!$J$3,IF('2 POULES DE 8'!J20='2 POULES DE 8'!K20,Equipes!$J$5,IF('2 POULES DE 8'!J20<'2 POULES DE 8'!K20,Equipes!$J$7)))) -> 0 | AZ20: =IF(K20="",0,IF(K20>J20,Equipes!$J$3,IF('2 POULES DE 8'!K20='2 POULES DE 8'!J20,Equipes!$J$5,IF('2 POULES DE 8'!K20<'2 POULES DE 8'!J20,Equipes!$J$7)))) -> 0 | BA20: =AY20-AW20 -> 0 | BB20: =AZ20-AX20 -> 0 | BC20: =IF(J20="",0,1) -> 0 | BD20: =IF(K20="",0,1) -> 0 | BE20: =IF(J20<>"",IF(J20>K20,1)) -> FALSE | BF20: =IF(K20<>"",IF(K20>J20,1)) -> FALSE | BG20: =IF(J20<>"",IF(J20=K20,1)) -> FALSE | BH20: =IF(K20<>"",IF(K20=J20,1)) -> FALSE | BI20: =IF(J20<>"",IF(J20<K20,1)) -> FALSE | BJ20: =IF(K20<>"",IF(K20<J20,1)) -> FALSE | BK20: =J20 -> 0 | BL20: =K20 -> 0 | BM20: =K20 -> 0 | BN20: =J20 -> 0
F21: =AH13 -> hh | L21: =AH7 -> bb | AW21: =E21 -> 0 | AX21: =P21 -> 0 | AY21: =IF(J21="",0,IF(J21>K21,Equipes!$J$3,IF('2 POULES DE 8'!J21='2 POULES DE 8'!K21,Equipes!$J$5,IF('2 POULES DE 8'!J21<'2 POULES DE 8'!K21,Equipes!$J$7)))) -> 0 | AZ21: =IF(K21="",0,IF(K21>J21,Equipes!$J$3,IF('2 POULES DE 8'!K21='2 POULES DE 8'!J21,Equipes!$J$5,IF('2 POULES DE 8'!K21<'2 POULES DE 8'!J21,Equipes!$J$7)))) -> 0 | BA21: =AY21-AW21 -> 0 | BB21: =AZ21-AX21 -> 0 | BC21: =IF(J21="",0,1) -> 0 | BD21: =IF(K21="",0,1) -> 0 | BE21: =IF(J21<>"",IF(J21>K21,1)) -> FALSE | BF21: =IF(K21<>"",IF(K21>J21,1)) -> FALSE | BG21: =IF(J21<>"",IF(J21=K21,1)) -> FALSE | BH21: =IF(K21<>"",IF(K21=J21,1)) -> FALSE | BI21: =IF(J21<>"",IF(J21<K21,1)) -> FALSE | BJ21: =IF(K21<>"",IF(K21<J21,1)) -> FALSE | BK21: =J21 -> 0 | BL21: =K21 -> 0 | BM21: =K21 -> 0 | BN21: =J21 -> 0
F22: =AH7 -> bb | L22: =AH8 -> cc | AW22: =E22 -> 0 | AX22: =P22 -> 0 | AY22: =IF(J22="",0,IF(J22>K22,Equipes!$J$3,IF('2 POULES DE 8'!J22='2 POULES DE 8'!K22,Equipes!$J$5,IF('2 POULES DE 8'!J22<'2 POULES DE 8'!K22,Equipes!$J$7)))) -> 0 | AZ22: =IF(K22="",0,IF(K22>J22,Equipes!$J$3,IF('2 POULES DE 8'!K22='2 POULES DE 8'!J22,Equipes!$J$5,IF('2 POULES DE 8'!K22<'2 POULES DE 8'!J22,Equipes!$J$7)))) -> 0 | BA22: =AY22-AW22 -> 0 | BB22: =AZ22-AX22 -> 0 | BC22: =IF(J22="",0,1) -> 0 | BD22: =IF(K22="",0,1) -> 0 | BE22: =IF(J22<>"",IF(J22>K22,1)) -> FALSE | BF22: =IF(K22<>"",IF(K22>J22,1)) -> FALSE | BG22: =IF(J22<>"",IF(J22=K22,1)) -> FALSE | BH22: =IF(K22<>"",IF(K22=J22,1)) -> FALSE | BI22: =IF(J22<>"",IF(J22<K22,1)) -> FALSE | BJ22: =IF(K22<>"",IF(K22<J22,1)) -> FALSE | BK22: =J22 -> 0 | BL22: =K22 -> 0 | BM22: =K22 -> 0 | BN22: =J22 -> 0
F23: =AH9 -> dd | L23: =AH13 -> hh | AW23: =E23 -> 0 | AX23: =P23 -> 0 | AY23: =IF(J23="",0,IF(J23>K23,Equipes!$J$3,IF('2 POULES DE 8'!J23='2 POULES DE 8'!K23,Equipes!$J$5,IF('2 POULES DE 8'!J23<'2 POULES DE 8'!K23,Equipes!$J$7)))) -> 0 | AZ23: =IF(K23="",0,IF(K23>J23,Equipes!$J$3,IF('2 POULES DE 8'!K23='2 POULES DE 8'!J23,Equipes!$J$5,IF('2 POULES DE 8'!K23<'2 POULES DE 8'!J23,Equipes!$J$7)))) -> 0 | BA23: =AY23-AW23 -> 0 | BB23: =AZ23-AX23 -> 0 | BC23: =IF(J23="",0,1) -> 0 | BD23: =IF(K23="",0,1) -> 0 | BE23: =IF(J23<>"",IF(J23>K23,1)) -> FALSE | BF23: =IF(K23<>"",IF(K23>J23,1)) -> FALSE | BG23: =IF(J23<>"",IF(J23=K23,1)) -> FALSE | BH23: =IF(K23<>"",IF(K23=J23,1)) -> FALSE | BI23: =IF(J23<>"",IF(J23<K23,1)) -> FALSE | BJ23: =IF(K23<>"",IF(K23<J23,1)) -> FALSE | BK23: =J23 -> 0 | BL23: =K23 -> 0 | BM23: =K23 -> 0 | BN23: =J23 -> 0
F24: =AH11 -> ff | L24: =AH6 -> aa | AW24: =E24 -> 0 | AX24: =P24 -> 0 | AY24: =IF(J24="",0,IF(J24>K24,Equipes!$J$3,IF('2 POULES DE 8'!J24='2 POULES DE 8'!K24,Equipes!$J$5,IF('2 POULES DE 8'!J24<'2 POULES DE 8'!K24,Equipes!$J$7)))) -> 0 | AZ24: =IF(K24="",0,IF(K24>J24,Equipes!$J$3,IF('2 POULES DE 8'!K24='2 POULES DE 8'!J24,Equipes!$J$5,IF('2 POULES DE 8'!K24<'2 POULES DE 8'!J24,Equipes!$J$7)))) -> 0 | BA24: =AY24-AW24 -> 0 | BB24: =AZ24-AX24 -> 0 | BC24: =IF(J24="",0,1) -> 0 | BD24: =IF(K24="",0,1) -> 0 | BE24: =IF(J24<>"",IF(J24>K24,1)) -> FALSE | BF24: =IF(K24<>"",IF(K24>J24,1)) -> FALSE | BG24: =IF(J24<>"",IF(J24=K24,1)) -> FALSE | BH24: =IF(K24<>"",IF(K24=J24,1)) -> FALSE | BI24: =IF(J24<>"",IF(J24<K24,1)) -> FALSE | BJ24: =IF(K24<>"",IF(K24<J24,1)) -> FALSE | BK24: =J24 -> 0 | BL24: =K24 -> 0 | BM24: =K24 -> 0 | BN24: =J24 -> 0
F25: =AH12 -> gg | L25: =AH10 -> ee | AW25: =E25 -> 0 | AX25: =P25 -> 0 | AY25: =IF(J25="",0,IF(J25>K25,Equipes!$J$3,IF('2 POULES DE 8'!J25='2 POULES DE 8'!K25,Equipes!$J$5,IF('2 POULES DE 8'!J25<'2 POULES DE 8'!K25,Equipes!$J$7)))) -> 0 | AZ25: =IF(K25="",0,IF(K25>J25,Equipes!$J$3,IF('2 POULES DE 8'!K25='2 POULES DE 8'!J25,Equipes!$J$5,IF('2 POULES DE 8'!K25<'2 POULES DE 8'!J25,Equipes!$J$7)))) -> 0 | BA25: =AY25-AW25 -> 0 | BB25: =AZ25-AX25 -> 0 | BC25: =IF(J25="",0,1) -> 0 | BD25: =IF(K25="",0,1) -> 0 | BE25: =IF(J25<>"",IF(J25>K25,1)) -> FALSE | BF25: =IF(K25<>"",IF(K25>J25,1)) -> FALSE | BG25: =IF(J25<>"",IF(J25=K25,1)) -> FALSE | BH25: =IF(K25<>"",IF(K25=J25,1)) -> FALSE | BI25: =IF(J25<>"",IF(J25<K25,1)) -> FALSE | BJ25: =IF(K25<>"",IF(K25<J25,1)) -> FALSE | BK25: =J25 -> 0 | BL25: =K25 -> 0 | BM25: =K25 -> 0 | BN25: =J25 -> 0
F26: =AH6 -> aa | L26: =AH12 -> gg | AW26: =E26 -> 0 | AX26: =P26 -> 0 | AY26: =IF(J26="",0,IF(J26>K26,Equipes!$J$3,IF('2 POULES DE 8'!J26='2 POULES DE 8'!K26,Equipes!$J$5,IF('2 POULES DE 8'!J26<'2 POULES DE 8'!K26,Equipes!$J$7)))) -> 0 | AZ26: =IF(K26="",0,IF(K26>J26,Equipes!$J$3,IF('2 POULES DE 8'!K26='2 POULES DE 8'!J26,Equipes!$J$5,IF('2 POULES DE 8'!K26<'2 POULES DE 8'!J26,Equipes!$J$7)))) -> 0 | BA26: =AY26-AW26 -> 0 | BB26: =AZ26-AX26 -> 0 | BC26: =IF(J26="",0,1) -> 0 | BD26: =IF(K26="",0,1) -> 0 | BE26: =IF(J26<>"",IF(J26>K26,1)) -> FALSE | BF26: =IF(K26<>"",IF(K26>J26,1)) -> FALSE | BG26: =IF(J26<>"",IF(J26=K26,1)) -> FALSE | BH26: =IF(K26<>"",IF(K26=J26,1)) -> FALSE | BI26: =IF(J26<>"",IF(J26<K26,1)) -> FALSE | BJ26: =IF(K26<>"",IF(K26<J26,1)) -> FALSE | BK26: =J26 -> 0 | BL26: =K26 -> 0 | BM26: =K26 -> 0 | BN26: =J26 -> 0
F27: =AH8 -> cc | L27: =AH9 -> dd | AW27: =E27 -> 0 | AX27: =P27 -> 0 | AY27: =IF(J27="",0,IF(J27>K27,Equipes!$J$3,IF('2 POULES DE 8'!J27='2 POULES DE 8'!K27,Equipes!$J$5,IF('2 POULES DE 8'!J27<'2 POULES DE 8'!K27,Equipes!$J$7)))) -> 0 | AZ27: =IF(K27="",0,IF(K27>J27,Equipes!$J$3,IF('2 POULES DE 8'!K27='2 POULES DE 8'!J27,Equipes!$J$5,IF('2 POULES DE 8'!K27<'2 POULES DE 8'!J27,Equipes!$J$7)))) -> 0 | BA27: =AY27-AW27 -> 0 | BB27: =AZ27-AX27 -> 0 | BC27: =IF(J27="",0,1) -> 0 | BD27: =IF(K27="",0,1) -> 0 | BE27: =IF(J27<>"",IF(J27>K27,1)) -> FALSE | BF27: =IF(K27<>"",IF(K27>J27,1)) -> FALSE | BG27: =IF(J27<>"",IF(J27=K27,1)) -> FALSE | BH27: =IF(K27<>"",IF(K27=J27,1)) -> FALSE | BI27: =IF(J27<>"",IF(J27<K27,1)) -> FALSE | BJ27: =IF(K27<>"",IF(K27<J27,1)) -> FALSE | BK27: =J27 -> 0 | BL27: =K27 -> 0 | BM27: =K27 -> 0 | BN27: =J27 -> 0
F28: =AH10 -> ee | L28: =AH7 -> bb | AW28: =E28 -> 0 | AX28: =P28 -> 0 | AY28: =IF(J28="",0,IF(J28>K28,Equipes!$J$3,IF('2 POULES DE 8'!J28='2 POULES DE 8'!K28,Equipes!$J$5,IF('2 POULES DE 8'!J28<'2 POULES DE 8'!K28,Equipes!$J$7)))) -> 0 | AZ28: =IF(K28="",0,IF(K28>J28,Equipes!$J$3,IF('2 POULES DE 8'!K28='2 POULES DE 8'!J28,Equipes!$J$5,IF('2 POULES DE 8'!K28<'2 POULES DE 8'!J28,Equipes!$J$7)))) -> 0 | BA28: =AY28-AW28 -> 0 | BB28: =AZ28-AX28 -> 0 | BC28: =IF(J28="",0,1) -> 0 | BD28: =IF(K28="",0,1) -> 0 | BE28: =IF(J28<>"",IF(J28>K28,1)) -> FALSE | BF28: =IF(K28<>"",IF(K28>J28,1)) -> FALSE | BG28: =IF(J28<>"",IF(J28=K28,1)) -> FALSE | BH28: =IF(K28<>"",IF(K28=J28,1)) -> FALSE | BI28: =IF(J28<>"",IF(J28<K28,1)) -> FALSE | BJ28: =IF(K28<>"",IF(K28<J28,1)) -> FALSE | BK28: =J28 -> 0 | BL28: =K28 -> 0 | BM28: =K28 -> 0 | BN28: =J28 -> 0
F29: =AH13 -> hh | L29: =AH11 -> ff | AW29: =E29 -> 0 | AX29: =P29 -> 0 | AY29: =IF(J29="",0,IF(J29>K29,Equipes!$J$3,IF('2 POULES DE 8'!J29='2 POULES DE 8'!K29,Equipes!$J$5,IF('2 POULES DE 8'!J29<'2 POULES DE 8'!K29,Equipes!$J$7)))) -> 0 | AZ29: =IF(K29="",0,IF(K29>J29,Equipes!$J$3,IF('2 POULES DE 8'!K29='2 POULES DE 8'!J29,Equipes!$J$5,IF('2 POULES DE 8'!K29<'2 POULES DE 8'!J29,Equipes!$J$7)))) -> 0 | BA29: =AY29-AW29 -> 0 | BB29: =AZ29-AX29 -> 0 | BC29: =IF(J29="",0,1) -> 0 | BD29: =IF(K29="",0,1) -> 0 | BE29: =IF(J29<>"",IF(J29>K29,1)) -> FALSE | BF29: =IF(K29<>"",IF(K29>J29,1)) -> FALSE | BG29: =IF(J29<>"",IF(J29=K29,1)) -> FALSE | BH29: =IF(K29<>"",IF(K29=J29,1)) -> FALSE | BI29: =IF(J29<>"",IF(J29<K29,1)) -> FALSE | BJ29: =IF(K29<>"",IF(K29<J29,1)) -> FALSE | BK29: =J29 -> 0 | BL29: =K29 -> 0 | BM29: =K29 -> 0 | BN29: =J29 -> 0
F30: =AH7 -> bb | L30: =AH12 -> gg | AW30: =E30 -> 0 | AX30: =P30 -> 0 | AY30: =IF(J30="",0,IF(J30>K30,Equipes!$J$3,IF('2 POULES DE 8'!J30='2 POULES DE 8'!K30,Equipes!$J$5,IF('2 POULES DE 8'!J30<'2 POULES DE 8'!K30,Equipes!$J$7)))) -> 0 | AZ30: =IF(K30="",0,IF(K30>J30,Equipes!$J$3,IF('2 POULES DE 8'!K30='2 POULES DE 8'!J30,Equipes!$J$5,IF('2 POULES DE 8'!K30<'2 POULES DE 8'!J30,Equipes!$J$7)))) -> 0 | BA30: =AY30-AW30 -> 0 | BB30: =AZ30-AX30 -> 0 | BC30: =IF(J30="",0,1) -> 0 | BD30: =IF(K30="",0,1) -> 0 | BE30: =IF(J30<>"",IF(J30>K30,1)) -> FALSE | BF30: =IF(K30<>"",IF(K30>J30,1)) -> FALSE | BG30: =IF(J30<>"",IF(J30=K30,1)) -> FALSE | BH30: =IF(K30<>"",IF(K30=J30,1)) -> FALSE | BI30: =IF(J30<>"",IF(J30<K30,1)) -> FALSE | BJ30: =IF(K30<>"",IF(K30<J30,1)) -> FALSE | BK30: =J30 -> 0 | BL30: =K30 -> 0 | BM30: =K30 -> 0 | BN30: =J30 -> 0
F31: =AH9 -> dd | L31: =AH10 -> ee | AW31: =E31 -> 0 | AX31: =P31 -> 0 | AY31: =IF(J31="",0,IF(J31>K31,Equipes!$J$3,IF('2 POULES DE 8'!J31='2 POULES DE 8'!K31,Equipes!$J$5,IF('2 POULES DE 8'!J31<'2 POULES DE 8'!K31,Equipes!$J$7)))) -> 0 | AZ31: =IF(K31="",0,IF(K31>J31,Equipes!$J$3,IF('2 POULES DE 8'!K31='2 POULES DE 8'!J31,Equipes!$J$5,IF('2 POULES DE 8'!K31<'2 POULES DE 8'!J31,Equipes!$J$7)))) -> 0 | BA31: =AY31-AW31 -> 0 | BB31: =AZ31-AX31 -> 0 | BC31: =IF(J31="",0,1) -> 0 | BD31: =IF(K31="",0,1) -> 0 | BE31: =IF(J31<>"",IF(J31>K31,1)) -> FALSE | BF31: =IF(K31<>"",IF(K31>J31,1)) -> FALSE | BG31: =IF(J31<>"",IF(J31=K31,1)) -> FALSE | BH31: =IF(K31<>"",IF(K31=J31,1)) -> FALSE | BI31: =IF(J31<>"",IF(J31<K31,1)) -> FALSE | BJ31: =IF(K31<>"",IF(K31<J31,1)) -> FALSE | BK31: =J31 -> 0 | BL31: =K31 -> 0 | BM31: =K31 -> 0 | BN31: =J31 -> 0
F32: =AH11 -> ff | L32: =AH8 -> cc | AW32: =E32 -> 0 | AX32: =P32 -> 0 | AY32: =IF(J32="",0,IF(J32>K32,Equipes!$J$3,IF('2 POULES DE 8'!J32='2 POULES DE 8'!K32,Equipes!$J$5,IF('2 POULES DE 8'!J32<'2 POULES DE 8'!K32,Equipes!$J$7)))) -> 0 | AZ32: =IF(K32="",0,IF(K32>J32,Equipes!$J$3,IF('2 POULES DE 8'!K32='2 POULES DE 8'!J32,Equipes!$J$5,IF('2 POULES DE 8'!K32<'2 POULES DE 8'!J32,Equipes!$J$7)))) -> 0 | BA32: =AY32-AW32 -> 0 | BB32: =AZ32-AX32 -> 0 | BC32: =IF(J32="",0,1) -> 0 | BD32: =IF(K32="",0,1) -> 0 | BE32: =IF(J32<>"",IF(J32>K32,1)) -> FALSE | BF32: =IF(K32<>"",IF(K32>J32,1)) -> FALSE | BG32: =IF(J32<>"",IF(J32=K32,1)) -> FALSE | BH32: =IF(K32<>"",IF(K32=J32,1)) -> FALSE | BI32: =IF(J32<>"",IF(J32<K32,1)) -> FALSE | BJ32: =IF(K32<>"",IF(K32<J32,1)) -> FALSE | BK32: =J32 -> 0 | BL32: =K32 -> 0 | BM32: =K32 -> 0 | BN32: =J32 -> 0
F33: =AH13 -> hh | L33: =AH6 -> aa | AW33: =E33 -> 0 | AX33: =P33 -> 0 | AY33: =IF(J33="",0,IF(J33>K33,Equipes!$J$3,IF('2 POULES DE 8'!J33='2 POULES DE 8'!K33,Equipes!$J$5,IF('2 POULES DE 8'!J33<'2 POULES DE 8'!K33,Equipes!$J$7)))) -> 0 | AZ33: =IF(K33="",0,IF(K33>J33,Equipes!$J$3,IF('2 POULES DE 8'!K33='2 POULES DE 8'!J33,Equipes!$J$5,IF('2 POULES DE 8'!K33<'2 POULES DE 8'!J33,Equipes!$J$7)))) -> 0 | BA33: =AY33-AW33 -> 0 | BB33: =AZ33-AX33 -> 0 | BC33: =IF(J33="",0,1) -> 0 | BD33: =IF(K33="",0,1) -> 0 | BE33: =IF(J33<>"",IF(J33>K33,1)) -> FALSE | BF33: =IF(K33<>"",IF(K33>J33,1)) -> FALSE | BG33: =IF(J33<>"",IF(J33=K33,1)) -> FALSE | BH33: =IF(K33<>"",IF(K33=J33,1)) -> FALSE | BI33: =IF(J33<>"",IF(J33<K33,1)) -> FALSE | BJ33: =IF(K33<>"",IF(K33<J33,1)) -> FALSE | BK33: =J33 -> 0 | BL33: =K33 -> 0 | BM33: =K33 -> 0 | BN33: =J33 -> 0
C38: POULE B | Q38: CLASSEMENT | AH38: CLASSEMENT
C40: Heure | D40: Terrain | E40: Pts - | F40: Equipes | J40: Buts | K40: Buts | L40: Equipes | P40: Pts - | Q40: Equipes | U40: Rang | V40: Points | W40: J | X40: G | Y40: N | Z40: P | AA40: B + | AB40: B - | AC40: Diff | AG40: R | AH40: Equipes | AL40: Rang | AM40: Points | AN40: J | AO40: G | AP40: N | AQ40: P | AR40: B + | AS40: B - | AT40: Diff | AU40: % | AV40: % | AW40: P | AX40: P | AY40: Pts | AZ40: Pts | BA40: T Pts | BB40: T Pts | BC40: J | BD40: J | BE40: G | BF40: G | BG40: N | BH40: N | BI40: P | BJ40: P | BK40: B+ | BL40: B+ | BM40: B- | BN40: B- | BO40: Equipes | BP40: % | BQ40: R
F41: =AH42 -> jj | L41: =AH41 -> ii | Q41: =VLOOKUP(AF41,AG41:AK48,2,0) -> ii | U41: 1 | V41: =VLOOKUP(Q41,AH41:AT48,6,0) -> 0 | W41: =VLOOKUP(Q41,AH41:AT48,7,0) -> 0 | X41: =VLOOKUP(Q41,AH41:AT48,8,0) -> 0 | Y41: =VLOOKUP(Q41,AH41:AT48,9,0) -> 0 | Z41: =VLOOKUP(Q41,AH41:AT48,10,0) -> 0 | AA41: =VLOOKUP(Q41,AH41:AT48,11,0) -> 0 | AB41: =VLOOKUP(Q41,AH41:AT48,12,0) -> 0 | AC41: =VLOOKUP(Q41,AH41:AT48,13,0) -> 0 | AF41: 1 | AG41: =AL41 -> 1 | AH41: =Equipes!E5 -> ii | AL41: =RANK(AV41,AV41:AV48) -> 1 | AM41: =SUMPRODUCT((F41:I68=AH41)*(BA41:BA68))+SUMPRODUCT((L41:O68=AH41)*(BB41:BB68)) -> 0 | AN41: =SUMPRODUCT((F41:I68=AH41)*(BC41:BC68))+SUMPRODUCT((L41:O68=AH41)*(BD41:BD68)) -> 0 | AO41: =SUMPRODUCT((F41:I68=AH41)*(BE41:BE68))+SUMPRODUCT((L41:O68=AH41)*(BF41:BF68)) -> 0 | AP41: =SUMPRODUCT((F41:I68=AH41)*(BG41:BG68))+SUMPRODUCT((L41:O68=AH41)*(BH41:BH68)) -> 0 | AQ41: =SUMPRODUCT((F41:I68=AH41)*(BI41:BI68))+SUMPRODUCT((L41:O68=AH41)*(BJ41:BJ68)) -> 0 | AR41: =SUMPRODUCT((F41:I68=AH41)*(BK41:BK68))+SUMPRODUCT((L41:O68=AH41)*(BL41:BL68)) -> 0 | AS41: =SUMPRODUCT((F41:I68=AH41)*(BM41:BM68))+SUMPRODUCT((L41:O68=AH41)*(BN41:BN68)) -> 0 | AT41: =AR41-AS41 -> 0 | AU41: =SUM(AM41*1000+(AT41)/100+(AR41)/1000) -> 0 | AV41: =AU41+0.0000008 -> 8e-07 | AW41: =E41 -> 0 | AX41: =P41 -> 0 | AY41: =IF(J41="",0,IF(J41>K41,Equipes!$J$3,IF('2 POULES DE 8'!J41='2 POULES DE 8'!K41,Equipes!$J$5,IF('2 POULES DE 8'!J41<'2 POULES DE 8'!K41,Equipes!$J$7)))) -> 0 | AZ41: =IF(K41="",0,IF(K41>J41,Equipes!$J$3,IF('2 POULES DE 8'!K41='2 POULES DE 8'!J41,Equipes!$J$5,IF('2 POULES DE 8'!K41<'2 POULES DE 8'!J41,Equipes!$J$7)))) -> 0 | BA41: =AY41-AW41 -> 0 | BB41: =AZ41-AX41 -> 0 | BC41: =IF(J41="",0,1) -> 0 | BD41: =IF(K41="",0,1) -> 0 | BE41: =IF(J41<>"",IF(J41>K41,1)) -> FALSE | BF41: =IF(K41<>"",IF(K41>J41,1)) -> FALSE | BG41: =IF(J41<>"",IF(J41=K41,1)) -> FALSE | BH41: =IF(K41<>"",IF(K41=J41,1)) -> FALSE | BI41: =IF(J41<>"",IF(J41<K41,1)) -> FALSE | BJ41: =IF(K41<>"",IF(K41<J41,1)) -> FALSE | BK41: =J41 -> 0 | BL41: =K41 -> 0 | BM41: =K41 -> 0 | BN41: =J41 -> 0 | BO41: =VLOOKUP(AF41,AG41:AK48,2,0) -> ii | BP41: =VLOOKUP(BO41,AH41:AU48,14,0) -> 0 | BQ41: =RANK(BP41,BP41:BP48) -> 1
F42: =AH43 -> kk | L42: =AH48 -> pp | Q42: =VLOOKUP(AF42,AG41:AK48,2,0) -> jj | U42: =IF(BP42=BP41,BQ41,BQ42) -> 1 | V42: =VLOOKUP(Q42,AH41:AT48,6,0) -> 0 | W42: =VLOOKUP(Q42,AH41:AT48,7,0) -> 0 | X42: =VLOOKUP(Q42,AH41:AT48,8,0) -> 0 | Y42: =VLOOKUP(Q42,AH41:AT48,9,0) -> 0 | Z42: =VLOOKUP(Q42,AH41:AT48,10,0) -> 0 | AA42: =VLOOKUP(Q42,AH41:AT48,11,0) -> 0 | AB42: =VLOOKUP(Q42,AH41:AT48,12,0) -> 0 | AC42: =VLOOKUP(Q42,AH41:AT48,13,0) -> 0 | AF42: 2 | AG42: =AL42 -> 2 | AH42: =Equipes!E6 -> jj | AL42: =RANK(AV42,AV41:AV48) -> 2 | AM42: =SUMPRODUCT((F41:I68=AH42)*(BA41:BA68))+SUMPRODUCT((L41:O68=AH42)*(BB41:BB68)) -> 0 | AN42: =SUMPRODUCT((F41:I68=AH42)*(BC41:BC68))+SUMPRODUCT((L41:O68=AH42)*(BD41:BD68)) -> 0 | AO42: =SUMPRODUCT((F41:I68=AH42)*(BE41:BE68))+SUMPRODUCT((L41:O68=AH42)*(BF41:BF68)) -> 0 | AP42: =SUMPRODUCT((F41:I68=AH42)*(BG41:BG68))+SUMPRODUCT((L41:O68=AH42)*(BH41:BH68)) -> 0 | AQ42: =SUMPRODUCT((F41:I68=AH42)*(BI41:BI68))+SUMPRODUCT((L41:O68=AH42)*(BJ41:BJ68)) -> 0 | AR42: =SUMPRODUCT((F41:I68=AH42)*(BK41:BK68))+SUMPRODUCT((L41:O68=AH42)*(BL41:BL68)) -> 0 | AS42: =SUMPRODUCT((F41:I68=AH42)*(BM41:BM68))+SUMPRODUCT((L41:O68=AH42)*(BN41:BN68)) -> 0 | AT42: =AR42-AS42 -> 0 | AU42: =SUM(AM42*1000+(AT42)/100+(AR42)/1000) -> 0 | AV42: =AU42+0.0000007 -> 7e-07 | AW42: =E42 -> 0 | AX42: =P42 -> 0 | AY42: =IF(J42="",0,IF(J42>K42,Equipes!$J$3,IF('2 POULES DE 8'!J42='2 POULES DE 8'!K42,Equipes!$J$5,IF('2 POULES DE 8'!J42<'2 POULES DE 8'!K42,Equipes!$J$7)))) -> 0 | AZ42: =IF(K42="",0,IF(K42>J42,Equipes!$J$3,IF('2 POULES DE 8'!K42='2 POULES DE 8'!J42,Equipes!$J$5,IF('2 POULES DE 8'!K42<'2 POULES DE 8'!J42,Equipes!$J$7)))) -> 0 | BA42: =AY42-AW42 -> 0 | BB42: =AZ42-AX42 -> 0 | BC42: =IF(J42="",0,1) -> 0 | BD42: =IF(K42="",0,1) -> 0 | BE42: =IF(J42<>"",IF(J42>K42,1)) -> FALSE | BF42: =IF(K42<>"",IF(K42>J42,1)) -> FALSE | BG42: =IF(J42<>"",IF(J42=K42,1)) -> FALSE | BH42: =IF(K42<>"",IF(K42=J42,1)) -> FALSE | BI42: =IF(J42<>"",IF(J42<K42,1)) -> FALSE | BJ42: =IF(K42<>"",IF(K42<J42,1)) -> FALSE | BK42: =J42 -> 0 | BL42: =K42 -> 0 | BM42: =K42 -> 0 | BN42: =J42 -> 0 | BO42: =VLOOKUP(AF42,AG41:AK48,2,0) -> jj | BP42: =VLOOKUP(BO42,AH41:AU48,14,0) -> 0 | BQ42: =RANK(BP42,BP41:BP48) -> 1
F43: =AH45 -> mm | L43: =AH46 -> nn | Q43: =VLOOKUP(AF43,AG41:AK48,2,0) -> kk | U43: =IF(BP43=BP42,BQ42,BQ43) -> 1 | V43: =VLOOKUP(Q43,AH41:AT48,6,0) -> 0 | W43: =VLOOKUP(Q43,AH41:AT48,7,0) -> 0 | X43: =VLOOKUP(Q43,AH41:AT48,8,0) -> 0 | Y43: =VLOOKUP(Q43,AH41:AT48,9,0) -> 0 | Z43: =VLOOKUP(Q43,AH41:AT48,10,0) -> 0 | AA43: =VLOOKUP(Q43,AH41:AT48,11,0) -> 0 | AB43: =VLOOKUP(Q43,AH41:AT48,12,0) -> 0 | AC43: =VLOOKUP(Q43,AH41:AT48,13,0) -> 0 | AF43: 3 | AG43: =AL43 -> 3 | AH43: =Equipes!E7 -> kk | AL43: =RANK(AV43,AV41:AV48) -> 3 | AM43: =SUMPRODUCT((F41:I68=AH43)*(BA41:BA68))+SUMPRODUCT((L41:O68=AH43)*(BB41:BB68)) -> 0 | AN43: =SUMPRODUCT((F41:I68=AH43)*(BC41:BC68))+SUMPRODUCT((L41:O68=AH43)*(BD41:BD68)) -> 0 | AO43: =SUMPRODUCT((F41:I68=AH43)*(BE41:BE68))+SUMPRODUCT((L41:O68=AH43)*(BF41:BF68)) -> 0 | AP43: =SUMPRODUCT((F41:I68=AH43)*(BG41:BG68))+SUMPRODUCT((L41:O68=AH43)*(BH41:BH68)) -> 0 | AQ43: =SUMPRODUCT((F41:I68=AH43)*(BI41:BI68))+SUMPRODUCT((L41:O68=AH43)*(BJ41:BJ68)) -> 0 | AR43: =SUMPRODUCT((F41:I68=AH43)*(BK41:BK68))+SUMPRODUCT((L41:O68=AH43)*(BL41:BL68)) -> 0 | AS43: =SUMPRODUCT((F41:I68=AH43)*(BM41:BM68))+SUMPRODUCT((L41:O68=AH43)*(BN41:BN68)) -> 0 | AT43: =AR43-AS43 -> 0 | AU43: =SUM(AM43*1000+(AT43)/100+(AR43)/1000) -> 0 | AV43: =AU43+0.0000006 -> 6e-07 | AW43: =E43 -> 0 | AX43: =P43 -> 0 | AY43: =IF(J43="",0,IF(J43>K43,Equipes!$J$3,IF('2 POULES DE 8'!J43='2 POULES DE 8'!K43,Equipes!$J$5,IF('2 POULES DE 8'!J43<'2 POULES DE 8'!K43,Equipes!$J$7)))) -> 0 | AZ43: =IF(K43="",0,IF(K43>J43,Equipes!$J$3,IF('2 POULES DE 8'!K43='2 POULES DE 8'!J43,Equipes!$J$5,IF('2 POULES DE 8'!K43<'2 POULES DE 8'!J43,Equipes!$J$7)))) -> 0 | BA43: =AY43-AW43 -> 0 | BB43: =AZ43-AX43 -> 0 | BC43: =IF(J43="",0,1) -> 0 | BD43: =IF(K43="",0,1) -> 0 | BE43: =IF(J43<>"",IF(J43>K43,1)) -> FALSE | BF43: =IF(K43<>"",IF(K43>J43,1)) -> FALSE | BG43: =IF(J43<>"",IF(J43=K43,1)) -> FALSE | BH43: =IF(K43<>"",IF(K43=J43,1)) -> FALSE | BI43: =IF(J43<>"",IF(J43<K43,1)) -> FALSE | BJ43: =IF(K43<>"",IF(K43<J43,1)) -> FALSE | BK43: =J43 -> 0 | BL43: =K43 -> 0 | BM43: =K43 -> 0 | BN43: =J43 -> 0 | BO43: =VLOOKUP(AF43,AG41:AK48,2,0) -> kk | BP43: =VLOOKUP(BO43,AH41:AU48,14,0) -> 0 | BQ43: =RANK(BP43,BP41:BP48) -> 1
F44: =AH47 -> oo | L44: =AH44 -> ll | Q44: =VLOOKUP(AF44,AG41:AK48,2,0) -> ll | U44: =IF(BP44=BP43,BQ43,BQ44) -> 1 | V44: =VLOOKUP(Q44,AH41:AT48,6,0) -> 0 | W44: =VLOOKUP(Q44,AH41:AT48,7,0) -> 0 | X44: =VLOOKUP(Q44,AH41:AT48,8,0) -> 0 | Y44: =VLOOKUP(Q44,AH41:AT48,9,0) -> 0 | Z44: =VLOOKUP(Q44,AH41:AT48,10,0) -> 0 | AA44: =VLOOKUP(Q44,AH41:AT48,11,0) -> 0 | AB44: =VLOOKUP(Q44,AH41:AT48,12,0) -> 0 | AC44: =VLOOKUP(Q44,AH41:AT48,13,0) -> 0 | AF44: 4 | AG44: =AL44 -> 4 | AH44: =Equipes!E8 -> ll | AL44: =RANK(AV44,AV41:AV48) -> 4 | AM44: =SUMPRODUCT((F41:I68=AH44)*(BA41:BA68))+SUMPRODUCT((L41:O68=AH44)*(BB41:BB68)) -> 0 | AN44: =SUMPRODUCT((F41:I68=AH44)*(BC41:BC68))+SUMPRODUCT((L41:O68=AH44)*(BD41:BD68)) -> 0 | AO44: =SUMPRODUCT((F41:I68=AH44)*(BE41:BE68))+SUMPRODUCT((L41:O68=AH44)*(BF41:BF68)) -> 0 | AP44: =SUMPRODUCT((F41:I68=AH44)*(BG41:BG68))+SUMPRODUCT((L41:O68=AH44)*(BH41:BH68)) -> 0 | AQ44: =SUMPRODUCT((F41:I68=AH44)*(BI41:BI68))+SUMPRODUCT((L41:O68=AH44)*(BJ41:BJ68)) -> 0 | AR44: =SUMPRODUCT((F41:I68=AH44)*(BK41:BK68))+SUMPRODUCT((L41:O68=AH44)*(BL41:BL68)) -> 0 | AS44: =SUMPRODUCT((F41:I68=AH44)*(BM41:BM68))+SUMPRODUCT((L41:O68=AH44)*(BN41:BN68)) -> 0 | AT44: =AR44-AS44 -> 0 | AU44: =SUM(AM44*1000+(AT44)/100+(AR44)/1000) -> 0 | AV44: =AU44+0.0000005 -> 5e-07 | AW44: =E44 -> 0 | AX44: =P44 -> 0 | AY44: =IF(J44="",0,IF(J44>K44,Equipes!$J$3,IF('2 POULES DE 8'!J44='2 POULES DE 8'!K44,Equipes!$J$5,IF('2 POULES DE 8'!J44<'2 POULES DE 8'!K44,Equipes!$J$7)))) -> 0 | AZ44: =IF(K44="",0,IF(K44>J44,Equipes!$J$3,IF('2 POULES DE 8'!K44='2 POULES DE 8'!J44,Equipes!$J$5,IF('2 POULES DE 8'!K44<'2 POULES DE 8'!J44,Equipes!$J$7)))) -> 0 | BA44: =AY44-AW44 -> 0 | BB44: =AZ44-AX44 -> 0 | BC44: =IF(J44="",0,1) -> 0 | BD44: =IF(K44="",0,1) -> 0 | BE44: =IF(J44<>"",IF(J44>K44,1)) -> FALSE | BF44: =IF(K44<>"",IF(K44>J44,1)) -> FALSE | BG44: =IF(J44<>"",IF(J44=K44,1)) -> FALSE | BH44: =IF(K44<>"",IF(K44=J44,1)) -> FALSE | BI44: =IF(J44<>"",IF(J44<K44,1)) -> FALSE | BJ44: =IF(K44<>"",IF(K44<J44,1)) -> FALSE | BK44: =J44 -> 0 | BL44: =K44 -> 0 | BM44: =K44 -> 0 | BN44: =J44 -> 0 | BO44: =VLOOKUP(AF44,AG41:AK48,2,0) -> ll | BP44: =VLOOKUP(BO44,AH41:AU48,14,0) -> 0 | BQ44: =RANK(BP44,BP41:BP48) -> 1
F45: =AH41 -> ii | L45: =AH43 -> kk | Q45: =VLOOKUP(AF45,AG41:AK48,2,0) -> mm | U45: =IF(BP45=BP44,BQ44,BQ45) -> 1 | V45: =VLOOKUP(Q45,AH41:AT48,6,0) -> 0 | W45: =VLOOKUP(Q45,AH41:AT48,7,0) -> 0 | X45: =VLOOKUP(Q45,AH41:AT48,8,0) -> 0 | Y45: =VLOOKUP(Q45,AH41:AT48,9,0) -> 0 | Z45: =VLOOKUP(Q45,AH41:AT48,10,0) -> 0 | AA45: =VLOOKUP(Q45,AH41:AT48,11,0) -> 0 | AB45: =VLOOKUP(Q45,AH41:AT48,12,0) -> 0 | AC45: =VLOOKUP(Q45,AH41:AT48,13,0) -> 0 | AF45: 5 | AG45: =AL45 -> 5 | AH45: =Equipes!E9 -> mm | AL45: =RANK(AV45,AV41:AV48) -> 5 | AM45: =SUMPRODUCT((F41:I68=AH45)*(BA41:BA68))+SUMPRODUCT((L41:O68=AH45)*(BB41:BB68)) -> 0 | AN45: =SUMPRODUCT((F41:I68=AH45)*(BC41:BC68))+SUMPRODUCT((L41:O68=AH45)*(BD41:BD68)) -> 0 | AO45: =SUMPRODUCT((F41:I68=AH45)*(BE41:BE68))+SUMPRODUCT((L41:O68=AH45)*(BF41:BF68)) -> 0 | AP45: =SUMPRODUCT((F41:I68=AH45)*(BG41:BG68))+SUMPRODUCT((L41:O68=AH45)*(BH41:BH68)) -> 0 | AQ45: =SUMPRODUCT((F41:I68=AH45)*(BI41:BI68))+SUMPRODUCT((L41:O68=AH45)*(BJ41:BJ68)) -> 0 | AR45: =SUMPRODUCT((F41:I68=AH45)*(BK41:BK68))+SUMPRODUCT((L41:O68=AH45)*(BL41:BL68)) -> 0 | AS45: =SUMPRODUCT((F41:I68=AH45)*(BM41:BM68))+SUMPRODUCT((L41:O68=AH45)*(BN41:BN68)) -> 0 | AT45: =AR45-AS45 -> 0 | AU45: =SUM(AM45*1000+(AT45)/100+(AR45)/1000) -> 0 | AV45: =AU45+0.0000004 -> 4e-07 | AW45: =E45 -> 0 | AX45: =P45 -> 0 | AY45: =IF(J45="",0,IF(J45>K45,Equipes!$J$3,IF('2 POULES DE 8'!J45='2 POULES DE 8'!K45,Equipes!$J$5,IF('2 POULES DE 8'!J45<'2 POULES DE 8'!K45,Equipes!$J$7)))) -> 0 | AZ45: =IF(K45="",0,IF(K45>J45,Equipes!$J$3,IF('2 POULES DE 8'!K45='2 POULES DE 8'!J45,Equipes!$J$5,IF('2 POULES DE 8'!K45<'2 POULES DE 8'!J45,Equipes!$J$7)))) -> 0 | BA45: =AY45-AW45 -> 0 | BB45: =AZ45-AX45 -> 0 | BC45: =IF(J45="",0,1) -> 0 | BD45: =IF(K45="",0,1) -> 0 | BE45: =IF(J45<>"",IF(J45>K45,1)) -> FALSE | BF45: =IF(K45<>"",IF(K45>J45,1)) -> FALSE | BG45: =IF(J45<>"",IF(J45=K45,1)) -> FALSE | BH45: =IF(K45<>"",IF(K45=J45,1)) -> FALSE | BI45: =IF(J45<>"",IF(J45<K45,1)) -> FALSE | BJ45: =IF(K45<>"",IF(K45<J45,1)) -> FALSE | BK45: =J45 -> 0 | BL45: =K45 -> 0 | BM45: =K45 -> 0 | BN45: =J45 -> 0 | BO45: =VLOOKUP(AF45,AG41:AK48,2,0) -> mm | BP45: =VLOOKUP(BO45,AH41:AU48,14,0) -> 0 | BQ45: =RANK(BP45,BP41:BP48) -> 1
F46: =AH44 -> ll | L46: =AH42 -> jj | Q46: =VLOOKUP(AF46,AG41:AK48,2,0) -> nn | U46: =IF(BP46=BP45,BQ45,BQ46) -> 1 | V46: =VLOOKUP(Q46,AH41:AT48,6,0) -> 0 | W46: =VLOOKUP(Q46,AH41:AT48,7,0) -> 0 | X46: =VLOOKUP(Q46,AH41:AT48,8,0) -> 0 | Y46: =VLOOKUP(Q46,AH41:AT48,9,0) -> 0 | Z46: =VLOOKUP(Q46,AH41:AT48,10,0) -> 0 | AA46: =VLOOKUP(Q46,AH41:AT48,11,0) -> 0 | AB46: =VLOOKUP(Q46,AH41:AT48,12,0) -> 0 | AC46: =VLOOKUP(Q46,AH41:AT48,13,0) -> 0 | AF46: 6 | AG46: =AL46 -> 6 | AH46: =Equipes!E10 -> nn | AL46: =RANK(AV46,AV41:AV48) -> 6 | AM46: =SUMPRODUCT((F41:I68=AH46)*(BA41:BA68))+SUMPRODUCT((L41:O68=AH46)*(BB41:BB68)) -> 0 | AN46: =SUMPRODUCT((F41:I68=AH46)*(BC41:BC68))+SUMPRODUCT((L41:O68=AH46)*(BD41:BD68)) -> 0 | AO46: =SUMPRODUCT((F41:I68=AH46)*(BE41:BE68))+SUMPRODUCT((L41:O68=AH46)*(BF41:BF68)) -> 0 | AP46: =SUMPRODUCT((F41:I68=AH46)*(BG41:BG68))+SUMPRODUCT((L41:O68=AH46)*(BH41:BH68)) -> 0 | AQ46: =SUMPRODUCT((F41:I68=AH46)*(BI41:BI68))+SUMPRODUCT((L41:O68=AH46)*(BJ41:BJ68)) -> 0 | AR46: =SUMPRODUCT((F41:I68=AH46)*(BK41:BK68))+SUMPRODUCT((L41:O68=AH46)*(BL41:BL68)) -> 0 | AS46: =SUMPRODUCT((F41:I68=AH46)*(BM41:BM68))+SUMPRODUCT((L41:O68=AH46)*(BN41:BN68)) -> 0 | AT46: =AR46-AS46 -> 0 | AU46: =SUM(AM46*1000+(AT46)/100+(AR46)/1000) -> 0 | AV46: =AU46+0.0000003 -> 3e-07 | AW46: =E46 -> 0 | AX46: =P46 -> 0 | AY46: =IF(J46="",0,IF(J46>K46,Equipes!$J$3,IF('2 POULES DE 8'!J46='2 POULES DE 8'!K46,Equipes!$J$5,IF('2 POULES DE 8'!J46<'2 POULES DE 8'!K46,Equipes!$J$7)))) -> 0 | AZ46: =IF(K46="",0,IF(K46>J46,Equipes!$J$3,IF('2 POULES DE 8'!K46='2 POULES DE 8'!J46,Equipes!$J$5,IF('2 POULES DE 8'!K46<'2 POULES DE 8'!J46,Equipes!$J$7)))) -> 0 | BA46: =AY46-AW46 -> 0 | BB46: =AZ46-AX46 -> 0 | BC46: =IF(J46="",0,1) -> 0 | BD46: =IF(K46="",0,1) -> 0 | BE46: =IF(J46<>"",IF(J46>K46,1)) -> FALSE | BF46: =IF(K46<>"",IF(K46>J46,1)) -> FALSE | BG46: =IF(J46<>"",IF(J46=K46,1)) -> FALSE | BH46: =IF(K46<>"",IF(K46=J46,1)) -> FALSE | BI46: =IF(J46<>"",IF(J46<K46,1)) -> FALSE | BJ46: =IF(K46<>"",IF(K46<J46,1)) -> FALSE | BK46: =J46 -> 0 | BL46: =K46 -> 0 | BM46: =K46 -> 0 | BN46: =J46 -> 0 | BO46: =VLOOKUP(AF46,AG41:AK48,2,0) -> nn | BP46: =VLOOKUP(BO46,AH41:AU48,14,0) -> 0 | BQ46: =RANK(BP46,BP41:BP48) -> 1
F47: =AH46 -> nn | L47: =AH47 -> oo | Q47: =VLOOKUP(AF47,AG41:AK48,2,0) -> oo | U47: =IF(BP47=BP46,BQ46,BQ47) -> 1 | V47: =VLOOKUP(Q47,AH41:AT48,6,0) -> 0 | W47: =VLOOKUP(Q47,AH41:AT48,7,0) -> 0 | X47: =VLOOKUP(Q47,AH41:AT48,8,0) -> 0 | Y47: =VLOOKUP(Q47,AH41:AT48,9,0) -> 0 | Z47: =VLOOKUP(Q47,AH41:AT48,10,0) -> 0 | AA47: =VLOOKUP(Q47,AH41:AT48,11,0) -> 0 | AB47: =VLOOKUP(Q47,AH41:AT48,12,0) -> 0 | AC47: =VLOOKUP(Q47,AH41:AT48,13,0) -> 0 | AF47: 7 | AG47: =AL47 -> 7 | AH47: =Equipes!E11 -> oo | AL47: =RANK(AV47,AV41:AV48) -> 7 | AM47: =SUMPRODUCT((F41:I68=AH47)*(BA41:BA68))+SUMPRODUCT((L41:O68=AH47)*(BB41:BB68)) -> 0 | AN47: =SUMPRODUCT((F41:I68=AH47)*(BC41:BC68))+SUMPRODUCT((L41:O68=AH47)*(BD41:BD68)) -> 0 | AO47: =SUMPRODUCT((F41:I68=AH47)*(BE41:BE68))+SUMPRODUCT((L41:O68=AH47)*(BF41:BF68)) -> 0 | AP47: =SUMPRODUCT((F41:I68=AH47)*(BG41:BG68))+SUMPRODUCT((L41:O68=AH47)*(BH41:BH68)) -> 0 | AQ47: =SUMPRODUCT((F41:I68=AH47)*(BI41:BI68))+SUMPRODUCT((L41:O68=AH47)*(BJ41:BJ68)) -> 0 | AR47: =SUMPRODUCT((F41:I68=AH47)*(BK41:BK68))+SUMPRODUCT((L41:O68=AH47)*(BL41:BL68)) -> 0 | AS47: =SUMPRODUCT((F41:I68=AH47)*(BM41:BM68))+SUMPRODUCT((L41:O68=AH47)*(BN41:BN68)) -> 0 | AT47: =AR47-AS47 -> 0 | AU47: =SUM(AM47*1000+(AT47)/100+(AR47)/1000) -> 0 | AV47: =AU47+0.0000002 -> 2e-07 | AW47: =E47 -> 0 | AX47: =P47 -> 0 | AY47: =IF(J47="",0,IF(J47>K47,Equipes!$J$3,IF('2 POULES DE 8'!J47='2 POULES DE 8'!K47,Equipes!$J$5,IF('2 POULES DE 8'!J47<'2 POULES DE 8'!K47,Equipes!$J$7)))) -> 0 | AZ47: =IF(K47="",0,IF(K47>J47,Equipes!$J$3,IF('2 POULES DE 8'!K47='2 POULES DE 8'!J47,Equipes!$J$5,IF('2 POULES DE 8'!K47<'2 POULES DE 8'!J47,Equipes!$J$7)))) -> 0 | BA47: =AY47-AW47 -> 0 | BB47: =AZ47-AX47 -> 0 | BC47: =IF(J47="",0,1) -> 0 | BD47: =IF(K47="",0,1) -> 0 | BE47: =IF(J47<>"",IF(J47>K47,1)) -> FALSE | BF47: =IF(K47<>"",IF(K47>J47,1)) -> FALSE | BG47: =IF(J47<>"",IF(J47=K47,1)) -> FALSE | BH47: =IF(K47<>"",IF(K47=J47,1)) -> FALSE | BI47: =IF(J47<>"",IF(J47<K47,1)) -> FALSE | BJ47: =IF(K47<>"",IF(K47<J47,1)) -> FALSE | BK47: =J47 -> 0 | BL47: =K47 -> 0 | BM47: =K47 -> 0 | BN47: =J47 -> 0 | BO47: =VLOOKUP(AF47,AG41:AK48,2,0) -> oo | BP47: =VLOOKUP(BO47,AH41:AU48,14,0) -> 0 | BQ47: =RANK(BP47,BP41:BP48) -> 1
F48: =AH48 -> pp | L48: =AH45 -> mm | Q48: =VLOOKUP(AF48,AG41:AK48,2,0) -> pp | U48: =IF(BP48=BP47,BQ47,BQ48) -> 1 | V48: =VLOOKUP(Q48,AH41:AT48,6,0) -> 0 | W48: =VLOOKUP(Q48,AH41:AT48,7,0) -> 0 | X48: =VLOOKUP(Q48,AH41:AT48,8,0) -> 0 | Y48: =VLOOKUP(Q48,AH41:AT48,9,0) -> 0 | Z48: =VLOOKUP(Q48,AH41:AT48,10,0) -> 0 | AA48: =VLOOKUP(Q48,AH41:AT48,11,0) -> 0 | AB48: =VLOOKUP(Q48,AH41:AT48,12,0) -> 0 | AC48: =VLOOKUP(Q48,AH42:AT49,13,0) -> 0 | AF48: 8 | AG48: =AL48 -> 8 | AH48: =Equipes!E12 -> pp | AL48: =RANK(AV48,AV41:AV48) -> 8 | AM48: =SUMPRODUCT((F41:I68=AH48)*(BA41:BA68))+SUMPRODUCT((L41:O68=AH48)*(BB41:BB68)) -> 0 | AN48: =SUMPRODUCT((F41:I68=AH48)*(BC41:BC68))+SUMPRODUCT((L41:O68=AH48)*(BD41:BD68)) -> 0 | AO48: =SUMPRODUCT((F41:I68=AH48)*(BE41:BE68))+SUMPRODUCT((L41:O68=AH48)*(BF41:BF68)) -> 0 | AP48: =SUMPRODUCT((F41:I68=AH48)*(BG41:BG68))+SUMPRODUCT((L41:O68=AH48)*(BH41:BH68)) -> 0 | AQ48: =SUMPRODUCT((F41:I68=AH48)*(BI41:BI68))+SUMPRODUCT((L41:O68=AH48)*(BJ41:BJ68)) -> 0 | AR48: =SUMPRODUCT((F41:I68=AH48)*(BK41:BK68))+SUMPRODUCT((L41:O68=AH48)*(BL41:BL68)) -> 0 | AS48: =SUMPRODUCT((F41:I68=AH48)*(BM41:BM68))+SUMPRODUCT((L41:O68=AH48)*(BN41:BN68)) -> 0 | AT48: =AR48-AS48 -> 0 | AU48: =SUM(AM48*1000+(AT48)/100+(AR48)/1000) -> 0 | AV48: =AU48+0.0000001 -> 1e-07 | AW48: =E48 -> 0 | AX48: =P48 -> 0 | AY48: =IF(J48="",0,IF(J48>K48,Equipes!$J$3,IF('2 POULES DE 8'!J48='2 POULES DE 8'!K48,Equipes!$J$5,IF('2 POULES DE 8'!J48<'2 POULES DE 8'!K48,Equipes!$J$7)))) -> 0 | AZ48: =IF(K48="",0,IF(K48>J48,Equipes!$J$3,IF('2 POULES DE 8'!K48='2 POULES DE 8'!J48,Equipes!$J$5,IF('2 POULES DE 8'!K48<'2 POULES DE 8'!J48,Equipes!$J$7)))) -> 0 | BA48: =AY48-AW48 -> 0 | BB48: =AZ48-AX48 -> 0 | BC48: =IF(J48="",0,1) -> 0 | BD48: =IF(K48="",0,1) -> 0 | BE48: =IF(J48<>"",IF(J48>K48,1)) -> FALSE | BF48: =IF(K48<>"",IF(K48>J48,1)) -> FALSE | BG48: =IF(J48<>"",IF(J48=K48,1)) -> FALSE | BH48: =IF(K48<>"",IF(K48=J48,1)) -> FALSE | BI48: =IF(J48<>"",IF(J48<K48,1)) -> FALSE | BJ48: =IF(K48<>"",IF(K48<J48,1)) -> FALSE | BK48: =J48 -> 0 | BL48: =K48 -> 0 | BM48: =K48 -> 0 | BN48: =J48 -> 0 | BO48: =VLOOKUP(AF48,AG41:AK48,2,0) -> pp | BP48: =VLOOKUP(BO48,AH41:AU48,14,0) -> 0 | BQ48: =RANK(BP48,BP41:BP48) -> 1
...

Sheet 2 POULES DE 9
C3: POULE A | Q3: CLASSEMENT | AG3: CLASSEMENT
C5: Heure | D5: Terrain | E5: Pts - | F5: Equipes | J5: Buts | K5: Buts | L5: Equipes | P5: Pts - | Q5: Equipes | U5: Rang | V5: Points | W5: J | X5: G | Y5: N | Z5: P | AA5: B + | AB5: B - | AC5: Diff | AF5: R | AG5: Equipes | AK5: Rang | AL5: Points | AM5: J | AN5: G | AO5: N | AP5: P | AQ5: B + | AR5: B - | AS5: Diff | AT5: % | AU5: % | AV5: P | AW5: P | AX5: Pts | AY5: Pts | AZ5: T Pts | BA5: T Pts | BB5: J | BC5: J | BD5: G | BE5: G | BF5: N | BG5: N | BH5: P | BI5: P | BJ5: B+ | BK5: B+ | BL5: B- | BM5: B- | BN5: Equipes | BO5: % | BP5: R
F6: =AG7 -> bb | L6: =AG6 -> aa | Q6: =VLOOKUP(AE6,AF6:AJ14,2,0) -> aa | U6: 1 | V6: =VLOOKUP(Q6,AG6:AS14,6,0) -> 0 | W6: =VLOOKUP(Q6,AG6:AS14,7,0) -> 0 | X6: =VLOOKUP(Q6,AG6:AS14,8,0) -> 0 | Y6: =VLOOKUP(Q6,AG6:AS14,9,0) -> 0 | Z6: =VLOOKUP(Q6,AG6:AS14,10,0) -> 0 | AA6: =VLOOKUP(Q6,AG6:AS14,11,0) -> 0 | AB6: =VLOOKUP(Q6,AG6:AS14,12,0) -> 0 | AC6: =VLOOKUP(Q6,AG6:AS14,13,0) -> 0 | AE6: 1 | AF6: =AK6 -> 1 | AG6: =Equipes!C18 -> aa | AK6: =RANK(AU6,AU6:AU14) -> 1 | AL6: =SUMPRODUCT((F6:I41=AG6)*(AZ6:AZ41))+SUMPRODUCT((L6:O41=AG6)*(BA6:BA41)) -> 0 | AM6: =SUMPRODUCT((F6:I41=AG6)*(BB6:BB41))+SUMPRODUCT((L6:O41=AG6)*(BC6:BC41)) -> 0 | AN6: =SUMPRODUCT((F6:I41=AG6)*(BD6:BD41))+SUMPRODUCT((L6:O41=AG6)*(BE6:BE41)) -> 0 | AO6: =SUMPRODUCT((F6:I41=AG6)*(BF6:BF41))+SUMPRODUCT((L6:O41=AG6)*(BG6:BG41)) -> 0 | AP6: =SUMPRODUCT((F6:I41=AG6)*(BH6:BH41))+SUMPRODUCT((L6:O41=AG6)*(BI6:BI41)) -> 0 | AQ6: =SUMPRODUCT((F6:I41=AG6)*(BJ6:BJ41))+SUMPRODUCT((L6:O41=AG6)*(BK6:BK41)) -> 0 | AR6: =SUMPRODUCT((F6:I41=AG6)*(BL6:BL41))+SUMPRODUCT((L6:O41=AG6)*(BM6:BM41)) -> 0 | AS6: =AQ6-AR6 -> 0 | AT6: =SUM(AL6*1000+(AS6)/100+(AQ6)/1000) -> 0 | AU6: =AT6+0.000009 -> 9e-06 | AV6: =E6 -> 0 | AW6: =P6 -> 0 | AX6: =IF(J6="",0,IF(J6>K6,Equipes!$J$16,IF('2 POULES DE 9'!J6='2 POULES DE 9'!K6,Equipes!$J$18,IF('2 POULES DE 9'!J6<'2 POULES DE 9'!K6,Equipes!$J$20)))) -> 0 | AY6: =IF(K6="",0,IF(K6>J6,Equipes!$J$16,IF('2 POULES DE 9'!K6='2 POULES DE 9'!J6,Equipes!$J$18,IF('2 POULES DE 9'!K6<'2 POULES DE 9'!J6,Equipes!$J$20)))) -> 0 | AZ6: =AX6-AV6 -> 0 | BA6: =AY6-AW6 -> 0 | BB6: =IF(J6="",0,1) -> 0 | BC6: =IF(K6="",0,1) -> 0 | BD6: =IF(J6<>"",IF(J6>K6,1)) -> FALSE | BE6: =IF(K6<>"",IF(K6>J6,1)) -> FALSE | BF6: =IF(J6<>"",IF(J6=K6,1)) -> FALSE | BG6: =IF(K6<>"",IF(K6=J6,1)) -> FALSE | BH6: =IF(J6<>"",IF(J6<K6,1)) -> FALSE | BI6: =IF(K6<>"",IF(K6<J6,1)) -> FALSE | BJ6: =J6 -> 0 | BK6: =K6 -> 0 | BL6: =K6 -> 0 | BM6: =J6 -> 0 | BN6: =VLOOKUP(AE6,AF6:AJ14,2,0) -> aa | BO6: =VLOOKUP(BN6,AG6:AT14,14,0) -> 0 | BP6: =RANK(BO6,BO6:BO14) -> 1
F7: =AG10 -> ee | L7: =AG13 -> hh | Q7: =VLOOKUP(AE7,AF6:AJ14,2,0) -> bb | U7: =IF(BO7=BO6,BP6,BP7) -> 1 | V7: =VLOOKUP(Q7,AG6:AS14,6,0) -> 0 | W7: =VLOOKUP(Q7,AG6:AS14,7,0) -> 0 | X7: =VLOOKUP(Q7,AG6:AS14,8,0) -> 0 | Y7: =VLOOKUP(Q7,AG6:AS14,9,0) -> 0 | Z7: =VLOOKUP(Q7,AG6:AS14,10,0) -> 0 | AA7: =VLOOKUP(Q7,AG6:AS14,11,0) -> 0 | AB7: =VLOOKUP(Q7,AG6:AS14,12,0) -> 0 | AC7: =VLOOKUP(Q7,AG6:AS14,13,0) -> 0 | AE7: 2 | AF7: =AK7 -> 2 | AG7: =Equipes!C19 -> bb | AK7: =RANK(AU7,AU6:AU14) -> 2 | AL7: =SUMPRODUCT((F6:I41=AG7)*(AZ6:AZ41))+SUMPRODUCT((L6:O41=AG7)*(BA6:BA41)) -> 0 | AM7: =SUMPRODUCT((F6:I41=AG7)*(BB6:BB41))+SUMPRODUCT((L6:O41=AG7)*(BC6:BC41)) -> 0 | AN7: =SUMPRODUCT((F6:I41=AG7)*(BD6:BD41))+SUMPRODUCT((L6:O41=AG7)*(BE6:BE41)) -> 0 | AO7: =SUMPRODUCT((F6:I41=AG7)*(BF6:BF41))+SUMPRODUCT((L6:O41=AG7)*(BG6:BG41)) -> 0 | AP7: =SUMPRODUCT((F6:I41=AG7)*(BH6:BH41))+SUMPRODUCT((L6:O41=AG7)*(BI6:BI41)) -> 0 | AQ7: =SUMPRODUCT((F6:I41=AG7)*(BJ6:BJ41))+SUMPRODUCT((L6:O41=AG7)*(BK6:BK41)) -> 0 | AR7: =SUMPRODUCT((F6:I41=AG7)*(BL6:BL41))+SUMPRODUCT((L6:O41=AG7)*(BM6:BM41)) -> 0 | AS7: =AQ7-AR7 -> 0 | AT7: =SUM(AL7*1000+(AS7)/100+(AQ7)/1000) -> 0 | AU7: =AT7+0.000008 -> 8e-06 | AV7: =E7 -> 0 | AW7: =P7 -> 0 | AX7: =IF(J7="",0,IF(J7>K7,Equipes!$J$16,IF('2 POULES DE 9'!J7='2 POULES DE 9'!K7,Equipes!$J$18,IF('2 POULES DE 9'!J7<'2 POULES DE 9'!K7,Equipes!$J$20)))) -> 0 | AY7: =IF(K7="",0,IF(K7>J7,Equipes!$J$16,IF('2 POULES DE 9'!K7='2 POULES DE 9'!J7,Equipes!$J$18,IF('2 POULES DE 9'!K7<'2 POULES DE 9'!J7,Equipes!$J$20)))) -> 0 | AZ7: =AX7-AV7 -> 0 | BA7: =AY7-AW7 -> 0 | BB7: =IF(J7="",0,1) -> 0 | BC7: =IF(K7="",0,1) -> 0 | BD7: =IF(J7<>"",IF(J7>K7,1)) -> FALSE | BE7: =IF(K7<>"",IF(K7>J7,1)) -> FALSE | BF7: =IF(J7<>"",IF(J7=K7,1)) -> FALSE | BG7: =IF(K7<>"",IF(K7=J7,1)) -> FALSE | BH7: =IF(J7<>"",IF(J7<K7,1)) -> FALSE | BI7: =IF(K7<>"",IF(K7<J7,1)) -> FALSE | BJ7: =J7 -> 0 | BK7: =K7 -> 0 | BL7: =K7 -> 0 | BM7: =J7 -> 0 | BN7: =VLOOKUP(AE7,AF6:AJ14,2,0) -> bb | BO7: =VLOOKUP(BN7,AG6:AT14,14,0) -> 0 | BP7: =RANK(BO7,BO6:BO14) -> 1
