Workbook

Sheet ABAC
A1: Calcul de poids/métrage pour les hauteurs sur mandrin | H1: incréments | N1: =B5 -> épaisseur | O1: =D5 -> 9 | P1: µm
A3: intervales | B3: hauteur | D3: 5
A4: entrée | B4: largeur | D4: 1464 | H4: poids | I4: 1 | N4: =B4 -> largeur | O4: =D4 -> 1464 | P4: mm
A5: entrée | B5: épaisseur | D5: 9 | H5: metrage | I5: 10
A6: mm sur mandrin | B6: kg | C6: net kg | D6: métrage restant | E6: diam | G6: poids | H6: hauteur | I6: métrage restant | J6: métrage restant | K6: poids | L6: hauteur | M6: diamêtre | S6: Alliage 1200
G7: 4 | H7: =0.5*(SQRT(($V$132/1000)^2+4*G7/3.14/$D$4/$V$131)-$V$132/1000)*1000 -> 1.1987237 | I7: =G7/$D$4/2.71/$D$5*1000000 -> 112.02298 | J7: 100 | K7: =J7*$D$4/1000*$D$5/1000000*2710 -> 3.570696 | L7: =0.5*(SQRT(($V$132/1000)^2+4*K7/3.14/$D$4/$V$131)-$V$132/1000)*1000 -> 1.0705251 | M7: =A10*2+$V$132 -> 330 | S7: ep | T7: d e (L1500) | U7: d relaitve (%) | V7: ep lame d'air | W7: de L1000 | X7: de L1700 | AA7: ep | AB7: d e (L1500) | AC7: d relaitve (%) | AD7: ep lame d'air | AE7: % IACS
A8: =$D$3+A7 -> 5 | B8: =((D8*$D$4*$D$5)*2.71)/1000000 -> 16.894977 | C8: =3.14*A8/1000*(A8+$V$132)/1000*$D$4*$V$131 -> 16.894977 | D8: =C8/$D$4/2.71/$D$5*1000000 -> 473.15642 | E8: =(A8*2)+300 -> 310 | G8: =$I$4+G7 -> 5 | H8: =0.5*(SQRT(($V$132/1000)^2+4*G8/3.14/$D$4/$V$131)-$V$132/1000)*1000 -> 1.4969226 | I8: =G8/$D$4/2.71/$D$5*1000000 -> 140.02872 | J8: =$I$5+J7 -> 110 | K8: =J8*$D$4/1000*$D$5/1000000*2710 -> 3.9277656 | L8: =0.5*(SQRT(($V$132/1000)^2+4*K8/3.14/$D$4/$V$131)-$V$132/1000)*1000 -> 1.1771607 | M8: =A11*2+$V$132 -> 340 | S8: <7 | T8: 2.3 | U8: =T8/2.71*100 -> 84.870849 | V8: =(1-T8/2.71)*6.5 -> 0.98339483 | W8: 2.4 | X8: 2.27 | Y8: 169 | Z8: =156+2*Y8 -> 494 | AA8: 6.5 | AB8: 2.3 | AC8: =AB8/2.71*100 -> 84.870849 | AD8: =(1-AB8/2.71)*6.5 -> 0.98339483 | AE8: 52.2
A9: =$D$3+A8 -> 10 | B9: =((D9*$D$4*$D$5)*2.71)/1000000 -> 34.343888 | C9: =3.14*A9/1000*(A9+$V$132)/1000*$D$4*$V$131 -> 34.343888 | D9: =C9/$D$4/2.71/$D$5*1000000 -> 961.82616 | E9: =(A9*2)+300 -> 320 | G9: =$I$4+G8 -> 6 | H9: =0.5*(SQRT(($V$132/1000)^2+4*G9/3.14/$D$4/$V$131)-$V$132/1000)*1000 -> 1.7945357 | I9: =G9/$D$4/2.71/$D$5*1000000 -> 168.03447 | J9: =$I$5+J8 -> 120 | K9: =J9*$D$4/1000*$D$5/1000000*2710 -> 4.2848352 | L9: =0.5*(SQRT(($V$132/1000)^2+4*K9/3.14/$D$4/$V$131)-$V$132/1000)*1000 -> 1.2837211 | M9: =A12*2+$V$132 -> 350 | S9: <7 (8979) | T9: 2.37 | U9: =T9/2.71*100 -> 87.453875 | V9: =(1-T9/2.71)*6.5 -> 0.81549815 | W9: 2.45 | X9: 2.37 | Y9: 184 | Z9: =156+2*Y9 -> 524 | AA9: 7 | AB9: 2.37 | AC9: =AB9/2.71*100 -> 87.453875 | AD9: =(1-AB9/2.71)*6.5 -> 0.81549815
A10: =$D$3+A9 -> 15 | B10: =((D10*$D$4*$D$5)*2.71)/1000000 -> 52.346733 | C10: =3.14*A10/1000*(A10+$V$132)/1000*$D$4*$V$131 -> 52.346733 | D10: =C10/$D$4/2.71/$D$5*1000000 -> 1466.0092 | E10: =(A10*2)+300 -> 330 | G10: =$I$4+G9 -> 7 | H10: =0.5*(SQRT(($V$132/1000)^2+4*G10/3.14/$D$4/$V$131)-$V$132/1000)*1000 -> 2.0915665 | I10: =G10/$D$4/2.71/$D$5*1000000 -> 196.04021 | J10: =$I$5+J9 -> 130 | K10: =J10*$D$4/1000*$D$5/1000000*2710 -> 4.6419048 | L10: =0.5*(SQRT(($V$132/1000)^2+4*K10/3.14/$D$4/$V$131)-$V$132/1000)*1000 -> 1.3902065 | M10: =A13*2+$V$132 -> 360 | S10: 7 | T10: 2.32 | U10: =T10/2.71*100 -> 85.608856 | V10: =(1-T10/2.71)*S10 -> 1.0073801 | Y10: 199 | Z10: =156+2*Y10 -> 554 | AA10: 7 | AB10: 2.32 | AC10: =AB10/2.71*100 -> 85.608856 | AD10: =(1-AB10/2.71)*AA10 -> 1.0073801
A11: =$D$3+A10 -> 20 | B11: =((D11*$D$4*$D$5)*2.71)/1000000 -> 70.903511 | C11: =3.14*A11/1000*(A11+$V$132)/1000*$D$4*$V$131 -> 70.903511 | D11: =C11/$D$4/2.71/$D$5*1000000 -> 1985.7056 | E11: =(A11*2)+300 -> 340 | G11: =$I$4+G10 -> 8 | H11: =0.5*(SQRT(($V$132/1000)^2+4*G11/3.14/$D$4/$V$131)-$V$132/1000)*1000 -> 2.3880182 | I11: =G11/$D$4/2.71/$D$5*1000000 -> 224.04596 | J11: =$I$5+J10 -> 140 | K11: =J11*$D$4/1000*$D$5/1000000*2710 -> 4.9989744 | L11: =0.5*(SQRT(($V$132/1000)^2+4*K11/3.14/$D$4/$V$131)-$V$132/1000)*1000 -> 1.4966171 | M11: =A14*2+$V$132 -> 370 | S11: 8 | T11: 2.41 | U11: =T11/2.71*100 -> 88.929889 | V11: =(1-T11/2.71)*S11 -> 0.88560886 | Y11: 212 | Z11: =156+2*Y11 -> 580 | AA11: 8 | AB11: 2.41 | AC11: =AB11/2.71*100 -> 88.929889 | AD11: =(1-AB11/2.71)*AA11 -> 0.88560886 | AE11: 56
A12: =$D$3+A11 -> 25 | B12: =((D12*$D$4*$D$5)*2.71)/1000000 -> 90.014223 | C12: =3.14*A12/1000*(A12+$V$132)/1000*$D$4*$V$131 -> 90.014223 | D12: =C12/$D$4/2.71/$D$5*1000000 -> 2520.9153 | E12: =(A12*2)+300 -> 350 | G12: =$I$4+G11 -> 9 | H12: =0.5*(SQRT(($V$132/1000)^2+4*G12/3.14/$D$4/$V$131)-$V$132/1000)*1000 -> 2.6838944 | I12: =G12/$D$4/2.71/$D$5*1000000 -> 252.0517 | J12: =$I$5+J11 -> 150 | K12: =J12*$D$4/1000*$D$5/1000000*2710 -> 5.356044 | L12: =0.5*(SQRT(($V$132/1000)^2+4*K12/3.14/$D$4/$V$131)-$V$132/1000)*1000 -> 1.602953 | M12: =A15*2+$V$132 -> 380 | S12: 9 | T12: 2.41 | U12: =T12/2.71*100 -> 88.929889 | V12: =(1-T12/2.71)*S12 -> 0.99630996 | Y12: 226 | Z12: =156+2*Y12 -> 608 | AA12: 9 | AB12: 2.41 | AC12: =AB12/2.71*100 -> 88.929889 | AD12: =(1-AB12/2.71)*AA12 -> 0.99630996
A13: =$D$3+A12 -> 30 | B13: =((D13*$D$4*$D$5)*2.71)/1000000 -> 109.67887 | C13: =3.14*A13/1000*(A13+$V$132)/1000*$D$4*$V$131 -> 109.67887 | D13: =C13/$D$4/2.71/$D$5*1000000 -> 3071.6384 | E13: =(A13*2)+300 -> 360 | G13: =$I$4+G12 -> 10 | H13: =0.5*(SQRT(($V$132/1000)^2+4*G13/3.14/$D$4/$V$131)-$V$132/1000)*1000 -> 2.9791984 | I13: =G13/$D$4/2.71/$D$5*1000000 -> 280.05745 | J13: =$I$5+J12 -> 160 | K13: =J13*$D$4/1000*$D$5/1000000*2710 -> 5.7131136 | L13: =0.5*(SQRT(($V$132/1000)^2+4*K13/3.14/$D$4/$V$131)-$V$132/1000)*1000 -> 1.7092143 | M13: =A16*2+$V$132 -> 390 | S13: 11 | T13: 2.51 | U13: =T13/2.71*100 -> 92.619926 | V13: =(1-T13/2.71)*S13 -> 0.81180812 | Y13: 239 | Z13: =156+2*Y13 -> 634 | AA13: 11 | AB13: 2.51 | AC13: =AB13/2.71*100 -> 92.619926 | AD13: =(1-AB13/2.71)*AA13 -> 0.81180812
A14: =$D$3+A13 -> 35 | B14: =((D14*$D$4*$D$5)*2.71)/1000000 -> 129.89745 | C14: =3.14*A14/1000*(A14+$V$132)/1000*$D$4*$V$131 -> 129.89745 | D14: =C14/$D$4/2.71/$D$5*1000000 -> 3637.8747 | E14: =(A14*2)+300 -> 370 | G14: =$I$4+G13 -> 11 | H14: =0.5*(SQRT(($V$132/1000)^2+4*G14/3.14/$D$4/$V$131)-$V$132/1000)*1000 -> 3.2739333 | I14: =G14/$D$4/2.71/$D$5*1000000 -> 308.06319 | J14: =$I$5+J13 -> 170 | K14: =J14*$D$4/1000*$D$5/1000000*2710 -> 6.0701832 | L14: =0.5*(SQRT(($V$132/1000)^2+4*K14/3.14/$D$4/$V$131)-$V$132/1000)*1000 -> 1.8154013 | M14: =A17*2+$V$132 -> 400 | S14: 11.5 | T14: 2.51 | U14: =T14/2.71*100 -> 92.619926 | V14: =(1-T14/2.71)*S14 -> 0.84870849 | AA14: 11.5 | AB14: 2.51 | AC14: =AB14/2.71*100 -> 92.619926 | AD14: =(1-AB14/2.71)*AA14 -> 0.84870849
A15: =$D$3+A14 -> 40 | B15: =((D15*$D$4*$D$5)*2.71)/1000000 -> 150.66996 | C15: =3.14*A15/1000*(A15+$V$132)/1000*$D$4*$V$131 -> 150.66996 | D15: =C15/$D$4/2.71/$D$5*1000000 -> 4219.6244 | E15: =(A15*2)+300 -> 380 | G15: =$I$4+G14 -> 12 | H15: =0.5*(SQRT(($V$132/1000)^2+4*G15/3.14/$D$4/$V$131)-$V$132/1000)*1000 -> 3.5681027 | I15: =G15/$D$4/2.71/$D$5*1000000 -> 336.06893 | J15: =$I$5+J14 -> 180 | K15: =J15*$D$4/1000*$D$5/1000000*2710 -> 6.4272528 | L15: =0.5*(SQRT(($V$132/1000)^2+4*K15/3.14/$D$4/$V$131)-$V$132/1000)*1000 -> 1.921514 | M15: =A18*2+$V$132 -> 410 | S15: 12 | T15: 2.51 | U15: =T15/2.71*100 -> 92.619926 | V15: =(1-T15/2.71)*S15 -> 0.88560886 | AA15: 12 | AB15: 2.51 | AC15: =AB15/2.71*100 -> 92.619926 | AD15: =(1-AB15/2.71)*AA15 -> 0.88560886
A16: =$D$3+A15 -> 45 | B16: =((D16*$D$4*$D$5)*2.71)/1000000 -> 171.99641 | C16: =3.14*A16/1000*(A16+$V$132)/1000*$D$4*$V$131 -> 171.99641 | D16: =C16/$D$4/2.71/$D$5*1000000 -> 4816.8875 | E16: =(A16*2)+300 -> 390 | G16: =$I$4+G15 -> 13 | H16: =0.5*(SQRT(($V$132/1000)^2+4*G16/3.14/$D$4/$V$131)-$V$132/1000)*1000 -> 3.8617096 | I16: =G16/$D$4/2.71/$D$5*1000000 -> 364.07468 | J16: =$I$5+J15 -> 190 | K16: =J16*$D$4/1000*$D$5/1000000*2710 -> 6.7843224 | L16: =0.5*(SQRT(($V$132/1000)^2+4*K16/3.14/$D$4/$V$131)-$V$132/1000)*1000 -> 2.0275527 | M16: =A19*2+$V$132 -> 420 | S16: 38 | T16: 2.65 | U16: =T16/2.71*100 -> 97.785978 | V16: =(1-T16/2.71)*S16 -> 0.84132841 | AA16: 38 | AB16: 2.65 | AC16: =AB16/2.71*100 -> 97.785978 | AD16: =(1-AB16/2.71)*AA16 -> 0.84132841 | AE16: 58.3
A17: =$D$3+A16 -> 50 | B17: =((D17*$D$4*$D$5)*2.71)/1000000 -> 193.87679 | C17: =3.14*A17/1000*(A17+$V$132)/1000*$D$4*$V$131 -> 193.87679 | D17: =C17/$D$4/2.71/$D$5*1000000 -> 5429.6638 | E17: =(A17*2)+300 -> 400 | G17: =$I$4+G16 -> 14 | H17: =0.5*(SQRT(($V$132/1000)^2+4*G17/3.14/$D$4/$V$131)-$V$132/1000)*1000 -> 4.1547573 | I17: =G17/$D$4/2.71/$D$5*1000000 -> 392.08042 | J17: =$I$5+J16 -> 200 | K17: =J17*$D$4/1000*$D$5/1000000*2710 -> 7.141392 | L17: =0.5*(SQRT(($V$132/1000)^2+4*K17/3.14/$D$4/$V$131)-$V$132/1000)*1000 -> 2.1335174 | M17: =A20*2+$V$132 -> 430 | S17: 45 | T17: 2.65 | U17: =T17/2.71*100 -> 97.785978 | V17: =(1-T17/2.71)*S17 -> 0.99630996 | AA17: 45 | AB17: 2.65 | AC17: =AB17/2.71*100 -> 97.785978 | AD17: =(1-AB17/2.71)*AA17 -> 0.99630996
A18: =$D$3+A17 -> 55 | B18: =((D18*$D$4*$D$5)*2.71)/1000000 -> 216.3111 | C18: =3.14*A18/1000*(A18+$V$132)/1000*$D$4*$V$131 -> 216.3111 | D18: =C18/$D$4/2.71/$D$5*1000000 -> 6057.9535 | E18: =(A18*2)+300 -> 410 | G18: =$I$4+G17 -> 15 | H18: =0.5*(SQRT(($V$132/1000)^2+4*G18/3.14/$D$4/$V$131)-$V$132/1000)*1000 -> 4.4472489 | I18: =G18/$D$4/2.71/$D$5*1000000 -> 420.08617 | J18: =$I$5+J17 -> 210 | K18: =J18*$D$4/1000*$D$5/1000000*2710 -> 7.4984616 | L18: =0.5*(SQRT(($V$132/1000)^2+4*K18/3.14/$D$4/$V$131)-$V$132/1000)*1000 -> 2.2394085 | M18: =A21*2+$V$132 -> 440 | S18: 50 | T18: 2.65 | U18: =T18/2.71*100 -> 97.785978 | V18: =(1-T18/2.71)*S18 -> 1.1070111 | AA18: 50 | AB18: 2.65 | AC18: =AB18/2.71*100 -> 97.785978 | AD18: =(1-AB18/2.71)*AA18 -> 1.1070111
A19: =$D$3+A18 -> 60 | B19: =((D19*$D$4*$D$5)*2.71)/1000000 -> 239.29935 | C19: =3.14*A19/1000*(A19+$V$132)/1000*$D$4*$V$131 -> 239.29935 | D19: =C19/$D$4/2.71/$D$5*1000000 -> 6701.7565 | E19: =(A19*2)+300 -> 420 | G19: =$I$4+G18 -> 16 | H19: =0.5*(SQRT(($V$132/1000)^2+4*G19/3.14/$D$4/$V$131)-$V$132/1000)*1000 -> 4.7391877 | I19: =G19/$D$4/2.71/$D$5*1000000 -> 448.09191 | J19: =$I$5+J18 -> 220 | K19: =J19*$D$4/1000*$D$5/1000000*2710 -> 7.8555312 | L19: =0.5*(SQRT(($V$132/1000)^2+4*K19/3.14/$D$4/$V$131)-$V$132/1000)*1000 -> 2.3452259 | M19: =A22*2+$V$132 -> 450 | S19: 60 | T19: 2.65 | U19: =T19/2.71*100 -> 97.785978 | V19: =(1-T19/2.71)*S19 -> 1.3284133 | AA19: 60 | AB19: 2.65 | AC19: =AB19/2.71*100 -> 97.785978 | AD19: =(1-AB19/2.71)*AA19 -> 1.3284133
A20: =$D$3+A19 -> 65 | B20: =((D20*$D$4*$D$5)*2.71)/1000000 -> 262.84153 | C20: =3.14*A20/1000*(A20+$V$132)/1000*$D$4*$V$131 -> 262.84153 | D20: =C20/$D$4/2.71/$D$5*1000000 -> 7361.0728 | E20: =(A20*2)+300 -> 430 | G20: =$I$4+G19 -> 17 | H20: =0.5*(SQRT(($V$132/1000)^2+4*G20/3.14/$D$4/$V$131)-$V$132/1000)*1000 -> 5.0305767 | I20: =G20/$D$4/2.71/$D$5*1000000 -> 476.09766 | J20: =$I$5+J19 -> 230 | K20: =J20*$D$4/1000*$D$5/1000000*2710 -> 8.2126008 | L20: =0.5*(SQRT(($V$132/1000)^2+4*K20/3.14/$D$4/$V$131)-$V$132/1000)*1000 -> 2.4509698 | M20: =A23*2+$V$132 -> 460 | S20: 80 | T20: 2.65 | U20: =T20/2.71*100 -> 97.785978 | V20: =(1-T20/2.71)*S20 -> 1.7712177 | AA20: 80 | AB20: 2.65 | AC20: =AB20/2.71*100 -> 97.785978 | AD20: =(1-AB20/2.71)*AA20 -> 1.7712177
A21: =$D$3+A20 -> 70 | B21: =((D21*$D$4*$D$5)*2.71)/1000000 -> 286.93765 | C21: =3.14*A21/1000*(A21+$V$132)/1000*$D$4*$V$131 -> 286.93765 | D21: =C21/$D$4/2.71/$D$5*1000000 -> 8035.9024 | E21: =(A21*2)+300 -> 440 | G21: =$I$4+G20 -> 18 | H21: =0.5*(SQRT(($V$132/1000)^2+4*G21/3.14/$D$4/$V$131)-$V$132/1000)*1000 -> 5.3214191 | I21: =G21/$D$4/2.71/$D$5*1000000 -> 504.1034 | J21: =$I$5+J20 -> 240 | K21: =J21*$D$4/1000*$D$5/1000000*2710 -> 8.5696704 | L21: =0.5*(SQRT(($V$132/1000)^2+4*K21/3.14/$D$4/$V$131)-$V$132/1000)*1000 -> 2.5566405 | M21: =A24*2+$V$132 -> 470 | S21: 100 | T21: 2.66 | U21: =T21/2.71*100 -> 98.154982 | V21: =(1-T21/2.71)*S21 -> 1.8450185 | AA21: 100 | AB21: 2.66 | AC21: =AB21/2.71*100 -> 98.154982 | AD21: =(1-AB21/2.71)*AA21 -> 1.8450185 | AE21: 58.8
A22: =$D$3+A21 -> 75 | B22: =((D22*$D$4*$D$5)*2.71)/1000000 -> 311.58769 | C22: =3.14*A22/1000*(A22+$V$132)/1000*$D$4*$V$131 -> 311.5877 | D22: =C22/$D$4/2.71/$D$5*1000000 -> 8726.2454 | E22: =(A22*2)+300 -> 450 | G22: =$I$4+G21 -> 19 | H22: =0.5*(SQRT(($V$132/1000)^2+4*G22/3.14/$D$4/$V$131)-$V$132/1000)*1000 -> 5.6117179 | I22: =G22/$D$4/2.71/$D$5*1000000 -> 532.10915 | J22: =$I$5+J21 -> 250 | K22: =J22*$D$4/1000*$D$5/1000000*2710 -> 8.92674 | L22: =0.5*(SQRT(($V$132/1000)^2+4*K22/3.14/$D$4/$V$131)-$V$132/1000)*1000 -> 2.662238 | M22: =A25*2+$V$132 -> 480 | S22: 140 | T22: 2.67 | U22: =T22/2.71*100 -> 98.523985 | V22: =(1-T22/2.71)*S22 -> 2.0664207 | AA22: 140 | AB22: 2.67 | AC22: =AB22/2.71*100 -> 98.523985 | AD22: =(1-AB22/2.71)*AA22 -> 2.0664207
A23: =$D$3+A22 -> 80 | B23: =((D23*$D$4*$D$5)*2.71)/1000000 -> 336.79168 | C23: =3.14*A23/1000*(A23+$V$132)/1000*$D$4*$V$131 -> 336.79168 | D23: =C23/$D$4/2.71/$D$5*1000000 -> 9432.1017 | E23: =(A23*2)+300 -> 460 | G23: =$I$4+G22 -> 20 | H23: =0.5*(SQRT(($V$132/1000)^2+4*G23/3.14/$D$4/$V$131)-$V$132/1000)*1000 -> 5.9014761 | I23: =G23/$D$4/2.71/$D$5*1000000 -> 560.11489 | J23: =$I$5+J22 -> 260 | K23: =J23*$D$4/1000*$D$5/1000000*2710 -> 9.2838096 | L23: =0.5*(SQRT(($V$132/1000)^2+4*K23/3.14/$D$4/$V$131)-$V$132/1000)*1000 -> 2.7677625 | M23: =A26*2+$V$132 -> 490
A24: =$D$3+A23 -> 85 | B24: =((D24*$D$4*$D$5)*2.71)/1000000 -> 362.54959 | C24: =3.14*A24/1000*(A24+$V$132)/1000*$D$4*$V$131 -> 362.54959 | D24: =C24/$D$4/2.71/$D$5*1000000 -> 10153.471 | E24: =(A24*2)+300 -> 470 | G24: =$I$4+G23 -> 21 | H24: =0.5*(SQRT(($V$132/1000)^2+4*G24/3.14/$D$4/$V$131)-$V$132/1000)*1000 -> 6.1906968 | I24: =G24/$D$4/2.71/$D$5*1000000 -> 588.12064 | J24: =$I$5+J23 -> 270 | K24: =J24*$D$4/1000*$D$5/1000000*2710 -> 9.6408792 | L24: =0.5*(SQRT(($V$132/1000)^2+4*K24/3.14/$D$4/$V$131)-$V$132/1000)*1000 -> 2.8732142 | M24: =A27*2+$V$132 -> 500
A25: =$D$3+A24 -> 90 | B25: =((D25*$D$4*$D$5)*2.71)/1000000 -> 388.86144 | C25: =3.14*A25/1000*(A25+$V$132)/1000*$D$4*$V$131 -> 388.86144 | D25: =C25/$D$4/2.71/$D$5*1000000 -> 10890.354 | E25: =(A25*2)+300 -> 480 | G25: =$I$4+G24 -> 22 | H25: =0.5*(SQRT(($V$132/1000)^2+4*G25/3.14/$D$4/$V$131)-$V$132/1000)*1000 -> 6.479383 | I25: =G25/$D$4/2.71/$D$5*1000000 -> 616.12638 | J25: =$I$5+J24 -> 280 | K25: =J25*$D$4/1000*$D$5/1000000*2710 -> 9.9979488 | L25: =0.5*(SQRT(($V$132/1000)^2+4*K25/3.14/$D$4/$V$131)-$V$132/1000)*1000 -> 2.9785932 | M25: =A28*2+$V$132 -> 510 | V25: =2.71-0.98 -> 1.73
A26: =$D$3+A25 -> 95 | B26: =((D26*$D$4*$D$5)*2.71)/1000000 -> 415.72723 | C26: =3.14*A26/1000*(A26+$V$132)/1000*$D$4*$V$131 -> 415.72723 | D26: =C26/$D$4/2.71/$D$5*1000000 -> 11642.751 | E26: =(A26*2)+300 -> 490 | G26: =$I$4+G25 -> 23 | H26: =0.5*(SQRT(($V$132/1000)^2+4*G26/3.14/$D$4/$V$131)-$V$132/1000)*1000 -> 6.7675375 | I26: =G26/$D$4/2.71/$D$5*1000000 -> 644.13212 | J26: =$I$5+J25 -> 290 | K26: =J26*$D$4/1000*$D$5/1000000*2710 -> 10.355018 | L26: =0.5*(SQRT(($V$132/1000)^2+4*K26/3.14/$D$4/$V$131)-$V$132/1000)*1000 -> 3.0838997 | M26: =A29*2+$V$132 -> 520 | N26: Laize | O26: Epaisseur au mandrin minimum pour prod | P26: laize
A27: =$D$3+A26 -> 100 | B27: =((D27*$D$4*$D$5)*2.71)/1000000 -> 443.14694 | C27: =3.14*A27/1000*(A27+$V$132)/1000*$D$4*$V$131 -> 443.14694 | D27: =C27/$D$4/2.71/$D$5*1000000 -> 12410.66 | E27: =(A27*2)+300 -> 500 | G27: =$I$4+G26 -> 24 | H27: =0.5*(SQRT(($V$132/1000)^2+4*G27/3.14/$D$4/$V$131)-$V$132/1000)*1000 -> 7.0551633 | I27: =G27/$D$4/2.71/$D$5*1000000 -> 672.13787 | J27: =$I$5+J26 -> 300 | K27: =J27*$D$4/1000*$D$5/1000000*2710 -> 10.712088 | L27: =0.5*(SQRT(($V$132/1000)^2+4*K27/3.14/$D$4/$V$131)-$V$132/1000)*1000 -> 3.1891337 | M27: =A30*2+$V$132 -> 530 | N27: R2809-224 | O27: 4 cm | P27: 1224
A28: =$D$3+A27 -> 105 | B28: =((D28*$D$4*$D$5)*2.71)/1000000 -> 471.12059 | C28: =3.14*A28/1000*(A28+$V$132)/1000*$D$4*$V$131 -> 471.12059 | D28: =C28/$D$4/2.71/$D$5*1000000 -> 13194.083 | E28: =(A28*2)+300 -> 510 | G28: =$I$4+G27 -> 25 | H28: =0.5*(SQRT(($V$132/1000)^2+4*G28/3.14/$D$4/$V$131)-$V$132/1000)*1000 -> 7.3422633 | I28: =G28/$D$4/2.71/$D$5*1000000 -> 700.14361 | J28: =$I$5+J27 -> 310 | K28: =J28*$D$4/1000*$D$5/1000000*2710 -> 11.069158 | L28: =0.5*(SQRT(($V$132/1000)^2+4*K28/3.14/$D$4/$V$131)-$V$132/1000)*1000 -> 3.2942956 | M28: =A31*2+$V$132 -> 540 | N28: R2809-290 | O28: 4 cm | P28: 1290
A29: =$D$3+A28 -> 110 | B29: =((D29*$D$4*$D$5)*2.71)/1000000 -> 499.64818 | C29: =3.14*A29/1000*(A29+$V$132)/1000*$D$4*$V$131 -> 499.64818 | D29: =C29/$D$4/2.71/$D$5*1000000 -> 13993.019 | E29: =(A29*2)+300 -> 520 | G29: =$I$4+G28 -> 26 | H29: =0.5*(SQRT(($V$132/1000)^2+4*G29/3.14/$D$4/$V$131)-$V$132/1000)*1000 -> 7.6288404 | I29: =G29/$D$4/2.71/$D$5*1000000 -> 728.14936 | J29: =$I$5+J28 -> 320 | K29: =J29*$D$4/1000*$D$5/1000000*2710 -> 11.426227 | L29: =0.5*(SQRT(($V$132/1000)^2+4*K29/3.14/$D$4/$V$131)-$V$132/1000)*1000 -> 3.3993853 | M29: =A32*2+$V$132 -> 550 | N29: R2809-420 | O29: 4 cm | P29: 1420
A30: =$D$3+A29 -> 115 | B30: =((D30*$D$4*$D$5)*2.71)/1000000 -> 528.7297 | C30: =3.14*A30/1000*(A30+$V$132)/1000*$D$4*$V$131 -> 528.7297 | D30: =C30/$D$4/2.71/$D$5*1000000 -> 14807.469 | E30: =(A30*2)+300 -> 530 | G30: =$I$4+G29 -> 27 | H30: =0.5*(SQRT(($V$132/1000)^2+4*G30/3.14/$D$4/$V$131)-$V$132/1000)*1000 -> 7.9148975 | I30: =G30/$D$4/2.71/$D$5*1000000 -> 756.1551 | J30: =$I$5+J29 -> 330 | K30: =J30*$D$4/1000*$D$5/1000000*2710 -> 11.783297 | L30: =0.5*(SQRT(($V$132/1000)^2+4*K30/3.14/$D$4/$V$131)-$V$132/1000)*1000 -> 3.5044031 | M30: =A33*2+$V$132 -> 560 | N30: R2809-466 | O30: 4 cm | P30: 1466
A31: =$D$3+A30 -> 120 | B31: =((D31*$D$4*$D$5)*2.71)/1000000 -> 558.36515 | C31: =3.14*A31/1000*(A31+$V$132)/1000*$D$4*$V$131 -> 558.36515 | D31: =C31/$D$4/2.71/$D$5*1000000 -> 15637.432 | E31: =(A31*2)+300 -> 540 | G31: =$I$4+G30 -> 28 | H31: =0.5*(SQRT(($V$132/1000)^2+4*G31/3.14/$D$4/$V$131)-$V$132/1000)*1000 -> 8.2004373 | I31: =G31/$D$4/2.71/$D$5*1000000 -> 784.16085 | J31: =$I$5+J30 -> 340 | K31: =J31*$D$4/1000*$D$5/1000000*2710 -> 12.140366 | L31: =0.5*(SQRT(($V$132/1000)^2+4*K31/3.14/$D$4/$V$131)-$V$132/1000)*1000 -> 3.6093491 | M31: =A34*2+$V$132 -> 570 | N31: R2809-531 | O31: 4 cm | P31: 1531
A32: =$D$3+A31 -> 125 | B32: =((D32*$D$4*$D$5)*2.71)/1000000 -> 588.55453 | C32: =3.14*A32/1000*(A32+$V$132)/1000*$D$4*$V$131 -> 588.55454 | D32: =C32/$D$4/2.71/$D$5*1000000 -> 16482.908 | E32: =(A32*2)+300 -> 550 | G32: =$I$4+G31 -> 29 | H32: =0.5*(SQRT(($V$132/1000)^2+4*G32/3.14/$D$4/$V$131)-$V$132/1000)*1000 -> 8.4854627 | I32: =G32/$D$4/2.71/$D$5*1000000 -> 812.16659 | J32: =$I$5+J31 -> 350 | K32: =J32*$D$4/1000*$D$5/1000000*2710 -> 12.497436 | L32: =0.5*(SQRT(($V$132/1000)^2+4*K32/3.14/$D$4/$V$131)-$V$132/1000)*1000 -> 3.7142234 | M32: =A35*2+$V$132 -> 580 | N32: R2809-566 | O32: 4 cm | P32: 1566
A33: =$D$3+A32 -> 130 | B33: =((D33*$D$4*$D$5)*2.71)/1000000 -> 619.29785 | C33: =3.14*A33/1000*(A33+$V$132)/1000*$D$4*$V$131 -> 619.29785 | D33: =C33/$D$4/2.71/$D$5*1000000 -> 17343.897 | E33: =(A33*2)+300 -> 560 | G33: =$I$4+G32 -> 30 | H33: =0.5*(SQRT(($V$132/1000)^2+4*G33/3.14/$D$4/$V$131)-$V$132/1000)*1000 -> 8.7699764 | I33: =G33/$D$4/2.71/$D$5*1000000 -> 840.17234 | J33: =$I$5+J32 -> 360 | K33: =J33*$D$4/1000*$D$5/1000000*2710 -> 12.854506 | L33: =0.5*(SQRT(($V$132/1000)^2+4*K33/3.14/$D$4/$V$131)-$V$132/1000)*1000 -> 3.8190262 | M33: =A36*2+$V$132 -> 590 | N33: R2809-616 | O33: 4 cm | P33: 1616
A34: =$D$3+A33 -> 135 | B34: =((D34*$D$4*$D$5)*2.71)/1000000 -> 650.59511 | C34: =3.14*A34/1000*(A34+$V$132)/1000*$D$4*$V$131 -> 650.59511 | D34: =C34/$D$4/2.71/$D$5*1000000 -> 18220.4 | E34: =(A34*2)+300 -> 570 | G34: =$I$4+G33 -> 31 | H34: =0.5*(SQRT(($V$132/1000)^2+4*G34/3.14/$D$4/$V$131)-$V$132/1000)*1000 -> 9.0539811 | I34: =G34/$D$4/2.71/$D$5*1000000 -> 868.17808 | J34: =$I$5+J33 -> 370 | K34: =J34*$D$4/1000*$D$5/1000000*2710 -> 13.211575 | L34: =0.5*(SQRT(($V$132/1000)^2+4*K34/3.14/$D$4/$V$131)-$V$132/1000)*1000 -> 3.9237577 | M34: =A37*2+$V$132 -> 600 | N34: R2809-626 | O34: 4 cm | P34: 1626
A35: =$D$3+A34 -> 140 | B35: =((D35*$D$4*$D$5)*2.71)/1000000 -> 682.44629 | C35: =3.14*A35/1000*(A35+$V$132)/1000*$D$4*$V$131 -> 682.44629 | D35: =C35/$D$4/2.71/$D$5*1000000 -> 19112.417 | E35: =(A35*2)+300 -> 580 | G35: =$I$4+G34 -> 32 | H35: =0.5*(SQRT(($V$132/1000)^2+4*G35/3.14/$D$4/$V$131)-$V$132/1000)*1000 -> 9.3374796 | I35: =G35/$D$4/2.71/$D$5*1000000 -> 896.18383 | J35: =$I$5+J34 -> 380 | K35: =J35*$D$4/1000*$D$5/1000000*2710 -> 13.568645 | L35: =0.5*(SQRT(($V$132/1000)^2+4*K35/3.14/$D$4/$V$131)-$V$132/1000)*1000 -> 4.028418 | M35: =A38*2+$V$132 -> 610 | N35: R2812-290 | O35: 4 cm | P35: 1290
A36: =$D$3+A35 -> 145 | B36: =((D36*$D$4*$D$5)*2.71)/1000000 -> 714.85141 | C36: =3.14*A36/1000*(A36+$V$132)/1000*$D$4*$V$131 -> 714.85141 | D36: =C36/$D$4/2.71/$D$5*1000000 -> 20019.946 | E36: =(A36*2)+300 -> 590 | G36: =$I$4+G35 -> 33 | H36: =0.5*(SQRT(($V$132/1000)^2+4*G36/3.14/$D$4/$V$131)-$V$132/1000)*1000 -> 9.6204747 | I36: =G36/$D$4/2.71/$D$5*1000000 -> 924.18957 | J36: =$I$5+J35 -> 390 | K36: =J36*$D$4/1000*$D$5/1000000*2710 -> 13.925714 | L36: =0.5*(SQRT(($V$132/1000)^2+4*K36/3.14/$D$4/$V$131)-$V$132/1000)*1000 -> 4.1330072 | M36: =A39*2+$V$132 -> 620 | N36: R2812-420 | O36: 4 cm | P36: 1420
A37: =$D$3+A36 -> 150 | B37: =((D37*$D$4*$D$5)*2.71)/1000000 -> 747.81047 | C37: =3.14*A37/1000*(A37+$V$132)/1000*$D$4*$V$131 -> 747.81047 | D37: =C37/$D$4/2.71/$D$5*1000000 -> 20942.989 | E37: =(A37*2)+300 -> 600 | G37: =$I$4+G36 -> 34 | H37: =0.5*(SQRT(($V$132/1000)^2+4*G37/3.14/$D$4/$V$131)-$V$132/1000)*1000 -> 9.9029688 | I37: =G37/$D$4/2.71/$D$5*1000000 -> 952.19531 | J37: =$I$5+J36 -> 400 | K37: =J37*$D$4/1000*$D$5/1000000*2710 -> 14.282784 | L37: =0.5*(SQRT(($V$132/1000)^2+4*K37/3.14/$D$4/$V$131)-$V$132/1000)*1000 -> 4.2375255 | M37: =A40*2+$V$132 -> 630 | N37: R2812-421 | O37: 4 cm | P37: 1420
A38: =$D$3+A37 -> 155 | B38: =((D38*$D$4*$D$5)*2.71)/1000000 -> 781.32346 | C38: =3.14*A38/1000*(A38+$V$132)/1000*$D$4*$V$131 -> 781.32346 | D38: =C38/$D$4/2.71/$D$5*1000000 -> 21881.545 | E38: =(A38*2)+300 -> 610 | G38: =$I$4+G37 -> 35 | H38: =0.5*(SQRT(($V$132/1000)^2+4*G38/3.14/$D$4/$V$131)-$V$132/1000)*1000 -> 10.184965 | I38: =G38/$D$4/2.71/$D$5*1000000 -> 980.20106 | J38: =$I$5+J37 -> 410 | K38: =J38*$D$4/1000*$D$5/1000000*2710 -> 14.639854 | L38: =0.5*(SQRT(($V$132/1000)^2+4*K38/3.14/$D$4/$V$131)-$V$132/1000)*1000 -> 4.341973 | M38: =A41*2+$V$132 -> 640 | N38: R2812-466 | O38: 4 cm | P38: 1466
... A40: =$D$3+A39 -> 165 | B40: =((D40*$D$4*$D$5)*2.71)/1000000 -> 850.01123 | C40: =3.14*A40/1000*(A40+$V$132)/1000*$D$4*$V$131 -> 850.01123 | D40: =C40/$D$4/2.71/$D$5*1000000 -> 23805.197 | E40: =(A40*2)+300 -> 630 | G40: =$I$4+G39 -> 37 | H40: =0.5*(SQRT(($V$132/1000)^2+4*G40/3.14/$D$4/$V$131)-$V$132/1000)*1000 -> 10.747473 | I40: =G40/$D$4/2.71/$D$5*1000000 -> 1036.2125 | J40: =$I$5+J39 -> 430 | K40: =J40*$D$4/1000*$D$5/1000000*2710 -> 15.353993 | L40: =0.5*(SQRT(($V$132/1000)^2+4*K40/3.14/$D$4/$V$131)-$V$132/1000)*1000 -> 4.5506562 | M40: =A43*2+$V$132 -> 660 | N40: R2812-626 | O40: 4 cm | P40: 1626
A41: =$D$3+A40 -> 170 | B41: =((D41*$D$4*$D$5)*2.71)/1000000 -> 885.18602 | C41: =3.14*A41/1000*(A41+$V$132)/1000*$D$4*$V$131 -> 885.18602 | D41: =C41/$D$4/2.71/$D$5*1000000 -> 24790.294 | E41: =(A41*2)+300 -> 640 | G41: =$I$4+G40 -> 38 | H41: =0.5*(SQRT(($V$132/1000)^2+4*G41/3.14/$D$4/$V$131)-$V$132/1000)*1000 -> 11.02799 | I41: =G41/$D$4/2.71/$D$5*1000000 -> 1064.2183 | J41: =$I$5+J40 -> 440 | K41: =J41*$D$4/1000*$D$5/1000000*2710 -> 15.711062 | L41: =0.5*(SQRT(($V$132/1000)^2+4*K41/3.14/$D$4/$V$131)-$V$132/1000)*1000 -> 4.6548922 | M41: =A44*2+$V$132 -> 670 | N41: R2809-570 | P41: 1570
A42: =$D$3+A41 -> 175 | B42: =((D42*$D$4*$D$5)*2.71)/1000000 -> 920.91474 | C42: =3.14*A42/1000*(A42+$V$132)/1000*$D$4*$V$131 -> 920.91474 | D42: =C42/$D$4/2.71/$D$5*1000000 -> 25790.903 | E42: =(A42*2)+300 -> 650 | G42: =$I$4+G41 -> 39 | H42: =0.5*(SQRT(($V$132/1000)^2+4*G42/3.14/$D$4/$V$131)-$V$132/1000)*1000 -> 11.308019 | I42: =G42/$D$4/2.71/$D$5*1000000 -> 1092.224 | J42: =$I$5+J41 -> 450 | K42: =J42*$D$4/1000*$D$5/1000000*2710 -> 16.068132 | L42: =0.5*(SQRT(($V$132/1000)^2+4*K42/3.14/$D$4/$V$131)-$V$132/1000)*1000 -> 4.759058 | M42: =A45*2+$V$132 -> 680 | N42: R2809-529 | P42: 1529
A43: =$D$3+A42 -> 180 | B43: =((D43*$D$4*$D$5)*2.71)/1000000 -> 957.1974 | C43: =3.14*A43/1000*(A43+$V$132)/1000*$D$4*$V$131 -> 957.1974 | D43: =C43/$D$4/2.71/$D$5*1000000 -> 26807.026 | E43: =(A43*2)+300 -> 660 | G43: =$I$4+G42 -> 40 | H43: =0.5*(SQRT(($V$132/1000)^2+4*G43/3.14/$D$4/$V$131)-$V$132/1000)*1000 -> 11.587563 | I43: =G43/$D$4/2.71/$D$5*1000000 -> 1120.2298 | J43: =$I$5+J42 -> 460 | K43: =J43*$D$4/1000*$D$5/1000000*2710 -> 16.425202 | L43: =0.5*(SQRT(($V$132/1000)^2+4*K43/3.14/$D$4/$V$131)-$V$132/1000)*1000 -> 4.8631538 | M43: =A46*2+$V$132 -> 690 | N43: R2809-464 | P43: 1464
A44: =$D$3+A43 -> 185 | B44: =((D44*$D$4*$D$5)*2.71)/1000000 -> 994.03399 | C44: =3.14*A44/1000*(A44+$V$132)/1000*$D$4*$V$131 -> 994.03399 | D44: =C44/$D$4/2.71/$D$5*1000000 -> 27838.662 | E44: =(A44*2)+300 -> 670 | G44: =$I$4+G43 -> 41 | H44: =0.5*(SQRT(($V$132/1000)^2+4*G44/3.14/$D$4/$V$131)-$V$132/1000)*1000 -> 11.866624 | I44: =G44/$D$4/2.71/$D$5*1000000 -> 1148.2355 | J44: =$I$5+J43 -> 470 | K44: =J44*$D$4/1000*$D$5/1000000*2710 -> 16.782271 | L44: =0.5*(SQRT(($V$132/1000)^2+4*K44/3.14/$D$4/$V$131)-$V$132/1000)*1000 -> 4.9671796 | M44: =A47*2+$V$132 -> 700 | N44: R2812-464 | P44: 1464
A45: =$D$3+A44 -> 190 | B45: =((D45*$D$4*$D$5)*2.71)/1000000 -> 1031.4245 | C45: =3.14*A45/1000*(A45+$V$132)/1000*$D$4*$V$131 -> 1031.4245 | D45: =C45/$D$4/2.71/$D$5*1000000 -> 28885.811 | E45: =(A45*2)+300 -> 680 | G45: =$I$4+G44 -> 42 | H45: =0.5*(SQRT(($V$132/1000)^2+4*G45/3.14/$D$4/$V$131)-$V$132/1000)*1000 -> 12.145205 | I45: =G45/$D$4/2.71/$D$5*1000000 -> 1176.2413 | J45: =$I$5+J44 -> 480 | K45: =J45*$D$4/1000*$D$5/1000000*2710 -> 17.139341 | L45: =0.5*(SQRT(($V$132/1000)^2+4*K45/3.14/$D$4/$V$131)-$V$132/1000)*1000 -> 5.0711357 | M45: =A48*2+$V$132 -> 710
A46: =$D$3+A45 -> 195 | B46: =((D46*$D$4*$D$5)*2.71)/1000000 -> 1069.369 | C46: =3.14*A46/1000*(A46+$V$132)/1000*$D$4*$V$131 -> 1069.369 | D46: =C46/$D$4/2.71/$D$5*1000000 -> 29948.474 | E46: =(A46*2)+300 -> 690 | G46: =$I$4+G45 -> 43 | H46: =0.5*(SQRT(($V$132/1000)^2+4*G46/3.14/$D$4/$V$131)-$V$132/1000)*1000 -> 12.423308 | I46: =G46/$D$4/2.71/$D$5*1000000 -> 1204.247 | J46: =$I$5+J45 -> 490 | K46: =J46*$D$4/1000*$D$5/1000000*2710 -> 17.49641 | L46: =0.5*(SQRT(($V$132/1000)^2+4*K46/3.14/$D$4/$V$131)-$V$132/1000)*1000 -> 5.1750221 | M46: =A49*2+$V$132 -> 720
A47: =$D$3+A46 -> 200 | B47: =((D47*$D$4*$D$5)*2.71)/1000000 -> 1107.8674 | C47: =3.14*A47/1000*(A47+$V$132)/1000*$D$4*$V$131 -> 1107.8674 | D47: =C47/$D$4/2.71/$D$5*1000000 -> 31026.65 | E47: =(A47*2)+300 -> 700 | G47: =$I$4+G46 -> 44 | H47: =0.5*(SQRT(($V$132/1000)^2+4*G47/3.14/$D$4/$V$131)-$V$132/1000)*1000 -> 12.700936 | I47: =G47/$D$4/2.71/$D$5*1000000 -> 1232.2528 | J47: =$I$5+J46 -> 500 | K47: =J47*$D$4/1000*$D$5/1000000*2710 -> 17.85348 | L47: =0.5*(SQRT(($V$132/1000)^2+4*K47/3.14/$D$4/$V$131)-$V$132/1000)*1000 -> 5.278839 | M47: =A50*2+$V$132 -> 730
A48: =$D$3+A47 -> 205 | B48: =((D48*$D$4*$D$5)*2.71)/1000000 -> 1146.9197 | C48: =3.14*A48/1000*(A48+$V$132)/1000*$D$4*$V$131 -> 1146.9197 | D48: =C48/$D$4/2.71/$D$5*1000000 -> 32120.34 | E48: =(A48*2)+300 -> 710 | G48: =$I$4+G47 -> 45 | H48: =0.5*(SQRT(($V$132/1000)^2+4*G48/3.14/$D$4/$V$131)-$V$132/1000)*1000 -> 12.978091 | I48: =G48/$D$4/2.71/$D$5*1000000 -> 1260.2585 | J48: =$I$5+J47 -> 510 | K48: =J48*$D$4/1000*$D$5/1000000*2710 -> 18.21055 | L48: =0.5*(SQRT(($V$132/1000)^2+4*K48/3.14/$D$4/$V$131)-$V$132/1000)*1000 -> 5.3825865 | M48: =A51*2+$V$132 -> 740
A49: =$D$3+A48 -> 210 | B49: =((D49*$D$4*$D$5)*2.71)/1000000 -> 1186.5259 | C49: =3.14*A49/1000*(A49+$V$132)/1000*$D$4*$V$131 -> 1186.5259 | D49: =C49/$D$4/2.71/$D$5*1000000 -> 33229.542 | E49: =(A49*2)+300 -> 720 | G49: =$I$4+G48 -> 46 | H49: =0.5*(SQRT(($V$132/1000)^2+4*G49/3.14/$D$4/$V$131)-$V$132/1000)*1000 -> 13.254775 | I49: =G49/$D$4/2.71/$D$5*1000000 -> 1288.2642 | J49: =$I$5+J48 -> 520 | K49: =J49*$D$4/1000*$D$5/1000000*2710 -> 18.567619 | L49: =0.5*(SQRT(($V$132/1000)^2+4*K49/3.14/$D$4/$V$131)-$V$132/1000)*1000 -> 5.4862648 | M49: =A52*2+$V$132 -> 750
A50: =$D$3+A49 -> 215 | B50: =((D50*$D$4*$D$5)*2.71)/1000000 -> 1226.6861 | C50: =3.14*A50/1000*(A50+$V$132)/1000*$D$4*$V$131 -> 1226.6861 | D50: =C50/$D$4/2.71/$D$5*1000000 -> 34354.259 | E50: =(A50*2)+300 -> 730 | G50: =$I$4+G49 -> 47 | H50: =0.5*(SQRT(($V$132/1000)^2+4*G50/3.14/$D$4/$V$131)-$V$132/1000)*1000 -> 13.530991 | I50: =G50/$D$4/2.71/$D$5*1000000 -> 1316.27 | J50: =$I$5+J49 -> 530 | K50: =J50*$D$4/1000*$D$5/1000000*2710 -> 18.924689 | L50: =0.5*(SQRT(($V$132/1000)^2+4*K50/3.14/$D$4/$V$131)-$V$132/1000)*1000 -> 5.589874 | M50: =A53*2+$V$132 -> 760 | V50: =(580-156)/2 -> 212
A51: =$D$3+A50 -> 220 | B51: =((D51*$D$4*$D$5)*2.71)/1000000 -> 1267.4003 | C51: =3.14*A51/1000*(A51+$V$132)/1000*$D$4*$V$131 -> 1267.4003 | D51: =C51/$D$4/2.71/$D$5*1000000 -> 35494.488 | E51: =(A51*2)+300 -> 740 | G51: =$I$4+G50 -> 48 | H51: =0.5*(SQRT(($V$132/1000)^2+4*G51/3.14/$D$4/$V$131)-$V$132/1000)*1000 -> 13.806742 | I51: =G51/$D$4/2.71/$D$5*1000000 -> 1344.2757 | J51: =$I$5+J50 -> 540 | K51: =J51*$D$4/1000*$D$5/1000000*2710 -> 19.281758 | L51: =0.5*(SQRT(($V$132/1000)^2+4*K51/3.14/$D$4/$V$131)-$V$132/1000)*1000 -> 5.6934143 | M51: =A54*2+$V$132 -> 770
A52: =$D$3+A51 -> 225 | B52: =((D52*$D$4*$D$5)*2.71)/1000000 -> 1308.6683 | C52: =3.14*A52/1000*(A52+$V$132)/1000*$D$4*$V$131 -> 1308.6683 | D52: =C52/$D$4/2.71/$D$5*1000000 -> 36650.231 | E52: =(A52*2)+300 -> 750 | G52: =$I$4+G51 -> 49 | H52: =0.5*(SQRT(($V$132/1000)^2+4*G52/3.14/$D$4/$V$131)-$V$132/1000)*1000 -> 14.082029 | I52: =G52/$D$4/2.71/$D$5*1000000 -> 1372.2815 | J52: =$I$5+J51 -> 550 | K52: =J52*$D$4/1000*$D$5/1000000*2710 -> 19.638828 | L52: =0.5*(SQRT(($V$132/1000)^2+4*K52/3.14/$D$4/$V$131)-$V$132/1000)*1000 -> 5.7968857 | M52: =A55*2+$V$132 -> 780
A53: =$D$3+A52 -> 230 | B53: =((D53*$D$4*$D$5)*2.71)/1000000 -> 1350.4903 | C53: =3.14*A53/1000*(A53+$V$132)/1000*$D$4*$V$131 -> 1350.4903 | D53: =C53/$D$4/2.71/$D$5*1000000 -> 37821.487 | E53: =(A53*2)+300 -> 760 | G53: =$I$4+G52 -> 50 | H53: =0.5*(SQRT(($V$132/1000)^2+4*G53/3.14/$D$4/$V$131)-$V$132/1000)*1000 -> 14.356855 | I53: =G53/$D$4/2.71/$D$5*1000000 -> 1400.2872 | J53: =$I$5+J52 -> 560 | K53: =J53*$D$4/1000*$D$5/1000000*2710 -> 19.995898 | L53: =0.5*(SQRT(($V$132/1000)^2+4*K53/3.14/$D$4/$V$131)-$V$132/1000)*1000 -> 5.9002885 | M53: =A56*2+$V$132 -> 790
A54: =$D$3+A53 -> 235 | B54: =((D54*$D$4*$D$5)*2.71)/1000000 -> 1392.8662 | C54: =3.14*A54/1000*(A54+$V$132)/1000*$D$4*$V$131 -> 1392.8662 | D54: =C54/$D$4/2.71/$D$5*1000000 -> 39008.256 | E54: =(A54*2)+300 -> 770 | G54: =$I$4+G53 -> 51 | H54: =0.5*(SQRT(($V$132/1000)^2+4*G54/3.14/$D$4/$V$131)-$V$132/1000)*1000 -> 14.631222 | I54: =G54/$D$4/2.71/$D$5*1000000 -> 1428.293 | J54: =$I$5+J53 -> 570 | K54: =J54*$D$4/1000*$D$5/1000000*2710 -> 20.352967 | L54: =0.5*(SQRT(($V$132/1000)^2+4*K54/3.14/$D$4/$V$131)-$V$132/1000)*1000 -> 6.0036228 | M54: =A57*2+$V$132 -> 800
A55: =$D$3+A54 -> 240 | B55: =((D55*$D$4*$D$5)*2.71)/1000000 -> 1435.7961 | C55: =3.14*A55/1000*(A55+$V$132)/1000*$D$4*$V$131 -> 1435.7961 | D55: =C55/$D$4/2.71/$D$5*1000000 -> 40210.539 | E55: =(A55*2)+300 -> 780 | G55: =$I$4+G54 -> 52 | H55: =0.5*(SQRT(($V$132/1000)^2+4*G55/3.14/$D$4/$V$131)-$V$132/1000)*1000 -> 14.905132 | I55: =G55/$D$4/2.71/$D$5*1000000 -> 1456.2987 | J55: =$I$5+J54 -> 580 | K55: =J55*$D$4/1000*$D$5/1000000*2710 -> 20.710037 | L55: =0.5*(SQRT(($V$132/1000)^2+4*K55/3.14/$D$4/$V$131)-$V$132/1000)*1000 -> 6.1068886 | M55: =A58*2+$V$132 -> 810
A56: =$D$3+A55 -> 245 | B56: =((D56*$D$4*$D$5)*2.71)/1000000 -> 1479.2799 | C56: =3.14*A56/1000*(A56+$V$132)/1000*$D$4*$V$131 -> 1479.2799 | D56: =C56/$D$4/2.71/$D$5*1000000 -> 41428.335 | E56: =(A56*2)+300 -> 790 | G56: =$I$4+G55 -> 53 | H56: =0.5*(SQRT(($V$132/1000)^2+4*G56/3.14/$D$4/$V$131)-$V$132/1000)*1000 -> 15.178589 | I56: =G56/$D$4/2.71/$D$5*1000000 -> 1484.3045 | J56: =$I$5+J55 -> 590 | K56: =J56*$D$4/1000*$D$5/1000000*2710 -> 21.067106 | L56: =0.5*(SQRT(($V$132/1000)^2+4*K56/3.14/$D$4/$V$131)-$V$132/1000)*1000 -> 6.2100862 | M56: =A59*2+$V$132 -> 820
A57: =$D$3+A56 -> 250 | B57: =((D57*$D$4*$D$5)*2.71)/1000000 -> 1523.3176 | C57: =3.14*A57/1000*(A57+$V$132)/1000*$D$4*$V$131 -> 1523.3176 | D57: =C57/$D$4/2.71/$D$5*1000000 -> 42661.644 | E57: =(A57*2)+300 -> 800 | G57: =$I$4+G56 -> 54 | H57: =0.5*(SQRT(($V$132/1000)^2+4*G57/3.14/$D$4/$V$131)-$V$132/1000)*1000 -> 15.451593 | I57: =G57/$D$4/2.71/$D$5*1000000 -> 1512.3102 | J57: =$I$5+J56 -> 600 | K57: =J57*$D$4/1000*$D$5/1000000*2710 -> 21.424176 | L57: =0.5*(SQRT(($V$132/1000)^2+4*K57/3.14/$D$4/$V$131)-$V$132/1000)*1000 -> 6.3132157 | M57: =A60*2+$V$132 -> 830
A58: =$D$3+A57 -> 255 | B58: =((D58*$D$4*$D$5)*2.71)/1000000 -> 1567.9093 | C58: =3.14*A58/1000*(A58+$V$132)/1000*$D$4*$V$131 -> 1567.9093 | D58: =C58/$D$4/2.71/$D$5*1000000 -> 43910.467 | E58: =(A58*2)+300 -> 810 | G58: =$I$4+G57 -> 55 | H58: =0.5*(SQRT(($V$132/1000)^2+4*G58/3.14/$D$4/$V$131)-$V$132/1000)*1000 -> 15.724148 | I58: =G58/$D$4/2.71/$D$5*1000000 -> 1540.3159 | J58: =$I$5+J57 -> 610 | K58: =J58*$D$4/1000*$D$5/1000000*2710 -> 21.781246 | L58: =0.5*(SQRT(($V$132/1000)^2+4*K58/3.14/$D$4/$V$131)-$V$132/1000)*1000 -> 6.4162771 | M58: =A61*2+$V$132 -> 840
A59: =$D$3+A58 -> 260 | B59: =((D59*$D$4*$D$5)*2.71)/1000000 -> 1613.0549 | C59: =3.14*A59/1000*(A59+$V$132)/1000*$D$4*$V$131 -> 1613.0549 | D59: =C59/$D$4/2.71/$D$5*1000000 -> 45174.803 | E59: =(A59*2)+300 -> 820 | G59: =$I$4+G58 -> 56 | H59: =0.5*(SQRT(($V$132/1000)^2+4*G59/3.14/$D$4/$V$131)-$V$132/1000)*1000 -> 15.996255 | I59: =G59/$D$4/2.71/$D$5*1000000 -> 1568.3217 | J59: =$I$5+J58 -> 620 | K59: =J59*$D$4/1000*$D$5/1000000*2710 -> 22.138315 | L59: =0.5*(SQRT(($V$132/1000)^2+4*K59/3.14/$D$4/$V$131)-$V$132/1000)*1000 -> 6.5192707 | M59: =A62*2+$V$132 -> 850 | S59: =162+2*L53 -> 173.80058
A60: =$D$3+A59 -> 265 | B60: =((D60*$D$4*$D$5)*2.71)/1000000 -> 1658.7544 | C60: =3.14*A60/1000*(A60+$V$132)/1000*$D$4*$V$131 -> 1658.7544 | D60: =C60/$D$4/2.71/$D$5*1000000 -> 46454.652 | E60: =(A60*2)+300 -> 830 | G60: =$I$4+G59 -> 57 | H60: =0.5*(SQRT(($V$132/1000)^2+4*G60/3.14/$D$4/$V$131)-$V$132/1000)*1000 -> 16.267917 | I60: =G60/$D$4/2.71/$D$5*1000000 -> 1596.3274 | J60: =$I$5+J59 -> 630 | K60: =J60*$D$4/1000*$D$5/1000000*2710 -> 22.495385 | L60: =0.5*(SQRT(($V$132/1000)^2+4*K60/3.14/$D$4/$V$131)-$V$132/1000)*1000 -> 6.6221966 | M60: =A63*2+$V$132 -> 860 | S60: =162+2*L54 -> 174.00725
A61: =$D$3+A60 -> 270 | B61: =((D61*$D$4*$D$5)*2.71)/1000000 -> 1705.0079 | C61: =3.14*A61/1000*(A61+$V$132)/1000*$D$4*$V$131 -> 1705.0079 | D61: =C61/$D$4/2.71/$D$5*1000000 -> 47750.015 | E61: =(A61*2)+300 -> 840 | G61: =$I$4+G60 -> 58 | H61: =0.5*(SQRT(($V$132/1000)^2+4*G61/3.14/$D$4/$V$131)-$V$132/1000)*1000 -> 16.539136 | I61: =G61/$D$4/2.71/$D$5*1000000 -> 1624.3332 | J61: =$I$5+J60 -> 640 | K61: =J61*$D$4/1000*$D$5/1000000*2710 -> 22.852454 | L61: =0.5*(SQRT(($V$132/1000)^2+4*K61/3.14/$D$4/$V$131)-$V$132/1000)*1000 -> 6.7250549 | M61: =A64*2+$V$132 -> 870 | S61: =162+2*L55 -> 174.21378
A62: =$D$3+A61 -> 275 | B62: =((D62*$D$4*$D$5)*2.71)/1000000 -> 1751.8153 | C62: =3.14*A62/1000*(A62+$V$132)/1000*$D$4*$V$131 -> 1751.8153 | D62: =C62/$D$4/2.71/$D$5*1000000 -> 49060.891 | E62: =(A62*2)+300 -> 850 | G62: =$I$4+G61 -> 59 | H62: =0.5*(SQRT(($V$132/1000)^2+4*G62/3.14/$D$4/$V$131)-$V$132/1000)*1000 -> 16.809914 | I62: =G62/$D$4/2.71/$D$5*1000000 -> 1652.3389 | J62: =$I$5+J61 -> 650 | K62: =J62*$D$4/1000*$D$5/1000000*2710 -> 23.209524 | L62: =0.5*(SQRT(($V$132/1000)^2+4*K62/3.14/$D$4/$V$131)-$V$132/1000)*1000 -> 6.8278457 | M62: =A65*2+$V$132 -> 880 | S62: =162+2*L56 -> 174.42017
A63: =$D$3+A62 -> 280 | B63: =((D63*$D$4*$D$5)*2.71)/1000000 -> 1799.1766 | C63: =3.14*A63/1000*(A63+$V$132)/1000*$D$4*$V$131 -> 1799.1766 | D63: =C63/$D$4/2.71/$D$5*1000000 -> 50387.28 | E63: =(A63*2)+300 -> 860 | G63: =$I$4+G62 -> 60 | H63: =0.5*(SQRT(($V$132/1000)^2+4*G63/3.14/$D$4/$V$131)-$V$132/1000)*1000 -> 17.080253 | I63: =G63/$D$4/2.71/$D$5*1000000 -> 1680.3447 | J63: =$I$5+J62 -> 660 | K63: =J63*$D$4/1000*$D$5/1000000*2710 -> 23.566594 | L63: =0.5*(SQRT(($V$132/1000)^2+4*K63/3.14/$D$4/$V$131)-$V$132/1000)*1000 -> 6.9305691 | M63: =A66*2+$V$132 -> 890 | S63: =162+2*L57 -> 174.62643
A64: =$D$3+A63 -> 285 | B64: =((D64*$D$4*$D$5)*2.71)/1000000 -> 1847.0919 | C64: =3.14*A64/1000*(A64+$V$132)/1000*$D$4*$V$131 -> 1847.0919 | D64: =C64/$D$4/2.71/$D$5*1000000 -> 51729.183 | E64: =(A64*2)+300 -> 870 | G64: =$I$4+G63 -> 61 | H64: =0.5*(SQRT(($V$132/1000)^2+4*G64/3.14/$D$4/$V$131)-$V$132/1000)*1000 -> 17.350155 | I64: =G64/$D$4/2.71/$D$5*1000000 -> 1708.3504 | J64: =$I$5+J63 -> 670 | K64: =J64*$D$4/1000*$D$5/1000000*2710 -> 23.923663 | L64: =0.5*(SQRT(($V$132/1000)^2+4*K64/3.14/$D$4/$V$131)-$V$132/1000)*1000 -> 7.0332254 | M64: =A67*2+$V$132 -> 900 | S64: =162+2*L58 -> 174.83255
A65: =$D$3+A64 -> 290 | B65: =((D65*$D$4*$D$5)*2.71)/1000000 -> 1895.5611 | C65: =3.14*A65/1000*(A65+$V$132)/1000*$D$4*$V$131 -> 1895.5611 | D65: =C65/$D$4/2.71/$D$5*1000000 -> 53086.599 | E65: =(A65*2)+300 -> 880 | G65: =$I$4+G64 -> 62 | H65: =0.5*(SQRT(($V$132/1000)^2+4*G65/3.14/$D$4/$V$131)-$V$132/1000)*1000 -> 17.619622 | I65: =G65/$D$4/2.71/$D$5*1000000 -> 1736.3562 | J65: =$I$5+J64 -> 680 | K65: =J65*$D$4/1000*$D$5/1000000*2710 -> 24.280733 | L65: =0.5*(SQRT(($V$132/1000)^2+4*K65/3.14/$D$4/$V$131)-$V$132/1000)*1000 -> 7.1358146 | M65: =A68*2+$V$132 -> 910 | S65: =162+2*L59 -> 175.03854
A66: =$D$3+A65 -> 295 | B66: =((D66*$D$4*$D$5)*2.71)/1000000 -> 1944.5842 | C66: =3.14*A66/1000*(A66+$V$132)/1000*$D$4*$V$131 -> 1944.5842 | D66: =C66/$D$4/2.71/$D$5*1000000 -> 54459.528 | E66: =(A66*2)+300 -> 890 | G66: =$I$4+G65 -> 63 | H66: =0.5*(SQRT(($V$132/1000)^2+4*G66/3.14/$D$4/$V$131)-$V$132/1000)*1000 -> 17.888658 | I66: =G66/$D$4/2.71/$D$5*1000000 -> 1764.3619 | J66: =$I$5+J65 -> 690 | K66: =J66*$D$4/1000*$D$5/1000000*2710 -> 24.637802 | L66: =0.5*(SQRT(($V$132/1000)^2+4*K66/3.14/$D$4/$V$131)-$V$132/1000)*1000 -> 7.2383369 | M66: =A69*2+$V$132 -> 920
A67: =$D$3+A66 -> 300 | B67: =((D67*$D$4*$D$5)*2.71)/1000000 -> 1994.1612 | C67: =3.14*A67/1000*(A67+$V$132)/1000*$D$4*$V$131 -> 1994.1612 | D67: =C67/$D$4/2.71/$D$5*1000000 -> 55847.97 | E67: =(A67*2)+300 -> 900 | G67: =$I$4+G66 -> 64 | H67: =0.5*(SQRT(($V$132/1000)^2+4*G67/3.14/$D$4/$V$131)-$V$132/1000)*1000 -> 18.157262 | I67: =G67/$D$4/2.71/$D$5*1000000 -> 1792.3677 | J67: =$I$5+J66 -> 700 | K67: =J67*$D$4/1000*$D$5/1000000*2710 -> 24.994872 | L67: =0.5*(SQRT(($V$132/1000)^2+4*K67/3.14/$D$4/$V$131)-$V$132/1000)*1000 -> 7.3407924 | M67: =A70*2+$V$132 -> 930
A68: =$D$3+A67 -> 305 | B68: =((D68*$D$4*$D$5)*2.71)/1000000 -> 2044.2922 | C68: =3.14*A68/1000*(A68+$V$132)/1000*$D$4*$V$131 -> 2044.2922 | D68: =C68/$D$4/2.71/$D$5*1000000 -> 57251.926 | E68: =(A68*2)+300 -> 910 | G68: =$I$4+G67 -> 65 | H68: =0.5*(SQRT(($V$132/1000)^2+4*G68/3.14/$D$4/$V$131)-$V$132/1000)*1000 -> 18.425439 | I68: =G68/$D$4/2.71/$D$5*1000000 -> 1820.3734 | J68: =$I$5+J67 -> 710 | K68: =J68*$D$4/1000*$D$5/1000000*2710 -> 25.351942 | L68: =0.5*(SQRT(($V$132/1000)^2+4*K68/3.14/$D$4/$V$131)-$V$132/1000)*1000 -> 7.4431812 | M68: =A71*2+$V$132 -> 940
A69: =$D$3+A68 -> 310 | B69: =((D69*$D$4*$D$5)*2.71)/1000000 -> 2094.9772 | C69: =3.14*A69/1000*(A69+$V$132)/1000*$D$4*$V$131 -> 2094.9772 | D69: =C69/$D$4/2.71/$D$5*1000000 -> 58671.396 | E69: =(A69*2)+300 -> 920 | G69: =$I$4+G68 -> 66 | H69: =0.5*(SQRT(($V$132/1000)^2+4*G69/3.14/$D$4/$V$131)-$V$132/1000)*1000 -> 18.693189 | I69: =G69/$D$4/2.71/$D$5*1000000 -> 1848.3791 | J69: =$I$5+J68 -> 720 | K69: =J69*$D$4/1000*$D$5/1000000*2710 -> 25.709011 | L69: =0.5*(SQRT(($V$132/1000)^2+4*K69/3.14/$D$4/$V$131)-$V$132/1000)*1000 -> 7.5455035 | M69: =A72*2+$V$132 -> 950
A70: =$D$3+A69 -> 315 | B70: =((D70*$D$4*$D$5)*2.71)/1000000 -> 2146.216 | C70: =3.14*A70/1000*(A70+$V$132)/1000*$D$4*$V$131 -> 2146.216 | D70: =C70/$D$4/2.71/$D$5*1000000 -> 60106.378 | E70: =(A70*2)+300 -> 930 | G70: =$I$4+G69 -> 67 | H70: =0.5*(SQRT(($V$132/1000)^2+4*G70/3.14/$D$4/$V$131)-$V$132/1000)*1000 -> 18.960514 | I70: =G70/$D$4/2.71/$D$5*1000000 -> 1876.3849 | J70: =$I$5+J69 -> 730 | K70: =J70*$D$4/1000*$D$5/1000000*2710 -> 26.066081 | L70: =0.5*(SQRT(($V$132/1000)^2+4*K70/3.14/$D$4/$V$131)-$V$132/1000)*1000 -> 7.6477593 | M70: =A73*2+$V$132 -> 960
A71: =$D$3+A70 -> 320 | B71: =((D71*$D$4*$D$5)*2.71)/1000000 -> 2198.0088 | C71: =3.14*A71/1000*(A71+$V$132)/1000*$D$4*$V$131 -> 2198.0088 | D71: =C71/$D$4/2.71/$D$5*1000000 -> 61556.874 | E71: =(A71*2)+300 -> 940 | G71: =$I$4+G70 -> 68 | H71: =0.5*(SQRT(($V$132/1000)^2+4*G71/3.14/$D$4/$V$131)-$V$132/1000)*1000 -> 19.227418 | I71: =G71/$D$4/2.71/$D$5*1000000 -> 1904.3906 | J71: =$I$5+J70 -> 740 | K71: =J71*$D$4/1000*$D$5/1000000*2710 -> 26.42315 | L71: =0.5*(SQRT(($V$132/1000)^2+4*K71/3.14/$D$4/$V$131)-$V$132/1000)*1000 -> 7.7499489 | M71: =A74*2+$V$132 -> 970
A72: =$D$3+A71 -> 325 | B72: =((D72*$D$4*$D$5)*2.71)/1000000 -> 2250.3556 | C72: =3.14*A72/1000*(A72+$V$132)/1000*$D$4*$V$131 -> 2250.3556 | D72: =C72/$D$4/2.71/$D$5*1000000 -> 63022.883 | E72: =(A72*2)+300 -> 950 | G72: =$I$4+G71 -> 69 | H72: =0.5*(SQRT(($V$132/1000)^2+4*G72/3.14/$D$4/$V$131)-$V$132/1000)*1000 -> 19.493901 | I72: =G72/$D$4/2.71/$D$5*1000000 -> 1932.3964 | J72: =$I$5+J71 -> 750 | K72: =J72*$D$4/1000*$D$5/1000000*2710 -> 26.78022 | L72: =0.5*(SQRT(($V$132/1000)^2+4*K72/3.14/$D$4/$V$131)-$V$132/1000)*1000 -> 7.8520723 | M72: =A75*2+$V$132 -> 980
A73: =$D$3+A72 -> 330 | B73: =((D73*$D$4*$D$5)*2.71)/1000000 -> 2303.2562 | C73: =3.14*A73/1000*(A73+$V$132)/1000*$D$4*$V$131 -> 2303.2562 | D73: =C73/$D$4/2.71/$D$5*1000000 -> 64504.406 | E73: =(A73*2)+300 -> 960 | G73: =$I$4+G72 -> 70 | H73: =0.5*(SQRT(($V$132/1000)^2+4*G73/3.14/$D$4/$V$131)-$V$132/1000)*1000 -> 19.759966 | I73: =G73/$D$4/2.71/$D$5*1000000 -> 1960.4021 | J73: =$I$5+J72 -> 760 | K73: =J73*$D$4/1000*$D$5/1000000*2710 -> 27.13729 | L73: =0.5*(SQRT(($V$132/1000)^2+4*K73/3.14/$D$4/$V$131)-$V$132/1000)*1000 -> 7.9541297 | M73: =A76*2+$V$132 -> 990
A74: =$D$3+A73 -> 335 | B74: =((D74*$D$4*$D$5)*2.71)/1000000 -> 2356.7108 | C74: =3.14*A74/1000*(A74+$V$132)/1000*$D$4*$V$131 -> 2356.7108 | D74: =C74/$D$4/2.71/$D$5*1000000 -> 66001.442 | E74: =(A74*2)+300 -> 970 | G74: =$I$4+G73 -> 71 | H74: =0.5*(SQRT(($V$132/1000)^2+4*G74/3.14/$D$4/$V$131)-$V$132/1000)*1000 -> 20.025614 | I74: =G74/$D$4/2.71/$D$5*1000000 -> 1988.4079 | J74: =$I$5+J73 -> 770 | K74: =J74*$D$4/1000*$D$5/1000000*2710 -> 27.494359 | L74: =0.5*(SQRT(($V$132/1000)^2+4*K74/3.14/$D$4/$V$131)-$V$132/1000)*1000 -> 8.0561212 | M74: =A77*2+$V$132 -> 1000
A75: =$D$3+A74 -> 340 | B75: =((D75*$D$4*$D$5)*2.71)/1000000 -> 2410.7194 | C75: =3.14*A75/1000*(A75+$V$132)/1000*$D$4*$V$131 -> 2410.7194 | D75: =C75/$D$4/2.71/$D$5*1000000 -> 67513.991 | E75: =(A75*2)+300 -> 980 | G75: =$I$4+G74 -> 72 | H75: =0.5*(SQRT(($V$132/1000)^2+4*G75/3.14/$D$4/$V$131)-$V$132/1000)*1000 -> 20.290848 | I75: =G75/$D$4/2.71/$D$5*1000000 -> 2016.4136 | J75: =$I$5+J74 -> 780 | K75: =J75*$D$4/1000*$D$5/1000000*2710 -> 27.851429 | L75: =0.5*(SQRT(($V$132/1000)^2+4*K75/3.14/$D$4/$V$131)-$V$132/1000)*1000 -> 8.1580469 | M75: =A78*2+$V$132 -> 1010
A76: =$D$3+A75 -> 345 | B76: =((D76*$D$4*$D$5)*2.71)/1000000 -> 2465.2818 | C76: =3.14*A76/1000*(A76+$V$132)/1000*$D$4*$V$131 -> 2465.2818 | D76: =C76/$D$4/2.71/$D$5*1000000 -> 69042.054 | E76: =(A76*2)+300 -> 990 | G76: =$I$4+G75 -> 73 | H76: =0.5*(SQRT(($V$132/1000)^2+4*G76/3.14/$D$4/$V$131)-$V$132/1000)*1000 -> 20.55567 | I76: =G76/$D$4/2.71/$D$5*1000000 -> 2044.4194 | J76: =$I$5+J75 -> 790 | K76: =J76*$D$4/1000*$D$5/1000000*2710 -> 28.208498 | L76: =0.5*(SQRT(($V$132/1000)^2+4*K76/3.14/$D$4/$V$131)-$V$132/1000)*1000 -> 8.259907 | M76: =A79*2+$V$132 -> 1020
A77: =$D$3+A76 -> 350 | B77: =((D77*$D$4*$D$5)*2.71)/1000000 -> 2520.3982 | C77: =3.14*A77/1000*(A77+$V$132)/1000*$D$4*$V$131 -> 2520.3982 | D77: =C77/$D$4/2.71/$D$5*1000000 -> 70585.629 | E77: =(A77*2)+300 -> 1000 | G77: =$I$4+G76 -> 74 | H77: =0.5*(SQRT(($V$132/1000)^2+4*G77/3.14/$D$4/$V$131)-$V$132/1000)*1000 -> 20.820081 | I77: =G77/$D$4/2.71/$D$5*1000000 -> 2072.4251 | J77: =$I$5+J76 -> 800 | K77: =J77*$D$4/1000*$D$5/1000000*2710 -> 28.565568 | L77: =0.5*(SQRT(($V$132/1000)^2+4*K77/3.14/$D$4/$V$131)-$V$132/1000)*1000 -> 8.3617016 | M77: =A80*2+$V$132 -> 1030
... A92: =$D$3+A91 -> 425 | B92: =((D92*$D$4*$D$5)*2.71)/1000000 -> 3413.6163 | C92: =3.14*A92/1000*(A92+$V$132)/1000*$D$4*$V$131 -> 3413.6163 | D92: =C92/$D$4/2.71/$D$5*1000000 -> 95600.866 | E92: =(A92*2)+300 -> 1150 | G92: =$I$4+G91 -> 89 | H92: =0.5*(SQRT(($V$132/1000)^2+4*G92/3.14/$D$4/$V$131)-$V$132/1000)*1000 -> 24.73824 | I92: =G92/$D$4/2.71/$D$5*1000000 -> 2492.5113 | J92: =$I$5+J91 -> 950 | K92: =J92*$D$4/1000*$D$5/1000000*2710 -> 33.921612 | L92: =0.5*(SQRT(($V$132/1000)^2+4*K92/3.14/$D$4/$V$131)-$V$132/1000)*1000 -> 9.8808427 | M92: =A95*2+$V$132 -> 1180
A93: =$D$3+A92 -> 430 | B93: =((D93*$D$4*$D$5)*2.71)/1000000 -> 3477.5956 | C93: =3.14*A93/1000*(A93+$V$132)/1000*$D$4*$V$131 -> 3477.5956 | D93: =C93/$D$4/2.71/$D$5*1000000 -> 97392.655 | E93: =(A93*2)+300 -> 1160 | G93: =$I$4+G92 -> 90 | H93: =0.5*(SQRT(($V$132/1000)^2+4*G93/3.14/$D$4/$V$131)-$V$132/1000)*1000 -> 24.996332 | I93: =G93/$D$4/2.71/$D$5*1000000 -> 2520.517 | J93: =$I$5+J92 -> 960 | K93: =J93*$D$4/1000*$D$5/1000000*2710 -> 34.278682 | L93: =0.5*(SQRT(($V$132/1000)^2+4*K93/3.14/$D$4/$V$131)-$V$132/1000)*1000 -> 9.9816059 | M93: =A96*2+$V$132 -> 1190 | S93: =58000*1.616 -> 93728
A94: =$D$3+A93 -> 435 | B94: =((D94*$D$4*$D$5)*2.71)/1000000 -> 3542.1289 | C94: =3.14*A94/1000*(A94+$V$132)/1000*$D$4*$V$131 -> 3542.1289 | D94: =C94/$D$4/2.71/$D$5*1000000 -> 99199.958 | E94: =(A94*2)+300 -> 1170 | G94: =$I$4+G93 -> 91 | H94: =0.5*(SQRT(($V$132/1000)^2+4*G94/3.14/$D$4/$V$131)-$V$132/1000)*1000 -> 25.254043 | I94: =G94/$D$4/2.71/$D$5*1000000 -> 2548.5228 | J94: =$I$5+J93 -> 970 | K94: =J94*$D$4/1000*$D$5/1000000*2710 -> 34.635751 | L94: =0.5*(SQRT(($V$132/1000)^2+4*K94/3.14/$D$4/$V$131)-$V$132/1000)*1000 -> 10.082306 | M94: =A97*2+$V$132 -> 1200
A95: =$D$3+A94 -> 440 | B95: =((D95*$D$4*$D$5)*2.71)/1000000 -> 3607.2161 | C95: =3.14*A95/1000*(A95+$V$132)/1000*$D$4*$V$131 -> 3607.2161 | D95: =C95/$D$4/2.71/$D$5*1000000 -> 101022.77 | E95: =(A95*2)+300 -> 1180 | G95: =$I$4+G94 -> 92 | H95: =0.5*(SQRT(($V$132/1000)^2+4*G95/3.14/$D$4/$V$131)-$V$132/1000)*1000 -> 25.511376 | I95: =G95/$D$4/2.71/$D$5*1000000 -> 2576.5285 | J95: =$I$5+J94 -> 980 | K95: =J95*$D$4/1000*$D$5/1000000*2710 -> 34.992821 | L95: =0.5*(SQRT(($V$132/1000)^2+4*K95/3.14/$D$4/$V$131)-$V$132/1000)*1000 -> 10.182942 | M95: =A98*2+$V$132 -> 1210
A96: =$D$3+A95 -> 445 | B96: =((D96*$D$4*$D$5)*2.71)/1000000 -> 3672.8573 | C96: =3.14*A96/1000*(A96+$V$132)/1000*$D$4*$V$131 -> 3672.8573 | D96: =C96/$D$4/2.71/$D$5*1000000 -> 102861.1 | E96: =(A96*2)+300 -> 1190 | G96: =$I$4+G95 -> 93 | H96: =0.5*(SQRT(($V$132/1000)^2+4*G96/3.14/$D$4/$V$131)-$V$132/1000)*1000 -> 25.768333 | I96: =G96/$D$4/2.71/$D$5*1000000 -> 2604.5342 | J96: =$I$5+J95 -> 990 | K96: =J96*$D$4/1000*$D$5/1000000*2710 -> 35.34989 | L96: =0.5*(SQRT(($V$132/1000)^2+4*K96/3.14/$D$4/$V$131)-$V$132/1000)*1000 -> 10.283515 | M96: =A99*2+$V$132 -> 1220
A97: =$D$3+A96 -> 450 | B97: =((D97*$D$4*$D$5)*2.71)/1000000 -> 3739.0523 | C97: =3.14*A97/1000*(A97+$V$132)/1000*$D$4*$V$131 -> 3739.0523 | D97: =C97/$D$4/2.71/$D$5*1000000 -> 104714.94 | E97: =(A97*2)+300 -> 1200 | G97: =$I$4+G96 -> 94 | H97: =0.5*(SQRT(($V$132/1000)^2+4*G97/3.14/$D$4/$V$131)-$V$132/1000)*1000 -> 26.024914 | I97: =G97/$D$4/2.71/$D$5*1000000 -> 2632.54 | J97: =$I$5+J96 -> 1000 | K97: =J97*$D$4/1000*$D$5/1000000*2710 -> 35.70696 | L97: =0.5*(SQRT(($V$132/1000)^2+4*K97/3.14/$D$4/$V$131)-$V$132/1000)*1000 -> 10.384026 | M97: =A100*2+$V$132 -> 1230
A98: =$D$3+A97 -> 455 | B98: =((D98*$D$4*$D$5)*2.71)/1000000 -> 3805.8013 | C98: =3.14*A98/1000*(A98+$V$132)/1000*$D$4*$V$131 -> 3805.8013 | D98: =C98/$D$4/2.71/$D$5*1000000 -> 106584.3 | E98: =(A98*2)+300 -> 1210 | G98: =$I$4+G97 -> 95 | H98: =0.5*(SQRT(($V$132/1000)^2+4*G98/3.14/$D$4/$V$131)-$V$132/1000)*1000 -> 26.281121 | I98: =G98/$D$4/2.71/$D$5*1000000 -> 2660.5457 | J98: =$I$5+J97 -> 1010 | K98: =J98*$D$4/1000*$D$5/1000000*2710 -> 36.06403 | L98: =0.5*(SQRT(($V$132/1000)^2+4*K98/3.14/$D$4/$V$131)-$V$132/1000)*1000 -> 10.484473 | M98: =A101*2+$V$132 -> 1240
A99: =$D$3+A98 -> 460 | B99: =((D99*$D$4*$D$5)*2.71)/1000000 -> 3873.1043 | C99: =3.14*A99/1000*(A99+$V$132)/1000*$D$4*$V$131 -> 3873.1043 | D99: =C99/$D$4/2.71/$D$5*1000000 -> 108469.17 | E99: =(A99*2)+300 -> 1220 | G99: =$I$4+G98 -> 96 | H99: =0.5*(SQRT(($V$132/1000)^2+4*G99/3.14/$D$4/$V$131)-$V$132/1000)*1000 -> 26.536957 | I99: =G99/$D$4/2.71/$D$5*1000000 -> 2688.5515 | J99: =$I$5+J98 -> 1020 | K99: =J99*$D$4/1000*$D$5/1000000*2710 -> 36.421099 | L99: =0.5*(SQRT(($V$132/1000)^2+4*K99/3.14/$D$4/$V$131)-$V$132/1000)*1000 -> 10.584857 | M99: =A102*2+$V$132 -> 1250
A100: =$D$3+A99 -> 465 | B100: =((D100*$D$4*$D$5)*2.71)/1000000 -> 3940.9612 | C100: =3.14*A100/1000*(A100+$V$132)/1000*$D$4*$V$131 -> 3940.9612 | D100: =C100/$D$4/2.71/$D$5*1000000 -> 110369.55 | E100: =(A100*2)+300 -> 1230 | G100: =$I$4+G99 -> 97 | H100: =0.5*(SQRT(($V$132/1000)^2+4*G100/3.14/$D$4/$V$131)-$V$132/1000)*1000 -> 26.792423 | I100: =G100/$D$4/2.71/$D$5*1000000 -> 2716.5572 | J100: =$I$5+J99 -> 1030 | K100: =J100*$D$4/1000*$D$5/1000000*2710 -> 36.778169 | L100: =0.5*(SQRT(($V$132/1000)^2+4*K100/3.14/$D$4/$V$131)-$V$132/1000)*1000 -> 10.685179 | M100: =A103*2+$V$132 -> 1260
A101: =$D$3+A100 -> 470 | B101: =((D101*$D$4*$D$5)*2.71)/1000000 -> 4009.372 | C101: =3.14*A101/1000*(A101+$V$132)/1000*$D$4*$V$131 -> 4009.372 | D101: =C101/$D$4/2.71/$D$5*1000000 -> 112285.45 | E101: =(A101*2)+300 -> 1240 | G101: =$I$4+G100 -> 98 | H101: =0.5*(SQRT(($V$132/1000)^2+4*G101/3.14/$D$4/$V$131)-$V$132/1000)*1000 -> 27.04752 | I101: =G101/$D$4/2.71/$D$5*1000000 -> 2744.563 | J101: =$I$5+J100 -> 1040 | K101: =J101*$D$4/1000*$D$5/1000000*2710 -> 37.135238 | L101: =0.5*(SQRT(($V$132/1000)^2+4*K101/3.14/$D$4/$V$131)-$V$132/1000)*1000 -> 10.785438 | M101: =A104*2+$V$132 -> 1270
A102: =$D$3+A101 -> 475 | B102: =((D102*$D$4*$D$5)*2.71)/1000000 -> 4078.3367 | C102: =3.14*A102/1000*(A102+$V$132)/1000*$D$4*$V$131 -> 4078.3367 | D102: =C102/$D$4/2.71/$D$5*1000000 -> 114216.86 | E102: =(A102*2)+300 -> 1250 | G102: =$I$4+G101 -> 99 | H102: =0.5*(SQRT(($V$132/1000)^2+4*G102/3.14/$D$4/$V$131)-$V$132/1000)*1000 -> 27.30225 | I102: =G102/$D$4/2.71/$D$5*1000000 -> 2772.5687 | J102: =$I$5+J101 -> 1050 | K102: =J102*$D$4/1000*$D$5/1000000*2710 -> 37.492308 | L102: =0.5*(SQRT(($V$132/1000)^2+4*K102/3.14/$D$4/$V$131)-$V$132/1000)*1000 -> 10.885635 | M102: =A105*2+$V$132 -> 1280
A103: =$D$3+A102 -> 480 | B103: =((D103*$D$4*$D$5)*2.71)/1000000 -> 4147.8554 | C103: =3.14*A103/1000*(A103+$V$132)/1000*$D$4*$V$131 -> 4147.8554 | D103: =C103/$D$4/2.71/$D$5*1000000 -> 116163.78 | E103: =(A103*2)+300 -> 1260 | G103: =$I$4+G102 -> 100 | H103: =0.5*(SQRT(($V$132/1000)^2+4*G103/3.14/$D$4/$V$131)-$V$132/1000)*1000 -> 27.556614 | I103: =G103/$D$4/2.71/$D$5*1000000 -> 2800.5745 | J103: =$I$5+J102 -> 1060 | K103: =J103*$D$4/1000*$D$5/1000000*2710 -> 37.849378 | L103: =0.5*(SQRT(($V$132/1000)^2+4*K103/3.14/$D$4/$V$131)-$V$132/1000)*1000 -> 10.985769 | M103: =A106*2+$V$132 -> 1290
A104: =$D$3+A103 -> 485 | B104: =((D104*$D$4*$D$5)*2.71)/1000000 -> 4217.928 | C104: =3.14*A104/1000*(A104+$V$132)/1000*$D$4*$V$131 -> 4217.928 | D104: =C104/$D$4/2.71/$D$5*1000000 -> 118126.21 | E104: =(A104*2)+300 -> 1270 | G104: =$I$4+G103 -> 101 | H104: =0.5*(SQRT(($V$132/1000)^2+4*G104/3.14/$D$4/$V$131)-$V$132/1000)*1000 -> 27.810615 | I104: =G104/$D$4/2.71/$D$5*1000000 -> 2828.5802 | J104: =$I$5+J103 -> 1070 | K104: =J104*$D$4/1000*$D$5/1000000*2710 -> 38.206447 | L104: =0.5*(SQRT(($V$132/1000)^2+4*K104/3.14/$D$4/$V$131)-$V$132/1000)*1000 -> 11.085841 | M104: =A107*2+$V$132 -> 1300
A105: =$D$3+A104 -> 490 | B105: =((D105*$D$4*$D$5)*2.71)/1000000 -> 4288.5546 | C105: =3.14*A105/1000*(A105+$V$132)/1000*$D$4*$V$131 -> 4288.5546 | D105: =C105/$D$4/2.71/$D$5*1000000 -> 120104.16 | E105: =(A105*2)+300 -> 1280 | G105: =$I$4+G104 -> 102 | H105: =0.5*(SQRT(($V$132/1000)^2+4*G105/3.14/$D$4/$V$131)-$V$132/1000)*1000 -> 28.064253 | I105: =G105/$D$4/2.71/$D$5*1000000 -> 2856.5859 | J105: =$I$5+J104 -> 1080 | K105: =J105*$D$4/1000*$D$5/1000000*2710 -> 38.563517 | L105: =0.5*(SQRT(($V$132/1000)^2+4*K105/3.14/$D$4/$V$131)-$V$132/1000)*1000 -> 11.185851 | M105: =A108*2+$V$132 -> 1310
... A130: =$D$3+A129 -> 615 | B130: =((D130*$D$4*$D$5)*2.71)/1000000 -> 6234.2466 | C130: =3.14*A130/1000*(A130+$V$132)/1000*$D$4*$V$131 -> 6234.2466 | D130: =C130/$D$4/2.71/$D$5*1000000 -> 174594.72 | E130: =(A130*2)+300 -> 1530 | G130: =$I$4+G129 -> 127 | H130: =0.5*(SQRT(($V$132/1000)^2+4*G130/3.14/$D$4/$V$131)-$V$132/1000)*1000 -> 34.291796 | I130: =G130/$D$4/2.71/$D$5*1000000 -> 3556.7296 | J130: =$I$5+J129 -> 1330 | K130: =J130*$D$4/1000*$D$5/1000000*2710 -> 47.490257 | L130: =0.5*(SQRT(($V$132/1000)^2+4*K130/3.14/$D$4/$V$131)-$V$132/1000)*1000 -> 13.666238 | M130: =A133*2+$V$132 -> 1560
A131: =$D$3+A130 -> 620 | B131: =((D131*$D$4*$D$5)*2.71)/1000000 -> 6319.2754 | C131: =3.14*A131/1000*(A131+$V$132)/1000*$D$4*$V$131 -> 6319.2754 | D131: =C131/$D$4/2.71/$D$5*1000000 -> 176976.01 | E131: =(A131*2)+300 -> 1540 | G131: =$I$4+G130 -> 128 | H131: =0.5*(SQRT(($V$132/1000)^2+4*G131/3.14/$D$4/$V$131)-$V$132/1000)*1000 -> 34.536527 | I131: =G131/$D$4/2.71/$D$5*1000000 -> 3584.7353 | J131: =$I$5+J130 -> 1340 | K131: =J131*$D$4/1000*$D$5/1000000*2710 -> 47.847326 | L131: =0.5*(SQRT(($V$132/1000)^2+4*K131/3.14/$D$4/$V$131)-$V$132/1000)*1000 -> 13.764672 | M131: =A134*2+$V$132 -> 1570 | T131: Densité apparente | V131: =IF(D5=6.3,T8,IF(D5=9,T12,"")) -> 2.41
A132: =$D$3+A131 -> 625 | B132: =((D132*$D$4*$D$5)*2.71)/1000000 -> 6404.8582 | C132: =3.14*A132/1000*(A132+$V$132)/1000*$D$4*$V$131 -> 6404.8582 | D132: =C132/$D$4/2.71/$D$5*1000000 -> 179372.82 | E132: =(A132*2)+300 -> 1550 | G132: =$I$4+G131 -> 129 | H132: =0.5*(SQRT(($V$132/1000)^2+4*G132/3.14/$D$4/$V$131)-$V$132/1000)*1000 -> 34.780933 | I132: =G132/$D$4/2.71/$D$5*1000000 -> 3612.741 | J132: =$I$5+J131 -> 1350 | K132: =J132*$D$4/1000*$D$5/1000000*2710 -> 48.204396 | L132: =0.5*(SQRT(($V$132/1000)^2+4*K132/3.14/$D$4/$V$131)-$V$132/1000)*1000 -> 13.863047 | M132: =A135*2+$V$132 -> 1580 | T132: diamètre mandrin | V132: 300
A133: =$D$3+A132 -> 630 | B133: =((D133*$D$4*$D$5)*2.71)/1000000 -> 6490.9949 | C133: =3.14*A133/1000*(A133+$V$132)/1000*$D$4*$V$131 -> 6490.9949 | D133: =C133/$D$4/2.71/$D$5*1000000 -> 181785.14 | E133: =(A133*2)+300 -> 1560 | G133: =$I$4+G132 -> 130 | H133: =0.5*(SQRT(($V$132/1000)^2+4*G133/3.14/$D$4/$V$131)-$V$132/1000)*1000 -> 35.025016 | I133: =G133/$D$4/2.71/$D$5*1000000 -> 3640.7468 | J133: =$I$5+J132 -> 1360 | K133: =J133*$D$4/1000*$D$5/1000000*2710 -> 48.561466 | L133: =0.5*(SQRT(($V$132/1000)^2+4*K133/3.14/$D$4/$V$131)-$V$132/1000)*1000 -> 13.961363 | M133: =A136*2+$V$132 -> 1590 | T133: P = 3.14*h*(diam+h)*l*dapp | X133: =20000*0.3048 -> 6096
A134: =$D$3+A133 -> 635 | B134: =((D134*$D$4*$D$5)*2.71)/1000000 -> 6577.6855 | C134: =3.14*A134/1000*(A134+$V$132)/1000*$D$4*$V$131 -> 6577.6855 | D134: =C134/$D$4/2.71/$D$5*1000000 -> 184212.98 | E134: =(A134*2)+300 -> 1570 | G134: =$I$4+G133 -> 131 | H134: =0.5*(SQRT(($V$132/1000)^2+4*G134/3.14/$D$4/$V$131)-$V$132/1000)*1000 -> 35.268778 | I134: =G134/$D$4/2.71/$D$5*1000000 -> 3668.7525 | J134: =$I$5+J133 -> 1370 | K134: =J134*$D$4/1000*$D$5/1000000*2710 -> 48.918535 | L134: =0.5*(SQRT(($V$132/1000)^2+4*K134/3.14/$D$4/$V$131)-$V$132/1000)*1000 -> 14.05962 | M134: =A137*2+$V$132 -> 1600 | T134: h = 0.5*(racine(diam^2+4*P/(3.14*l*dapp))-diam)
A135: =$D$3+A134 -> 640 | B135: =((D135*$D$4*$D$5)*2.71)/1000000 -> 6664.93 | C135: =3.14*A135/1000*(A135+$V$132)/1000*$D$4*$V$131 -> 6664.93 | D135: =C135/$D$4/2.71/$D$5*1000000 -> 186656.33 | E135: =(A135*2)+300 -> 1580 | G135: =$I$4+G134 -> 132 | H135: =0.5*(SQRT(($V$132/1000)^2+4*G135/3.14/$D$4/$V$131)-$V$132/1000)*1000 -> 35.51222 | I135: =G135/$D$4/2.71/$D$5*1000000 -> 3696.7583 | J135: =$I$5+J134 -> 1380 | K135: =J135*$D$4/1000*$D$5/1000000*2710 -> 49.275605 | L135: =0.5*(SQRT(($V$132/1000)^2+4*K135/3.14/$D$4/$V$131)-$V$132/1000)*1000 -> 14.157818 | M135: =A138*2+$V$132 -> 1610 | T135: =5.3*D4 -> 7759.2 | U135: =T135/2 -> 3879.6 | V135: =15880/1.15/2 -> 6904.3478 | X135: 7
A136: =$D$3+A135 -> 645 | B136: =((D136*$D$4*$D$5)*2.71)/1000000 -> 6752.7285 | C136: =3.14*A136/1000*(A136+$V$132)/1000*$D$4*$V$131 -> 6752.7285 | D136: =C136/$D$4/2.71/$D$5*1000000 -> 189115.19 | E136: =(A136*2)+300 -> 1590 | G136: =$I$4+G135 -> 133 | H136: =0.5*(SQRT(($V$132/1000)^2+4*G136/3.14/$D$4/$V$131)-$V$132/1000)*1000 -> 35.755342 | I136: =G136/$D$4/2.71/$D$5*1000000 -> 3724.764 | J136: =$I$5+J135 -> 1390 | K136: =J136*$D$4/1000*$D$5/1000000*2710 -> 49.632674 | L136: =0.5*(SQRT(($V$132/1000)^2+4*K136/3.14/$D$4/$V$131)-$V$132/1000)*1000 -> 14.255957 | M136: =A139*2+$V$132 -> 1620
A137: =$D$3+A136 -> 650 | B137: =((D137*$D$4*$D$5)*2.71)/1000000 -> 6841.0809 | C137: =3.14*A137/1000*(A137+$V$132)/1000*$D$4*$V$131 -> 6841.0809 | D137: =C137/$D$4/2.71/$D$5*1000000 -> 191589.57 | E137: =(A137*2)+300 -> 1600 | G137: =$I$4+G136 -> 134 | H137: =0.5*(SQRT(($V$132/1000)^2+4*G137/3.14/$D$4/$V$131)-$V$132/1000)*1000 -> 35.998147 | I137: =G137/$D$4/2.71/$D$5*1000000 -> 3752.7698 | J137: =$I$5+J136 -> 1400 | K137: =J137*$D$4/1000*$D$5/1000000*2710 -> 49.989744 | L137: =0.5*(SQRT(($V$132/1000)^2+4*K137/3.14/$D$4/$V$131)-$V$132/1000)*1000 -> 14.354038 | M137: =A140*2+$V$132 -> 1630
A138: =$D$3+A137 -> 655 | B138: =((D138*$D$4*$D$5)*2.71)/1000000 -> 6929.9873 | C138: =3.14*A138/1000*(A138+$V$132)/1000*$D$4*$V$131 -> 6929.9873 | D138: =C138/$D$4/2.71/$D$5*1000000 -> 194079.45 | E138: =(A138*2)+300 -> 1610 | G138: =$I$4+G137 -> 135 | H138: =0.5*(SQRT(($V$132/1000)^2+4*G138/3.14/$D$4/$V$131)-$V$132/1000)*1000 -> 36.240635 | I138: =G138/$D$4/2.71/$D$5*1000000 -> 3780.7755 | J138: =$I$5+J137 -> 1410 | K138: =J138*$D$4/1000*$D$5/1000000*2710 -> 50.346814 | L138: =0.5*(SQRT(($V$132/1000)^2+4*K138/3.14/$D$4/$V$131)-$V$132/1000)*1000 -> 14.452061 | M138: =A141*2+$V$132 -> 1640
A139: =$D$3+A138 -> 660 | B139: =((D139*$D$4*$D$5)*2.71)/1000000 -> 7019.4476 | C139: =3.14*A139/1000*(A139+$V$132)/1000*$D$4*$V$131 -> 7019.4476 | D139: =C139/$D$4/2.71/$D$5*1000000 -> 196584.86 | E139: =(A139*2)+300 -> 1620 | G139: =$I$4+G138 -> 136 | H139: =0.5*(SQRT(($V$132/1000)^2+4*G139/3.14/$D$4/$V$131)-$V$132/1000)*1000 -> 36.482808 | I139: =G139/$D$4/2.71/$D$5*1000000 -> 3808.7813 | J139: =$I$5+J138 -> 1420 | K139: =J139*$D$4/1000*$D$5/1000000*2710 -> 50.703883 | L139: =0.5*(SQRT(($V$132/1000)^2+4*K139/3.14/$D$4/$V$131)-$V$132/1000)*1000 -> 14.550025 | M139: =A142*2+$V$132 -> 1650
A140: =$D$3+A139 -> 665 | B140: =((D140*$D$4*$D$5)*2.71)/1000000 -> 7109.4618 | C140: =3.14*A140/1000*(A140+$V$132)/1000*$D$4*$V$131 -> 7109.4618 | D140: =C140/$D$4/2.71/$D$5*1000000 -> 199105.77 | E140: =(A140*2)+300 -> 1630 | G140: =$I$4+G139 -> 137 | H140: =0.5*(SQRT(($V$132/1000)^2+4*G140/3.14/$D$4/$V$131)-$V$132/1000)*1000 -> 36.724667 | I140: =G140/$D$4/2.71/$D$5*1000000 -> 3836.787 | J140: =$I$5+J139 -> 1430 | K140: =J140*$D$4/1000*$D$5/1000000*2710 -> 51.060953 | L140: =0.5*(SQRT(($V$132/1000)^2+4*K140/3.14/$D$4/$V$131)-$V$132/1000)*1000 -> 14.64793 | M140: =A143*2+$V$132 -> 1660
...

Sheet Tableau
A1: Dates :
B2: ST 110
A3: Material code | B3: Complete reels | C3: diamètre | D3: Poids net (kg) | E3: Total uncomplete
A4: 2812-1464 | B4: 12 | C4: 310 | D4: =INDEX(ABAC!$C$8:$C$278,MATCH(Tableau!$C$4,ABAC!$E$8:$E$278)) -> 16.894977 | E4: =D4+D5+D7 -> 158.702
A5: 2812-1464 | B5: 3 | C5: 340 | D5: =INDEX(ABAC!$C$9:$C$279,MATCH(Tableau!$C$5,ABAC!$E$9:$E$279)) -> 70.903511
A6: 2812-1464 | B6: 2 | C6: 320 | D6: =INDEX(ABAC!C8:C127,MATCH(Tableau!C8,ABAC!E8:E127)) -> 34.343888
A7: 2812-1464 | B7: 4 | C7: 340 | D7: =INDEX(ABAC!C10:C280,MATCH(Tableau!C7,ABAC!E10:E280)) -> 70.903511
A8: 2812-1626 | B8: 9 | C8: 320 | D8: =INDEX(ABAC!C8:C127,MATCH(Tableau!C8,ABAC!E8:E127)) -> 34.343888 | E8: =D8+D9+D11 -> 86.690621
A9: 2812-1626 | B9: 11 | C9: 330 | D9: =INDEX(ABAC!C9:C128,MATCH(Tableau!C9,ABAC!E9:E128)) -> 52.346733
A10: 2812-1626
A11: 2812-1626
A12: 2812-1595
A13: 2812-1595
A14: 2812-1595
A15: 2812-1595
A16: 2812-421
A19: 2812-290
A22: 2812-288
A25: 2809-529
A28: 2809-464
A31: 2809-420
... A55: 2809-570
