Workbook

Sheet ABAC
A1: Calcul de poids/métrage pour les hauteurs sur mandrin | H1: incréments | N1: =B5 -> épaisseur | O1: =D5 -> 9 | P1: µm
A3: intervales | B3: hauteur | D3: 5
A4: entrée | B4: largeur | D4: 1464 | H4: poids | I4: 1 | N4: =B4 -> largeur | O4: =D4 -> 1464 | P4: mm
A5: entrée | B5: épaisseur | D5: 9 | H5: metrage | I5: 10
A6: mm sur mandrin | B6: kg | C6: net kg | D6: métrage restant | E6: diam | G6: poids | H6: hauteur | I6: métrage restant | J6: métrage restant | K6: poids | L6: hauteur | M6: diamêtre | S6: Alliage 1200
G7: 4 | H7: =0.5*(SQRT(($V$132/1000)^2+4*G7/3.14/$D$4/$V$131)-$V$132/1000)*1000 -> 1.1987237 | I7: =G7/$D$4/2.71/$D$5*1000000 -> 112.02298 | J7: 100 | K7: =J7*$D$4/1000*$D$5/1000000*2710 -> 3.570696 | L7: =0.5*(SQRT(($V$132/1000)^2+4*K7/3.14/$D$4/$V$131)-$V$132/1000)*1000 -> 1.0705251 | M7: =A10*2+$V$132 -> 330 | S7: ep | T7: d e (L1500) | U7: d relaitve (%) | V7: ep lame d'air | W7: de L1000 | X7: de L1700 | AA7: ep | AB7: d e (L1500) | AC7: d relaitve (%) | AD7: ep lame d'air | AE7: % IACS
A8: =$D$3+A7 -> 5 | B8: =((D8*$D$4*$D$5)*2.71)/1000000 -> 16.894977 | C8: =3.14*A8/1000*(A8+$V$132)/1000*$D$4*$V$131 -> 16.894977 | D8: =C8/$D$4/2.71/$D$5*1000000 -> 473.15642 | E8: =(A8*2)+300 -> 310 | G8: =$I$4+G7 -> 5 | H8: =0.5*(SQRT(($V$132/1000)^2+4*G8/3.14/$D$4/$V$131)-$V$132/1000)*1000 -> 1.4969226 | I8: =G8/$D$4/2.71/$D$5*1000000 -> 140.02872 | J8: =$I$5+J7 -> 110 | K8: =J8*$D$4/1000*$D$5/1000000*2710 -> 3.9277656 | L8: =0.5*(SQRT(($V$132/1000)^2+4*K8/3.14/$D$4/$V$131)-$V$132/1000)*1000 -> 1.1771607 | M8: =A11*2+$V$132 -> 340 | S8: <7 | T8: 2.3 | U8: =T8/2.71*100 -> 84.870849 | V8: =(1-T8/2.71)*6.5 -> 0.98339483 | W8: 2.4 | X8: 2.27 | Y8: 169 | Z8: =156+2*Y8 -> 494 | AA8: 6.5 | AB8: 2.3 | AC8: =AB8/2.71*100 -> 84.870849 | AD8: =(1-AB8/2.71)*6.5 -> 0.98339483 | AE8: 52.2
A9: =$D$3+A8 -> 10 | B9: =((D9*$D$4*$D$5)*2.71)/1000000 -> 34.343888 | C9: =3.14*A9/1000*(A9+$V$132)/1000*$D$4*$V$131 -> 34.343888 | D9: =C9/$D$4/2.71/$D$5*1000000 -> 961.82616 | E9: =(A9*2)+300 -> 320 | G9: =$I$4+G8 -> 6 | H9: =0.5*(SQRT(($V$132/1000)^2+4*G9/3.14/$D$4/$V$131)-$V$132/1000)*1000 -> 1.7945357 | I9: =G9/$D$4/2.71/$D$5*1000000 -> 168.03447 | J9: =$I$5+J8 -> 120 | K9: =J9*$D$4/1000*$D$5/1000000*2710 -> 4.2848352 | L9: =0.5*(SQRT(($V$132/1000)^2+4*K9/3.14/$D$4/$V$131)-$V$132/1000)*1000 -> 1.2837211 | M9: =A12*2+$V$132 -> 350 | S9: <7 (8979) | T9: 2.37 | U9: =T9/2.71*100 -> 87.453875 | V9: =(1-T9/2.71)*6.5 -> 0.81549815 | W9: 2.45 | X9: 2.37 | Y9: 184 | Z9: =156+2*Y9 -> 524 | AA9: 7 | AB9: 2.37 | AC9: =AB9/2.71*100 -> 87.453875 | AD9: =(1-AB9/2.71)*6.5 -> 0.81549815
A10: =$D$3+A9 -> 15 | B10: =((D10*$D$4*$D$5)*2.71)/1000000 -> 52.346733 | C10: =3.14*A10/1000*(A10+$V$132)/1000*$D$4*$V$131 -> 52.346733 | D10: =C10/$D$4/2.71/$D$5*1000000 -> 1466.0092 | E10: =(A10*2)+300 -> 330 | G10: =$I$4+G9 -> 7 | H10: =0.5*(SQRT(($V$132/1000)^2+4*G10/3.14/$D$4/$V$131)-$V$132/1000)*1000 -> 2.0915665 | I10: =G10/$D$4/2.71/$D$5*1000000 -> 196.04021 | J10: =$I$5+J9 -> 130 | K10: =J10*$D$4/1000*$D$5/1000000*2710 -> 4.6419048 | L10: =0.5*(SQRT(($V$132/1000)^2+4*K10/3.14/$D$4/$V$131)-$V$132/1000)*1000 -> 1.3902065 | M10: =A13*2+$V$132 -> 360 | S10: 7 | T10: 2.32 | U10: =T10/2.71*100 -> 85.608856 | V10: =(1-T10/2.71)*S10 -> 1.0073801 | Y10: 199 | Z10: =156+2*Y10 -> 554 | AA10: 7 | AB10: 2.32 | AC10: =AB10/2.71*100 -> 85.608856 | AD10: =(1-AB10/2.71)*AA10 -> 1.0073801
A11: =$D$3+A10 -> 20 | B11: =((D11*$D$4*$D$5)*2.71)/1000000 -> 70.903511 | C11: =3.14*A11/1000*(A11+$V$132)/1000*$D$4*$V$131 -> 70.903511 | D11: =C11/$D$4/2.71/$D$5*1000000 -> 1985.7056 | E11: =(A11*2)+300 -> 340 | G11: =$I$4+G10 -> 8 | H11: =0.5*(SQRT(($V$132/1000)^2+4*G11/3.14/$D$4/$V$131)-$V$132/1000)*1000 -> 2.3880182 | I11: =G11/$D$4/2.71/$D$5*1000000 -> 224.04596 | J11: =$I$5+J10 -> 140 | K11: =J11*$D$4/1000*$D$5/1000000*2710 -> 4.9989744 | L11: =0.5*(SQRT(($V$132/1000)^2+4*K11/3.14/$D$4/$V$131)-$V$132/1000)*1000 -> 1.4966171 | M11: =A14*2+$V$132 -> 370 | S11: 8 | T11: 2.41 | U11: =T11/2.71*100 -> 88.929889 | V11: =(1-T11/2.71)*S11 -> 0.88560886 | Y11: 212 | Z11: =156+2*Y11 -> 580 | AA11: 8 | AB11: 2.41 | AC11: =AB11/2.71*100 -> 88.929889 | AD11: =(1-AB11/2.71)*AA11 -> 0.88560886 | AE11: 56
A12: =$D$3+A11 -> 25 | B12: =((D12*$D$4*$D$5)*2.71)/1000000 -> 90.014223 | C12: =3.14*A12/1000*(A12+$V$132)/1000*$D$4*$V$131 -> 90.014223 | D12: =C12/$D$4/2.71/$D$5*1000000 -> 2520.9153 | E12: =(A12*2)+300 -> 350 | G12: =$I$4+G11 -> 9 | H12: =0.5*(SQRT(($V$132/1000)^2+4*G12/3.14/$D$4/$V$131)-$V$132/1000)*1000 -> 2.6838944 | I12: =G12/$D$4/2.71/$D$5*1000000 -> 252.0517 | J12: =$I$5+J11 -> 150 | K12: =J12*$D$4/1000*$D$5/1000000*2710 -> 5.356044 | L12: =0.5*(SQRT(($V$132/1000)^2+4*K12/3.14/$D$4/$V$131)-$V$132/1000)*1000 -> 1.602953 | M12: =A15*2+$V$132 -> 380 | S12: 9 | T12: 2.41 | U12: =T12/2.71*100 -> 88.929889 | V12: =(1-T12/2.71)*S12 -> 0.99630996 | Y12: 226 | Z12: =156+2*Y12 -> 608 | AA12: 9 | AB12: 2.41 | AC12: =AB12/2.71*100 -> 88.929889 | AD12: =(1-AB12/2.71)*AA12 -> 0.99630996
A13: =$D$3+A12 -> 30 | B13: =((D13*$D$4*$D$5)*2.71)/1000000 -> 109.67887 | C13: =3.14*A13/1000*(A13+$V$132)/1000*$D$4*$V$131 -> 109.67887 | D13: =C13/$D$4/2.71/$D$5*1000000 -> 3071.6384 | E13: =(A13*2)+300 -> 360 | G13: =$I$4+G12 -> 10 | H13: =0.5*(SQRT(($V$132/1000)^2+4*G13/3.14/$D$4/$V$131)-$V$132/1000)*1000 -> 2.9791984 | I13: =G13/$D$4/2.71/$D$5*1000000 -> 280.05745 | J13: =$I$5+J12 -> 160 | K13: =J13*$D$4/1000*$D$5/1000000*2710 -> 5.7131136 | L13: =0.5*(SQRT(($V$132/1000)^2+4*K13/3.14/$D$4/$V$131)-$V$132/1000)*1000 -> 1.7092143 | M13: =A16*2+$V$132 -> 390 | S13: 11 | T13: 2.51 | U13: =T13/2.71*100 -> 92.619926 | V13: =(1-T13/2.71)*S13 -> 0.81180812 | Y13: 239 | Z13: =156+2*Y13 -> 634 | AA13: 11 | AB13: 2.51 | AC13: =AB13/2.71*100 -> 92.619926 | AD13: =(1-AB13/2.71)*AA13 -> 0.81180812
A14: =$D$3+A13 -> 35 | B14: =((D14*$D$4*$D$5)*2.71)/1000000 -> 129.89745 | C14: =3.14*A14/1000*(A14+$V$132)/1000*$D$4*$V$131 -> 129.89745 | D14: =C14/$D$4/2.71/$D$5*1000000 -> 3637.8747 | E14: =(A14*2)+300 -> 370 | G14: =$I$4+G13 -> 11 | H14: =0.5*(SQRT(($V$132/1000)^2+4*G14/3.14/$D$4/$V$131)-$V$132/1000)*1000 -> 3.2739333 | I14: =G14/$D$4/2.71/$D$5*1000000 -> 308.06319 | J14: =$I$5+J13 -> 170 | K14: =J14*$D$4/1000*$D$5/1000000*2710 -> 6.0701832 | L14: =0.5*(SQRT(($V$132/1000)^2+4*K14/3.14/$D$4/$V$131)-$V$132/1000)*1000 -> 1.8154013 | M14: =A17*2+$V$132 -> 400 | S14: 11.5 | T14: 2.51 | U14: =T14/2.71*100 -> 92.619926 | V14: =(1-T14/2.71)*S14 -> 0.84870849 | AA14: 11.5 | AB14: 2.51 | AC14: =AB14/2.71*100 -> 92.619926 | AD14: =(1-AB14/2.71)*AA14 -> 0.84870849
A15: =$D$3+A14 -> 40 | B15: =((D15*$D$4*$D$5)*2.71)/1000000 -> 150.66996 | C15: =3.14*A15/1000*(A15+$V$132)/1000*$D$4*$V$131 -> 150.66996 | D15: =C15/$D$4/2.71/$D$5*1000000 -> 4219.6244 | E15: =(A15*2)+300 -> 380 | G15: =$I$4+G14 -> 12 | H15: =0.5*(SQRT(($V$132/1000)^2+4*G15/3.14/$D$4/$V$131)-$V$132/1000)*1000 -> 3.5681027 | I15: =G15/$D$4/2.71/$D$5*1000000 -> 336.06893 | J15: =$I$5+J14 -> 180 | K15: =J15*$D$4/1000*$D$5/1000000*2710 -> 6.4272528 | L15: =0.5*(SQRT(($V$132/1000)^2+4*K15/3.14/$D$4/$V$131)-$V$132/1000)*1000 -> 1.921514 | M15: =A18*2+$V$132 -> 410 | S15: 12 | T15: 2.51 | U15: =T15/2.71*100 -> 92.619926 | V15: =(1-T15/2.71)*S15 -> 0.88560886 | AA15: 12 | AB15: 2.51 | AC15: =AB15/2.71*100 -> 92.619926 | AD15: =(1-AB15/2.71)*AA15 -> 0.88560886
A16: =$D$3+A15 -> 45 | B16: =((D16*$D$4*$D$5)*2.71)/1000000 -> 171.99641 | C16: =3.14*A16/1000*(A16+$V$132)/1000*$D$4*$V$131 -> 171.99641 | D16: =C16/$D$4/2.71/$D$5*1000000 -> 4816.8875 | E16: =(A16*2)+300 -> 390 | G16: =$I$4+G15 -> 13 | H16: =0.5*(SQRT(($V$132/1000)^2+4*G16/3.14/$D$4/$V$131)-$V$132/1000)*1000 -> 3.8617096 | I16: =G16/$D$4/2.71/$D$5*1000000 -> 364.07468 | J16: =$I$5+J15 -> 190 | K16: =J16*$D$4/1000*$D$5/1000000*2710 -> 6.7843224 | L16: =0.5*(SQRT(($V$132/1000)^2+4*K16/3.14/$D$4/$V$131)-$V$132/1000)*1000 -> 2.0275527 | M16: =A19*2+$V$132 -> 420 | S16: 38 | T16: 2.65 | U16: =T16/2.71*100 -> 97.785978 | V16: =(1-T16/2.71)*S16 -> 0.84132841 | AA16: 38 | AB16: 2.65 | AC16: =AB16/2.71*100 -> 97.785978 | AD16: =(1-AB16/2.71)*AA16 -> 0.84132841 | AE16: 58.3
A17: =$D$3+A16 -> 50 | B17: =((D17*$D$4*$D$5)*2.71)/1000000 -> 193.87679 | C17: =3.14*A17/1000*(A17+$V$132)/1000*$D$4*$V$131 -> 193.87679 | D17: =C17/$D$4/2.71/$D$5*1000000 -> 5429.6638 | E17: =(A17*2)+300 -> 400 | G17: =$I$4+G16 -> 14 | H17: =0.5*(SQRT(($V$132/1000)^2+4*G17/3.14/$D$4/$V$131)-$V$132/1000)*1000 -> 4.1547573 | I17: =G17/$D$4/2.71/$D$5*1000000 -> 392.08042 | J17: =$I$5+J16 -> 200 | K17: =J17*$D$4/1000*$D$5/1000000*2710 -> 7.141392 | L17: =0.5*(SQRT(($V$132/1000)^2+4*K17/3.14/$D$4/$V$131)-$V$132/1000)*1000 -> 2.1335174 | M17: =A20*2+$V$132 -> 430 | S17: 45 | T17: 2.65 | U17: =T17/2.71*100 -> 97.785978 | V17: =(1-T17/2.71)*S17 -> 0.99630996 | AA17: 45 | AB17: 2.65 | AC17: =AB17/2.71*100 -> 97.785978 | AD17: =(1-AB17/2.71)*AA17 -> 0.99630996
A18: =$D$3+A17 -> 55 | B18: =((D18*$D$4*$D$5)*2.71)/1000000 -> 216.3111 | C18: =3.14*A18/1000*(A18+$V$132)/1000*$D$4*$V$131 -> 216.3111 | D18: =C18/$D$4/2.71/$D$5*1000000 -> 6057.9535 | E18: =(A18*2)+300 -> 410 | G18: =$I$4+G17 -> 15 | H18: =0.5*(SQRT(($V$132/1000)^2+4*G18/3.14/$D$4/$V$131)-$V$132/1000)*1000 -> 4.4472489 | I18: =G18/$D$4/2.71/$D$5*1000000 -> 420.08617 | J18: =$I$5+J17 -> 210 | K18: =J18*$D$4/1000*$D$5/1000000*2710 -> 7.4984616 | L18: =0.5*(SQRT(($V$132/1000)^2+4*K18/3.14/$D$4/$V$131)-$V$132/1000)*1000 -> 2.2394085 | M18: =A21*2+$V$132 -> 440 | S18: 50 | T18: 2.65 | U18: =T18/2.71*100 -> 97.785978 | V18: =(1-T18/2.71)*S18 -> 1.1070111 | AA18: 50 | AB18: 2.65 | AC18: =AB18/2.71*100 -> 97.785978 | AD18: =(1-AB18/2.71)*AA18 -> 1.1070111
A19: =$D$3+A18 -> 60 | B19: =((D19*$D$4*$D$5)*2.71)/1000000 -> 239.29935 | C19: =3.14*A19/1000*(A19+$V$132)/1000*$D$4*$V$131 -> 239.29935 | D19: =C19/$D$4/2.71/$D$5*1000000 -> 6701.7565 | E19: =(A19*2)+300 -> 420 | G19: =$I$4+G18 -> 16 | H19: =0.5*(SQRT(($V$132/1000)^2+4*G19/3.14/$D$4/$V$131)-$V$132/1000)*1000 -> 4.7391877 | I19: =G19/$D$4/2.71/$D$5*1000000 -> 448.09191 | J19: =$I$5+J18 -> 220 | K19: =J19*$D$4/1000*$D$5/1000000*2710 -> 7.8555312 | L19: =0.5*(SQRT(($V$132/1000)^2+4*K19/3.14/$D$4/$V$131)-$V$132/1000)*1000 -> 2.3452259 | M19: =A22*2+$V$132 -> 450 | S19: 60 | T19: 2.65 | U19: =T19/2.71*100 -> 97.785978 | V19: =(1-T19/2.71)*S19 -> 1.3284133 | AA19: 60 | AB19: 2.65 | AC19: =AB19/2.71*100 -> 97.785978 | AD19: =(1-AB19/2.71)*AA19 -> 1.3284133
A20: =$D$3+A19 -> 65 | B20: =((D20*$D$4*$D$5)*2.71)/1000000 -> 262.84153 | C20: =3.14*A20/1000*(A20+$V$132)/1000*$D$4*$V$131 -> 262.84153 | D20: =C20/$D$4/2.71/$D$5*1000000 -> 7361.0728 | E20: =(A20*2)+300 -> 430 | G20: =$I$4+G19 -> 17 | H20: =0.5*(SQRT(($V$132/1000)^2+4*G20/3.14/$D$4/$V$131)-$V$132/1000)*1000 -> 5.0305767 | I20: =G20/$D$4/2.71/$D$5*1000000 -> 476.09766 | J20: =$I$5+J19 -> 230 | K20: =J20*$D$4/1000*$D$5/1000000*2710 -> 8.2126008 | L20: =0.5*(SQRT(($V$132/1000)^2+4*K20/3.14/$D$4/$V$131)-$V$132/1000)*1000 -> 2.4509698 | M20: =A23*2+$V$132 -> 460 | S20: 80 | T20: 2.65 | U20: =T20/2.71*100 -> 97.785978 | V20: =(1-T20/2.71)*S20 -> 1.7712177 | AA20: 80 | AB20: 2.65 | AC20: =AB20/2.71*100 -> 97.785978 | AD20: =(1-AB20/2.71)*AA20 -> 1.7712177
A21: =$D$3+A20 -> 70 | B21: =((D21*$D$4*$D$5)*2.71)/1000000 -> 286.93765 | C21: =3.14*A21/1000*(A21+$V$132)/1000*$D$4*$V$131 -> 286.93765 | D21: =C21/$D$4/2.71/$D$5*1000000 -> 8035.9024 | E21: =(A21*2)+300 -> 440 | G21: =$I$4+G20 -> 18 | H21: =0.5*(SQRT(($V$132/1000)^2+4*G21/3.14/$D$4/$V$131)-$V$132/1000)*1000 -> 5.3214191 | I21: =G21/$D$4/2.71/$D$5*1000000 -> 504.1034 | J21: =$I$5+J20 -> 240 | K21: =J21*$D$4/1000*$D$5/1000000*2710 -> 8.5696704 | L21: =0.5*(SQRT(($V$132/1000)^2+4*K21/3.14/$D$4/$V$131)-$V$132/1000)*1000 -> 2.5566405 | M21: =A24*2+$V$132 -> 470 | S21: 100 | T21: 2.66 | U21: =T21/2.71*100 -> 98.154982 | V21: =(1-T21/2.71)*S21 -> 1.8450185 | AA21: 100 | AB21: 2.66 | AC21: =AB21/2.71*100 -> 98.154982 | AD21: =(1-AB21/2.71)*AA21 -> 1.8450185 | AE21: 58.8
A22: =$D$3+A21 -> 75 | B22: =((D22*$D$4*$D$5)*2.71)/1000000 -> 311.58769 | C22: =3.14*A22/1000*(A22+$V$132)/1000*$D$4*$V$131 -> 311.5877 | D22: =C22/$D$4/2.71/$D$5*1000000 -> 8726.2454 | E22: =(A22*2)+300 -> 450 | G22: =$I$4+G21 -> 19 | H22: =0.5*(SQRT(($V$132/1000)^2+4*G22/3.14/$D$4/$V$131)-$V$132/1000)*1000 -> 5.6117179 | I22: =G22/$D$4/2.71/$D$5*1000000 -> 532.10915 | J22: =$I$5+J21 -> 250 | K22: =J22*$D$4/1000*$D$5/1000000*2710 -> 8.92674 | L22: =0.5*(SQRT(($V$132/1000)^2+4*K22/3.14/$D$4/$V$131)-$V$132/1000)*1000 -> 2.662238 | M22: =A25*2+$V$132 -> 480 | S22: 140 | T22: 2.67 | U22: =T22/2.71*100 -> 98.523985 | V22: =(1-T22/2.71)*S22 -> 2.0664207 | AA22: 140 | AB22: 2.67 | AC22: =AB22/2.71*100 -> 98.523985 | AD22: =(1-AB22/2.71)*AA22 -> 2.0664207
A23: =$D$3+A22 -> 80 | B23: =((D23*$D$4*$D$5)*2.71)/1000000 -> 336.79168 | C23: =3.14*A23/1000*(A23+$V$132)/1000*$D$4*$V$131 -> 336.79168 | D23: =C23/$D$4/2.71/$D$5*1000000 -> 9432.1017 | E23: =(A23*2)+300 -> 460 | G23: =$I$4+G22 -> 20 | H23: =0.5*(SQRT(($V$132/1000)^2+4*G23/3.14/$D$4/$V$131)-$V$132/1000)*1000 -> 5.9014761 | I23: =G23/$D$4/2.71/$D$5*1000000 -> 560.11489 | J23: =$I$5+J22 -> 260 | K23: =J23*$D$4/1000*$D$5/1000000*2710 -> 9.2838096 | L23: =0.5*(SQRT(($V$132/1000)^2+4*K23/3.14/$D$4/$V$131)-$V$132/1000)*1000 -> 2.7677625 | M23: =A26*2+$V$132 -> 490
A24: =$D$3+A23 -> 85 | B24: =((D24*$D$4*$D$5)*2.71)/1000000 -> 362.54959 | C24: =3.14*A24/1000*(A24+$V$132)/1000*$D$4*$V$131 -> 362.54959 | D24: =C24/$D$4/2.71/$D$5*1000000 -> 10153.471 | E24: =(A24*2)+300 -> 470 | G24: =$I$4+G23 -> 21 | H24: =0.5*(SQRT(($V$132/1000)^2+4*G24/3.14/$D$4/$V$131)-$V$132/1000)*1000 -> 6.1906968 | I24: =G24/$D$4/2.71/$D$5*1000000 -> 588.12064 | J24: =$I$5+J23 -> 270 | K24: =J24*$D$4/1000*$D$5/1000000*2710 -> 9.6408792 | L24: =0.5*(SQRT(($V$132/1000)^2+4*K24/3.14/$D$4/$V$131)-$V$132/1000)*1000 -> 2.8732142 | M24: =A27*2+$V$132 -> 500
A25: =$D$3+A24 -> 90 | B25: =((D25*$D$4*$D$5)*2.71)/1000000 -> 388.86144 | C25: =3.14*A25/1000*(A25+$V$132)/1000*$D$4*$V$131 -> 388.86144 | D25: =C25/$D$4/2.71/$D$5*1000000 -> 10890.354 | E25: =(A25*2)+300 -> 480 | G25: =$I$4+G24 -> 22 | H25: =0.5*(SQRT(($V$132/1000)^2+4*G25/3.14/$D$4/$V$131)-$V$132/1000)*1000 -> 6.479383 | I25: =G25/$D$4/2.71/$D$5*1000000 -> 616.12638 | J25: =$I$5+J24 -> 280 | K25: =J25*$D$4/1000*$D$5/1000000*2710 -> 9.9979488 | L25: =0.5*(SQRT(($V$132/1000)^2+4*K25/3.14/$D$4/$V$131)-$V$132/1000)*1000 -> 2.9785932 | M25: =A28*2+$V$132 -> 510 | V25: =2.71-0.98 -> 1.73
A26: =$D$3+A25 -> 95 | B26: =((D26*$D$4*$D$5)*2.71)/1000000 -> 415.72723 | C26: =3.14*A26/1000*(A26+$V$132)/1000*$D$4*$V$131 -> 415.72723 | D26: =C26/$D$4/2.71/$D$5*1000000 -> 11642.751 | E26: =(A26*2)+300 -> 490 | G26: =$I$4+G25 -> 23 | H26: =0.5*(SQRT(($V$132/1000)^2+4*G26/3.14/$D$4/$V$131)-$V$132/1000)*1000 -> 6.7675375 | I26: =G26/$D$4/2.71/$D$5*1000000 -> 644.13212 | J26: =$I$5+J25 -> 290 | K26: =J26*$D$4/1000*$D$5/1000000*2710 -> 10.355018 | L26: =0.5*(SQRT(($V$132/1000)^2+4*K26/3.14/$D$4/$V$131)-$V$132/1000)*1000 -> 3.0838997 | M26: =A29*2+$V$132 -> 520 | N26: Laize | O26: Epaisseur au mandrin minimum pour prod | P26: laize
A27: =$D$3+A26 -> 100 | B27: =((D27*$D$4*$D$5)*2.71)/1000000 -> 443.14694 | C27: =3.14*A27/1000*(A27+$V$132)/1000*$D$4*$V$131 -> 443.14694 | D27: =C27/$D$4/2.71/$D$5*1000000 -> 12410.66 | E27: =(A27*2)+300 -> 500 | G27: =$I$4+G26 -> 24 | H27: =0.5*(SQRT(($V$132/1000)^2+4*G27/3.14/$D$4/$V$131)-$V$132/1000)*1000 -> 7.0551633 | I27: =G27/$D$4/2.71/$D$5*1000000 -> 672.13787 | J27: =$I$5+J26 -> 300 | K27: =J27*$D$4/1000*$D$5/1000000*2710 -> 10.712088 | L27: =0.5*(SQRT(($V$132/1000)^2+4*K27/3.14/$D$4/$V$131)-$V$132/1000)*1000 -> 3.1891337 | M27: =A30*2+$V$132 -> 530 | N27: R2809-224 | O27: 4 cm | P27: 1224
A28: =$D$3+A27 -> 105 | B28: =((D28*$D$4*$D$5)*2.71)/1000000 -> 471.12059 | C28: =3.14*A28/1000*(A28+$V$132)/1000*$D$4*$V$131 -> 471.12059 | D28: =C28/$D$4/2.71/$D$5*1000000 -> 13194.083 | E28: =(A28*2)+300 -> 510 | G28: =$I$4+G27 -> 25 | H28: =0.5*(SQRT(($V$132/1000)^2+4*G28/3.14/$D$4/$V$131)-$V$132/1000)*1000 -> 7.3422633 | I28: =G28/$D$4/2.71/$D$5*1000000 -> 700.14361 | J28: =$I$5+J27 -> 310 | K28: =J28*$D$4/1000*$D$5/1000000*2710 -> 11.069158 | L28: =0.5*(SQRT(($V$132/1000)^2+4*K28/3.14/$D$4/$V$131)-$V$132/1000)*1000 -> 3.2942956 | M28: =A31*2+$V$132 -> 540 | N28: R2809-290 | O28: 4 cm | P28: 1290
A29: =$D$3+A28 -> 110 | B29: =((D29*$D$4*$D$5)*2.71)/1000000 -> 499.64818 | C29: =3.14*A29/1000*(A29+$V$132)/1000*$D$4*$V$131 -> 499.64818 | D29: =C29/$D$4/2.71/$D$5*1000000 -> 13993.019 | E29: =(A29*2)+300 -> 520 | G29: =$I$4+G28 -> 26 | H29: =0.5*(SQRT(($V$132/1000)^2+4*G29/3.14/$D$4/$V$131)-$V$132/1000)*1000 -> 7.6288404 | I29: =G29/$D$4/2.71/$D$5*1000000 -> 728.14936 | J29: =$I$5+J28 -> 320 | K29: =J29*$D$4/1000*$D$5/1000000*2710 -> 11.426227 | L29: =0.5*(SQRT(($V$132/1000)^2+4*K29/3.14/$D$4/$V$131)-$V$132/1000)*1000 -> 3.3993853 | M29: =A32*2+$V$132 -> 550 | N29: R2809-420 | O29: 4 cm | P29: 1420
A30: =$D$3+A29 -> 115 | B30: =((D30*$D$4*$D$5)*2.71)/1000000 -> 528.7297 | C30: =3.14*A30/1000*(A30+$V$132)/1000*$D$4*$V$131 -> 528.7297 | D30: =C30/$D$4/2.71/$D$5*1000000 -> 14807.469 | E30: =(A30*2)+300 -> 530 | G30: =$I$4+G29 -> 27 | H30: =0.5*(SQRT(($V$132/1000)^2+4*G30/3.14/$D$4/$V$131)-$V$132/1000)*1000 -> 7.9148975 | I30: =G30/$D$4/2.71/$D$5*1000000 -> 756.1551 | J30: =$I$5+J29 -> 330 | K30: =J30*$D$4/1000*$D$5/1000000*2710 -> 11.783297 | L30: =0.5*(SQRT(($V$132/1000)^2+4*K30/3.14/$D$4/$V$131)-$V$132/1000)*1000 -> 3.5044031 | M30: =A33*2+$V$132 -> 560 | N30: R2809-466 | O30: 4 cm | P30: 1466
A31: =$D$3+A30 -> 120 | B31: =((D31*$D$4*$D$5)*2.71)/1000000 -> 558.36515 | C31: =3.14*A31/1000*(A31+$V$132)/1000*$D$4*$V$131 -> 558.36515 | D31: =C31/$D$4/2.71/$D$5*1000000 -> 15637.432 | E31: =(A31*2)+300 -> 540 | G31: =$I$4+G30 -> 28 | H31: =0.5*(SQRT(($V$132/1000)^2+4*G31/3.14/$D$4/$V$131)-$V$132/1000)*1000 -> 8.2004373 | I31: =G31/$D$4/2.71/$D$5*1000000 -> 784.16085 | J31: =$I$5+J30 -> 340 | K31: =J31*$D$4/1000*$D$5/1000000*2710 -> 12.140366 | L31: =0.5*(SQRT(($V$132/1000)^2+4*K31/3.14/$D$4/$V$131)-$V$132/1000)*1000 -> 3.6093491 | M31: =A34*2+$V$132 -> 570 | N31: R2809-531 | O31: 4 cm | P31: 1531
A32: =$D$3+A31 -> 125 | B32: =((D32*$D$4*$D$5)*2.71)/1000000 -> 588.55453 | C32: =3.14*A32/1000*(A32+$V$132)/1000*$D$4*$V$131 -> 588.55454 | D32: =C32/$D$4/2.71/$D$5*1000000 -> 16482.908 | E32: =(A32*2)+300 -> 550 | G32: =$I$4+G31 -> 29 | H32: =0.5*(SQRT(($V$132/1000)^2+4*G32/3.14/$D$4/$V$131)-$V$132/1000)*1000 -> 8.4854627 | I32: =G32/$D$4/2.71/$D$5*1000000 -> 812.16659 | J32: =$I$5+J31 -> 350 | K32: =J32*$D$4/1000*$D$5/1000000*2710 -> 12.497436 | L32: =0.5*(SQRT(($V$132/1000)^2+4*K32/3.14/$D$4/$V$131)-$V$132/1000)*1000 -> 3.7142234 | M32: =A35*2+$V$132 -> 580 | N32: R2809-566 | O32: 4 cm | P32: 1566
A33: =$D$3+A32 -> 130 | B33: =((D33*$D$4*$D$5)*2.71)/1000000 -> 619.29785 | C33: =3.14*A33/1000*(A33+$V$132)/1000*$D$4*$V$131 -> 619.29785 | D33: =C33/$D$4/2.71/$D$5*1000000 -> 17343.897 | E33: =(A33*2)+300 -> 560 | G33: =$I$4+G32 -> 30 | H33: =0.5*(SQRT(($V$132/1000)^2+4*G33/3.14/$D$4/$V$131)-$V$132/1000)*1000 -> 8.7699764 | I33: =G33/$D$4/2.71/$D$5*1000000 -> 840.17234 | J33: =$I$5+J32 -> 360 | K33: =J33*$D$4/1000*$D$5/1000000*2710 -> 12.854506 | L33: =0.5*(SQRT(($V$132/1000)^2+4*K33/3.14/$D$4/$V$131)-$V$132/1000)*1000 -> 3.8190262 | M33: =A36*2+$V$132 -> 590 | N33: R2809-616 | O33: 4 cm | P33: 1616
A34: =$D$3+A33 -> 135 | B34: =((D34*$D$4*$D$5)*2.71)/1000000 -> 650.59511 | C34: =3.14*A34/1000*(A34+$V$132)/1000*$D$4*$V$131 -> 650.59511 | D34: =C34/$D$4/2.71/$D$5*1000000 -> 18220.4 | E34: =(A34*2)+300 -> 570 | G34: =$I$4+G33 -> 31 | H34: =0.5*(SQRT(($V$132/1000)^2+4*G34/3.14/$D$4/$V$131)-$V$132/1000)*1000 -> 9.0539811 | I34: =G34/$D$4/2.71/$D$5*1000000 -> 868.17808 | J34: =$I$5+J33 -> 370 | K34: =J34*$D$4/1000*$D$5/1000000*2710 -> 13.211575 | L34: =0.5*(SQRT(($V$132/1000)^2+4*K34/3.14/$D$4/$V$131)-$V$132/1000)*1000 -> 3.9237577 | M34: =A37*2+$V$132 -> 600 | N34: R2809-626 | O34: 4 cm | P34: 1626
A35: =$D$3+A34 -> 140 | B35: =((D35*$D$4*$D$5)*2.71)/1000000 -> 682.44629 | C35: =3.14*A35/1000*(A35+$V$132)/1000*$D$4*$V$131 -> 682.44629 | D35: =C35/$D$4/2.71/$D$5*1000000 -> 19112.417 | E35: =(A35*2)+300 -> 580 | G35: =$I$4+G34 -> 32 | H35: =0.5*(SQRT(($V$132/1000)^2+4*G35/3.14/$D$4/$V$131)-$V$132/1000)*1000 -> 9.3374796 | I35: =G35/$D$4/2.71/$D$5*1000000 -> 896.18383 | J35: =$I$5+J34 -> 380 | K35: =J35*$D$4/1000*$D$5/1000000*2710 -> 13.568645 | L35: =0.5*(SQRT(($V$132/1000)^2+4*K35/3.14/$D$4/$V$131)-$V$132/1000)*1000 -> 4.028418 | M35: =A38*2+$V$132 -> 610 | N35: R2812-290 | O35: 4 cm | P35: 1290
A36: =$D$3+A35 -> 145 | B36: =((D36*$D$4*$D$5)*2.71)/1000000 -> 714.85141 | C36: =3.14*A36/1000*(A36+$V$132)/1000*$D$4*$V$131 -> 714.85141 | D36: =C36/$D$4/2.71/$D$5*1000000 -> 20019.946 | E36: =(A36*2)+300 -> 590 | G36: =$I$4+G35 -> 33 | H36: =0.5*(SQRT(($V$132/1000)^2+4*G36/3.14/$D$4/$V$131)-$V$132/1000)*1000 -> 9.6204747 | I36: =G36/$D$4/2.71/$D$5*1000000 -> 924.18957 | J36: =$I$5+J35 -> 390 | K36: =J36*$D$4/1000*$D$5/1000000*2710 -> 13.925714 | L36: =0.5*(SQRT(($V$132/1000)^2+4*K36/3.14/$D$4/$V$131)-$V$132/1000)*1000 -> 4.1330072 | M36: =A39*2+$V$132 -> 620 | N36: R2812-420 | O36: 4 cm | P36: 1420
A37: =$D$3+A36 -> 150 | B37: =((D37*$D$4*$D$5)*2.71)/1000000 -> 747.81047 | C37: =3.14*A37/1000*(A37+$V$132)/1000*$D$4*$V$131 -> 747.81047 | D37: =C37/$D$4/2.71/$D$5*1000000 -> 20942.989 | E37: =(A37*2)+300 -> 600 | G37: =$I$4+G36 -> 34 | H37: =0.5*(SQRT(($V$132/1000)^2+4*G37/3.14/$D$4/$V$131)-$V$132/1000)*1000 -> 9.9029688 | I37: =G37/$D$4/2.71/$D$5*1000000 -> 952.19531 | J37: =$I$5+J36 -> 400 | K37: =J37*$D$4/1000*$D$5/1000000*2710 -> 14.282784 | L37: =0.5*(SQRT(($V$132/1000)^2+4*K37/3.14/$D$4/$V$131)-$V$132/1000)*1000 -> 4.2375255 | M37: =A40*2+$V$132 -> 630 | N37: R2812-421 | O37: 4 cm | P37: 1420
A38: =$D$3+A37 -> 155 | B38: =((D38*$D$4*$D$5)*2.71)/1000000 -> 781.32346 | C38: =3.14*A38/1000*(A38+$V$132)/1000*$D$4*$V$131 -> 781.32346 | D38: =C38/$D$4/2.71/$D$5*1000000 -> 21881.545 | E38: =(A38*2)+300 -> 610 | G38: =$I$4+G37 -> 35 | H38: =0.5*(SQRT(($V$132/1000)^2+4*G38/3.14/$D$4/$V$131)-$V$132/1000)*1000 -> 10.184965 | I38: =G38/$D$4/2.71/$D$5*1000000 -> 980.20106 | J38: =$I$5+J37 -> 410 | K38: =J38*$D$4/1000*$D$5/1000000*2710 -> 14.639854 | L38: =0.5*(SQRT(($V$132/1000)^2+4*K38/3.14/$D$4/$V$131)-$V$132/1000)*1000 -> 4.341973 | M38: =A41*2+$V$132 -> 640 | N38: R2812-466 | O38: 4 cm | P38: 1466
... A40: =$D$3+A39 -> 165 | B40: =((D40*$D$4*$D$5)*2.71)/1000000 -> 850.01123 | C40: =3.14*A40/1000*(A40+$V$132)/1000*$D$4*$V$131 -> 850.01123 | D40: =C40/$D$4/2.71/$D$5*1000000 -> 23805.197 | E40: =(A40*2)+300 -> 630 | G40: =$I$4+G39 -> 37 | H40: =0.5*(SQRT(($V$132/1000)^2+4*G40/3.14/$D$4/$V$131)-$V$132/1000)*1000 -> 10.747473 | I40: =G40/$D$4/2.71/$D$5*1000000 -> 1036.2125 | J40: =$I$5+J39 -> 430 | K40: =J40*$D$4/1000*$D$5/1000000*2710 -> 15.353993 | L40: =0.5*(SQRT(($V$132/1000)^2+4*K40/3.14/$D$4/$V$131)-$V$132/1000)*1000 -> 4.5506562 | M40: =A43*2+$V$132 -> 660 | N40: R2812-626 | O40: 4 cm | P40: 1626
A41: =$D$3+A40 -> 170 | B41: =((D41*$D$4*$D$5)*2.71)/1000000 -> 885.18602 | C41: =3.14*A41/1000*(A41+$V$132)/1000*$D$4*$V$131 -> 885.18602 | D41: =C41/$D$4/2.71/$D$5*1000000 -> 24790.294 | E41: =(A41*2)+300 -> 640 | G41: =$I$4+G40 -> 38 | H41: =0.5*(SQRT(($V$132/1000)^2+4*G41/3.14/$D$4/$V$131)-$V$132/1000)*1000 -> 11.02799 | I41: =G41/$D$4/2.71/$D$5*1000000 -> 1064.2183 | J41: =$I$5+J40 -> 440 | K41: =J41*$D$4/1000*$D$5/1000000*2710 -> 15.711062 | L41: =0.5*(SQRT(($V$132/1000)^2+4*K41/3.14/$D$4/$V$131)-$V$132/1000)*1000 -> 4.6548922 | M41: =A44*2+$V$132 -> 670 | N41: R2809-570 | P41: 1570
A42: =$D$3+A41 -> 175 | B42: =((D42*$D$4*$D$5)*2.71)/1000000 -> 920.91474 | C42: =3.14*A42/1000*(A42+$V$132)/1000*$D$4*$V$131 -> 920.91474 | D42: =C42/$D$4/2.71/$D$5*1000000 -> 25790.903 | E42: =(A42*2)+300 -> 650 | G42: =$I$4+G41 -> 39 | H42: =0.5*(SQRT(($V$132/1000)^2+4*G42/3.14/$D$4/$V$131)-$V$132/1000)*1000 -> 11.308019 | I42: =G42/$D$4/2.71/$D$5*1000000 -> 1092.224 | J42: =$I$5+J41 -> 450 | K42: =J42*$D$4/1000*$D$5/1000000*2710 -> 16.068132 | L42: =0.5*(SQRT(($V$132/1000)^2+4*K42/3.14/$D$4/$V$131)-$V$132/1000)*1000 -> 4.759058 | M42: =A45*2+$V$132 -> 680 | N42: R2809-529 | P42: 1529
...

Sheet Tableau
A1: Dates :
B2: ST 110
A3: Material code | B3: Complete reels | C3: diamètre | D3: Poids net (kg) | E3: Total uncomplete
A4: 2812-1464 | B4: 12 | C4: 310 | D4: =INDEX(ABAC!$C$8:$C$278,MATCH(Tableau!$C$4,ABAC!$E$8:$E$278)) -> 16.894977 | E4: =D4+D5+D7 -> 158.702
A5: 2812-1464 | B5: 3 | C5: 340 | D5: =INDEX(ABAC!$C$9:$C$279,MATCH(Tableau!$C$5,ABAC!$E$9:$E$279)) -> 70.903511
A6: 2812-1464 | B6: 2 | C6: 320 | D6: =INDEX(ABAC!C8:C127,MATCH(Tableau!C8,ABAC!E8:E127)) -> 34.343888
A7: 2812-1464 | B7: 4 | C7: 340 | D7: =INDEX(ABAC!C10:C280,MATCH(Tableau!C7,ABAC!E10:E280)) -> 70.903511
A8: 2812-1626 | B8: 9 | C8: 320 | D8: =INDEX(ABAC!C8:C127,MATCH(Tableau!C8,ABAC!E8:E127)) -> 34.343888 | E8: =D8+D9+D11 -> 86.690621
A9: 2812-1626 | B9: 11 | C9: 330 | D9: =INDEX(ABAC!C9:C128,MATCH(Tableau!C9,ABAC!E9:E128)) -> 52.346733
A10: 2812-1626
A11: 2812-1626
A12: 2812-1595
A13: 2812-1595
A14: 2812-1595
A15: 2812-1595
A16: 2812-421
A19: 2812-290
A22: 2812-288
A25: 2809-529
A28: 2809-464
A31: 2809-420
... A55: 2809-570
