Workbook
Name Tableau1: AO!$A$1:$B$9

Sheet AO
A1: N° LOT | B1: LOT | C1: ENTREPRISE
A2: 1 | B2: DEMOLITION | C2: =IFERROR(VLOOKUP(B2,LISTE!$B$2:$C$22,2,FALSE),"") -> moi
A3: 1 | B3: DEMOLITION | C3: =IFERROR(VLOOKUP(B3,LISTE!$B$2:$C$22,2,FALSE),"") -> moi
A4: 1 | B4: DEMOLITION | C4: =IFERROR(VLOOKUP(B4,LISTE!$B$2:$C$22,2,FALSE),"") -> moi
A5: 1 | B5: DEMOLITION | C5: =IFERROR(VLOOKUP(B5,LISTE!$B$2:$C$22,2,FALSE),"") -> moi
A6: 1 | B6: DEMOLITION | C6: =IFERROR(VLOOKUP(B6,LISTE!$B$2:$C$22,2,FALSE),"") -> moi
A7: 1 | B7: DEMOLITION | C7: =IFERROR(VLOOKUP(B7,LISTE!$B$2:$C$22,2,FALSE),"") -> moi
A8: 1 | B8: DEMOLITION | C8: =IFERROR(VLOOKUP(B8,LISTE!$B$2:$C$22,2,FALSE),"") -> moi
A9: 1 | B9: DEMOLITION | C9: =IFERROR(VLOOKUP(B9,LISTE!$B$2:$C$22,2,FALSE),"") -> moi
A10: 1 | B10: DEMOLITION | C10: =IFERROR(VLOOKUP(B10,LISTE!$B$2:$C$22,2,FALSE),"") -> moi
A11: 1 | B11: DEMOLITION | C11: =IFERROR(VLOOKUP(B11,LISTE!$B$2:$C$22,2,FALSE),"") -> moi
A12: 2 | B12: TERRASSEMENT VCT | C12: =IFERROR(VLOOKUP(B12,LISTE!$B$2:$C$22,2,FALSE),"") -> nous
A13: 2 | B13: TERRASSEMENT VCT | C13: =IFERROR(VLOOKUP(B13,LISTE!$B$2:$C$22,2,FALSE),"") -> nous
... A21: 2 | B21: TERRASSEMENT VCT | C21: =IFERROR(VLOOKUP(B21,LISTE!$B$2:$C$22,2,FALSE),"") -> nous
A22: 03A | B22: PIEUX | C22: =IFERROR(VLOOKUP(B22,LISTE!$B$2:$C$22,2,FALSE),"") -> lui
A23: 03A | B23: PIEUX | C23: =IFERROR(VLOOKUP(B23,LISTE!$B$2:$C$22,2,FALSE),"") -> lui
A24: 03A | B24: PIEUX | C24: =IFERROR(VLOOKUP(B24,LISTE!$B$2:$C$22,2,FALSE),"") -> lui
A25: 03A | B25: PIEUX | C25: =IFERROR(VLOOKUP(B25,LISTE!$B$2:$C$22,2,FALSE),"") -> lui
A26: 03A | B26: PIEUX | C26: =IFERROR(VLOOKUP(B26,LISTE!$B$2:$C$22,2,FALSE),"") -> lui
A27: 03A | B27: PIEUX | C27: =IFERROR(VLOOKUP(B27,LISTE!$B$2:$C$22,2,FALSE),"") -> lui
A28: 03A | B28: PIEUX | C28: =IFERROR(VLOOKUP(B28,LISTE!$B$2:$C$22,2,FALSE),"") -> lui
A29: 03A | B29: PIEUX | C29: =IFERROR(VLOOKUP(B29,LISTE!$B$2:$C$22,2,FALSE),"") -> lui
A30: 03A | B30: PIEUX | C30: =IFERROR(VLOOKUP(B30,LISTE!$B$2:$C$22,2,FALSE),"") -> lui
A31: 03A | B31: PIEUX | C31: =IFERROR(VLOOKUP(B31,LISTE!$B$2:$C$22,2,FALSE),"") -> lui

Sheet LISTE
A1: N° | B1: LOT | C1: NOM
B2: DEMOLITION | C2: moi
B3: DEMOLITION | C3: truc
B4: DEMOLITION | C4: elle
B5: DEMOLITION | C5: vous
B6: DEMOLITION
B7: PIEUX | C7: lui
B8: PIEUX | C8: test
B9: PIEUX | C9: etc
B10: PIEUX
B11: PIEUX
B12: PIEUX
B13: TERRASSEMENT VCT | C13: nous
B14: TERRASSEMENT VCT | C14: je
B15: TERRASSEMENT VCT | C15: tu
B16: TERRASSEMENT VCT
B17: TERRASSEMENT VCT
B18: TERRASSEMENT VCT
