Workbook

Sheet BDD
A2: Nom entreprise | B2: emballage | C2: numéro du projet | D2: description | E2: Photos | F2: bouteille | G2: bocal | H2: carton | I2: sachet
A3: entreprise A | B3: bouteille | C3: 1 | D3: aaaaaaaaaa | F3: =IF($B3=F$2,ROW()-2,"") -> 1 | G3: =IF($B3=G$2,ROW()-2,"") | H3: =IF($B3=H$2,ROW()-2,"") | I3: =IF($B3=I$2,ROW()-2,"")
A4: entreprise A | B4: bocal | C4: 2 | D4: bbbbbbbbb | F4: =IF($B4=F$2,ROW()-2,"") | G4: =IF($B4=G$2,ROW()-2,"") -> 2 | H4: =IF($B4=H$2,ROW()-2,"") | I4: =IF($B4=I$2,ROW()-2,"")
A5: entreprise A | B5: bouteille | C5: 3 | D5: ccccccccccc | F5: =IF($B5=F$2,ROW()-2,"") -> 3 | G5: =IF($B5=G$2,ROW()-2,"") | H5: =IF($B5=H$2,ROW()-2,"") | I5: =IF($B5=I$2,ROW()-2,"")
A6: entreprise A | B6: carton | C6: 4 | D6: dddddd | F6: =IF($B6=F$2,ROW()-2,"") | G6: =IF($B6=G$2,ROW()-2,"") | H6: =IF($B6=H$2,ROW()-2,"") -> 4 | I6: =IF($B6=I$2,ROW()-2,"")
A7: entreprise B | B7: sachet | C7: 5 | D7: eeeeeeeeee | F7: =IF($B7=F$2,ROW()-2,"") | G7: =IF($B7=G$2,ROW()-2,"") | H7: =IF($B7=H$2,ROW()-2,"") | I7: =IF($B7=I$2,ROW()-2,"") -> 5
A8: entreprise B | B8: bouteille | C8: 6 | D8: fffffffffff | F8: =IF($B8=F$2,ROW()-2,"") -> 6 | G8: =IF($B8=G$2,ROW()-2,"") | H8: =IF($B8=H$2,ROW()-2,"") | I8: =IF($B8=I$2,ROW()-2,"")
A9: entreprise B | B9: carton | C9: 7 | D9: ggggggggggg | F9: =IF($B9=F$2,ROW()-2,"") | G9: =IF($B9=G$2,ROW()-2,"") | H9: =IF($B9=H$2,ROW()-2,"") -> 7 | I9: =IF($B9=I$2,ROW()-2,"")
A10: entreprise C | B10: carton | C10: 8 | D10: hhhhhhhhhhh | F10: =IF($B10=F$2,ROW()-2,"") | G10: =IF($B10=G$2,ROW()-2,"") | H10: =IF($B10=H$2,ROW()-2,"") -> 8 | I10: =IF($B10=I$2,ROW()-2,"")
A11: entreprise C | B11: sachet | C11: 9 | D11: iiiiiiii | F11: =IF($B11=F$2,ROW()-2,"") | G11: =IF($B11=G$2,ROW()-2,"") | H11: =IF($B11=H$2,ROW()-2,"") | I11: =IF($B11=I$2,ROW()-2,"") -> 9
A12: entreprise D | B12: bocal | C12: 10 | D12: jjjjjjjjjjjj | F12: =IF($B12=F$2,ROW()-2,"") | G12: =IF($B12=G$2,ROW()-2,"") -> 10 | H12: =IF($B12=H$2,ROW()-2,"") | I12: =IF($B12=I$2,ROW()-2,"")
A13: entreprise D | B13: sachet | C13: 11 | D13: kkkkkkkkkkkkk | F13: =IF($B13=F$2,ROW()-2,"") | G13: =IF($B13=G$2,ROW()-2,"") | H13: =IF($B13=H$2,ROW()-2,"") | I13: =IF($B13=I$2,ROW()-2,"") -> 11
A14: entreprise D | B14: bouteille | C14: 12 | D14: llllllllllllllllll | F14: =IF($B14=F$2,ROW()-2,"") -> 12 | G14: =IF($B14=G$2,ROW()-2,"") | H14: =IF($B14=H$2,ROW()-2,"") | I14: =IF($B14=I$2,ROW()-2,"")

Sheet SACHET
B2: SACHET
B4: Nom entreprise | C4: emballage | D4: numéro du projet | E4: description | F4: Photos
B5: =IFERROR(INDEX(BDD!A$3:A$14,SMALL(BDD!$I$3:$I$14,ROWS($1:1))),"") -> entreprise B | C5: =IFERROR(INDEX(BDD!B$3:B$14,SMALL(BDD!$I$3:$I$14,ROWS($1:1))),"") -> sachet | D5: =IFERROR(INDEX(BDD!C$3:C$14,SMALL(BDD!$I$3:$I$14,ROWS($1:1))),"") -> 5 | E5: =IFERROR(INDEX(BDD!D$3:D$14,SMALL(BDD!$I$3:$I$14,ROWS($1:1))),"") -> eeeeeeeeee | F5: =IFERROR(INDEX(BDD!E$3:E$14,SMALL(BDD!$I$3:$I$14,ROWS($1:1))),"") -> 0
B6: =IFERROR(INDEX(BDD!A$3:A$14,SMALL(BDD!$I$3:$I$14,ROWS($1:2))),"") -> entreprise C | C6: =IFERROR(INDEX(BDD!B$3:B$14,SMALL(BDD!$I$3:$I$14,ROWS($1:2))),"") -> sachet | D6: =IFERROR(INDEX(BDD!C$3:C$14,SMALL(BDD!$I$3:$I$14,ROWS($1:2))),"") -> 9 | E6: =IFERROR(INDEX(BDD!D$3:D$14,SMALL(BDD!$I$3:$I$14,ROWS($1:2))),"") -> iiiiiiii | F6: =IFERROR(INDEX(BDD!E$3:E$14,SMALL(BDD!$I$3:$I$14,ROWS($1:2))),"") -> 0
B7: =IFERROR(INDEX(BDD!A$3:A$14,SMALL(BDD!$I$3:$I$14,ROWS($1:3))),"") -> entreprise D | C7: =IFERROR(INDEX(BDD!B$3:B$14,SMALL(BDD!$I$3:$I$14,ROWS($1:3))),"") -> sachet | D7: =IFERROR(INDEX(BDD!C$3:C$14,SMALL(BDD!$I$3:$I$14,ROWS($1:3))),"") -> 11 | E7: =IFERROR(INDEX(BDD!D$3:D$14,SMALL(BDD!$I$3:$I$14,ROWS($1:3))),"") -> kkkkkkkkkkkkk | F7: =IFERROR(INDEX(BDD!E$3:E$14,SMALL(BDD!$I$3:$I$14,ROWS($1:3))),"") -> 0
B8: =IFERROR(INDEX(BDD!A$3:A$14,SMALL(BDD!$I$3:$I$14,ROWS($1:4))),"") | C8: =IFERROR(INDEX(BDD!B$3:B$14,SMALL(BDD!$I$3:$I$14,ROWS($1:4))),"") | D8: =IFERROR(INDEX(BDD!C$3:C$14,SMALL(BDD!$I$3:$I$14,ROWS($1:4))),"") | E8: =IFERROR(INDEX(BDD!D$3:D$14,SMALL(BDD!$I$3:$I$14,ROWS($1:4))),"") | F8: =IFERROR(INDEX(BDD!E$3:E$14,SMALL(BDD!$I$3:$I$14,ROWS($1:4))),"")
B9: =IFERROR(INDEX(BDD!A$3:A$14,SMALL(BDD!$I$3:$I$14,ROWS($1:5))),"") | C9: =IFERROR(INDEX(BDD!B$3:B$14,SMALL(BDD!$I$3:$I$14,ROWS($1:5))),"") | D9: =IFERROR(INDEX(BDD!C$3:C$14,SMALL(BDD!$I$3:$I$14,ROWS($1:5))),"") | E9: =IFERROR(INDEX(BDD!D$3:D$14,SMALL(BDD!$I$3:$I$14,ROWS($1:5))),"") | F9: =IFERROR(INDEX(BDD!E$3:E$14,SMALL(BDD!$I$3:$I$14,ROWS($1:5))),"")
B10: =IFERROR(INDEX(BDD!A$3:A$14,SMALL(BDD!$I$3:$I$14,ROWS($1:6))),"") | C10: =IFERROR(INDEX(BDD!B$3:B$14,SMALL(BDD!$I$3:$I$14,ROWS($1:6))),"") | D10: =IFERROR(INDEX(BDD!C$3:C$14,SMALL(BDD!$I$3:$I$14,ROWS($1:6))),"") | E10: =IFERROR(INDEX(BDD!D$3:D$14,SMALL(BDD!$I$3:$I$14,ROWS($1:6))),"") | F10: =IFERROR(INDEX(BDD!E$3:E$14,SMALL(BDD!$I$3:$I$14,ROWS($1:6))),"")
B11: =IFERROR(INDEX(BDD!A$3:A$14,SMALL(BDD!$I$3:$I$14,ROWS($1:7))),"") | C11: =IFERROR(INDEX(BDD!B$3:B$14,SMALL(BDD!$I$3:$I$14,ROWS($1:7))),"") | D11: =IFERROR(INDEX(BDD!C$3:C$14,SMALL(BDD!$I$3:$I$14,ROWS($1:7))),"") | E11: =IFERROR(INDEX(BDD!D$3:D$14,SMALL(BDD!$I$3:$I$14,ROWS($1:7))),"") | F11: =IFERROR(INDEX(BDD!E$3:E$14,SMALL(BDD!$I$3:$I$14,ROWS($1:7))),"")
B12: =IFERROR(INDEX(BDD!A$3:A$14,SMALL(BDD!$I$3:$I$14,ROWS($1:8))),"") | C12: =IFERROR(INDEX(BDD!B$3:B$14,SMALL(BDD!$I$3:$I$14,ROWS($1:8))),"") | D12: =IFERROR(INDEX(BDD!C$3:C$14,SMALL(BDD!$I$3:$I$14,ROWS($1:8))),"") | E12: =IFERROR(INDEX(BDD!D$3:D$14,SMALL(BDD!$I$3:$I$14,ROWS($1:8))),"") | F12: =IFERROR(INDEX(BDD!E$3:E$14,SMALL(BDD!$I$3:$I$14,ROWS($1:8))),"")
B13: =IFERROR(INDEX(BDD!A$3:A$14,SMALL(BDD!$I$3:$I$14,ROWS($1:9))),"") | C13: =IFERROR(INDEX(BDD!B$3:B$14,SMALL(BDD!$I$3:$I$14,ROWS($1:9))),"") | D13: =IFERROR(INDEX(BDD!C$3:C$14,SMALL(BDD!$I$3:$I$14,ROWS($1:9))),"") | E13: =IFERROR(INDEX(BDD!D$3:D$14,SMALL(BDD!$I$3:$I$14,ROWS($1:9))),"") | F13: =IFERROR(INDEX(BDD!E$3:E$14,SMALL(BDD!$I$3:$I$14,ROWS($1:9))),"")
B14: =IFERROR(INDEX(BDD!A$3:A$14,SMALL(BDD!$I$3:$I$14,ROWS($1:10))),"") | C14: =IFERROR(INDEX(BDD!B$3:B$14,SMALL(BDD!$I$3:$I$14,ROWS($1:10))),"") | D14: =IFERROR(INDEX(BDD!C$3:C$14,SMALL(BDD!$I$3:$I$14,ROWS($1:10))),"") | E14: =IFERROR(INDEX(BDD!D$3:D$14,SMALL(BDD!$I$3:$I$14,ROWS($1:10))),"") | F14: =IFERROR(INDEX(BDD!E$3:E$14,SMALL(BDD!$I$3:$I$14,ROWS($1:10))),"")
B15: =IFERROR(INDEX(BDD!A$3:A$14,SMALL(BDD!$I$3:$I$14,ROWS($1:11))),"") | C15: =IFERROR(INDEX(BDD!B$3:B$14,SMALL(BDD!$I$3:$I$14,ROWS($1:11))),"") | D15: =IFERROR(INDEX(BDD!C$3:C$14,SMALL(BDD!$I$3:$I$14,ROWS($1:11))),"") | E15: =IFERROR(INDEX(BDD!D$3:D$14,SMALL(BDD!$I$3:$I$14,ROWS($1:11))),"") | F15: =IFERROR(INDEX(BDD!E$3:E$14,SMALL(BDD!$I$3:$I$14,ROWS($1:11))),"")
B16: =IFERROR(INDEX(BDD!A$3:A$14,SMALL(BDD!$I$3:$I$14,ROWS($1:12))),"") | C16: =IFERROR(INDEX(BDD!B$3:B$14,SMALL(BDD!$I$3:$I$14,ROWS($1:12))),"") | D16: =IFERROR(INDEX(BDD!C$3:C$14,SMALL(BDD!$I$3:$I$14,ROWS($1:12))),"") | E16: =IFERROR(INDEX(BDD!D$3:D$14,SMALL(BDD!$I$3:$I$14,ROWS($1:12))),"") | F16: =IFERROR(INDEX(BDD!E$3:E$14,SMALL(BDD!$I$3:$I$14,ROWS($1:12))),"")
B17: =IFERROR(INDEX(BDD!A$3:A$14,SMALL(BDD!$I$3:$I$14,ROWS($1:13))),"") | C17: =IFERROR(INDEX(BDD!B$3:B$14,SMALL(BDD!$I$3:$I$14,ROWS($1:13))),"") | D17: =IFERROR(INDEX(BDD!C$3:C$14,SMALL(BDD!$I$3:$I$14,ROWS($1:13))),"") | E17: =IFERROR(INDEX(BDD!D$3:D$14,SMALL(BDD!$I$3:$I$14,ROWS($1:13))),"") | F17: =IFERROR(INDEX(BDD!E$3:E$14,SMALL(BDD!$I$3:$I$14,ROWS($1:13))),"")
B18: =IFERROR(INDEX(BDD!A$3:A$14,SMALL(BDD!$I$3:$I$14,ROWS($1:14))),"") | C18: =IFERROR(INDEX(BDD!B$3:B$14,SMALL(BDD!$I$3:$I$14,ROWS($1:14))),"") | D18: =IFERROR(INDEX(BDD!C$3:C$14,SMALL(BDD!$I$3:$I$14,ROWS($1:14))),"") | E18: =IFERROR(INDEX(BDD!D$3:D$14,SMALL(BDD!$I$3:$I$14,ROWS($1:14))),"") | F18: =IFERROR(INDEX(BDD!E$3:E$14,SMALL(BDD!$I$3:$I$14,ROWS($1:14))),"")
B19: =IFERROR(INDEX(BDD!$A$3:$A$14,SMALL(BDD!$I$3:$I$14,ROWS($1:15))),"")
B20: =IFERROR(INDEX(BDD!$A$3:$A$14,SMALL(BDD!$I$3:$I$14,ROWS($1:16))),"")
B21: =IFERROR(INDEX(BDD!$A$3:$A$14,SMALL(BDD!$I$3:$I$14,ROWS($1:17))),"")

Sheet BOUTEILLE
B1: BOUTEILLE
B3: Nom entreprise | C3: emballage | D3: numéro du projet | E3: description | F3: Photos
B4: =IFERROR(INDEX(BDD!A$3:A$14,SMALL(BDD!$F$3:$F$14,ROWS($1:1))),"") -> entreprise A | C4: =IFERROR(INDEX(BDD!B$3:B$14,SMALL(BDD!$F$3:$F$14,ROWS($1:1))),"") -> bouteille | D4: =IFERROR(INDEX(BDD!C$3:C$14,SMALL(BDD!$F$3:$F$14,ROWS($1:1))),"") -> 1 | E4: =IFERROR(INDEX(BDD!D$3:D$14,SMALL(BDD!$F$3:$F$14,ROWS($1:1))),"") -> aaaaaaaaaa | F4: =IFERROR(INDEX(BDD!E$3:E$14,SMALL(BDD!$F$3:$F$14,ROWS($1:1))),"") -> 0
B5: =IFERROR(INDEX(BDD!A$3:A$14,SMALL(BDD!$F$3:$F$14,ROWS($1:2))),"") -> entreprise A | C5: =IFERROR(INDEX(BDD!B$3:B$14,SMALL(BDD!$F$3:$F$14,ROWS($1:2))),"") -> bouteille | D5: =IFERROR(INDEX(BDD!C$3:C$14,SMALL(BDD!$F$3:$F$14,ROWS($1:2))),"") -> 3 | E5: =IFERROR(INDEX(BDD!D$3:D$14,SMALL(BDD!$F$3:$F$14,ROWS($1:2))),"") -> ccccccccccc | F5: =IFERROR(INDEX(BDD!E$3:E$14,SMALL(BDD!$F$3:$F$14,ROWS($1:2))),"") -> 0
B6: =IFERROR(INDEX(BDD!A$3:A$14,SMALL(BDD!$F$3:$F$14,ROWS($1:3))),"") -> entreprise B | C6: =IFERROR(INDEX(BDD!B$3:B$14,SMALL(BDD!$F$3:$F$14,ROWS($1:3))),"") -> bouteille | D6: =IFERROR(INDEX(BDD!C$3:C$14,SMALL(BDD!$F$3:$F$14,ROWS($1:3))),"") -> 6 | E6: =IFERROR(INDEX(BDD!D$3:D$14,SMALL(BDD!$F$3:$F$14,ROWS($1:3))),"") -> fffffffffff | F6: =IFERROR(INDEX(BDD!E$3:E$14,SMALL(BDD!$F$3:$F$14,ROWS($1:3))),"") -> 0
B7: =IFERROR(INDEX(BDD!A$3:A$14,SMALL(BDD!$F$3:$F$14,ROWS($1:4))),"") -> entreprise D | C7: =IFERROR(INDEX(BDD!B$3:B$14,SMALL(BDD!$F$3:$F$14,ROWS($1:4))),"") -> bouteille | D7: =IFERROR(INDEX(BDD!C$3:C$14,SMALL(BDD!$F$3:$F$14,ROWS($1:4))),"") -> 12 | E7: =IFERROR(INDEX(BDD!D$3:D$14,SMALL(BDD!$F$3:$F$14,ROWS($1:4))),"") -> llllllllllllllllll | F7: =IFERROR(INDEX(BDD!E$3:E$14,SMALL(BDD!$F$3:$F$14,ROWS($1:4))),"") -> 0
B8: =IFERROR(INDEX(BDD!A$3:A$14,SMALL(BDD!$F$3:$F$14,ROWS($1:5))),"") | C8: =IFERROR(INDEX(BDD!B$3:B$14,SMALL(BDD!$F$3:$F$14,ROWS($1:5))),"") | D8: =IFERROR(INDEX(BDD!C$3:C$14,SMALL(BDD!$F$3:$F$14,ROWS($1:5))),"") | E8: =IFERROR(INDEX(BDD!D$3:D$14,SMALL(BDD!$F$3:$F$14,ROWS($1:5))),"") | F8: =IFERROR(INDEX(BDD!E$3:E$14,SMALL(BDD!$F$3:$F$14,ROWS($1:5))),"")
B9: =IFERROR(INDEX(BDD!A$3:A$14,SMALL(BDD!$F$3:$F$14,ROWS($1:6))),"") | C9: =IFERROR(INDEX(BDD!B$3:B$14,SMALL(BDD!$F$3:$F$14,ROWS($1:6))),"") | D9: =IFERROR(INDEX(BDD!C$3:C$14,SMALL(BDD!$F$3:$F$14,ROWS($1:6))),"") | E9: =IFERROR(INDEX(BDD!D$3:D$14,SMALL(BDD!$F$3:$F$14,ROWS($1:6))),"") | F9: =IFERROR(INDEX(BDD!E$3:E$14,SMALL(BDD!$F$3:$F$14,ROWS($1:6))),"")
B10: =IFERROR(INDEX(BDD!A$3:A$14,SMALL(BDD!$F$3:$F$14,ROWS($1:7))),"") | C10: =IFERROR(INDEX(BDD!B$3:B$14,SMALL(BDD!$F$3:$F$14,ROWS($1:7))),"") | D10: =IFERROR(INDEX(BDD!C$3:C$14,SMALL(BDD!$F$3:$F$14,ROWS($1:7))),"") | E10: =IFERROR(INDEX(BDD!D$3:D$14,SMALL(BDD!$F$3:$F$14,ROWS($1:7))),"") | F10: =IFERROR(INDEX(BDD!E$3:E$14,SMALL(BDD!$F$3:$F$14,ROWS($1:7))),"")
B11: =IFERROR(INDEX(BDD!A$3:A$14,SMALL(BDD!$F$3:$F$14,ROWS($1:8))),"") | C11: =IFERROR(INDEX(BDD!B$3:B$14,SMALL(BDD!$F$3:$F$14,ROWS($1:8))),"") | D11: =IFERROR(INDEX(BDD!C$3:C$14,SMALL(BDD!$F$3:$F$14,ROWS($1:8))),"") | E11: =IFERROR(INDEX(BDD!D$3:D$14,SMALL(BDD!$F$3:$F$14,ROWS($1:8))),"") | F11: =IFERROR(INDEX(BDD!E$3:E$14,SMALL(BDD!$F$3:$F$14,ROWS($1:8))),"")
B12: =IFERROR(INDEX(BDD!A$3:A$14,SMALL(BDD!$F$3:$F$14,ROWS($1:9))),"") | C12: =IFERROR(INDEX(BDD!B$3:B$14,SMALL(BDD!$F$3:$F$14,ROWS($1:9))),"") | D12: =IFERROR(INDEX(BDD!C$3:C$14,SMALL(BDD!$F$3:$F$14,ROWS($1:9))),"") | E12: =IFERROR(INDEX(BDD!D$3:D$14,SMALL(BDD!$F$3:$F$14,ROWS($1:9))),"") | F12: =IFERROR(INDEX(BDD!E$3:E$14,SMALL(BDD!$F$3:$F$14,ROWS($1:9))),"")

Sheet BOCAL
B1: BOCAL
B3: Nom entreprise | C3: emballage | D3: numéro du projet | E3: description | F3: Photos
B4: =IFERROR(INDEX(BDD!A$3:A$14,SMALL(BDD!$G$3:$G$14,ROWS($1:1))),"") -> entreprise A | C4: =IFERROR(INDEX(BDD!B$3:B$14,SMALL(BDD!$G$3:$G$14,ROWS($1:1))),"") -> bocal | D4: =IFERROR(INDEX(BDD!C$3:C$14,SMALL(BDD!$G$3:$G$14,ROWS($1:1))),"") -> 2 | E4: =IFERROR(INDEX(BDD!D$3:D$14,SMALL(BDD!$G$3:$G$14,ROWS($1:1))),"") -> bbbbbbbbb | F4: =IFERROR(INDEX(BDD!E$3:E$14,SMALL(BDD!$G$3:$G$14,ROWS($1:1))),"") -> 0
B5: =IFERROR(INDEX(BDD!A$3:A$14,SMALL(BDD!$G$3:$G$14,ROWS($1:2))),"") -> entreprise D | C5: =IFERROR(INDEX(BDD!B$3:B$14,SMALL(BDD!$G$3:$G$14,ROWS($1:2))),"") -> bocal | D5: =IFERROR(INDEX(BDD!C$3:C$14,SMALL(BDD!$G$3:$G$14,ROWS($1:2))),"") -> 10 | E5: =IFERROR(INDEX(BDD!D$3:D$14,SMALL(BDD!$G$3:$G$14,ROWS($1:2))),"") -> jjjjjjjjjjjj | F5: =IFERROR(INDEX(BDD!E$3:E$14,SMALL(BDD!$G$3:$G$14,ROWS($1:2))),"") -> 0
B6: =IFERROR(INDEX(BDD!A$3:A$14,SMALL(BDD!$G$3:$G$14,ROWS($1:3))),"") | C6: =IFERROR(INDEX(BDD!B$3:B$14,SMALL(BDD!$G$3:$G$14,ROWS($1:3))),"") | D6: =IFERROR(INDEX(BDD!C$3:C$14,SMALL(BDD!$G$3:$G$14,ROWS($1:3))),"") | E6: =IFERROR(INDEX(BDD!D$3:D$14,SMALL(BDD!$G$3:$G$14,ROWS($1:3))),"") | F6: =IFERROR(INDEX(BDD!E$3:E$14,SMALL(BDD!$G$3:$G$14,ROWS($1:3))),"")
B7: =IFERROR(INDEX(BDD!A$3:A$14,SMALL(BDD!$G$3:$G$14,ROWS($1:4))),"") | C7: =IFERROR(INDEX(BDD!B$3:B$14,SMALL(BDD!$G$3:$G$14,ROWS($1:4))),"") | D7: =IFERROR(INDEX(BDD!C$3:C$14,SMALL(BDD!$G$3:$G$14,ROWS($1:4))),"") | E7: =IFERROR(INDEX(BDD!D$3:D$14,SMALL(BDD!$G$3:$G$14,ROWS($1:4))),"") | F7: =IFERROR(INDEX(BDD!E$3:E$14,SMALL(BDD!$G$3:$G$14,ROWS($1:4))),"")
B8: =IFERROR(INDEX(BDD!A$3:A$14,SMALL(BDD!$G$3:$G$14,ROWS($1:5))),"") | C8: =IFERROR(INDEX(BDD!B$3:B$14,SMALL(BDD!$G$3:$G$14,ROWS($1:5))),"") | D8: =IFERROR(INDEX(BDD!C$3:C$14,SMALL(BDD!$G$3:$G$14,ROWS($1:5))),"") | E8: =IFERROR(INDEX(BDD!D$3:D$14,SMALL(BDD!$G$3:$G$14,ROWS($1:5))),"") | F8: =IFERROR(INDEX(BDD!E$3:E$14,SMALL(BDD!$G$3:$G$14,ROWS($1:5))),"")
B9: =IFERROR(INDEX(BDD!A$3:A$14,SMALL(BDD!$G$3:$G$14,ROWS($1:6))),"") | C9: =IFERROR(INDEX(BDD!B$3:B$14,SMALL(BDD!$G$3:$G$14,ROWS($1:6))),"") | D9: =IFERROR(INDEX(BDD!C$3:C$14,SMALL(BDD!$G$3:$G$14,ROWS($1:6))),"") | E9: =IFERROR(INDEX(BDD!D$3:D$14,SMALL(BDD!$G$3:$G$14,ROWS($1:6))),"") | F9: =IFERROR(INDEX(BDD!E$3:E$14,SMALL(BDD!$G$3:$G$14,ROWS($1:6))),"")
B10: =IFERROR(INDEX(BDD!A$3:A$14,SMALL(BDD!$G$3:$G$14,ROWS($1:7))),"") | C10: =IFERROR(INDEX(BDD!B$3:B$14,SMALL(BDD!$G$3:$G$14,ROWS($1:7))),"") | D10: =IFERROR(INDEX(BDD!C$3:C$14,SMALL(BDD!$G$3:$G$14,ROWS($1:7))),"") | E10: =IFERROR(INDEX(BDD!D$3:D$14,SMALL(BDD!$G$3:$G$14,ROWS($1:7))),"") | F10: =IFERROR(INDEX(BDD!E$3:E$14,SMALL(BDD!$G$3:$G$14,ROWS($1:7))),"")
B11: =IFERROR(INDEX(BDD!A$3:A$14,SMALL(BDD!$G$3:$G$14,ROWS($1:8))),"") | C11: =IFERROR(INDEX(BDD!B$3:B$14,SMALL(BDD!$G$3:$G$14,ROWS($1:8))),"") | D11: =IFERROR(INDEX(BDD!C$3:C$14,SMALL(BDD!$G$3:$G$14,ROWS($1:8))),"") | E11: =IFERROR(INDEX(BDD!D$3:D$14,SMALL(BDD!$G$3:$G$14,ROWS($1:8))),"") | F11: =IFERROR(INDEX(BDD!E$3:E$14,SMALL(BDD!$G$3:$G$14,ROWS($1:8))),"")
B12: =IFERROR(INDEX(BDD!A$3:A$14,SMALL(BDD!$G$3:$G$14,ROWS($1:9))),"") | C12: =IFERROR(INDEX(BDD!B$3:B$14,SMALL(BDD!$G$3:$G$14,ROWS($1:9))),"") | D12: =IFERROR(INDEX(BDD!C$3:C$14,SMALL(BDD!$G$3:$G$14,ROWS($1:9))),"") | E12: =IFERROR(INDEX(BDD!D$3:D$14,SMALL(BDD!$G$3:$G$14,ROWS($1:9))),"") | F12: =IFERROR(INDEX(BDD!E$3:E$14,SMALL(BDD!$G$3:$G$14,ROWS($1:9))),"")

Sheet CARTON
B1: CARTON
B3: Nom entreprise | C3: emballage | D3: numéro du projet | E3: description | F3: Photos
B4: =IFERROR(INDEX(BDD!A$3:A$14,SMALL(BDD!$H$3:$H$14,ROWS($1:1))),"") -> entreprise A | C4: =IFERROR(INDEX(BDD!B$3:B$14,SMALL(BDD!$H$3:$H$14,ROWS($1:1))),"") -> carton | D4: =IFERROR(INDEX(BDD!C$3:C$14,SMALL(BDD!$H$3:$H$14,ROWS($1:1))),"") -> 4 | E4: =IFERROR(INDEX(BDD!D$3:D$14,SMALL(BDD!$H$3:$H$14,ROWS($1:1))),"") -> dddddd | F4: =IFERROR(INDEX(BDD!E$3:E$14,SMALL(BDD!$H$3:$H$14,ROWS($1:1))),"") -> 0
B5: =IFERROR(INDEX(BDD!A$3:A$14,SMALL(BDD!$H$3:$H$14,ROWS($1:2))),"") -> entreprise B | C5: =IFERROR(INDEX(BDD!B$3:B$14,SMALL(BDD!$H$3:$H$14,ROWS($1:2))),"") -> carton | D5: =IFERROR(INDEX(BDD!C$3:C$14,SMALL(BDD!$H$3:$H$14,ROWS($1:2))),"") -> 7 | E5: =IFERROR(INDEX(BDD!D$3:D$14,SMALL(BDD!$H$3:$H$14,ROWS($1:2))),"") -> ggggggggggg | F5: =IFERROR(INDEX(BDD!E$3:E$14,SMALL(BDD!$H$3:$H$14,ROWS($1:2))),"") -> 0
B6: =IFERROR(INDEX(BDD!A$3:A$14,SMALL(BDD!$H$3:$H$14,ROWS($1:3))),"") -> entreprise C | C6: =IFERROR(INDEX(BDD!B$3:B$14,SMALL(BDD!$H$3:$H$14,ROWS($1:3))),"") -> carton | D6: =IFERROR(INDEX(BDD!C$3:C$14,SMALL(BDD!$H$3:$H$14,ROWS($1:3))),"") -> 8 | E6: =IFERROR(INDEX(BDD!D$3:D$14,SMALL(BDD!$H$3:$H$14,ROWS($1:3))),"") -> hhhhhhhhhhh | F6: =IFERROR(INDEX(BDD!E$3:E$14,SMALL(BDD!$H$3:$H$14,ROWS($1:3))),"") -> 0
B7: =IFERROR(INDEX(BDD!A$3:A$14,SMALL(BDD!$H$3:$H$14,ROWS($1:4))),"") | C7: =IFERROR(INDEX(BDD!B$3:B$14,SMALL(BDD!$H$3:$H$14,ROWS($1:4))),"") | D7: =IFERROR(INDEX(BDD!C$3:C$14,SMALL(BDD!$H$3:$H$14,ROWS($1:4))),"") | E7: =IFERROR(INDEX(BDD!D$3:D$14,SMALL(BDD!$H$3:$H$14,ROWS($1:4))),"") | F7: =IFERROR(INDEX(BDD!E$3:E$14,SMALL(BDD!$H$3:$H$14,ROWS($1:4))),"")
B8: =IFERROR(INDEX(BDD!A$3:A$14,SMALL(BDD!$H$3:$H$14,ROWS($1:5))),"") | C8: =IFERROR(INDEX(BDD!B$3:B$14,SMALL(BDD!$H$3:$H$14,ROWS($1:5))),"") | D8: =IFERROR(INDEX(BDD!C$3:C$14,SMALL(BDD!$H$3:$H$14,ROWS($1:5))),"") | E8: =IFERROR(INDEX(BDD!D$3:D$14,SMALL(BDD!$H$3:$H$14,ROWS($1:5))),"") | F8: =IFERROR(INDEX(BDD!E$3:E$14,SMALL(BDD!$H$3:$H$14,ROWS($1:5))),"")
B9: =IFERROR(INDEX(BDD!A$3:A$14,SMALL(BDD!$H$3:$H$14,ROWS($1:6))),"") | C9: =IFERROR(INDEX(BDD!B$3:B$14,SMALL(BDD!$H$3:$H$14,ROWS($1:6))),"") | D9: =IFERROR(INDEX(BDD!C$3:C$14,SMALL(BDD!$H$3:$H$14,ROWS($1:6))),"") | E9: =IFERROR(INDEX(BDD!D$3:D$14,SMALL(BDD!$H$3:$H$14,ROWS($1:6))),"") | F9: =IFERROR(INDEX(BDD!E$3:E$14,SMALL(BDD!$H$3:$H$14,ROWS($1:6))),"")
B10: =IFERROR(INDEX(BDD!A$3:A$14,SMALL(BDD!$H$3:$H$14,ROWS($1:7))),"") | C10: =IFERROR(INDEX(BDD!B$3:B$14,SMALL(BDD!$H$3:$H$14,ROWS($1:7))),"") | D10: =IFERROR(INDEX(BDD!C$3:C$14,SMALL(BDD!$H$3:$H$14,ROWS($1:7))),"") | E10: =IFERROR(INDEX(BDD!D$3:D$14,SMALL(BDD!$H$3:$H$14,ROWS($1:7))),"") | F10: =IFERROR(INDEX(BDD!E$3:E$14,SMALL(BDD!$H$3:$H$14,ROWS($1:7))),"")
B11: =IFERROR(INDEX(BDD!A$3:A$14,SMALL(BDD!$H$3:$H$14,ROWS($1:8))),"") | C11: =IFERROR(INDEX(BDD!B$3:B$14,SMALL(BDD!$H$3:$H$14,ROWS($1:8))),"") | D11: =IFERROR(INDEX(BDD!C$3:C$14,SMALL(BDD!$H$3:$H$14,ROWS($1:8))),"") | E11: =IFERROR(INDEX(BDD!D$3:D$14,SMALL(BDD!$H$3:$H$14,ROWS($1:8))),"") | F11: =IFERROR(INDEX(BDD!E$3:E$14,SMALL(BDD!$H$3:$H$14,ROWS($1:8))),"")
B12: =IFERROR(INDEX(BDD!A$3:A$14,SMALL(BDD!$H$3:$H$14,ROWS($1:9))),"") | C12: =IFERROR(INDEX(BDD!B$3:B$14,SMALL(BDD!$H$3:$H$14,ROWS($1:9))),"") | D12: =IFERROR(INDEX(BDD!C$3:C$14,SMALL(BDD!$H$3:$H$14,ROWS($1:9))),"") | E12: =IFERROR(INDEX(BDD!D$3:D$14,SMALL(BDD!$H$3:$H$14,ROWS($1:9))),"") | F12: =IFERROR(INDEX(BDD!E$3:E$14,SMALL(BDD!$H$3:$H$14,ROWS($1:9))),"")
