Workbook

Sheet Feuil1
A1: 42630 | B1: 3.6 | C1: =IF(B1>0,IF(D1="",B1,""),"") | D1: OK
A2: 42630 | B2: 3.45 | C2: =IF(B2>0,IF(D2="",B2,""),"") -> 3.45
A3: 42630 | B3: 3 | C3: =IF(B3>0,IF(D3="",B3,""),"") -> 3
A4: 42630 | B4: 3.1 | C4: =IF(B4>0,IF(D4="",B4,""),"") -> 3.1 | E4: Totaux Feuil1 | F4: avec SOMME | G4: avec SOMMEPROD
A5: 42630 | C5: =IF(B5>0,IF(D5="",B5,""),"")
A6: 42630 | C6: =IF(B6>0,IF(D6="",B6,""),"") | E6: Lundi | F6: {=SUM(($B$1:$B$100)*(WEEKDAY($A$1:$A$100,2)=1)*($D$1:$D$100=""))} -> #VALUE! | G6: {=SUMPRODUCT(($B$1:$B$100)*(WEEKDAY($A$1:$A$100,2)=1)*($D$1:$D$100=""))} -> #VALUE!
A7: 42630 | B7: 3.4 | C7: =IF(B7>0,IF(D7="",B7,""),"") -> 3.4 | E7: Mardi | F7: {=SUM(($B$1:$B$100)*(WEEKDAY($A$1:$A$100,2)=2)*($D$1:$D$100=""))} -> #VALUE! | G7: {=SUMPRODUCT(($B$1:$B$100)*(WEEKDAY($A$1:$A$100,2)=2)*($D$1:$D$100=""))} -> #VALUE!
A8: 42630 | B8: 3.35 | C8: =IF(B8>0,IF(D8="",B8,""),"") -> 3.35 | E8: Mercredi | F8: {=SUM(($B$1:$B$100)*(WEEKDAY($A$1:$A$100,2)=3)*($D$1:$D$100=""))} -> #VALUE! | G8: {=SUMPRODUCT(($B$1:$B$100)*(WEEKDAY($A$1:$A$100,2)=3)*($D$1:$D$100=""))} -> #VALUE!
A9: 42634 | B9: 3.25 | C9: =IF(B9>0,IF(D9="",B9,""),"") -> 3.25 | E9: Jeudi | F9: {=SUM(($B$1:$B$100)*(WEEKDAY($A$1:$A$100,2)=4)*($D$1:$D$100=""))} -> #VALUE! | G9: {=SUMPRODUCT(($B$1:$B$100)*(WEEKDAY($A$1:$A$100,2)=4)*($D$1:$D$100=""))} -> #VALUE!
A10: 42634 | B10: 3.15 | C10: =IF(B10>0,IF(D10="",B10,""),"") | D10: OK | E10: Vendredi | F10: {=SUM(($B$1:$B$100)*(WEEKDAY($A$1:$A$100,2)=5)*($D$1:$D$100=""))} -> #VALUE! | G10: {=SUMPRODUCT(($B$1:$B$100)*(WEEKDAY($A$1:$A$100,2)=5)*($D$1:$D$100=""))} -> #VALUE!
A11: 42634 | B11: 3 | C11: =IF(B11>0,IF(D11="",B11,""),"") -> 3 | E11: Samedi | F11: {=SUM(($B$1:$B$100)*(WEEKDAY($A$1:$A$100,2)=6)*($D$1:$D$100=""))} -> #VALUE! | G11: {=SUMPRODUCT(($B$1:$B$100)*(WEEKDAY($A$1:$A$100,2)=6)*($D$1:$D$100=""))} -> #VALUE!
A12: 42633 | B12: 3.25 | C12: =IF(B12>0,IF(D12="",B12,""),"") -> 3.25 | E12: Dimanche | F12: {=SUM(($B$1:$B$100)*(WEEKDAY($A$1:$A$100,2)=7)*($D$1:$D$100=""))} -> #VALUE! | G12: {=SUMPRODUCT(($B$1:$B$100)*(WEEKDAY($A$1:$A$100,2)=7)*($D$1:$D$100=""))} -> #VALUE!
A13: 42634 | B13: 3.3 | C13: =IF(B13>0,IF(D13="",B13,""),"") | D13: OK
A14: 42634 | B14: 3.25 | C14: =IF(B14>0,IF(D14="",B14,""),"") -> 3.25
A15: 42633 | B15: 3.25 | C15: =IF(B15>0,IF(D15="",B15,""),"") -> 3.25
A16: 42634 | B16: 3.25 | C16: =IF(B16>0,IF(D16="",B16,""),"") -> 3.25
A17: 42637 | B17: 3.75 | C17: =IF(B17>0,IF(D17="",B17,""),"") -> 3.75
A18: 42637 | B18: 3.5 | C18: =IF(B18>0,IF(D18="",B18,""),"") -> 3.5
A19: 42638 | B19: 3.3 | C19: =IF(B19>0,IF(D19="",B19,""),"") -> 3.3
A20: 42638 | B20: 3.1 | C20: =IF(B20>0,IF(D20="",B20,""),"") | D20: OK
A21: 42637 | B21: 3.45 | C21: =IF(B21>0,IF(D21="",B21,""),"") | D21: OK
A22: 42637 | B22: 3.55 | C22: =IF(B22>0,IF(D22="",B22,""),"") -> 3.55
A23: 42637 | B23: 3.25 | C23: =IF(B23>0,IF(D23="",B23,""),"") -> 3.25
A24: 42636 | B24: 4.4 | C24: =IF(B24>0,IF(D24="",B24,""),"") | D24: OK
A25: 42638 | B25: 3.3 | C25: =IF(B25>0,IF(D25="",B25,""),"") -> 3.3
A26: 42644 | B26: =IF(D16="OK",0.2,IF(D16="A FAIRE",B16*2,"")) | C26: =IF(B26>0,IF(D26="",B26,""),"")
A27: 42644 | B27: =IF(D17="OK",0.2,IF(D17="A FAIRE",B17*2,"")) | C27: =IF(B27>0,IF(D27="",B27,""),"")
A28: 42644 | B28: =IF(D18="OK",0.2,IF(D18="A FAIRE",B18*2,"")) | C28: =IF(B28>0,IF(D28="",B28,""),"")
A29: 42644 | B29: =IF(D19="OK",0.2,IF(D19="A FAIRE",B19*2,"")) | C29: =IF(B29>0,IF(D29="",B29,""),"")
A30: 42645 | B30: =IF(D20="OK",0.2,IF(D20="A FAIRE",B20*2,"")) -> 0.2 | C30: =IF(B30>0,IF(D30="",B30,""),"") -> 0.2
A31: 42645 | B31: =IF(D21="OK",0.2,IF(D21="A FAIRE",B21*2,"")) -> 0.2 | C31: =IF(B31>0,IF(D31="",B31,""),"") | D31: A FAIRE
A32: 42643 | B32: =IF(D22="OK",0.2,IF(D22="A FAIRE",B22*2,"")) | C32: =IF(B32>0,IF(D32="",B32,""),"")
A33: 42644 | B33: =IF(D23="OK",0.2,IF(D23="A FAIRE",B23*2,"")) | C33: =IF(B33>0,IF(D33="",B33,""),"")
A34: 42645 | B34: =IF(D24="OK",0.2,IF(D24="A FAIRE",B24*2,"")) -> 0.2 | C34: =IF(B34>0,IF(D34="",B34,""),"") -> 0.2
A35: 42657 | B35: =IF(D25="OK",0.2,IF(D25="A FAIRE",B25*2,"")) | C35: =IF(B35>0,IF(D35="",B35,""),"")
A36: 42658 | B36: =IF(D26="OK",0.2,IF(D26="A FAIRE",B26*2,"")) | C36: =IF(B36>0,IF(D36="",B36,""),"")
A37: 42658 | B37: 4 | C37: =IF(B37>0,IF(D37="",B37,""),"") | D37: A FAIRE
A38: 42658 | B38: =IF(D28="OK",0.2,IF(D28="A FAIRE",B28*2,"")) | C38: =IF(B38>0,IF(D38="",B38,""),"")
A39: 42658 | B39: =IF(D29="OK",0.2,IF(D29="A FAIRE",B29*2,"")) | C39: =IF(B39>0,IF(D39="",B39,""),"")
A40: 42658 | B40: =IF(D30="OK",0.2,IF(D30="A FAIRE",B30*2,"")) | C40: =IF(B40>0,IF(D40="",B40,""),"")
A41: 42658 | B41: =IF(D31="OK",0.2,IF(D31="A FAIRE",B31*2,"")) -> 0.4 | C41: =IF(B41>0,IF(D41="",B41,""),"") -> 0.4
A42: 42658 | B42: =IF(D32="OK",0.2,IF(D32="A FAIRE",B32*2,"")) | C42: =IF(B42>0,IF(D42="",B42,""),"") | D42: OK
A43: 42657 | B43: 3 | C43: =IF(B43>0,IF(D43="",B43,""),"") | D43: A FAIRE
A44: 42658 | B44: 7 | C44: =IF(B44>0,IF(D44="",B44,""),"") -> 7
A45: 42664 | B45: =IF(D35="OK",0.2,IF(D35="A FAIRE",B35*2,"")) | C45: =IF(B45>0,IF(D45="",B45,""),"")
A46: 42665 | B46: =IF(D36="OK",0.2,IF(D36="A FAIRE",B36*2,"")) | C46: =IF(B46>0,IF(D46="",B46,""),"")
A47: 42665 | B47: =IF(D37="OK",0.2,IF(D37="A FAIRE",B37*2,"")) -> 8 | C47: =IF(B47>0,IF(D47="",B47,""),"") | D47: A FAIRE
A48: 42665 | B48: =IF(D38="OK",0.2,IF(D38="A FAIRE",B38*2,"")) | C48: =IF(B48>0,IF(D48="",B48,""),"")
A49: 42665 | B49: =IF(D39="OK",0.2,IF(D39="A FAIRE",B39*2,"")) | C49: =IF(B49>0,IF(D49="",B49,""),"")
A50: 42665 | B50: =IF(D40="OK",0.2,IF(D40="A FAIRE",B40*2,"")) | C50: =IF(B50>0,IF(D50="",B50,""),"")
A51: 42665 | B51: =IF(D41="OK",0.2,IF(D41="A FAIRE",B41*2,"")) | C51: =IF(B51>0,IF(D51="",B51,""),"")
A52: 42666 | B52: =IF(D42="OK",0.2,IF(D42="A FAIRE",B42*2,"")) -> 0.2 | C52: =IF(B52>0,IF(D52="",B52,""),"") -> 0.2
A53: 42667 | B53: =IF(D43="OK",0.2,IF(D43="A FAIRE",B43*2,"")) -> 6
A54: 42668 | B54: =IF(D44="OK",0.2,IF(D44="A FAIRE",B44*2,""))
A55: 42669 | B55: =IF(D45="OK",0.2,IF(D45="A FAIRE",B45*2,""))
A56: 42670 | B56: =IF(D46="OK",0.2,IF(D46="A FAIRE",B46*2,""))
A57: 42671 | B57: =IF(D47="OK",0.2,IF(D47="A FAIRE",B47*2,"")) -> 16
A58: 42672 | B58: =IF(D48="OK",0.2,IF(D48="A FAIRE",B48*2,""))
A59: 42673 | B59: =IF(D49="OK",0.2,IF(D49="A FAIRE",B49*2,""))
A60: 42674 | B60: =IF(D50="OK",0.2,IF(D50="A FAIRE",B50*2,""))
A61: 42675 | B61: =IF(D51="OK",0.2,IF(D51="A FAIRE",B51*2,""))
A62: 42676 | B62: =IF(D52="OK",0.2,IF(D52="A FAIRE",B52*2,""))

Sheet Feuil2
A1: 42630 | B1: 3.6 | C1: =IF(B1>0,IF(D1="",B1,""),"") | D1: OK
A2: 42630 | B2: 3.45 | C2: =IF(B2>0,IF(D2="",B2,""),"") -> 3.45
A3: 42630 | B3: 3 | C3: =IF(B3>0,IF(D3="",B3,""),"") -> 3
A4: 42631 | B4: 3.1 | C4: =IF(B4>0,IF(D4="",B4,""),"") -> 3.1
A5: 42630 | C5: =IF(B5>0,IF(D5="",B5,""),"")
A6: 42630 | C6: =IF(B6>0,IF(D6="",B6,""),"") | F6: Totaux Feuil2
A7: 42630 | B7: 3.4 | C7: =IF(B7>0,IF(D7="",B7,""),"") -> 3.4
A8: 42630 | B8: 3.35 | C8: =IF(B8>0,IF(D8="",B8,""),"") -> 3.35 | F8: Lundi | G8: {=SUM((Feuil1!$B$1:$B$52)*(WEEKDAY($A$1:$A$52,2)=1))} -> #VALUE!
A9: 42634 | B9: 3.25 | C9: =IF(B9>0,IF(D9="",B9,""),"") -> 3.25 | F9: Mardi | G9: {=SUM(($B$1:$B$52)*(WEEKDAY($A$1:$A$52,2)=2))} -> 6.5
A10: 42635 | B10: 3.15 | C10: =IF(B10>0,IF(D10="",B10,""),"") | D10: OK | F10: Mercredi | G10: {=SUM(($B$1:$B$52)*(WEEKDAY($A$1:$A$52,2)=3))} -> 12.8
A11: 42634 | B11: 3 | C11: =IF(B11>0,IF(D11="",B11,""),"") -> 3 | F11: Jeudi | G11: {=SUM(($B$1:$B$52)*(WEEKDAY($A$1:$A$52,2)=4))} -> 6.4
A12: 42633 | B12: 3.25 | C12: =IF(B12>0,IF(D12="",B12,""),"") -> 3.25 | F12: Vendredi | G12: {=SUM((Feuil1!$B$1:$B$52)*(WEEKDAY(Feuil1!$A$1:$A$52,2)=5))} -> #VALUE!
A13: 42634 | B13: 3.3 | C13: =IF(B13>0,IF(D13="",B13,""),"") | D13: OK | F13: Samedi | G13: {=SUM(($B$1:$B$52)*(WEEKDAY($A$1:$A$52,2)=6))} -> 75.8
A14: 42635 | B14: 3.25 | C14: =IF(B14>0,IF(D14="",B14,""),"") -> 3.25 | F14: Dimanche | G14: {=SUM(($B$1:$B$52)*(WEEKDAY($A$1:$A$52,2)=7))} -> 28.95
A15: 42633 | B15: 3.25 | C15: =IF(B15>0,IF(D15="",B15,""),"") -> 3.25
A16: 42634 | B16: 3.25 | C16: =IF(B16>0,IF(D16="",B16,""),"") -> 3.25
A17: 42637 | B17: 3.75 | C17: =IF(B17>0,IF(D17="",B17,""),"") -> 3.75
A18: 42637 | B18: 3.5 | C18: =IF(B18>0,IF(D18="",B18,""),"") -> 3.5
A19: 42638 | B19: 3.3 | C19: =IF(B19>0,IF(D19="",B19,""),"") -> 3.3
A20: 42638 | B20: 3.1 | C20: =IF(B20>0,IF(D20="",B20,""),"") | D20: OK
A21: 42637 | B21: 3.45 | C21: =IF(B21>0,IF(D21="",B21,""),"") | D21: OK
A22: 42636 | B22: 3.55 | C22: =IF(B22>0,IF(D22="",B22,""),"") -> 3.55
A23: 42637 | B23: 3.25 | C23: =IF(B23>0,IF(D23="",B23,""),"") -> 3.25
A24: 42636 | B24: 4.4 | C24: =IF(B24>0,IF(D24="",B24,""),"") | D24: OK
A25: 42638 | B25: 3.3 | C25: =IF(B25>0,IF(D25="",B25,""),"") -> 3.3
A26: 42644 | C26: =IF(B26>0,IF(D26="",B26,""),"")
A27: 42644 | C27: =IF(B27>0,IF(D27="",B27,""),"")
A28: 42644 | C28: =IF(B28>0,IF(D28="",B28,""),"")
A29: 42644 | C29: =IF(B29>0,IF(D29="",B29,""),"")
A30: 42645 | B30: 3.55 | C30: =IF(B30>0,IF(D30="",B30,""),"") -> 3.55
A31: 42645 | B31: 3.6 | C31: =IF(B31>0,IF(D31="",B31,""),"") -> 3.6
A32: 42643 | B32: 3.25
A33: 42644 | B33: 3.1 | C33: =IF(B33>0,IF(D33="",B33,""),"") -> 3.1
A34: 42645 | B34: 3 | C34: =IF(B34>0,IF(D34="",B34,""),"") -> 3
A35: 42657 | B35: 3.25 | C35: =IF(B35>0,IF(D35="",B35,""),"") -> 3.25
A36: 42658 | B36: 3.2 | C36: =IF(B36>0,IF(D36="",B36,""),"") -> 3.2
A37: 42658 | B37: 3 | C37: =IF(B37>0,IF(D37="",B37,""),"") -> 3
A38: 42658 | B38: 3.1 | C38: =IF(B38>0,IF(D38="",B38,""),"") -> 3.1
A39: 42658 | B39: 3.05 | C39: =IF(B39>0,IF(D39="",B39,""),"") -> 3.05
A40: 42658 | B40: 3 | C40: =IF(B40>0,IF(D40="",B40,""),"") -> 3
A41: 42658 | B41: 3.1 | C41: =IF(B41>0,IF(D41="",B41,""),"") -> 3.1
A42: 42658 | B42: 3.2 | C42: =IF(B42>0,IF(D42="",B42,""),"") | D42: OK
A43: 42657 | B43: 3.25 | C43: =IF(B43>0,IF(D43="",B43,""),"") | D43: OK
A44: 42658 | B44: 4.4 | C44: =IF(B44>0,IF(D44="",B44,""),"") -> 4.4
A45: 42664 | B45: 3.8 | C45: =IF(B45>0,IF(D45="",B45,""),"") -> 3.8
A46: 42665 | B46: 3.4 | C46: =IF(B46>0,IF(D46="",B46,""),"") -> 3.4
A47: 42665 | B47: 3.1 | C47: =IF(B47>0,IF(D47="",B47,""),"") -> 3.1
A48: 42664 | B48: 3.5 | C48: =IF(B48>0,IF(D48="",B48,""),"") | D48: OK
A49: 42665 | B49: 3.3 | C49: =IF(B49>0,IF(D49="",B49,""),"") -> 3.3
A50: 42665 | B50: 3.1 | C50: =IF(B50>0,IF(D50="",B50,""),"") -> 3.1
A51: 42665 | B51: 3 | C51: =IF(B51>0,IF(D51="",B51,""),"") -> 3
A52: 42666 | B52: 6 | C52: =IF(B52>0,IF(D52="",B52,""),"") -> 6

Sheet Feuil3
E5: Totaux Feuil1+Feuil2
E8: Lundi | F8: {=SUM((Feuil1!$B$1:$B$52)*(WEEKDAY($A$1:$A$52,2)=1))} -> #VALUE!
E9: Mardi | F9: {=SUM((Feuil1!$C$1:$C$52)*(WEEKDAY(Feuil1!$A$1:$A$52,2)=2))} -> #VALUE! | G9: =SOMME.SI((Feuil1!$D$1:$D$52;"";Feuil1!$B$1:$B$5)*(JOURSEM(Feuil1!$A$1:$A$52;2)=2))
E10: Mercredi | F10: {=SUM(($B$1:$B$52)*(WEEKDAY($A$1:$A$52,2)=3))} -> 0
E11: Jeudi | F11: {=SUM(($B$1:$B$52)*(WEEKDAY($A$1:$A$52,2)=4))} -> 0 | G11: Feuil1 | H11: Feuil1+Feuil2 | I11: Feuil2
E12: Vendredi | F12: {=SUM((Feuil1!$B$1:$B$52)*(WEEKDAY(Feuil1!$A$1:$A$52,2)=5))} -> #VALUE! | G12: {=SUM((Feuil1!$B$1:$B$60)*(WEEKDAY(Feuil1!$A$1:$A$60,2)=5)*(Feuil1!$D$1:$D$60=""))} -> #VALUE! | H12: {=SUM((Feuil1!$B$1:$B$52)*(WEEKDAY(Feuil1!$A$1:$A$52,2)=5)*(Feuil1!$D$1:$D$52=""))+SUM((Feuil2!$B$1:$B$52)*(WEEKDAY(Feuil2!$A$1:$A$52,2)=5)*(Feuil2!$D$1:$D$52=""))} -> #VALUE! | I12: {=SUM((WEEKDAY(Feuil2!$A$1:$A$60,2)=5)*(Feuil2!$B$1:$B$60)*(Feuil2!$D$1:$D$60=""))} -> 13.85
E13: Samedi | F13: {=SUM(($B$1:$B$52)*(WEEKDAY($A$1:$A$52,2)=6))} -> 0
E14: Dimanche | F14: {=SUM(($B$1:$B$52)*(WEEKDAY($A$1:$A$52,2)=7))} -> 0
