Workbook
Name Code: Besoin!$A$2:$A$756
Name Semaine: Besoin!$C$1:$AB$1
Name valeurs: Besoin!$C$2:$AB$756

Sheet Besoin
A1: End Item Code | B1: NTPC Code | C1: W1 | D1: W2 | E1: W3 | F1: W4 | G1: W5 | H1: W6 | I1: W7 | J1: W8 | K1: W9 | L1: 10 | M1: W11 | N1: W12 | O1: W13 | P1: W14 | Q1: W15 | R1: W16 | S1: W17 | T1: W18 | U1: W19 | V1: W20 | W1: W21 | X1: W22 | Y1: W23 | Z1: W24 | AA1: W25 | AB1: W26
A2: 3547100600676EF-0075+00000 | B2: 354710070031401-0075+00000 | C2: 0 | D2: 16 | E2: 2 | F2: 3 | G2: 3 | H2: 3 | I2: 3 | J2: 3 | K2: 3 | L2: 3 | M2: 3 | N2: 3 | O2: 3 | P2: 3 | Q2: 3 | R2: 3 | S2: 3 | T2: 3 | U2: 3 | V2: 3 | W2: 3 | X2: 3 | Y2: 3 | Z2: 3 | AA2: 3 | AB2: 3
A3: 3547100600676EF-0100+02500 | B3: 354710070031401-0100+02500 | C3: 0 | D3: 0 | E3: 0 | F3: 0 | G3: 0 | H3: 0 | I3: 0 | J3: 0 | K3: 0 | L3: 0 | M3: 0 | N3: 0 | O3: 0 | P3: 0 | Q3: 0 | R3: 0 | S3: 0 | T3: 0 | U3: 0 | V3: 0 | W3: 0 | X3: 0 | Y3: 0 | Z3: 0 | AA3: 0 | AB3: 0
A4: 3547100600676EF-0100+05000 | B4: 354710070031401-0100+05000 | C4: 0 | D4: 0 | E4: 0 | F4: 0 | G4: 0 | H4: 0 | I4: 0 | J4: 0 | K4: 0 | L4: 0 | M4: 0 | N4: 0 | O4: 0 | P4: 0 | Q4: 0 | R4: 0 | S4: 0 | T4: 0 | U4: 0 | V4: 0 | W4: 0 | X4: 0 | Y4: 0 | Z4: 0 | AA4: 0 | AB4: 0
A5: 3547100600676EF-0100+10000 | B5: 354710070031401-0100+10000 | C5: 0 | D5: 0 | E5: 0 | F5: 0 | G5: 0 | H5: 0 | I5: 0 | J5: 0 | K5: 0 | L5: 0 | M5: 0 | N5: 0 | O5: 0 | P5: 0 | Q5: 0 | R5: 0 | S5: 0 | T5: 0 | U5: 0 | V5: 0 | W5: 0 | X5: 0 | Y5: 0 | Z5: 0 | AA5: 0 | AB5: 0
A6: 3547100600676EF-0125+00000 | B6: 354710070031401-0125+00000 | C6: 0 | D6: 0 | E6: 0 | F6: 0 | G6: 0 | H6: 0 | I6: 0 | J6: 0 | K6: 0 | L6: 0 | M6: 0 | N6: 0 | O6: 0 | P6: 0 | Q6: 0 | R6: 0 | S6: 0 | T6: 0 | U6: 0 | V6: 0 | W6: 0 | X6: 0 | Y6: 0 | Z6: 0 | AA6: 0 | AB6: 0
A7: 3547100600676EF-0125+02500 | B7: 354710070031401-0125+02500 | C7: 0 | D7: 0 | E7: 0 | F7: 0 | G7: 0 | H7: 0 | I7: 0 | J7: 0 | K7: 0 | L7: 0 | M7: 0 | N7: 0 | O7: 0 | P7: 0 | Q7: 0 | R7: 0 | S7: 0 | T7: 0 | U7: 0 | V7: 0 | W7: 0 | X7: 0 | Y7: 0 | Z7: 0 | AA7: 0 | AB7: 0
A8: 3547100600676EF-0125+05000 | B8: 354710070031401-0125+05000 | C8: 0 | D8: 0 | E8: 0 | F8: 0 | G8: 0 | H8: 0 | I8: 0 | J8: 0 | K8: 0 | L8: 0 | M8: 0 | N8: 0 | O8: 0 | P8: 0 | Q8: 0 | R8: 0 | S8: 0 | T8: 0 | U8: 0 | V8: 0 | W8: 0 | X8: 0 | Y8: 0 | Z8: 0 | AA8: 0 | AB8: 0
A9: 3547100600676EF-0125+10000 | B9: 354710070031401-0125+10000 | C9: 0 | D9: 0 | E9: 0 | F9: 0 | G9: 0 | H9: 0 | I9: 0 | J9: 0 | K9: 0 | L9: 0 | M9: 0 | N9: 0 | O9: 0 | P9: 0 | Q9: 0 | R9: 0 | S9: 0 | T9: 0 | U9: 0 | V9: 0 | W9: 0 | X9: 0 | Y9: 0 | Z9: 0 | AA9: 0 | AB9: 0
A10: 3547100600676EF-0125+12500 | B10: 354710070031401-0125+12500 | C10: 0 | D10: 0 | E10: 0 | F10: 0 | G10: 0 | H10: 0 | I10: 0 | J10: 0 | K10: 0 | L10: 0 | M10: 0 | N10: 0 | O10: 0 | P10: 0 | Q10: 0 | R10: 0 | S10: 0 | T10: 0 | U10: 0 | V10: 0 | W10: 0 | X10: 0 | Y10: 0 | Z10: 0 | AA10: 0 | AB10: 0
A11: 3547100600676EF-0150+02500 | B11: 354710070031401-0150+02500 | C11: 0 | D11: 0 | E11: 0 | F11: 0 | G11: 0 | H11: 0 | I11: 0 | J11: 0 | K11: 0 | L11: 0 | M11: 0 | N11: 0 | O11: 0 | P11: 0 | Q11: 0 | R11: 0 | S11: 0 | T11: 0 | U11: 0 | V11: 0 | W11: 0 | X11: 0 | Y11: 0 | Z11: 0 | AA11: 0 | AB11: 0
A12: 3547100600676EF-0150+05000 | B12: 354710070031401-0150+05000 | C12: 0 | D12: 0 | E12: 0 | F12: 0 | G12: 0 | H12: 0 | I12: 0 | J12: 0 | K12: 0 | L12: 0 | M12: 0 | N12: 0 | O12: 0 | P12: 0 | Q12: 0 | R12: 0 | S12: 0 | T12: 0 | U12: 0 | V12: 0 | W12: 0 | X12: 0 | Y12: 0 | Z12: 0 | AA12: 0 | AB12: 0
A13: 3547100600676EF-0150+07500 | B13: 354710070031401-0150+07500 | C13: 0 | D13: 0 | E13: 0 | F13: 0 | G13: 0 | H13: 0 | I13: 0 | J13: 0 | K13: 0 | L13: 0 | M13: 0 | N13: 0 | O13: 0 | P13: 0 | Q13: 0 | R13: 0 | S13: 0 | T13: 0 | U13: 0 | V13: 0 | W13: 0 | X13: 0 | Y13: 0 | Z13: 0 | AA13: 0 | AB13: 0
... A756: 3547100700237EF-0450+10000 | B756: 354710070031401-0450+10000 | C756: 0 | D756: 0 | E756: 0 | F756: 0 | G756: 0 | H756: 0 | I756: 0 | J756: 0 | K756: 0 | L756: 0 | M756: 0 | N756: 0 | O756: 0 | P756: 0 | Q756: 0 | R756: 0 | S756: 0 | T756: 0 | U756: 0 | V756: 0 | W756: 0 | X756: 0 | Y756: 0 | Z756: 0 | AA756: 0 | AB756: 0

Sheet RESULT
A1: logistic code | B1: Famille1 237 | C1: Famille2 60NEF | D1: Famille3 87NEF | E1: Famille4 676
A2: 3547100550676EF+0000+15000 | B2: =SUMPRODUCT((Code=A2)*(Semaine=Besoin!C1:E1)*(valeurs)) -> #N/A
A3: 3547100550676EF+0000+17500 | B3: =SUMPRODUCT((Code=A3)*(Semaine=Besoin!C2:E2)*(valeurs)) -> #N/A
A4: 3547100550676EF+0000+20000 | B4: =SUMPRODUCT((Code=A4)*(Semaine=Besoin!C3:E3)*(valeurs)) -> #N/A | H4: Famille | I4: Nb semaines
A5: 3547100550676EF+0025+12500 | B5: =SUMPRODUCT((Code=A5)*(Semaine=Besoin!C4:E4)*(valeurs)) -> #N/A | H5: 1 | I5: 3
A6: 3547100550676EF+0025+15000 | B6: =SUMPRODUCT((Code=A6)*(Semaine=Besoin!C5:E5)*(valeurs)) -> #N/A | H6: 2 | I6: 5
A7: 3547100550676EF+0025+17500 | B7: =SUMPRODUCT((Code=A7)*(Semaine=Besoin!C6:E6)*(valeurs)) -> #N/A | H7: 3 | I7: 6
A8: 3547100550676EF+0025+20000 | B8: =SUMPRODUCT((Code=A8)*(Semaine=Besoin!C7:E7)*(valeurs)) -> #N/A | H8: 4 | I8: 10
A9: 3547100550676EF+0050+10000 | B9: =SUMPRODUCT((Code=A9)*(Semaine=Besoin!C8:E8)*(valeurs)) -> #N/A
A10: 3547100550676EF+0050+12500 | B10: =SUMPRODUCT((Code=A10)*(Semaine=Besoin!C9:E9)*(valeurs)) -> #N/A
A11: 3547100550676EF+0050+15000 | B11: =SUMPRODUCT((Code=A11)*(Semaine=Besoin!C10:E10)*(valeurs)) -> #N/A
A12: 3547100550676EF+0050+17500 | B12: =SUMPRODUCT((Code=A12)*(Semaine=Besoin!C11:E11)*(valeurs)) -> #N/A
A13: 3547100550676EF+0050+20000 | B13: =SUMPRODUCT((Code=A13)*(Semaine=Besoin!C12:E12)*(valeurs)) -> #N/A
A14: 3547100550676EF+0075+07500 | B14: =SUMPRODUCT((Code=A14)*(Semaine=Besoin!C13:E13)*(valeurs)) -> #N/A
A15: 3547100550676EF+0075+10000 | B15: =SUMPRODUCT((Code=A15)*(Semaine=Besoin!C14:E14)*(valeurs)) -> #N/A
A16: 3547100550676EF+0075+12500 | B16: =SUMPRODUCT((Code=A16)*(Semaine=Besoin!C15:E15)*(valeurs)) -> #N/A
A17: 3547100550676EF+0075+15000 | B17: =SUMPRODUCT((Code=A17)*(Semaine=Besoin!C16:E16)*(valeurs)) -> #N/A
A18: 3547100550676EF+0075+17500 | B18: =SUMPRODUCT((Code=A18)*(Semaine=Besoin!C17:E17)*(valeurs)) -> #N/A
A19: 3547100550676EF+0075+20000 | B19: =SUMPRODUCT((Code=A19)*(Semaine=Besoin!C18:E18)*(valeurs)) -> #N/A
A20: 3547100550676EF+0100+05000 | B20: =SUMPRODUCT((Code=A20)*(Semaine=Besoin!C19:E19)*(valeurs)) -> #N/A
... A1810: 3547100650676EF-0600+20000 | B1810: =SUMPRODUCT((Code=A1810)*(Semaine=Besoin!C1809:E1809)*(valeurs)) -> #N/A
