Workbook

Sheet Production
A1: RECETTE DE BASE | H1: RECETTE POUR 1 UNITE
A3: Melanger | D3: % | E3: Prix | F3: % | H3: Melanger | K3: Prix
A4: Beurre | B4: 225 | C4: gr | D4: =B4/B19 -> 0.14879968 | F4: =E4/E19 -> 0 | H4: Beurre | I4: =SUM(B4/B21) -> 11.903975 | J4: gr | K4: =SUM(Couts!K25*I4) -> 1.2167291
A5: Cassonade | B5: 140 | C5: gr | D5: =B5/B19 -> 0.092586469 | E5: =SUM(B5/1000)*Couts!I5 -> 3.78 | F5: =E5/E19 -> 0.064784948 | H5: Cassonade | I5: =SUM(B5/B21) -> 7.4069175 | J5: gr | K5: =SUM(Couts!K5*I5) -> 0.19998677
A6: Sucre blanc | B6: 110 | C6: gr | D6: =B6/B19 -> 0.072746511 | E6: =SUM(B6/1000)*Couts!I6 -> 1.045 | F6: =E6/E19 -> 0.017910124 | H6: Sucre blanc | I6: =SUM(B6/B21) -> 5.8197209 | J6: gr | K6: =SUM(Couts!K6*I6) -> 0.055287349
A7: Ajouter | H7: Ajouter
A8: Oeufs | B8: 2 | C8: pc | D8: =SUM((B8*60)/B19) -> 0.079359831 | E8: =SUM(B8*Couts!I7) -> 1.8 | F8: =E8/E19 -> 0.030849975 | H8: Oeufs | I8: =SUM(B8/B21) -> 0.10581311 | J8: pc | K8: =SUM(Couts!I7*I8) -> 0.095231797
A9: Ajouter | H9: Ajouter
A10: Farine | B10: 360 | C10: gr | D10: =B10/B19 -> 0.23807949 | E10: =SUM(B10/1000)*Couts!I8 -> 2.4192 | F10: =E10/E19 -> 0.041462366 | H10: Farine | I10: =SUM(B10/B21) -> 19.046359 | J10: gr | K10: =SUM(Couts!K8*I10) -> 0.12799153
A11: Baking Powder | B11: 4.02 | C11: gr | D11: =B11/B19 -> 0.0026585543 | E11: =SUM(B11/1000)*Couts!I9 -> 0.0804 | F11: =E11/E19 -> 0.0013779656 | H11: Baking Powder | I11: =SUM(B11/B21) -> 0.21268435 | J11: gr | K11: =SUM(Couts!K9*I11) -> 0.0042536869
A12: Bicarbonate | B12: 4.12 | C12: gr | D12: =B12/B19 -> 0.0027246875 | E12: =SUM(B12/1000)*Couts!I13 -> 0.0572268 | F12: =E12/E19 -> 0.00098080297 | H12: Bicarbonate | I12: =SUM(B12/B21) -> 0.217975 | J12: gr | K12: =SUM(Couts!K13*I12) -> 0.0030276728
A13: Fecule de mais | B13: 16 | C13: gr | D13: =B13/B19 -> 0.010581311 | E13: =SUM(B13/1000)*Couts!I14 -> 0.1584 | F13: =E13/E19 -> 0.0027147978 | H13: Fecule de mais | I13: =SUM(B13/B21) -> 0.84650486 | J13: gr | K13: =SUM(Couts!K14*I13) -> 0.0083803981
A14: Sel | B14: 2.96 | C14: gr | D14: =B14/B19 -> 0.0019575425 | E14: =SUM(B14/1000)*Couts!I10 -> 0.00666 | F14: =E14/E19 -> 0.00011414491 | H14: Sel | I14: =SUM(B14/B21) -> 0.1566034 | J14: gr | K14: =SUM(Couts!K10*I14) -> 0.00035235765
A15: Ajouter | H15: Ajouter
A16: Noix | B16: 230 | C16: gr | D16: =B16/B19 -> 0.15210634 | E16: =SUM(B16/1000)*Couts!I16 -> 11.5 | F16: =E16/E19 -> 0.19709706 | H16: Noix | I16: =SUM(B16/B21) -> 12.168507 | J16: gr | K16: =SUM(Couts!K16*I16) -> 0.60842537
A17: Chocolat | B17: 300 | C17: gr | D17: =B17/B19 -> 0.19839958 | E17: =SUM(B17/1000)*Couts!I17 -> 37.5 | F17: =E17/E19 -> 0.64270781 | H17: Chocolat | I17: =SUM(B17/B21) -> 15.871966 | J17: gr | K17: =SUM(Couts!K17*I17) -> 1.9839958
A19: TOTAL | B19: =SUM(B4:B6,B10:B14,B16:B17,B8*60) -> 1512.1 | C19: gr | D19: =SUM(D4:D17) -> 1 | E19: =SUM(E4:E17) -> 58.346887 | F19: =SUM(F4:F17) -> 1 | H19: TOTAL | I19: =SUM(I16:I17,I10:I14,I4:I6,I8*60) -> 80 | J19: gr | K19: =SUM(K4:K17) -> 4.3036618
A20: Gramme cookies | B20: 80 | C20: gr | E20: Prix Unitaire | H20: Gramme cookies | I20: =B20 -> 80 | J20: gr | K20: Unitaire
A21: Nb de cookies | B21: =B19/B20 -> 18.90125 | C21: un | E21: =E19/B21 -> 3.0869327 | H21: Nb de cookies | I21: =I19/I20 -> 1 | J21: un | K21: =K19/I21 -> 4.3036618
A24: Batch times | B24: Batch times | C24: Batch times | D24: 4 | H24: Nb de cookies | K24: 9
A25: Batch times | B25: Batch times | C25: Batch times
A26: Melanger | D26: Prix | H26: Melanger | K26: Prix
A27: Beurre | B27: =B4*D24 -> 900 | C27: gr | D27: =SUM([1]Couts!K4*B27) -> 48.6 | H27: Beurre | I27: =I4*K24 -> 107.13577 | J27: gr | K27: =SUM(I27/1000)*Couts!I25 -> 10.950561
A28: Cassonade | B28: =B5*D24 -> 560 | C28: gr | D28: =SUM([1]Couts!K5*B28) -> 15.68 | H28: Cassonade | I28: =I5*K24 -> 66.662258 | J28: gr | K28: =SUM(I28/1000)*Couts!I5 -> 1.799881
A29: Sucre blanc | B29: =B6*D24 -> 440 | C29: gr | D29: =SUM([1]Couts!K6*B29) -> 4.4 | H29: Sucre blanc | I29: =I6*K24 -> 52.377488 | J29: gr | K29: =SUM(I29/1000)*Couts!I6 -> 0.49758614
A30: Ajouter | H30: Ajouter
A31: Oeufs | B31: =B8*D24 -> 8 | C31: pc | D31: =SUM([1]Couts!I7*B31) -> 28.235294 | H31: Oeufs | I31: =I8*K24 -> 0.95231797 | J31: pc | K31: =SUM(I31*Couts!I7) -> 0.85708617
A32: Ajouter | H32: Ajouter
A33: Farine | B33: =B10*D24 -> 1440 | C33: gr | D33: =SUM([1]Couts!K8*B33) -> 9.6 | H33: Farine | I33: =I10*K24 -> 171.41723 | J33: gr | K33: =SUM(I33/1000)*Couts!I8 -> 1.1519238
A34: Baking Powder | B34: =B11*D24 -> 16.08 | C34: gr | H34: Baking Powder | I34: =I11*K24 -> 1.9141591 | J34: gr | K34: =SUM(I34/1000)*Couts!I9 -> 0.038283182
A35: Bicarbonate | B35: =B12*D24 -> 16.48 | C35: gr | D35: =SUM([1]Couts!K9*B35) -> 0.19975758 | H35: Bicarbonate | I35: =I12*K24 -> 1.961775 | J35: gr | K35: =SUM(I35/1000)*Couts!I13 -> 0.027249055
A36: Fecule de mais | B36: =B13*D24 -> 64 | C36: gr | H36: Fecule de mais | I36: =I13*K24 -> 7.6185437 | J36: gr | K36: =SUM(I36/1000)*Couts!I14 -> 0.075423583
A37: Sel | B37: =B14*D24 -> 11.84 | C37: gr | D37: =SUM([1]Couts!K10*B37) -> 0.127872 | H37: Sel | I37: =I14*K24 -> 1.4094306 | J37: gr | K37: =SUM(I37/1000)*Couts!I10 -> 0.0031712188
A38: Ajouter | H38: Ajouter
A39: Noix | B39: =B16*D24 -> 920 | C39: gr | D39: =SUM([1]Couts!K11*B39) -> 69.92 | H39: Noix | I39: =I16*K24 -> 109.51657 | J39: gr | K39: =SUM(I39/1000)*Couts!I16 -> 5.4758283
A40: Chocolat | B40: =B17*D24 -> 1200 | C40: gr | D40: =SUM([1]Chocolat!K12*B40) -> 43.32 | H40: Chocolat | I40: =I17*K24 -> 142.8477 | J40: gr | K40: =SUM(I40/1000)*Couts!I17 -> 17.855962
A42: TOTAL | B42: =SUM(B39:B40,B33:B37,B27:B29,B31*60) -> 6048.4 | C42: gr | D42: =SUM(D27:D40) -> 220.08292 | H42: TOTAL | I42: =SUM(I39:I40,I33:I37,I27:I29,I31*60) -> 720 | J42: gr | K42: =SUM(K27:K40) -> 38.732956
A43: Gramme cookies | B43: =B20 -> 80 | C43: gr | D43: Unitaire | H43: Gramme cookies | I43: =B20 -> 80 | J43: gr | K43: Unitaire
A44: Nb de cookies | B44: =B42/B43 -> 75.605 | C44: un | D44: =D42/B44 -> 2.9109573 | H44: Nb de cookies | I44: =I42/I43 -> 9 | J44: un | K44: =K42/I44 -> 4.3036618
E94: Melanger | H94: Prix
...

Sheet Couts
A1: LISTE DE PRIX DES MATIERES PREMIERES
A3: Francais | B3: Brand | C3: Country | D3: Chinois | E3: Box | G3: Prix | I3: Prix au kg/L | K3: Prix au gr | M3: Update
A4: Beurre | B4: President | C4: FR | D4: 新西兰无盐黄油 | E4: 0.454 | F4: kg | G4: 6.29 | H4: RMB | I4: =G4/E4 -> 13.854626 | J4: RMB | K4: =I4/1000 -> 0.013854626 | L4: RMB
A5: Cassonade | B5: Taikoo | C5: China | D5: 太古金黄幼砂糖 | E5: 20 | F5: kg | G5: 53 | H5: RMB | I5: 27 | J5: RMB | K5: =I5/1000 -> 0.027 | L5: RMB
A6: Sucre blanc | C6: Korea | D6: 韩国白砂糖 | E6: 30 | F6: kg | G6: 285 | H6: RMB | I6: =G6/E6 -> 9.5 | J6: RMB | K6: =I6/1000 -> 0.0095 | L6: RMB | M6: 45446
A7: Oeufs | C7: China | D7: 鸡蛋 | E7: 180 | F7: UN | G7: 41.55 | H7: RMB | I7: 0.9 | J7: RMB | M7: 45446
A8: Farine | B8: Rose | C8: HK | D8: 面粉 | E8: 25 | F8: kg | G8: 168 | H8: RMB | I8: =G8/E8 -> 6.72 | J8: RMB | K8: =I8/1000 -> 0.00672 | L8: RMB | M8: 45446
A9: Baking Powder - Levure chimique | D9: 发粉 / 发粉 | E9: 2.7 | F9: kg | G9: 54 | H9: RMB | I9: =G9/E9 -> 20 | J9: RMB | K9: =I9/1000 -> 0.02 | L9: RMB | M9: 45446
A10: Sel | C10: China | D10: 海盐 | E10: 1 | F10: kg | G10: 1.1133 | H10: RMB | I10: 2.25 | J10: RMB | K10: =I10/1000 -> 0.00225 | L10: RMB
A11: Noix | C11: Xinjiang | D11: 核桃仁 | E11: 3 | F11: kg | G11: 67.45 | H11: RMB | J11: RMB | K11: =I11/1000 -> 0 | L11: RMB
A12: Raisins | C12: Xinjiang | D12: 葡萄干 | E12: 0.5 | F12: kg | G12: 25 | H12: RMB | J12: RMB | K12: =I12/1000 -> 0 | L12: RMB
A13: Bicarbonate - Baking Soda | C13: 泡打粉 OR 培乐道泡打粉 | D13: 泡打粉 OR 培乐道泡打粉 | E13: 0.25 | F13: kg | G13: 0.8929 | H13: RMB | I13: 13.89 | J13: RMB | K13: =I13/1000 -> 0.01389 | L13: RMB
A14: Corn Flour | D14: 玉米粉 | E14: 1 | F14: kg | G14: 9.9 | H14: RMB | I14: 9.9 | J14: RMB | K14: =I14/1000 -> 0.0099 | L14: RMB
A15: Noix | B15: Sam's Club | C15: China | D15: 核桃仁 | E15: 1 | F15: kg | G15: 79.8 | H15: RMB | I15: =G15/E15 -> 79.8 | J15: RMB | K15: =I15/1000 -> 0.0798 | L15: RMB
A16: Noix | B16: Ninini | C16: China | E16: 1 | F16: kg | G16: 68.45 | H16: RMB | I16: 50 | J16: RMB | K16: =I16/1000 -> 0.05 | L16: RMB
A17: Chocolat 70% Fleur de Cacao | B17: Barry | C17: Belgium | E17: 1 | F17: kg | G17: 125 | H17: RMB | I17: 125 | J17: RMB | K17: =I17/1000 -> 0.125 | L17: RMB
A18: Café Gold Blend | B18: Nescafé | E18: 0.12 | F18: kg | G18: 39.9 | H18: RMB | I18: =G18/E18 -> 332.5 | J18: RMB | K18: =I18/1000 -> 0.3325 | L18: RMB | M18: 45446
A19: Creme 35% | B19: Excellence | C19: France | E19: 1 | F19: L | G19: 45 | H19: RMB | I19: 90 | J19: RMB | K19: =I19/1000 -> 0.09 | L19: RMB | M19: 45446
A20: Mascarpone | E20: 0.5 | F20: kg | G20: 43 | H20: RMB | I20: 86 | J20: RMB | K20: =I20/1000 -> 0.086 | L20: RMB | M20: 45446
A21: Gelatine | E21: 100 | F21: U | G21: 100 | H21: RMB | J21: RMB | L21: RMB | M21: 45446
A22: Cacao en poudre | C22: Barry | E22: 1 | F22: kg | G22: 118 | H22: RMB | I22: 116 | J22: RMB | K22: =I22/1000 -> 0.116 | L22: RMB | M22: 45446
A23: Amandes | E23: 1 | F23: kg | H23: RMB | J23: RMB | L23: RMB
A24: Acide ascorbique | C24: Chine | E24: 1 | F24: kg | G24: 31 | H24: RMB | I24: =G24/E24 -> 31 | J24: RMB | K24: =I24/1000 -> 0.031 | L24: RMB | M24: 45446
A25: Beurre Corman | B25: Corman | C25: France | D25: 蔻曼 | E25: 2.5 | F25: kg | G25: 255.53 | H25: RMB | I25: =G25/E25 -> 102.212 | J25: RMB | K25: =I25/1000 -> 0.102212 | L25: RMB | M25: 45446
A26: Chocolat 72% | B26: Weiss | C26: France | E26: 5 | F26: kg | G26: 747 | H26: RMB | I26: =G26/E26 -> 149.4 | J26: RMB | K26: =I26/1000 -> 0.1494 | L26: RMB | M26: 45446
A27: Almond Extract | B27: Simply Organic | C27: USA - Taobao | E27: 59 | F27: ml | G27: 75.98 | H27: RMB | I27: =G27/E27 -> 1.2877966 | J27: RMB | K27: =I27/1000 -> 0.0012877966 | L27: RMB | M27: 45446
A28: Almond Extract | B28: Simply Organic | C28: USA - Taobao | E28: 118 | F28: ml | G28: 89.98 | H28: RMB | I28: =G28/E28 -> 0.76254237 | J28: RMB | K28: =I28/1000 -> 0.00076254237 | L28: RMB | M28: 45446
