Workbook

Sheet Feuil1
A1: Agence Direct Presse | B1: Agence Direct Presse : 4 - 7 - 6 - 13 - 9 - 11 - 1 - 15
A2: Agence TIP | B2: Agence TIP : 15 - 4 - 7 - 5 - 11 - 6 - 3 - 2
A3: Beur FM | B3: Beur FM : 7 - 6 - 3 - 10 - 13 - 4 - 1 - 2
A4: Bilto | B4: Bilto : 7 - 4 - 11 - 2 - 9 - 6 - 3 - 15
A5: Canal plus | B5: Canal plus : 4 - 7 - 9 - 8 - 6 - 1 - 11 - 2
A6: Canal2 | B6: Canal2 : 7 - 14 - 13 - 6 - 11 - 1 - 9 - 8
A7: Chevaux [valeur] | B7: Chevaux [valeur] : 12 - 11 - 2 - 8 - 13 - 10 - 7 - 1
A8: Cocktail FM | B8: Confidences Pros : 2 - 7 - 4 - 11 - 6 - 9 - 1 - 8
A9: Confidences Courses | B9: Dernières Nouvelles d'Alsace : 4 - 7 - 6 - 11 - 5 - 9 - 15 - 3
A10: Confidences Pros | B10: Europe 1 : 4 - 7 - 11 - 1 - 13 - 3 - 8 - 9
A11: Dernières Nouvelles d'Alsace | B11: France-Soir : 4 - 7 - 11 - 2 - 3 - 15 - 13 - 9
A12: Europe 1 | B12: L'Indépendant : 4 - 7 - 9 - 6 - 13 - 11 - 2 - 8
... A24: Les 7 de Week End | B24: Matin Courses : 4 - 7 - 2 - 13 - 11 - 6 - 3 - 9
A25: Matin Courses

Sheet Feuil2
A1: liste mère figée | B1: liste modifiable
A3: Agence Direct Presse | B3: =VLOOKUP(A3,Feuil1!A1:C26,2,FALSE) -> Agence Direct Presse : 4 - 7 - 6 - 13 - 9 - 11 - 1 - 15
A4: Agence TIP | B4: =VLOOKUP(A4,Feuil1!A2:C27,2,FALSE) -> Agence TIP : 15 - 4 - 7 - 5 - 11 - 6 - 3 - 2
A5: Beur FM | B5: =VLOOKUP(A5,Feuil1!A3:C28,2,FALSE) -> Beur FM : 7 - 6 - 3 - 10 - 13 - 4 - 1 - 2
A6: Bilto | B6: =VLOOKUP(A6,Feuil1!A4:C29,2,FALSE) -> Bilto : 7 - 4 - 11 - 2 - 9 - 6 - 3 - 15
A7: Canal plus | B7: =VLOOKUP(A7,Feuil1!A5:C30,2,FALSE) -> Canal plus : 4 - 7 - 9 - 8 - 6 - 1 - 11 - 2
A8: Canal2 | B8: =VLOOKUP(A8,Feuil1!A6:C31,2,FALSE) -> Canal2 : 7 - 14 - 13 - 6 - 11 - 1 - 9 - 8
A9: Chevaux [valeur] | B9: =VLOOKUP(A9,Feuil1!A7:C32,2,FALSE) -> Chevaux [valeur] : 12 - 11 - 2 - 8 - 13 - 10 - 7 - 1
A10: Cocktail FM | B10: =VLOOKUP(A10,Feuil1!A8:C33,2,FALSE) -> Confidences Pros : 2 - 7 - 4 - 11 - 6 - 9 - 1 - 8
A11: Confidences Courses | B11: =VLOOKUP(A11,Feuil1!A9:C34,2,FALSE) -> Dernières Nouvelles d'Alsace : 4 - 7 - 6 - 11 - 5 - 9 - 15 - 3
A12: Confidences Pros | B12: =VLOOKUP(A12,Feuil1!A10:C35,2,FALSE) -> Europe 1 : 4 - 7 - 11 - 1 - 13 - 3 - 8 - 9
A13: Dernières Nouvelles d'Alsace | B13: =VLOOKUP(A13,Feuil1!A11:C36,2,FALSE) -> France-Soir : 4 - 7 - 11 - 2 - 3 - 15 - 13 - 9
A14: Europe 1 | B14: =VLOOKUP(A14,Feuil1!A12:C37,2,FALSE) -> L'Indépendant : 4 - 7 - 9 - 6 - 13 - 11 - 2 - 8
... A27: Matin Courses | B27: =VLOOKUP(A27,Feuil1!A25:C50,2,FALSE) -> 0
B28: =VLOOKUP(A28,Feuil1!A26:C51,2,FALSE) -> #N/A
A30: comment colorier les cellules de la colonne A qui ne contiennent pas leur propre texte dans la cellule en face de celle-ci ( colonne B) et comment remetttre les cellules de la colonneB en face des cellules dont le texte correspond de la colonne A

Sheet Feuil3
