Workbook

Sheet suivis degradation magasin 2015
E2: Suivi reparation portes du magasin
E3: DEGRADATIONS CHOCS
E4: 2015
D5: Cout de maintenance (pannes usures ) | F5: 1611
D6: Cout de maintenance preventif 01/01/2015 au 31/01/2015 | F6: 2675
D7: Cout investissement | F7: 0
B8: DATE DA | C8: année DA | D8: mois DA | E8: DESIGNATION | F8: COUT | G8: Temps | H8: Techniciens | I8: realisé
B9: 42011 | C9: =YEAR(B12) -> 2015 | D9: =MONTH(B9) -> 1 | E9: porte N° 4 remplacer cellule barre palpeuse | F9: 638 | H9: Manregion | I9: 42035
B10: 42011 | C10: =YEAR(B13) -> 2015 | D10: =MONTH(B10) -> 1 | E10: porte N° 4 diagnostique | F10: 645 | H10: Manregion | I10: 42011
B11: 42013 | C11: =YEAR(B14) -> 2015 | D11: =MONTH(B11) -> 1 | E11: porte N° 7 | F11: 384.96 | H11: Manregion | I11: 42024
B12: 42011 | C12: =YEAR(B15) -> 2015 | D12: =MONTH(B12) -> 1 | E12: porte N° 4 remplacer barre palpeuse | F12: 1400 | H12: Manregion | I12: =IF(COUNTA(#REF!)=0,0,1) -> 1
B13: 42046 | C13: =YEAR(B13) -> 2015 | D13: =MONTH(B13) -> 2 | E13: remplacer madrier cassé au cartonnge+ refixation des supports madriers | F13: 45 | G13: 2 h 00 | H13: 1 technicien SG | I13: 42046
B14: 42058 | C14: =YEAR(B14) -> 2015 | D14: =MONTH(B14) -> 2 | E14: portes chocs | F14: 1480 | I14: =IF(COUNTA(#REF!)=0,0,1) -> 1
B15: 42184 | C15: =YEAR(B15) -> 2015 | D15: =MONTH(B15) -> 6 | E15: portes chocs | F15: 1950 | I15: =IF(COUNTA(#REF!)=0,0,1) -> 1
B16: 42256 | C16: =YEAR(B16) -> 2015 | D16: =MONTH(B16) -> 9 | E16: portes chocs | F16: 1214
B17: 42257 | C17: =YEAR(B17) -> 2015 | D17: =MONTH(B17) -> 9 | E17: portes chocs | F17: 383
B18: 43737 | C18: =YEAR(B18) -> 2019 | D18: =MONTH(B18) -> 9 | E18: portes chocs | F18: 923
B19: 42298 | C19: =YEAR(B19) -> 2015 | D19: =MONTH(B19) -> 10 | E19: portes chocs | F19: 1489
B20: 42310 | C20: =YEAR(B20) -> 2015 | D20: =MONTH(B20) -> 11 | E20: portes chocs | F20: 325
I21: =IF(COUNTA(#REF!)=0,0,1) -> 1
F22: =SUM(F9:F21) -> 10876.96 | I22: =IF(COUNTA(#REF!)=0,0,1) -> 1

Sheet suivis degradation magasin 2016
E2: Suivi reparation portes du magasin
E3: DEGRADATIONS CHOCS
E4: 2016
D5: Cout de maintenance (pannes usures ) | F5: 1062
D6: Cout de maintenance preventive 01/01/2016 au 31/01/2016 | F6: 6822.85
D7: Cout investissement | F7: 13000
B9: DATE | C9: année | D9: mois | E9: DESIGNATION | F9: COUT | G9: realisé | K9: mois | M9: cout preventif | O9: cout pannes
B10: 42376 | C10: =YEAR(#REF!) -> #REF! | D10: =MONTH(B10) -> 1 | E10: AS153105 et 1531048 | F10: 720 | M10: contrat | N10: pieces | O10: reparartion
B11: 42422 | C11: =YEAR(B13) -> 2016 | D11: =MONTH(B11) -> 2 | E11: as160519 porte 1 | F11: 478.24 | K11: janvier | M11: 0 | N11: 0 | O11: 0
B12: 42444 | C12: =YEAR(B14) -> 2016 | D12: =MONTH(B12) -> 3 | E12: as160725 porte 5 et 7 degradation | F12: 392 | K12: fevrier | M12: 0 | N12: 0 | O12: 0
B13: 42486 | C13: =YEAR(B13) -> 2016 | D13: =MONTH(B13) -> 4 | E13: DEPANNAGE PORTE 20 AS161090 | F13: 449.5 | K13: mars | M13: 0 | N13: 0 | O13: 0
B14: 42520 | C14: =YEAR(B14) -> 2016 | D14: =MONTH(B14) -> 5 | E14: AS161542 porte 7 | F14: 562 | K14: avril | M14: 1214 | N14: 0 | O14: 320
B15: 42535 | C15: =YEAR(B15) -> 2016 | D15: =MONTH(B15) -> 6 | E15: remise en etat du quais | F15: 3600 | K15: mai | M15: 0 | N15: 0 | O15: 0
B16: 42552 | C16: =YEAR(B16) -> 2016 | D16: =MONTH(B16) -> 7 | E16: regul porte 32 as161947 | F16: 999 | K16: juin | M16: 0 | N16: 0 | O16: 0
B17: 42563 | C17: =YEAR(B17) -> 2016 | D17: =MONTH(B17) -> 7 | E17: Réparation porte sectionnelle 1 | F17: 680 | K17: juillet | M17: 0 | N17: 0 | O17: 0
B18: 42664 | C18: =YEAR(B18) -> 2016 | D18: =MONTH(B18) -> 10 | E18: reparation porte sectionnelle 12C | F18: 1295 | K18: août | M18: 0 | N18: 0 | O18: 382
B19: 42681 | C19: =YEAR(B19) -> 2016 | D19: =MONTH(B19) -> 11 | E19: regularisation porte 7 AS163484 | F19: 593.24 | K19: septembre | M19: 0 | N19: 0 | O19: 360
B20: 42690 | C20: =YEAR(B20) -> 2016 | D20: =MONTH(B20) -> 11 | E20: intyervention porte 20 AS163484 | F20: 594 | K20: octobre | M20: 1214 | N20: =3080+1314.85 -> 4394.85 | O20: 0
B21: 42703 | C21: =YEAR(B21) -> 2016 | D21: =MONTH(B21) -> 11 | E21: rampe de quais | F21: 2500 | K21: novembre | M21: 0 | N21: 0 | O21: 0
B22: 42709 | C22: =YEAR(B22) -> 2016 | D22: =MONTH(B22) -> 12 | E22: AS163988 AS163967 porte 1 et 10 | F22: 784 | K22: décembre | M22: 0 | N22: 0 | O22: 0
F23: =SUM(F10:F22) -> 13646.98 | G23: =IF(COUNTA(#REF!)=0,0,1) -> 1 | M23: total | N23: =SUM(M10:N21) -> 6822.85 | O23: =SUM(O11:O22) -> 1062

Sheet suivis degradation magasin 2017
E2: Suivi reparation portes du magasin
E3: DEGRADATIONS CHOCS
E4: 2017
E5: Cout de maintenance (pannes usures ) | G5: 2149.95
E6: Cout de maintenance preventive 01/01/2017 au 31/01/2017 | G6: 8644
E7: Cout investissement | G7: 9370
B9: DATE DA | C9: année DA | D9: mois DA | E9: DESIGNATION | F9: COUT | G9: Temps | H9: Techniciens | I9: realisé
B10: 42745 | C10: =YEAR(B10) -> 2017 | D10: =MONTH(B10) -> 1 | E10: AS170114 AS 1700034 PORTE 7 | F10: 1107 | H10: manuregion | I10: 42768 | L10: Mois | M10: cout preventif | O10: cout pannes
B11: 42796 | C11: =YEAR(B11) -> 2017 | D11: =MONTH(B11) -> 3 | E11: PORTE 15 réparation AS 170191 | F11: 940 | H11: manuregion | I11: 42839
B12: 42811 | C12: =YEAR(B12) -> 2017 | D12: =MONTH(B12) -> 3 | E12: AS170371 porte 5 redressage montant da469040 | F12: 573 | H12: manuregion | I12: 42839 | M12: contrat | N12: pieces | O12: reparation
B13: 42822 | C13: =YEAR(B13) -> 2017 | D13: =MONTH(B13) -> 3 | E13: Reparation portes 4 5 et 12 quais AS 170911 da 472278 | F13: 619.49 | H13: manuregion | I13: 42839 | L13: janvier | M13: 0 | N13: 0 | O13: 0
B14: 42757 | C14: =YEAR(B14) -> 2017 | D14: =MONTH(B14) -> 1 | E14: remplacement pont quais 2 | F14: 2500 | H14: manuregion | I14: 42810 | L14: fevrier | M14: 0 | N14: 0 | O14: 0
B15: 42844 | C15: =YEAR(B15) -> 2017 | D15: =MONTH(B15) -> 4 | E15: reparation cale de roue AS171256 | F15: 409 | H15: manuregion | I15: 42839 | L15: mars | M15: 0 | N15: 0 | O15: 0
B16: 42999 | C16: =YEAR(B16) -> 2017 | D16: =MONTH(B16) -> 9 | E16: reparation porte sectionnelle quais 2 AS173076 | F16: 452 | G16: 1h15 | H16: manuregion | I16: 42999 | L16: avril | M16: 1471 | N16: 0 | O16: 837.55
B17: 42999 | C17: =YEAR(B17) -> 2017 | D17: =MONTH(B17) -> 9 | E17: réparation porte souple 15 | F17: 1063 | H17: manuregion | I17: 0410/2017 | L17: mai | M17: 0 | N17: 0 | O17: 0
B18: 43004 | C18: =YEAR(B18) -> 2017 | D18: =MONTH(B18) -> 9 | E18: réparation porte souple 32 et porte sectionnelle quais12 | F18: 897 | H18: manuregion | I18: =IF(COUNTA(#REF!)=0,0,1) -> 1 | L18: juin | M18: 0 | N18: 0 | O18: 0
B19: 43013 | C19: =YEAR(B19) -> 2017 | D19: =MONTH(B19) -> 10 | E19: réparation CE suite dégradation | F19: 619.65 | H19: manuregion | I19: =IF(COUNTA(#REF!)=0,0,1) -> 1 | L19: juillet | M19: 0 | N19: 0 | O19: 0
B20: 43045 | C20: =YEAR(B20) -> 2017 | D20: =MONTH(B20) -> 11 | E20: degradation porte 15 | F20: 542 | H20: manuregion | I20: =IF(COUNTA(#REF!)=0,0,1) -> 1 | L20: aout | M20: 0 | N20: 0 | O20: 0
B21: 43004 | C21: =YEAR(B21) -> 2017 | D21: =MONTH(B21) -> 9 | E21: portes 32 12 | F21: 902.22 | I21: =IF(COUNTA(#REF!)=0,0,1) -> 1 | L21: septembre | M21: 0 | N21: 825.59 | O21: =859.94+452.46 -> 1312.4
B22: 42903 | C22: =YEAR(B22) -> 2017 | D22: =MONTH(B22) -> 6 | E22: porte 33 | F22: 479.68 | I22: =IF(COUNTA(#REF!)=0,0,1) -> 1 | L22: octopbre | M22: 1471 | N22: =3491.46+1385 -> 4876.46 | O22: 0
I23: =IF(COUNTA(#REF!)=0,0,1) -> 1 | L23: novembre | M23: 0 | N23: 0 | O23: 0
I24: =IF(COUNTA(#REF!)=0,0,1) -> 1 | L24: decembre | M24: 0 | N24: 0 | O24: 0
F25: =SUM(F10:F24) -> 11104.04 | I25: =IF(COUNTA(#REF!)=0,0,1) -> 1 | M25: TOTAL | N25: =SUM(M12:N23) -> 8644.05 | O25: =SUM(O13:O24) -> 2149.95

Sheet Suivis degradation magasin 2018
E2: Suivi reparation portes du magasin
E3: DEGRADATIONS CHOCS
E4: 2018
D5: Cout de maintenance (pannes usures ) | F5: =O26 -> 5049.02
D6: Cout de maintenance preventive 01/01/2018 au 31/01/2018 | F6: =N26 -> 8990
D7: Cout investissement | F7: 11000
B9: DATE DA | C9: année DA | D9: mois DA | E9: DESIGNATION | F9: COUT | G9: OS | H9: Techniciens | I9: realisé | L9: Mois | M9: cout preventif | O9: cout pannes
B10: 43132 | C10: =YEAR(B10) -> 2018 | D10: =MONTH(B10) -> 2 | E10: Choc sur poteau porte 7 | F10: 500.83 | G10: 3h00 | H10: manuregion | I10: oui
B11: 43280 | C11: =YEAR(B11) -> 2018 | D11: =MONTH(B11) -> 6 | E11: choc porte 5 | F11: 642 | G11: AS182063 | H11: manuregion | I11: oui | L11: 2018 | M11: contrat | N11: pieces | O11: reparation
B12: 43285 | C12: =YEAR(B12) -> 2018 | D12: =MONTH(B12) -> 7 | E12: choc porte sectionnellle 11c | F12: 544.8 | G12: AS182148 | H12: manuregion | I12: oui | L12: janvier | M12: 0 | N12: 0 | O12: =1700+333.38+193.64 -> 2227.02
B13: 43286 | C13: =YEAR(B13) -> 2018 | D13: =MONTH(B13) -> 7 | E13: reparation porte sectionnelle quais 12A | F13: 1559 | G13: AS141645 | H13: manuregion | L13: fevrier | M13: 0 | N13: 0 | O13: 0
B14: 43290 | C14: =YEAR(B14) -> 2018 | D14: =MONTH(B14) -> 7 | E14: depannage choc porte 5 | F14: 364.54 | G14: AS182214 | H14: manuregion | I14: oui | L14: mars | M14: 0 | N14: 0 | O14: 1152
B15: 43286 | C15: =YEAR(B15) -> 2018 | D15: =MONTH(B15) -> 7 | E15: depannage choc porte 12A | F15: 409.05 | G15: AS182180 | H15: manuregion | I15: oui | L15: avril | M15: 2212 | N15: 0 | O15: 0
B16: 43361 | C16: =YEAR(B16) -> 2018 | D16: =MONTH(B16) -> 9 | E16: depannage porte sectionnelle 12B | F16: 452.08 | G16: AS182910 | H16: manuregion | I16: oui | L16: mai | M16: 0 | N16: 0 | O16: 0
B17: 43383 | C17: =YEAR(B17) -> 2018 | D17: =MONTH(B17) -> 10 | E17: sectionnelle 12A panneaux | F17: 516 | H17: manuregion | L17: juin | M17: 0 | N17: 0 | O17: 0
B18: 43390 | C18: =YEAR(B18) -> 2018 | D18: =MONTH(B18) -> 10 | E18: sectionnelle 12A cable | F18: 633.23 | G18: AS183392 | H18: manuregion | L18: juillet | M18: 0 | N18: 0 | O18: 0
B19: 43426 | C19: =YEAR(B19) -> 2018 | D19: =MONTH(B19) -> 11 | E19: Porte N° 7 choc poteau | F19: 336 | G19: AS184011 | H19: manuregion | I19: =IF(COUNTA(#REF!)=0,0,1) -> 1 | L19: août | M19: 0 | N19: 0 | O19: 1670
B20: 43165 | C20: =YEAR(B20) -> 2018 | D20: =MONTH(B20) -> 3 | E20: porte 20 | F20: 572.14 | G20: AS180721 | H20: manuregion | I20: =IF(COUNTA(#REF!)=0,0,1) -> 1 | L20: septembre | M20: 0 | N20: 1080 | O20: 0
B21: 43166 | C21: =YEAR(B21) -> 2018 | D21: =MONTH(B21) -> 3 | E21: porte 15 | F21: 392 | G21: AS190772 | I21: =IF(COUNTA(#REF!)=0,0,1) -> 1 | L21: octobre | M21: 2212 | N21: =1248+638 -> 1886 | O21: 0
B22: 43312 | C22: =YEAR(B22) -> 2018 | D22: =MONTH(B22) -> 7 | E22: choc portes | F22: 1318.39 | L22: novembre | M22: 0 | N22: 1600 | O22: 0
B23: 43446 | C23: =YEAR(B23) -> 2018 | D23: =MONTH(B23) -> 12 | E23: Cale de roue | F23: 243.25 | G23: AS181184 | I23: =IF(COUNTA(#REF!)=0,0,1) -> 1 | L23: décembre | M23: 0 | N23: 0 | O23: 0
F24: =SUM(F10:F23) -> 8483.31 | I24: =IF(COUNTA(#REF!)=0,0,1) -> 1
M26: total | N26: =SUM(M12:N23) -> 8990 | O26: =SUM(O12:O23) -> 5049.02

Sheet Suivis degradation magsin 2019
E3: Suivi Coûts de réparation portes du magasin
E4: DEGRADATIONS CHOCS 219
D6: Cout de maintenance (pannes usures ) | F6: =P25 -> 2234.32
D7: Cout de maintenance contrat preventif 01/01/2019 au 31/12/2019 | F7: =O25 -> 7811
D8: Cout investissement | F8: 32000
L9: mois | N9: cout preventif | P9: cout panne
B10: DATE DA | C10: année DA | D10: mois DA | E10: DESIGNATION | F10: COUT | G10: OS | H10: realisé
B11: 43486 | C11: =YEAR(B11) -> 2019 | D11: =MONTH(B11) -> 1 | E11: Porte 12c choc panneaux | F11: 329 | G11: AS190367 | H11: 43494 | L11: 2019 | N11: contrat | O11: pieces | P11: reparations
B12: 43502 | C12: =YEAR(B12) -> 2019 | D12: =MONTH(B12) -> 2 | E12: porte 12 A quais 1 +porte auto 16( choc barre) +porte 8 (gyrophare kc) | F12: 350 | G12: AS190543 | H12: 43502 | L12: janvier | N12: 0 | O12: 0 | P12: 0
B13: 43529 | C13: =YEAR(B13) -> 2019 | D13: =MONTH(B13) -> 3 | E13: choc portes sectionnelle 12c + sectionnelle 11b + porte 7 | F13: 656 | H13: 43534 | L13: fevrier | N13: 0 | O13: 0 | P13: 0
B14: 43542 | C14: =YEAR(B14) -> 2019 | D14: =MONTH(B14) -> 3 | E14: choc porte N°7 Poteaux | F14: 342.98 | G14: AS191071 | H14: 43542 | L14: mars | N14: 0 | O14: 0 | P14: 0
B15: 43544 | C15: =YEAR(B15) -> 2019 | D15: =MONTH(B15) -> 3 | E15: choc porte 12c | F15: 778.01 | G15: AS190922 | H15: 43527 | L15: avril | N15: 2211.5 | O15: 1242 | P15: 0
B16: 43558 | C16: =YEAR(B16) -> 2019 | D16: =MONTH(B16) -> 4 | E16: cale roue quais 1 et 2 | F16: 279.39 | G16: AS191338 | H16: 43558 | L16: mai | N16: 0 | O16: 0 | P16: 0
B17: 43584 | C17: =YEAR(B17) -> 2019 | D17: =MONTH(B17) -> 4 | E17: porte N°4 choc barres pliees | F17: 512 | G17: AS191648 | H17: 43585 | L17: juin | N17: 0 | O17: 0 | P17: 942.64
B18: 43605 | C18: =YEAR(B18) -> 2019 | D18: =MONTH(B18) -> 5 | E18: porte N°4 choc securité sans fil | F18: 1298 | G18: AS191108 | H18: 43614 | L18: juillet | N18: 0 | O18: 0 | P18: 0
B19: 43591 | C19: =YEAR(B19) -> 2019 | D19: =MONTH(B19) -> 5 | E19: portes 3 6 10 16 barre bache poteaux etc,, | F19: 1040 | G19: AS190610 | H19: 43613 | L19: août | N19: 0 | O19: 0 | P19: 319.68
B20: 43627 | C20: =YEAR(B20) -> 2019 | D20: =MONTH(B20) -> 6 | E20: porte sectionnelle quais 2 | F20: 942 | G20: AS190832 | H20: 43653 | L20: septembre | N20: 0 | O20: 0 | P20: 0
B21: 43614 | C21: =YEAR(B21) -> 2019 | D21: =MONTH(B21) -> 5 | E21: choc porte sectionnelle quais 1 | F21: 403.87 | G21: AS192055 | H21: 43614 | L21: octobre | N21: =2211.5 -> 2211.5 | O21: 2146 | P21: 972
B22: 43703 | C22: =YEAR(B22) -> 2019 | D22: =MONTH(B22) -> 8 | E22: choc porte rapide souple 20 | F22: 843.17 | G22: AS193104 | H22: 43703 | L22: novembre | N22: 0 | O22: 0 | P22: 0
B23: 43731 | C23: =YEAR(B23) -> 2019 | D23: =MONTH(B23) -> 9 | E23: choc porte sectionnelle quais 3 | F23: 508.09 | G23: AS193413 | H23: 43731 | L23: décembre | N23: 0 | O23: 0 | P23: 0
B24: 43731 | C24: =YEAR(B24) -> 2019 | D24: =MONTH(B24) -> 9 | E24: Cale de roue +butee HS quais 1 | F24: 550.63 | G24: AS193393 | H24: 43731
B25: 43731 | C25: =YEAR(B25) -> 2019 | D25: =MONTH(B25) -> 9 | E25: Choc porte 15 bar pliees | F25: 343.36 | G25: AS193414 | H25: 43732 | N25: TOTAL | O25: =SUM(N12:O23) -> 7811 | P25: =SUM(P12:P23) -> 2234.32
B26: 43742 | C26: =YEAR(B26) -> 2019 | D26: =MONTH(B26) -> 10 | E26: choc Porte N°4 empilable sangle | F26: 310.18 | G26: AS193615 | H26: 43743
B27: 43745 | C27: =YEAR(B27) -> 2019 | D27: =MONTH(B27) -> 10 | E27: Choc porte 11c rail | F27: 409.81 | G27: AS193650 | H27: 43746
B28: 43753 | C28: =YEAR(B28) -> 2019 | D28: =MONTH(B28) -> 10 | E28: choc porte 16 et 17 | F28: 699.8 | G28: AS191481 | H28: 43761
H29: =IF(COUNTA(#REF!)=0,0,1) -> 1
H30: =IF(COUNTA(#REF!)=0,0,1) -> 1
E31: TOTAL | F31: =SUM(F11:F30) -> 10596.29 | H31: =IF(COUNTA(#REF!)=0,0,1) -> 1
E35: equivalent en remplacement de portes neuves | F35: 3

Sheet graphique evolution des coûts
A1: Années | B1: Coût de dégradation | C1: Coût Maintenance préventive | D1: Coût Maintenance panne | F1: TOTAL /AN
A2: 2015 | B2: =SUM('suivis degradation magasin 2015'!F22) -> 10876.96 | C2: =SUM('suivis degradation magasin 2015'!F6) -> 2675 | D2: =SUM('suivis degradation magasin 2015'!F5) -> 1611 | F2: =SUM(B2:D2) -> 15162.96
A3: 2016 | B3: =SUM('suivis degradation magasin 2016'!F23) -> 13646.98 | C3: =SUM('suivis degradation magasin 2016'!F6) -> 6822.85 | D3: =SUM('suivis degradation magasin 2016'!F5) -> 1062 | F3: =SUM(B3:D3) -> 21531.83
A4: 2017 | B4: =SUM('suivis degradation magasin 2017'!F25) -> 11104.04 | C4: =SUM('suivis degradation magasin 2017'!G6) -> 8644 | D4: =SUM('suivis degradation magasin 2017'!G5) -> 2149.95 | F4: =SUM(B4:D4) -> 21897.99
A5: 2018 | B5: =SUM('Suivis degradation magasin 2018'!F24) -> 8483.31 | C5: =SUM('Suivis degradation magasin 2018'!F6) -> 8990 | D5: =SUM('Suivis degradation magasin 2018'!F5) -> 5049.02 | F5: =SUM(B5:D5) -> 22522.33
A6: 2019 | B6: =SUM('Suivis degradation magsin 2019'!F31) -> 10596.29 | C6: =SUM('Suivis degradation magsin 2019'!F7) -> 7811 | D6: =SUM('Suivis degradation magsin 2019'!F6) -> 2234.32 | F6: =SUM(B6:D6) -> 20641.61
A7: 2020 | B7: ='Suivis degradtion magasin 2020'!F31 -> 3669.03 | C7: ='Suivis degradtion magasin 2020'!F7 -> 0 | D7: ='Suivis degradtion magasin 2020'!P25 -> 2468.09 | F7: =SUM(B7:D7) -> 6137.12
A8: 2021 | F8: =SUM(B8:D8) -> 0
A9: 2022 | F9: =SUM(B9:D9) -> 0
A10: 2023
A11: Total | B11: =SUM(B2:B10) -> 58376.61 | C11: =SUM(C2:C10) -> 34942.85 | D11: =SUM(D2:D10) -> 14574.38
F12: =SUM(F3:F10) -> 92730.88

Sheet Suivis degradtion magasin 2020
E3: Suivi Coûts de réparation portes du magasin
E4: DEGRADATIONS CHOCS 2020
D6: Cout de maintenance (pannes usures ) | F6: =P25 -> 2468.09
D7: Cout de maintenance contrat preventif 01/01/2020 au 31/12/2020 | F7: =O25 -> 0
D8: Cout investissement
L9: mois | N9: cout preventif | P9: cout panne
B10: DATE DA | C10: année DA | D10: mois DA | E10: DESIGNATION | F10: COUT | G10: OS | H10: realisé
B11: 43859 | C11: =YEAR(B11) -> 2020 | D11: =MONTH(B11) -> 1 | E11: cale de roue quai 2 ( casse chauffeur) | F11: 802 | L11: 2020 | N11: contrat | O11: pieces | P11: reparations
B12: 43874 | C12: =YEAR(B12) -> 2020 | D12: =MONTH(B12) -> 2 | E12: enrouleur cale quai 2 | F12: 576 | L12: janvier | N12: 0 | O12: 0 | P12: 2468.09
B13: 43902 | C13: =YEAR(B13) -> 2020 | D13: =MONTH(B13) -> 3 | E13: porte sectionnelle 12c | F13: 644 | L13: fevrier | N13: 0 | O13: 0 | P13: 0
B14: 43906 | C14: =YEAR(B14) -> 2020 | D14: =MONTH(B14) -> 3 | E14: porte 4 et 7 | F14: 642.03 | L14: mars | N14: 0 | O14: 0 | P14: 0
B15: 44151 | C15: =YEAR(B15) -> 2020 | D15: =MONTH(B15) -> 11 | E15: porte 4 | F15: 1005 | L15: avril | N15: 0 | O15: 0 | P15: 0
C16: =YEAR(B16) -> 1900 | D16: =MONTH(B16) -> 1 | L16: mai | N16: 0 | O16: 0 | P16: 0
C17: =YEAR(B17) -> 1900 | D17: =MONTH(B17) -> 1 | L17: juin | N17: 0 | O17: 0 | P17: 0
C18: =YEAR(B18) -> 1900 | D18: =MONTH(B18) -> 1 | L18: juillet | N18: 0 | O18: 0 | P18: 0
C19: =YEAR(B19) -> 1900 | D19: =MONTH(B19) -> 1 | L19: août | N19: 0 | O19: 0 | P19: 0
C20: =YEAR(B20) -> 1900 | D20: =MONTH(B20) -> 1 | L20: septembre | N20: 0 | O20: 0 | P20: 0
C21: =YEAR(B21) -> 1900 | D21: =MONTH(B21) -> 1 | L21: octobre | N21: 0 | O21: 0 | P21: 0
C22: =YEAR(B22) -> 1900 | D22: =MONTH(B22) -> 1 | L22: novembre | N22: 0 | O22: 0 | P22: 0
C23: =YEAR(B23) -> 1900 | D23: =MONTH(B23) -> 1 | L23: décembre | N23: 0 | O23: 0 | P23: 0
C24: =YEAR(B24) -> 1900 | D24: =MONTH(B24) -> 1
C25: =YEAR(B25) -> 1900 | D25: =MONTH(B25) -> 1 | N25: TOTAL | O25: =SUM(N12:O23) -> 0 | P25: =SUM(P12:P23) -> 2468.09
C26: =YEAR(B26) -> 1900 | D26: =MONTH(B26) -> 1
C27: =YEAR(B27) -> 1900 | D27: =MONTH(B27) -> 1
C28: =YEAR(B28) -> 1900 | D28: =MONTH(B28) -> 1
E31: TOTAL | F31: =SUM(F11:F30) -> 3669.03
E35: equivalent en remplacement de portes neuves | F35: 3

Sheet Suivis degradtion magasin 2021
E3: Suivi Coûts de réparation portes du magasin
E4: DEGRADATIONS CHOCS 2021
D6: Cout de maintenance (pannes usures ) | F6: =P25 -> 1204.46
D7: Cout de maintenance contrat preventif 01/01/2021 au 31/12/2021 | F7: =O25 -> 2318.52
D8: Cout investissement
L9: mois | N9: cout preventif | P9: cout panne
B10: DATE DA | C10: année DA | D10: mois DA | E10: DESIGNATION | F10: COUT | G10: OS | H10: realisé
B11: 44210 | C11: =YEAR(B11) -> 2021 | D11: =MONTH(B11) -> 1 | E11: reparation portes 4 1 2 11A 16 17 20 21 | F11: 3968.8 | G11: AS201811/AS210076 | H11: OUI | L11: 2021 | N11: contrat | O11: pieces | P11: reparations
B12: 44215 | C12: =YEAR(B12) -> 2021 | D12: =MONTH(B12) -> 1 | E12: Réparation porte 8 | F12: 135.63 | G12: AS210162 | H12: OUI | L12: janvier | N12: 0 | O12: 0
B13: 44210 | C13: =YEAR(B13) -> 2021 | D13: =MONTH(B13) -> 1 | E13: Réparation portes 10 4 | F13: 1048 | G13: AS20102 AS204452 AS210019NC | H13: OUI | L13: fevrier | N13: 0 | O13: 0 | P13: 279.46
B14: 44312 | C14: =YEAR(B14) -> 2021 | D14: =MONTH(B14) -> 4 | E14: Reparation porte 20 choc sur poteau | F14: 400 | G14: AS211708 | H14: OUI | L14: mars | N14: 0 | O14: 0 | P14: 925
B15: 44341 | C15: =YEAR(B15) -> 2021 | D15: =MONTH(B15) -> 5 | E15: depannage porte 12a | F15: 236.25 | G15: AS212156 | H15: OUI | L15: avril | N15: 0 | O15: 0 | P15: 0
B16: 44348 | C16: =YEAR(B16) -> 2021 | D16: =MONTH(B16) -> 6 | E16: reparation porte 20 choc | F16: 656.93 | G16: AS212223 | H16: OUI | L16: mai | N16: 0 | O16: 0 | P16: 0
B17: 44349 | C17: =YEAR(B17) -> 2021 | D17: =MONTH(B17) -> 6 | E17: Réparation porte12A | F17: 827.93 | G17: AS210895 | L17: juin | N17: 1105 | O17: =54.26+54.26 -> 108.52 | P17: 0
B18: 44368 | C18: =YEAR(B18) -> 2021 | D18: =MONTH(B18) -> 6 | E18: porte 4 laize arrachée | F18: 325.09 | G18: AS211071 | L18: juillet | N18: 0 | O18: 0 | P18: 0
B19: 44368 | C19: =YEAR(B19) -> 2021 | D19: =MONTH(B19) -> 6 | E19: porte 16 T ubes et bache | F19: =58.43+13.25 -> 71.68 | G19: AS211071 | L19: août | N19: 0 | O19: 0 | P19: 0
B20: 44368 | C20: =YEAR(B20) -> 2021 | D20: =MONTH(B20) -> 6 | E20: porte 1 laize arrachée | F20: =53.01+12.12 -> 65.13 | G20: AS211071 | L20: septembre | N20: 0 | O20: 0 | P20: 0
B21: 44368 | C21: =YEAR(B21) -> 2021 | D21: =MONTH(B21) -> 6 | E21: porte 7 Radard | F21: =512.84+22.04+5.61 -> 540.49 | G21: AS211071 | L21: octobre | N21: 0 | O21: 0 | P21: 0
B22: 44368 | C22: =YEAR(B22) -> 2021 | D22: =MONTH(B22) -> 6 | E22: porte 5 | F22: =512.84+22.04+11.23+52.5 -> 598.61 | G22: AS211071 | L22: novembre | N22: 0 | O22: 0 | P22: 0
B23: 44371 | C23: =YEAR(B23) -> 2021 | D23: =MONTH(B23) -> 6 | E23: rampe alu de quais 3 | F23: 3370 | L23: décembre | N23: 1105 | O23: 0 | P23: 0
C24: =YEAR(B24) -> 1900 | D24: =MONTH(B24) -> 1
C25: =YEAR(B25) -> 1900 | D25: =MONTH(B25) -> 1 | N25: TOTAL | O25: =SUM(N12:O23) -> 2318.52 | P25: =SUM(P12:P23) -> 1204.46
C26: =YEAR(B26) -> 1900 | D26: =MONTH(B26) -> 1
C27: =YEAR(B27) -> 1900 | D27: =MONTH(B27) -> 1
C28: =YEAR(B28) -> 1900 | D28: =MONTH(B28) -> 1
E31: TOTAL | F31: =SUM(F11:F30) -> 12244.54
E35: equivalent en remplacement de portes neuves | F35: 3

Sheet BETA
B1: Bilan des portes automatiques 2021
I3: Dégradation
I4: Préventif
B5: DATE | C5: TYPE DE MAINTENANCE | D5: PORTES | E5: DESCRIPTION | F5: COUT € | G5: AS | H5: INVESTISSEMENT | I5: Correctif
B6: 43831 | C6: Correctif | D6: x | E6: x | F6: 2468 | G6: x
B7: 43859 | C7: Dégradation | D7: Quais 2 | E7: cale de roue quai 2 ( casse chauffeur) | F7: 802
B8: 43874 | C8: Dégradation | D8: Quais 2 | E8: Enrouleur cale quais 2 | F8: 576
B9: 43902 | C9: Dégradation | D9: Porte 12C | E9: porte sectionnelle 12c | F9: 644
B10: 43906 | C10: Dégradation | D10: Porte 4 | F10: =321.02 -> 321.02
B11: 43906 | C11: Dégradation | D11: Porte 7 | F11: =642.03/2 -> 321.015
B12: 44151 | C12: Dégradation | D12: Porte 4 | F12: 1005
B13: 44201 | C13: Dégradation | D13: 10 | E13: Cellule detriorée | F13: 1048 | G13: AS210019
B14: 44210 | C14: Dégradation | D14: 1 | E14: Bache arraché | F14: 51.3 | G14: AS201811
B15: 44210 | C15: Dégradation | D15: 2 | E15: Gyrophare cassé | F15: 85.5 | G15: AS201811
B16: 44210 | C16: Dégradation | D16: 8 | E16: Porte bloque à cause d’un choc | F16: 235.63 | G16: AS210162
B17: 44210 | C17: Dégradation | D17: 11A | E17: Panneau porte défoncé | F17: 1349.16 | G17: AS201811
B18: 44210 | C18: Dégradation | D18: 16 | E18: Gyrophare cassé | F18: 171 | G18: AS201811
B19: 44210 | C19: Dégradation | D19: 17 | E19: Tubes tordus | F19: 48.39 | G19: AS201811
B20: 44210 | C20: Dégradation | D20: 20 | E20: lampe | F20: 18.31 | G20: AS201811
B21: 44210 | C21: Dégradation | D21: 20 | E21: Reflecteur | F21: 32.63 | G21: AS201811
B22: 44210 | C22: Dégradation | D22: 21 | E22: Capot gyrophare | F22: 11.4 | G22: AS201811
B23: 44210 | C23: Dégradation | D23: 4 | E23: Tubes tordus | F23: 66.36 | G23: AS201811
B24: 44210 | C24: Dégradation | D24: 4 | E24: Bache arraché | F24: 51.3 | G24: AS201811
B25: 44210 | C25: Dégradation | D25: tous | E25: petites fournitures | F25: 11.4 | G25: AS201811
B26: 44210 | C26: Dégradation | D26: tous | E26: location de leister | F26: 50 | G26: AS201811
B27: 44210 | C27: Dégradation | D27: tous | E27: MO déplacement | F27: 1187.84 | G27: AS201811
B28: 44210 | C28: Dégradation | D28: 8 | E28: Porte bloque à cause d’un choc | F28: 235.63 | G28: AS210162
B29: 44228 | C29: Correctif | D29: x | E29: x | F29: 279 | G29: x
B30: 44256 | C30: Correctif | D30: x | E30: x | F30: 925 | G30: x
B31: 44348 | C31: Préventif | D31: x | E31: x | F31: 1105 | G31: x
B32: 44349 | C32: Dégradation | D32: 20 | E32: poteau deterioré | F32: 399.5 | G32: AS211708
B33: 44349 | C33: Dégradation | D33: 12A | E33: boitier de commande porte | F33: 827.93 | G33: AS210895
B34: 44356 | C34: Dégradation | D34: 5 | E34: Radar HS | F34: 512.85 | G34: AS210994
B35: 44356 | C35: Dégradation | D35: 7 | E35: Radar HS | F35: 512.85 | G35: AS210994
B36: 44356 | C36: Dégradation | D36: tous | E36: petites fournitures | F36: 37.74 | G36: AS210994
B37: 44356 | C37: Dégradation | D37: tous | E37: MO déplacement | F37: 485.71 | G37: AS210994
B38: 44365 | C38: Dégradation | D38: 4 | E38: Bache arraché | F38: 325.09 | G38: AS211071
B39: 44365 | C39: Dégradation | D39: 16 | E39: Tubes tordus | F39: 58.43 | G39: AS211071
B40: 44365 | C40: Dégradation | D40: 1 | E40: Bache arraché | F40: 65.13 | G40: AS211071
B41: 44365 | C41: Dégradation | D41: tous | E41: location de leister | F41: 52.5 | G41: AS211071
...

Sheet BETA 2
B3: Cout | C3: % | D3: % cumulée
A4: Préventif | B4: =SUMIF(BETA!C6:C3000,"Préventif",BETA!F6:F30000) -> 37152.85 | C4: =B4/$B$7 -> 0.30113487 | D4: =C4 -> 0.30113487
A5: Correctif | B5: =SUMIF(BETA!C6:C3000,"Correctif",BETA!F6:F30000) -> 15778.29 | C5: =B5/$B$7 -> 0.12788772 | D5: =C5+D4 -> 0.42902259
A6: Dégradation | B6: =SUMIF(BETA!C6:C3000,"Dégradation",BETA!F6:F30000) -> 70444.975 | C6: =B6/$B$7 -> 0.57097741 | D6: =C6+D5 -> 1
B7: =SUM(B4:B6) -> 123376.11
B11: Cout | C11: % | D11: % cumulée
A12: Préventif | B12: =SUMPRODUCT((BETA!$C$6:$C$51=$A12)*(SUBTOTAL(9,OFFSET(BETA!$F$6,ROW(BETA!$F$6:$F$51)-MIN(ROW(BETA!$F$6:$F$51)),,)))) -> 11707.85 | C12: =B12/$B$7 -> 0.094895596 | D12: =C12 -> 0.094895596
A13: Correctif | B13: =SUMPRODUCT((BETA!$C$6:$C$51=$A13)*(SUBTOTAL(9,OFFSET(BETA!$F$6,ROW(BETA!$F$6:$F$51)-MIN(ROW(BETA!$F$6:$F$51)),,)))) -> 6345 | C13: =B13/$B$7 -> 0.051428107 | D13: =C13+D12 -> 0.1463237
A14: Dégradation | B14: =SUMPRODUCT((BETA!$C$6:$C$51=$A14)*(SUBTOTAL(9,OFFSET(BETA!$F$6,ROW(BETA!$F$6:$F$51)-MIN(ROW(BETA!$F$6:$F$51)),,)))) -> 51365.375 | C14: =B14/$B$7 -> 0.4163316 | D14: =C14+D13 -> 0.5626553
B15: =SUM(B12:B14) -> 69418.225
B20: =SUBTOTAL(109,BETA!F14:F30008) -> 116191.08
