Workbook

Sheet extraction
A1: Articles | B1: 44260 | C1: 44349 | D1: 44362 | E1: 44363 | F1: 44364 | G1: 44365 | H1: 44366 | I1: 44367 | J1: 44368 | K1: 44369 | L1: 44370 | M1: 44371 | N1: 44372 | O1: 44373
A2: Piscine | C2: 12 | E2: 3 | G2: 9 | K2: 4 | M2: 12 | O2: 5
A3: Forêt | B3: 12 | D3: 2 | H3: 28 | J3: 4 | L3: 9 | N3: 10 | O3: 7
A4: Dessert | C4: 20 | E4: 3 | F4: 78 | H4: 5 | I4: 8 | K4: 8 | O4: 34
A5: Chemin | B5: 4 | G5: 6 | H5: 76 | I5: 9 | J5: 8 | M5: 5
A6: Toile | B6: 34 | F6: 45 | H6: 9 | I6: 6 | K6: 28 | L6: 2 | N6: 7
A7: Riz | B7: 45 | C7: 16 | D7: 89 | E7: 7 | F7: 8 | G7: 8 | H7: 34 | I7: 4 | M7: 67 | O7: 6
A8: Source | G8: 45 | I8: 1 | L8: 8 | O8: 7
A9: charly | C9: 7 | D9: 67 | E9: 4 | F9: 13 | H9: 16 | I9: 2 | J9: 20 | K9: 6 | M9: 9 | N9: 5
A10: moi | B10: 8
A11: lui | C11: 56 | F11: 7 | H11: 10 | K11: 12 | M11: 9
A12: soi | B12: 23 | D12: 25 | I12: 45
A13: drum | B13: 5 | E13: 5 | J13: 89 | M13: 45

Sheet synthèse
E1: Date début | F1: 44362
E2: Date fin | F2: 44372
A4: =F1 -> 44362 | C4: =A4+1 -> 44363 | E4: =C4+1 -> 44364 | G4: =E4+1 -> 44365 | I4: =G4+1 -> 44366 | K4: =I4+1 -> 44367 | M4: =K4+1 -> 44368 | O4: =M4+1 -> 44369 | Q4: =O4+1 -> 44370 | S4: =Q4+1 -> 44371 | U4: =S4+1 -> 44372
A5: Articles | B5: quantités | C5: Articles | D5: quantités | E5: Articles | F5: quantités | G5: Articles | H5: quantités | I5: Articles | J5: quantités | K5: Articles | L5: quantités | M5: Articles | N5: quantités | O5: Articles | P5: quantités | Q5: Articles | R5: quantités | S5: Articles | T5: quantités | U5: Articles | V5: quantités
A6: =INDEX(extraction!$A$2:$A$13,MATCH(LARGE(OFFSET(extraction!$A$2:$A$13,,MATCH($A$4,extraction!B$1:O$1,0)),ROW(A1)),OFFSET(extraction!$A$2:$A$13,,MATCH($A$4,extraction!B$1:O$1,0)),0)) -> Riz | B6: =LARGE(OFFSET(extraction!$A$2:$A$13,,MATCH($A$4,extraction!B$1:O$1,0)),ROW(A1)) -> 89 | C6: =INDEX(extraction!$A$2:$A$13,MATCH(LARGE(OFFSET(extraction!$A$2:$A$13,,MATCH($C$4,extraction!B$1:O$1,0)),ROW(A1)),OFFSET(extraction!$A$2:$A$13,,MATCH($C$4,extraction!B$1:O$1,0)),0)) -> Riz | D6: =LARGE(OFFSET(extraction!$A$2:$A$13,,MATCH($C$4,extraction!B$1:O$1,0)),ROW(A1)) -> 7 | E6: =INDEX(extraction!$A$2:$A$13,MATCH(LARGE(OFFSET(extraction!$A$2:$A$13,,MATCH($E$4,extraction!B$1:O$1,0)),ROW(A1)),OFFSET(extraction!$A$2:$A$13,,MATCH($E$4,extraction!B$1:O$1,0)),0)) -> Dessert | F6: =LARGE(OFFSET(extraction!$A$2:$A$13,,MATCH($E$4,extraction!B$1:O$1,0)),ROW(A1)) -> 78 | G6: =INDEX(extraction!$A$2:$A$13,MATCH(LARGE(OFFSET(extraction!$A$2:$A$13,,MATCH($G$4,extraction!B$1:O$1,0)),ROW(A1)),OFFSET(extraction!$A$2:$A$13,,MATCH($G$4,extraction!B$1:O$1,0)),0)) -> Source | H6: =LARGE(OFFSET(extraction!$A$2:$A$13,,MATCH($G$4,extraction!B$1:O$1,0)),ROW(A1)) -> 45 | I6: =INDEX(extraction!$A$2:$A$13,MATCH(LARGE(OFFSET(extraction!$A$2:$A$13,,MATCH($I$4,extraction!B$1:O$1,0)),ROW(A1)),OFFSET(extraction!$A$2:$A$13,,MATCH($I$4,extraction!B$1:O$1,0)),0)) -> Chemin | J6: =LARGE(OFFSET(extraction!$A$2:$A$13,,MATCH($I$4,extraction!B$1:O$1,0)),ROW(A1)) -> 76 | K6: =INDEX(extraction!$A$2:$A$13,MATCH(LARGE(OFFSET(extraction!$A$2:$A$13,,MATCH($K$4,extraction!B$1:O$1,0)),ROW(A1)),OFFSET(extraction!$A$2:$A$13,,MATCH($K$4,extraction!B$1:O$1,0)),0)) -> soi | L6: =LARGE(OFFSET(extraction!$A$2:$A$13,,MATCH($K$4,extraction!B$1:O$1,0)),ROW(A1)) -> 45 | M6: =INDEX(extraction!$A$2:$A$13,MATCH(LARGE(OFFSET(extraction!$A$2:$A$13,,MATCH($M$4,extraction!B$1:O$1,0)),ROW(A1)),OFFSET(extraction!$A$2:$A$13,,MATCH($M$4,extraction!B$1:O$1,0)),0)) -> drum | N6: =LARGE(OFFSET(extraction!$A$2:$A$13,,MATCH($M$4,extraction!B$1:O$1,0)),ROW(A1)) -> 89 | O6: =INDEX(extraction!$A$2:$A$13,MATCH(LARGE(OFFSET(extraction!$A$2:$A$13,,MATCH($O$4,extraction!B$1:O$1,0)),ROW(A1)),OFFSET(extraction!$A$2:$A$13,,MATCH($O$4,extraction!B$1:O$1,0)),0)) -> Toile | P6: =LARGE(OFFSET(extraction!$A$2:$A$13,,MATCH($O$4,extraction!B$1:O$1,0)),ROW(A1)) -> 28 | Q6: =INDEX(extraction!$A$2:$A$13,MATCH(LARGE(OFFSET(extraction!$A$2:$A$13,,MATCH($Q$4,extraction!B$1:O$1,0)),ROW(A1)),OFFSET(extraction!$A$2:$A$13,,MATCH($Q$4,extraction!B$1:O$1,0)),0)) -> Forêt | R6: =LARGE(OFFSET(extraction!$A$2:$A$13,,MATCH($Q$4,extraction!B$1:O$1,0)),ROW(A1)) -> 9 | S6: =INDEX(extraction!$A$2:$A$13,MATCH(LARGE(OFFSET(extraction!$A$2:$A$13,,MATCH($S$4,extraction!B$1:O$1,0)),ROW(A1)),OFFSET(extraction!$A$2:$A$13,,MATCH($S$4,extraction!B$1:O$1,0)),0)) -> Riz | T6: =LARGE(OFFSET(extraction!$A$2:$A$13,,MATCH($S$4,extraction!B$1:O$1,0)),ROW(A1)) -> 67 | U6: =INDEX(extraction!$A$2:$A$13,MATCH(LARGE(OFFSET(extraction!$A$2:$A$13,,MATCH($U$4,extraction!B$1:O$1,0)),ROW(A1)),OFFSET(extraction!$A$2:$A$13,,MATCH($U$4,extraction!B$1:O$1,0)),0)) -> Forêt | V6: =LARGE(OFFSET(extraction!$A$2:$A$13,,MATCH($U$4,extraction!B$1:O$1,0)),ROW(A1)) -> 10
A7: =INDEX(extraction!$A$2:$A$13,MATCH(LARGE(OFFSET(extraction!$A$2:$A$13,,MATCH($A$4,extraction!B$1:O$1,0)),ROW(A2)),OFFSET(extraction!$A$2:$A$13,,MATCH($A$4,extraction!B$1:O$1,0)),0)) -> charly | B7: =LARGE(OFFSET(extraction!$A$2:$A$13,,MATCH($A$4,extraction!B$1:O$1,0)),ROW(A2)) -> 67 | C7: =INDEX(extraction!$A$2:$A$13,MATCH(LARGE(OFFSET(extraction!$A$2:$A$13,,MATCH($C$4,extraction!B$1:O$1,0)),ROW(A2)),OFFSET(extraction!$A$2:$A$13,,MATCH($C$4,extraction!B$1:O$1,0)),0)) -> drum | D7: =LARGE(OFFSET(extraction!$A$2:$A$13,,MATCH($C$4,extraction!B$1:O$1,0)),ROW(A2)) -> 5 | E7: =INDEX(extraction!$A$2:$A$13,MATCH(LARGE(OFFSET(extraction!$A$2:$A$13,,MATCH($E$4,extraction!B$1:O$1,0)),ROW(A2)),OFFSET(extraction!$A$2:$A$13,,MATCH($E$4,extraction!B$1:O$1,0)),0)) -> Toile | F7: =LARGE(OFFSET(extraction!$A$2:$A$13,,MATCH($E$4,extraction!B$1:O$1,0)),ROW(A2)) -> 45 | G7: =INDEX(extraction!$A$2:$A$13,MATCH(LARGE(OFFSET(extraction!$A$2:$A$13,,MATCH($G$4,extraction!B$1:O$1,0)),ROW(A2)),OFFSET(extraction!$A$2:$A$13,,MATCH($G$4,extraction!B$1:O$1,0)),0)) -> Piscine | H7: =LARGE(OFFSET(extraction!$A$2:$A$13,,MATCH($G$4,extraction!B$1:O$1,0)),ROW(A2)) -> 9 | I7: =INDEX(extraction!$A$2:$A$13,MATCH(LARGE(OFFSET(extraction!$A$2:$A$13,,MATCH($I$4,extraction!B$1:O$1,0)),ROW(A2)),OFFSET(extraction!$A$2:$A$13,,MATCH($I$4,extraction!B$1:O$1,0)),0)) -> Riz | J7: =LARGE(OFFSET(extraction!$A$2:$A$13,,MATCH($I$4,extraction!B$1:O$1,0)),ROW(A2)) -> 34 | K7: =INDEX(extraction!$A$2:$A$13,MATCH(LARGE(OFFSET(extraction!$A$2:$A$13,,MATCH($K$4,extraction!B$1:O$1,0)),ROW(A2)),OFFSET(extraction!$A$2:$A$13,,MATCH($K$4,extraction!B$1:O$1,0)),0)) -> Chemin | L7: =LARGE(OFFSET(extraction!$A$2:$A$13,,MATCH($K$4,extraction!B$1:O$1,0)),ROW(A2)) -> 9 | M7: =INDEX(extraction!$A$2:$A$13,MATCH(LARGE(OFFSET(extraction!$A$2:$A$13,,MATCH($M$4,extraction!B$1:O$1,0)),ROW(A2)),OFFSET(extraction!$A$2:$A$13,,MATCH($M$4,extraction!B$1:O$1,0)),0)) -> charly | N7: =LARGE(OFFSET(extraction!$A$2:$A$13,,MATCH($M$4,extraction!B$1:O$1,0)),ROW(A2)) -> 20 | O7: =INDEX(extraction!$A$2:$A$13,MATCH(LARGE(OFFSET(extraction!$A$2:$A$13,,MATCH($O$4,extraction!B$1:O$1,0)),ROW(A2)),OFFSET(extraction!$A$2:$A$13,,MATCH($O$4,extraction!B$1:O$1,0)),0)) -> lui | P7: =LARGE(OFFSET(extraction!$A$2:$A$13,,MATCH($O$4,extraction!B$1:O$1,0)),ROW(A2)) -> 12 | Q7: =INDEX(extraction!$A$2:$A$13,MATCH(LARGE(OFFSET(extraction!$A$2:$A$13,,MATCH($Q$4,extraction!B$1:O$1,0)),ROW(A2)),OFFSET(extraction!$A$2:$A$13,,MATCH($Q$4,extraction!B$1:O$1,0)),0)) -> Source | R7: =LARGE(OFFSET(extraction!$A$2:$A$13,,MATCH($Q$4,extraction!B$1:O$1,0)),ROW(A2)) -> 8 | S7: =INDEX(extraction!$A$2:$A$13,MATCH(LARGE(OFFSET(extraction!$A$2:$A$13,,MATCH($S$4,extraction!B$1:O$1,0)),ROW(A2)),OFFSET(extraction!$A$2:$A$13,,MATCH($S$4,extraction!B$1:O$1,0)),0)) -> drum | T7: =LARGE(OFFSET(extraction!$A$2:$A$13,,MATCH($S$4,extraction!B$1:O$1,0)),ROW(A2)) -> 45 | U7: =INDEX(extraction!$A$2:$A$13,MATCH(LARGE(OFFSET(extraction!$A$2:$A$13,,MATCH($U$4,extraction!B$1:O$1,0)),ROW(A2)),OFFSET(extraction!$A$2:$A$13,,MATCH($U$4,extraction!B$1:O$1,0)),0)) -> Toile | V7: =LARGE(OFFSET(extraction!$A$2:$A$13,,MATCH($U$4,extraction!B$1:O$1,0)),ROW(A2)) -> 7
A8: =INDEX(extraction!$A$2:$A$13,MATCH(LARGE(OFFSET(extraction!$A$2:$A$13,,MATCH($A$4,extraction!B$1:O$1,0)),ROW(A3)),OFFSET(extraction!$A$2:$A$13,,MATCH($A$4,extraction!B$1:O$1,0)),0)) -> soi | B8: =LARGE(OFFSET(extraction!$A$2:$A$13,,MATCH($A$4,extraction!B$1:O$1,0)),ROW(A3)) -> 25 | C8: =INDEX(extraction!$A$2:$A$13,MATCH(LARGE(OFFSET(extraction!$A$2:$A$13,,MATCH($C$4,extraction!B$1:O$1,0)),ROW(A3)),OFFSET(extraction!$A$2:$A$13,,MATCH($C$4,extraction!B$1:O$1,0)),0)) -> charly | D8: =LARGE(OFFSET(extraction!$A$2:$A$13,,MATCH($C$4,extraction!B$1:O$1,0)),ROW(A3)) -> 4 | E8: =INDEX(extraction!$A$2:$A$13,MATCH(LARGE(OFFSET(extraction!$A$2:$A$13,,MATCH($E$4,extraction!B$1:O$1,0)),ROW(A3)),OFFSET(extraction!$A$2:$A$13,,MATCH($E$4,extraction!B$1:O$1,0)),0)) -> charly | F8: =LARGE(OFFSET(extraction!$A$2:$A$13,,MATCH($E$4,extraction!B$1:O$1,0)),ROW(A3)) -> 13 | G8: =INDEX(extraction!$A$2:$A$13,MATCH(LARGE(OFFSET(extraction!$A$2:$A$13,,MATCH($G$4,extraction!B$1:O$1,0)),ROW(A3)),OFFSET(extraction!$A$2:$A$13,,MATCH($G$4,extraction!B$1:O$1,0)),0)) -> Riz | H8: =LARGE(OFFSET(extraction!$A$2:$A$13,,MATCH($G$4,extraction!B$1:O$1,0)),ROW(A3)) -> 8 | I8: =INDEX(extraction!$A$2:$A$13,MATCH(LARGE(OFFSET(extraction!$A$2:$A$13,,MATCH($I$4,extraction!B$1:O$1,0)),ROW(A3)),OFFSET(extraction!$A$2:$A$13,,MATCH($I$4,extraction!B$1:O$1,0)),0)) -> Forêt | J8: =LARGE(OFFSET(extraction!$A$2:$A$13,,MATCH($I$4,extraction!B$1:O$1,0)),ROW(A3)) -> 28 | K8: =INDEX(extraction!$A$2:$A$13,MATCH(LARGE(OFFSET(extraction!$A$2:$A$13,,MATCH($K$4,extraction!B$1:O$1,0)),ROW(A3)),OFFSET(extraction!$A$2:$A$13,,MATCH($K$4,extraction!B$1:O$1,0)),0)) -> Dessert | L8: =LARGE(OFFSET(extraction!$A$2:$A$13,,MATCH($K$4,extraction!B$1:O$1,0)),ROW(A3)) -> 8 | M8: =INDEX(extraction!$A$2:$A$13,MATCH(LARGE(OFFSET(extraction!$A$2:$A$13,,MATCH($M$4,extraction!B$1:O$1,0)),ROW(A3)),OFFSET(extraction!$A$2:$A$13,,MATCH($M$4,extraction!B$1:O$1,0)),0)) -> Chemin | N8: =LARGE(OFFSET(extraction!$A$2:$A$13,,MATCH($M$4,extraction!B$1:O$1,0)),ROW(A3)) -> 8 | O8: =INDEX(extraction!$A$2:$A$13,MATCH(LARGE(OFFSET(extraction!$A$2:$A$13,,MATCH($O$4,extraction!B$1:O$1,0)),ROW(A3)),OFFSET(extraction!$A$2:$A$13,,MATCH($O$4,extraction!B$1:O$1,0)),0)) -> Dessert | P8: =LARGE(OFFSET(extraction!$A$2:$A$13,,MATCH($O$4,extraction!B$1:O$1,0)),ROW(A3)) -> 8 | Q8: =INDEX(extraction!$A$2:$A$13,MATCH(LARGE(OFFSET(extraction!$A$2:$A$13,,MATCH($Q$4,extraction!B$1:O$1,0)),ROW(A3)),OFFSET(extraction!$A$2:$A$13,,MATCH($Q$4,extraction!B$1:O$1,0)),0)) -> Toile | R8: =LARGE(OFFSET(extraction!$A$2:$A$13,,MATCH($Q$4,extraction!B$1:O$1,0)),ROW(A3)) -> 2 | S8: =INDEX(extraction!$A$2:$A$13,MATCH(LARGE(OFFSET(extraction!$A$2:$A$13,,MATCH($S$4,extraction!B$1:O$1,0)),ROW(A3)),OFFSET(extraction!$A$2:$A$13,,MATCH($S$4,extraction!B$1:O$1,0)),0)) -> Piscine | T8: =LARGE(OFFSET(extraction!$A$2:$A$13,,MATCH($S$4,extraction!B$1:O$1,0)),ROW(A3)) -> 12 | U8: =INDEX(extraction!$A$2:$A$13,MATCH(LARGE(OFFSET(extraction!$A$2:$A$13,,MATCH($U$4,extraction!B$1:O$1,0)),ROW(A3)),OFFSET(extraction!$A$2:$A$13,,MATCH($U$4,extraction!B$1:O$1,0)),0)) -> charly | V8: =LARGE(OFFSET(extraction!$A$2:$A$13,,MATCH($U$4,extraction!B$1:O$1,0)),ROW(A3)) -> 5
A9: =INDEX(extraction!$A$2:$A$13,MATCH(LARGE(OFFSET(extraction!$A$2:$A$13,,MATCH($A$4,extraction!B$1:O$1,0)),ROW(A4)),OFFSET(extraction!$A$2:$A$13,,MATCH($A$4,extraction!B$1:O$1,0)),0)) -> Forêt | B9: =LARGE(OFFSET(extraction!$A$2:$A$13,,MATCH($A$4,extraction!B$1:O$1,0)),ROW(A4)) -> 2 | C9: =INDEX(extraction!$A$2:$A$13,MATCH(LARGE(OFFSET(extraction!$A$2:$A$13,,MATCH($C$4,extraction!B$1:O$1,0)),ROW(A4)),OFFSET(extraction!$A$2:$A$13,,MATCH($C$4,extraction!B$1:O$1,0)),0)) -> Piscine | D9: =LARGE(OFFSET(extraction!$A$2:$A$13,,MATCH($C$4,extraction!B$1:O$1,0)),ROW(A4)) -> 3 | E9: =INDEX(extraction!$A$2:$A$13,MATCH(LARGE(OFFSET(extraction!$A$2:$A$13,,MATCH($E$4,extraction!B$1:O$1,0)),ROW(A4)),OFFSET(extraction!$A$2:$A$13,,MATCH($E$4,extraction!B$1:O$1,0)),0)) -> Riz | F9: =LARGE(OFFSET(extraction!$A$2:$A$13,,MATCH($E$4,extraction!B$1:O$1,0)),ROW(A4)) -> 8 | G9: =INDEX(extraction!$A$2:$A$13,MATCH(LARGE(OFFSET(extraction!$A$2:$A$13,,MATCH($G$4,extraction!B$1:O$1,0)),ROW(A4)),OFFSET(extraction!$A$2:$A$13,,MATCH($G$4,extraction!B$1:O$1,0)),0)) -> Chemin | H9: =LARGE(OFFSET(extraction!$A$2:$A$13,,MATCH($G$4,extraction!B$1:O$1,0)),ROW(A4)) -> 6 | I9: =INDEX(extraction!$A$2:$A$13,MATCH(LARGE(OFFSET(extraction!$A$2:$A$13,,MATCH($I$4,extraction!B$1:O$1,0)),ROW(A4)),OFFSET(extraction!$A$2:$A$13,,MATCH($I$4,extraction!B$1:O$1,0)),0)) -> charly | J9: =LARGE(OFFSET(extraction!$A$2:$A$13,,MATCH($I$4,extraction!B$1:O$1,0)),ROW(A4)) -> 16 | K9: =INDEX(extraction!$A$2:$A$13,MATCH(LARGE(OFFSET(extraction!$A$2:$A$13,,MATCH($K$4,extraction!B$1:O$1,0)),ROW(A4)),OFFSET(extraction!$A$2:$A$13,,MATCH($K$4,extraction!B$1:O$1,0)),0)) -> Toile | L9: =LARGE(OFFSET(extraction!$A$2:$A$13,,MATCH($K$4,extraction!B$1:O$1,0)),ROW(A4)) -> 6 | M9: =INDEX(extraction!$A$2:$A$13,MATCH(LARGE(OFFSET(extraction!$A$2:$A$13,,MATCH($M$4,extraction!B$1:O$1,0)),ROW(A4)),OFFSET(extraction!$A$2:$A$13,,MATCH($M$4,extraction!B$1:O$1,0)),0)) -> Forêt | N9: =LARGE(OFFSET(extraction!$A$2:$A$13,,MATCH($M$4,extraction!B$1:O$1,0)),ROW(A4)) -> 4 | O9: =INDEX(extraction!$A$2:$A$13,MATCH(LARGE(OFFSET(extraction!$A$2:$A$13,,MATCH($O$4,extraction!B$1:O$1,0)),ROW(A4)),OFFSET(extraction!$A$2:$A$13,,MATCH($O$4,extraction!B$1:O$1,0)),0)) -> charly | P9: =LARGE(OFFSET(extraction!$A$2:$A$13,,MATCH($O$4,extraction!B$1:O$1,0)),ROW(A4)) -> 6 | Q9: =INDEX(extraction!$A$2:$A$13,MATCH(LARGE(OFFSET(extraction!$A$2:$A$13,,MATCH($Q$4,extraction!B$1:O$1,0)),ROW(A4)),OFFSET(extraction!$A$2:$A$13,,MATCH($Q$4,extraction!B$1:O$1,0)),0)) -> #NUM! | R9: =LARGE(OFFSET(extraction!$A$2:$A$13,,MATCH($Q$4,extraction!B$1:O$1,0)),ROW(A4)) -> #NUM! | S9: =INDEX(extraction!$A$2:$A$13,MATCH(LARGE(OFFSET(extraction!$A$2:$A$13,,MATCH($S$4,extraction!B$1:O$1,0)),ROW(A4)),OFFSET(extraction!$A$2:$A$13,,MATCH($S$4,extraction!B$1:O$1,0)),0)) -> charly | T9: =LARGE(OFFSET(extraction!$A$2:$A$13,,MATCH($S$4,extraction!B$1:O$1,0)),ROW(A4)) -> 9 | U9: =INDEX(extraction!$A$2:$A$13,MATCH(LARGE(OFFSET(extraction!$A$2:$A$13,,MATCH($U$4,extraction!B$1:O$1,0)),ROW(A4)),OFFSET(extraction!$A$2:$A$13,,MATCH($U$4,extraction!B$1:O$1,0)),0)) -> #NUM! | V9: =LARGE(OFFSET(extraction!$A$2:$A$13,,MATCH($U$4,extraction!B$1:O$1,0)),ROW(A4)) -> #NUM!
A10: =INDEX(extraction!$A$2:$A$13,MATCH(LARGE(OFFSET(extraction!$A$2:$A$13,,MATCH($A$4,extraction!B$1:O$1,0)),ROW(A5)),OFFSET(extraction!$A$2:$A$13,,MATCH($A$4,extraction!B$1:O$1,0)),0)) -> #NUM! | B10: =LARGE(OFFSET(extraction!$A$2:$A$13,,MATCH($A$4,extraction!B$1:O$1,0)),ROW(A5)) -> #NUM! | C10: =INDEX(extraction!$A$2:$A$13,MATCH(LARGE(OFFSET(extraction!$A$2:$A$13,,MATCH($C$4,extraction!B$1:O$1,0)),ROW(A5)),OFFSET(extraction!$A$2:$A$13,,MATCH($C$4,extraction!B$1:O$1,0)),0)) -> Piscine | D10: =LARGE(OFFSET(extraction!$A$2:$A$13,,MATCH($C$4,extraction!B$1:O$1,0)),ROW(A5)) -> 3 | E10: =INDEX(extraction!$A$2:$A$13,MATCH(LARGE(OFFSET(extraction!$A$2:$A$13,,MATCH($E$4,extraction!B$1:O$1,0)),ROW(A5)),OFFSET(extraction!$A$2:$A$13,,MATCH($E$4,extraction!B$1:O$1,0)),0)) -> lui | F10: =LARGE(OFFSET(extraction!$A$2:$A$13,,MATCH($E$4,extraction!B$1:O$1,0)),ROW(A5)) -> 7 | G10: =INDEX(extraction!$A$2:$A$13,MATCH(LARGE(OFFSET(extraction!$A$2:$A$13,,MATCH($G$4,extraction!B$1:O$1,0)),ROW(A5)),OFFSET(extraction!$A$2:$A$13,,MATCH($G$4,extraction!B$1:O$1,0)),0)) -> #NUM! | H10: =LARGE(OFFSET(extraction!$A$2:$A$13,,MATCH($G$4,extraction!B$1:O$1,0)),ROW(A5)) -> #NUM! | I10: =INDEX(extraction!$A$2:$A$13,MATCH(LARGE(OFFSET(extraction!$A$2:$A$13,,MATCH($I$4,extraction!B$1:O$1,0)),ROW(A5)),OFFSET(extraction!$A$2:$A$13,,MATCH($I$4,extraction!B$1:O$1,0)),0)) -> lui | J10: =LARGE(OFFSET(extraction!$A$2:$A$13,,MATCH($I$4,extraction!B$1:O$1,0)),ROW(A5)) -> 10 | K10: =INDEX(extraction!$A$2:$A$13,MATCH(LARGE(OFFSET(extraction!$A$2:$A$13,,MATCH($K$4,extraction!B$1:O$1,0)),ROW(A5)),OFFSET(extraction!$A$2:$A$13,,MATCH($K$4,extraction!B$1:O$1,0)),0)) -> Riz | L10: =LARGE(OFFSET(extraction!$A$2:$A$13,,MATCH($K$4,extraction!B$1:O$1,0)),ROW(A5)) -> 4 | M10: =INDEX(extraction!$A$2:$A$13,MATCH(LARGE(OFFSET(extraction!$A$2:$A$13,,MATCH($M$4,extraction!B$1:O$1,0)),ROW(A5)),OFFSET(extraction!$A$2:$A$13,,MATCH($M$4,extraction!B$1:O$1,0)),0)) -> #NUM! | N10: =LARGE(OFFSET(extraction!$A$2:$A$13,,MATCH($M$4,extraction!B$1:O$1,0)),ROW(A5)) -> #NUM! | O10: =INDEX(extraction!$A$2:$A$13,MATCH(LARGE(OFFSET(extraction!$A$2:$A$13,,MATCH($O$4,extraction!B$1:O$1,0)),ROW(A5)),OFFSET(extraction!$A$2:$A$13,,MATCH($O$4,extraction!B$1:O$1,0)),0)) -> Piscine | P10: =LARGE(OFFSET(extraction!$A$2:$A$13,,MATCH($O$4,extraction!B$1:O$1,0)),ROW(A5)) -> 4 | Q10: =INDEX(extraction!$A$2:$A$13,MATCH(LARGE(OFFSET(extraction!$A$2:$A$13,,MATCH($Q$4,extraction!B$1:O$1,0)),ROW(A5)),OFFSET(extraction!$A$2:$A$13,,MATCH($Q$4,extraction!B$1:O$1,0)),0)) -> #NUM! | R10: =LARGE(OFFSET(extraction!$A$2:$A$13,,MATCH($Q$4,extraction!B$1:O$1,0)),ROW(A5)) -> #NUM! | S10: =INDEX(extraction!$A$2:$A$13,MATCH(LARGE(OFFSET(extraction!$A$2:$A$13,,MATCH($S$4,extraction!B$1:O$1,0)),ROW(A5)),OFFSET(extraction!$A$2:$A$13,,MATCH($S$4,extraction!B$1:O$1,0)),0)) -> charly | T10: =LARGE(OFFSET(extraction!$A$2:$A$13,,MATCH($S$4,extraction!B$1:O$1,0)),ROW(A5)) -> 9 | U10: =INDEX(extraction!$A$2:$A$13,MATCH(LARGE(OFFSET(extraction!$A$2:$A$13,,MATCH($U$4,extraction!B$1:O$1,0)),ROW(A5)),OFFSET(extraction!$A$2:$A$13,,MATCH($U$4,extraction!B$1:O$1,0)),0)) -> #NUM! | V10: =LARGE(OFFSET(extraction!$A$2:$A$13,,MATCH($U$4,extraction!B$1:O$1,0)),ROW(A5)) -> #NUM!
A12: Total | D12: Moyenne | G12: Max | J12: Min
A13: =F1 -> 44362 | B13: =F2 -> 44372 | D13: =I1 -> 0 | E13: =I2 -> 0 | G13: =L1 -> 0 | H13: =L2 -> 0 | J13: =O1 -> 0 | K13: =O2 -> 0
A14: Articles | B14: quantités | D14: Articles | E14: quantités | G14: Articles | H14: quantités | J14: Articles | K14: quantités
A15: ? | B15: ? | D15: ? | E15: ? | G15: ? | H15: ? | J15: ? | K15: ?
A16: ? | B16: ? | D16: ? | E16: ? | G16: ? | H16: ? | J16: ? | K16: ?
A17: ? | B17: ? | D17: ? | E17: ? | G17: ? | H17: ? | J17: ? | K17: ?
A18: ? | B18: ? | D18: ? | E18: ? | G18: ? | H18: ? | J18: ? | K18: ?
A19: ? | B19: ? | D19: ? | E19: ? | G19: ? | H19: ? | J19: ? | K19: ?
