Workbook

Sheet Commande
B3: n°commande | C3: Fournisseur | D3: date de réception
B4: 2518 | C4: EXCEL | D4: 44431 | E4: 0
B5: 1836 | C5: WORD | D5: 44431 | E5: =IF(D5=D4,1+E4,0) -> 1
B6: 5230 | C6: POWER | D6: 44431 | E6: =IF(D6=D5,1+E5,0) -> 2
B7: 4892 | C7: POINT | D7: 44431 | E7: =IF(D7=D6,1+E6,0) -> 3
B8: 1315 | C8: OFFICE | D8: 44432 | E8: =IF(D8=D7,1+E7,0) -> 0
B9: 8951 | C9: SHEET | D9: 44432 | E9: =IF(D9=D8,1+E8,0) -> 1
B10: 5156 | C10: DOCS | D10: 44432 | E10: =IF(D10=D9,1+E9,0) -> 2
B11: 1668 | C11: GOOGLE | D11: 44433 | E11: =IF(D11=D10,1+E10,0) -> 0
B12: 7863 | C12: FORUM | D12: 44433 | E12: =IF(D12=D11,1+E11,0) -> 1
B13: 8749 | C13: VBA | D13: 44434 | E13: =IF(D13=D12,1+E12,0) -> 0
B14: 9943 | C14: AIDE | D14: 44435 | E14: =IF(D14=D13,1+E13,0) -> 0
B15: 65465 | C15: TUTO | D15: 44435 | E15: =IF(D15=D14,1+E14,0) -> 1

Sheet planning
B2: Lundi | D2: Mardi | F2: Mercredi | H2: Jeudi | J2: Vendredi | L2: Samedi | N2: Dimanche
B3: =R5 -> 44431 | D3: =B3+1 -> 44432 | F3: =D3+1 -> 44433 | H3: =F3+1 -> 44434 | J3: =H3+1 -> 44435 | L3: =J3+1 -> 44436 | N3: =L3+1 -> 44437
B4: =SUMIFS(Commande!B:B,Commande!D:D,planning!B$3,Commande!E:E,0) -> 2518 | C4: =VLOOKUP(planning!B4,Commande!$B$1:$D$363,2,FALSE) -> EXCEL
B5: =SUMIFS(Commande!B:B,Commande!D:D,planning!B$3,Commande!E:E,1) -> 1836 | C5: =VLOOKUP(planning!B5,Commande!$B$1:$D$363,2,FALSE) -> WORD | Q5: Semaine du | R5: 44431
B6: =SUMIFS(Commande!B:B,Commande!D:D,planning!B$3,Commande!E:E,2) -> 5230 | C6: =VLOOKUP(planning!B6,Commande!$B$1:$D$363,2,FALSE) -> POWER
B7: =SUMIFS(Commande!B:B,Commande!D:D,planning!B$3,Commande!E:E,3) -> 4892 | C7: =VLOOKUP(planning!B7,Commande!$B$1:$D$363,2,FALSE) -> POINT
B8: =SUMIFS(Commande!B:B,Commande!D:D,planning!B$3,Commande!E:E,4) -> 0 | C8: =VLOOKUP(planning!B8,Commande!$B$1:$D$363,2,FALSE) -> #N/A
B9: =SUMIFS(Commande!B:B,Commande!D:D,planning!B$3,Commande!E:E,5) -> 0 | C9: =VLOOKUP(planning!B9,Commande!$B$1:$D$363,2,FALSE) -> #N/A
B10: =SUMIFS(Commande!B:B,Commande!D:D,planning!B$3,Commande!E:E,6) -> 0 | C10: =VLOOKUP(planning!B10,Commande!$B$1:$D$363,2,FALSE) -> #N/A
B11: =SUMIFS(Commande!B:B,Commande!D:D,planning!B$3,Commande!E:E,7) -> 0 | C11: =VLOOKUP(planning!B11,Commande!$B$1:$D$363,2,FALSE) -> #N/A
B12: =SUMIFS(Commande!B:B,Commande!D:D,planning!B$3,Commande!E:E,8) -> 0 | C12: =VLOOKUP(planning!B12,Commande!$B$1:$D$363,2,FALSE) -> #N/A
B13: =SUMIFS(Commande!B:B,Commande!D:D,planning!B$3,Commande!E:E,9) -> 0 | C13: =VLOOKUP(planning!B13,Commande!$B$1:$D$363,2,FALSE) -> #N/A
B14: =SUMIFS(Commande!B:B,Commande!D:D,planning!B$3,Commande!E:E,10) -> 0 | C14: =VLOOKUP(planning!B14,Commande!$B$1:$D$363,2,FALSE) -> #N/A
B15: =SUMIFS(Commande!B:B,Commande!D:D,planning!B$3,Commande!E:E,11) -> 0 | C15: =VLOOKUP(planning!B15,Commande!$B$1:$D$363,2,FALSE) -> #N/A
B16: =SUMIFS(Commande!B:B,Commande!D:D,planning!B$3,Commande!E:E,12) -> 0 | C16: =VLOOKUP(planning!B16,Commande!$B$1:$D$363,2,FALSE) -> #N/A
B17: =SUMIFS(Commande!B:B,Commande!D:D,planning!B$3,Commande!E:E,13) -> 0 | C17: =VLOOKUP(planning!B17,Commande!$B$1:$D$363,2,FALSE) -> #N/A
B18: =SUMIFS(Commande!B:B,Commande!D:D,planning!B$3,Commande!E:E,14) -> 0 | C18: =VLOOKUP(planning!B18,Commande!$B$1:$D$363,2,FALSE) -> #N/A
B19: =SUMIFS(Commande!B:B,Commande!D:D,planning!B$3,Commande!E:E,15) -> 0 | C19: =VLOOKUP(planning!B19,Commande!$B$1:$D$363,2,FALSE) -> #N/A
B20: =SUMIFS(Commande!B:B,Commande!D:D,planning!B$3,Commande!E:E,16) -> 0 | C20: =VLOOKUP(planning!B20,Commande!$B$1:$D$363,2,FALSE) -> #N/A
B21: =SUMIFS(Commande!B:B,Commande!D:D,planning!B$3,Commande!E:E,17) -> 0 | C21: =VLOOKUP(planning!B21,Commande!$B$1:$D$363,2,FALSE) -> #N/A
B22: =SUMIFS(Commande!B:B,Commande!D:D,planning!B$3,Commande!E:E,18) -> 0 | C22: =VLOOKUP(planning!B22,Commande!$B$1:$D$363,2,FALSE) -> #N/A
B23: =SUMIFS(Commande!B:B,Commande!D:D,planning!B$3,Commande!E:E,19) -> 0 | C23: =VLOOKUP(planning!B23,Commande!$B$1:$D$363,2,FALSE) -> #N/A
B24: =SUMIFS(Commande!B:B,Commande!D:D,planning!B$3,Commande!E:E,20) -> 0 | C24: =VLOOKUP(planning!B24,Commande!$B$1:$D$363,2,FALSE) -> #N/A
