Workbook

Sheet Feuil1
D3: 1 | J3: 1 | M3: 2 | N3: 2 | O3: 2 | S3: 1 | T3: 1 | U3: 3 | W3: 1 | Z3: 2 | AA3: 1 | AB3: 2 | AC3: 1 | AD3: 1 | AE3: 1 | AF3: 1 | AJ3: 2 | AL3: 1 | AM3: 1 | AN3: 1 | AP3: 2 | AQ3: 1 | AR3: 2 | AT3: 2 | AU3: 1 | AX3: 1 | AY3: 2 | AZ3: 3 | BA3: 1 | BB3: 2 | BD3: 1 | BG3: 1 | BH3: 2 | BI3: 1 | BJ3: 1 | BL3: 1 | BM3: 3 | BN3: 1 | BP3: 2 | BQ3: 1 | BS3: 1 | BT3: 1 | BU3: 1 | BV3: 1 | BX3: 1 | CA3: 1 | CB3: 1 | CE3: 1 | CH3: 1 | CK3: 2 | CL3: 2 | CM3: 2 | CN3: 1 | CO3: 1
D4: 2 | E4: 1 | M4: 1 | N4: 1 | Q4: 2 | S4: 1 | V4: 1 | X4: 1 | Z4: 1 | AA4: 1 | AF4: 1 | AL4: 1 | AM4: 1 | AR4: 1 | AS4: 1 | AT4: 1 | AU4: 1 | AX4: 1 | AZ4: 1 | BA4: 1 | BD4: 1 | BE4: 2 | BF4: 2 | BG4: 2 | BK4: 1 | BL4: 1 | BO4: 2 | BP4: 1 | BR4: 1 | BT4: 1 | BU4: 1 | BZ4: 1 | CA4: 1 | CD4: 1 | CM4: 2
D5: 3 | F5: 1 | H5: 1 | K5: 1 | L5: 1 | M5: 1 | Q5: 4 | R5: 1 | Z5: 1 | AA5: 1 | AF5: 1 | AJ5: 1 | AM5: 1 | AN5: 1 | AO5: 1 | AP5: 2 | AQ5: 1 | AS5: 1 | AT5: 1 | AU5: 1 | AV5: 1 | BA5: 1 | BD5: 1 | BG5: 2 | BL5: 2 | BS5: 1 | BT5: 1 | BU5: 1 | BX5: 1 | CD5: 1 | CF5: 1 | CH5: 1 | CK5: 1 | CN5: 1 | CP5: 1
D6: 4 | J6: 1 | K6: 1 | O6: 1 | P6: 1 | Q6: 1 | U6: 2 | X6: 1 | Z6: 1 | AD6: 1 | AF6: 2 | AM6: 1 | AP6: 1 | AR6: 1 | AS6: 3 | AT6: 2 | AW6: 1 | AX6: 1 | AY6: 1 | BA6: 1 | BB6: 1 | BC6: 1 | BG6: 2 | BI6: 1 | BK6: 1 | BP6: 1 | BR6: 1 | BT6: 1 | BX6: 1 | BY6: 1 | BZ6: 2 | CA6: 1 | CD6: 2 | CE6: 1 | CG6: 2 | CH6: 1 | CJ6: 3 | CN6: 1 | CP6: 2
D7: 5 | E7: 1 | I7: 1 | J7: 1 | N7: 1 | Q7: 3 | R7: 1 | W7: 1 | AA7: 1 | AB7: 2 | AC7: 2 | AD7: 1 | AE7: 1 | AF7: 2 | AK7: 1 | AL7: 1 | AO7: 1 | AQ7: 1 | AW7: 1 | AX7: 1 | AZ7: 1 | BD7: 1 | BF7: 1 | BG7: 1 | BK7: 1 | BL7: 1 | BM7: 1 | BS7: 1 | BX7: 1 | CC7: 1 | CF7: 1 | CG7: 1 | CI7: 1 | CJ7: 1 | CM7: 1 | CN7: 1

Sheet Feuil2
C4: 1 | D4: 2 | E4: 3 | F4: 4 | G4: 5 | H4: 6 | I4: 7 | J4: 8 | K4: 9 | L4: 10 | M4: 11 | N4: 12 | O4: 13 | P4: 14 | Q4: 15 | R4: 16 | S4: 17 | T4: 18 | U4: 19 | V4: 20 | W4: 21 | X4: 22 | Y4: 23 | Z4: 24 | AA4: 25 | AB4: 26 | AC4: 27 | AD4: 28 | AE4: 29 | AF4: 30 | AG4: 31 | AH4: 32 | AI4: 33 | AJ4: 34 | AK4: 35 | AL4: 36 | AM4: 37 | AN4: 38 | AO4: 39 | AP4: 40 | AQ4: 41 | AR4: 42 | AS4: 43 | AT4: 44 | AU4: 45 | AV4: 46 | AW4: 47 | AX4: 48 | AY4: 49 | AZ4: 50 | BA4: 51 | BB4: 52 | BC4: 53 | BD4: 54 | BE4: 55 | BF4: 56 | BG4: 57 | BH4: 58 | BI4: 59 | BJ4: 60 | BK4: 61 | BL4: 62 | BM4: 63 | BN4: 64 | BO4: 65 | BP4: 66 | BQ4: 67 | BR4: 68 | BS4: 69 | BT4: 70 | BU4: 71 | BV4: 72 | BW4: 73 | BX4: 74 | BY4: 75 | BZ4: 76 | CA4: 77 | CB4: 78 | CC4: 79 | CD4: 80 | CE4: 81 | CF4: 82 | CG4: 83 | CH4: 84 | CI4: 85 | CJ4: 86 | CK4: 87 | CL4: 88 | CM4: 89 | CN4: 90
B5: 1 | H5: 1 | K5: 2 | L5: 2 | M5: 2 | Q5: 1 | R5: 1 | S5: 3 | U5: 1 | X5: 2 | Y5: 1 | Z5: 2 | AA5: 1 | AB5: 1 | AC5: 1 | AD5: 1 | AH5: 2 | AJ5: 1 | AK5: 1 | AL5: 1 | AN5: 2 | AO5: 1 | AP5: 2 | AR5: 2 | AS5: 1 | AV5: 1 | AW5: 2 | AX5: 3 | AY5: 1 | AZ5: 2 | BB5: 1 | BE5: 1 | BF5: 2 | BG5: 1 | BH5: 1 | BJ5: 1 | BK5: 3 | BL5: 1 | BN5: 2 | BO5: 1 | BQ5: 1 | BR5: 1 | BS5: 1 | BT5: 1 | BV5: 1 | BY5: 1 | BZ5: 1 | CC5: 1 | CF5: 1 | CI5: 2 | CJ5: 2 | CK5: 2 | CL5: 1 | CM5: 1
B6: 2 | C6: =IF(AND($B$6=2,Feuil1!E4>0),Feuil1!E4,"") -> 1 | D6: =IF(AND($B$6=2,Feuil1!F4>0),Feuil1!F4,"") | E6: =IF(AND($B$6=2,Feuil1!G4>0),Feuil1!G4,"") | F6: =IF(AND($B$6=2,Feuil1!H4>0),Feuil1!H4,"") | G6: =IF(AND($B$6=2,Feuil1!I4>0),Feuil1!I4,"") | H6: =IF(AND($B$6=2,Feuil1!J4>0),Feuil1!J4,"") | I6: =IF(AND($B$6=2,Feuil1!K4>0),Feuil1!K4,"") | J6: =IF(AND($B$6=2,Feuil1!L4>0),Feuil1!L4,"") | ... CN6: =IF(AND($B$6=2,Feuil1!CP4>0),Feuil1!CP4,"")
C7: =IF(AND($B$7=3,Feuil1!E5>0),Feuil1!E5,"") | D7: =IF(AND($B$7=3,Feuil1!F5>0),Feuil1!F5,"") | E7: =IF(AND($B$7=3,Feuil1!G5>0),Feuil1!G5,"") | F7: =IF(AND($B$7=3,Feuil1!H5>0),Feuil1!H5,"") | G7: =IF(AND($B$7=3,Feuil1!I5>0),Feuil1!I5,"") | H7: =IF(AND($B$7=3,Feuil1!J5>0),Feuil1!J5,"") | I7: =IF(AND($B$7=3,Feuil1!K5>0),Feuil1!K5,"") | J7: =IF(AND($B$7=3,Feuil1!L5>0),Feuil1!L5,"") | ... CN7: =IF(AND($B$7=3,Feuil1!CP5>0),Feuil1!CP5,"")
C8: =IF(AND($B$8=4,Feuil1!E6>0),Feuil1!E6,"") | D8: =IF(AND($B$8=4,Feuil1!F6>0),Feuil1!F6,"") | E8: =IF(AND($B$8=4,Feuil1!G6>0),Feuil1!G6,"") | F8: =IF(AND($B$8=4,Feuil1!H6>0),Feuil1!H6,"") | G8: =IF(AND($B$8=4,Feuil1!I6>0),Feuil1!I6,"") | H8: =IF(AND($B$8=4,Feuil1!J6>0),Feuil1!J6,"") | I8: =IF(AND($B$8=4,Feuil1!K6>0),Feuil1!K6,"") | J8: =IF(AND($B$8=4,Feuil1!L6>0),Feuil1!L6,"") | ... CN8: =IF(AND($B$8=4,Feuil1!CP6>0),Feuil1!CP6,"")
C9: =IF(AND($B$9=5,Feuil1!E7>0),Feuil1!E7,"") | D9: =IF(AND($B$9=5,Feuil1!F7>0),Feuil1!F7,"") | E9: =IF(AND($B$9=5,Feuil1!G7>0),Feuil1!G7,"") | F9: =IF(AND($B$9=5,Feuil1!H7>0),Feuil1!H7,"") | G9: =IF(AND($B$9=5,Feuil1!I7>0),Feuil1!I7,"") | H9: =IF(AND($B$9=5,Feuil1!J7>0),Feuil1!J7,"") | I9: =IF(AND($B$9=5,Feuil1!K7>0),Feuil1!K7,"") | J9: =IF(AND($B$9=5,Feuil1!L7>0),Feuil1!L7,"") | ... CN9: =IF(AND($B$9=5,Feuil1!CP7>0),Feuil1!CP7,"")

Sheet Feuil3
