Workbook

Sheet Résumé Budget
A1: Contrat cadre 2019-009 Maintenance 2020-2024
A2: ="Résumé budget TYPE III "&Data!$J$2&" TYPE III "&Data!$J$2&" TYPE III "&Data!$J$2&"" -> Résumé budget TYPE III blabla TYPE III blabla TYPE III blabla
A5: ATTENTION: les dates prises en compte pour les calculs des TOT sont les dates du bon de commande (colonne H du Suivi historique) | H5: Consommation par ED
K6: Cumul | L6: Cumul | M6: Cumul | N6: Cumul | O6: Reste à | P6: Reste sur | R6: TOT Decommitted
C7: Année 1 | D7: Année 2 | E7: Année 3 | F7: Année 4 | H7: ED n° | I7: Date validité (Provisionnel) | J7: Type | K7: ED asked | L7: ED real | M7: BC | N7: Facturé | O7: facturer | P7: ED
B8: De | C8: 43983 | D8: 44348 | E8: 44713 | F8: 45078 | H8: {=IFERROR(INDEX(ED!$C$2:$C$98,MATCH(0,IF(ISBLANK(ED!$C$2:$C$98),1,COUNTIF($H$7:H7,ED!$C$2:$C$98)),0)),"")} -> 2100004039 | I8: =_xlfn.IFNA(VLOOKUP(H8,ED!$C$2:$F$98,4,FALSE),"") | J8: =_xlfn.IFNA(VLOOKUP(H8,ED!$C$2:$E$98,3,FALSE),"") -> Individuel | K8: =IF(H8="","",IF(R8="",IF(SUMIF(ED!$C$2:$C$98,'Résumé Budget'!H8,ED!$D$2:$D$98)=0,"",SUMIF(ED!$C$2:$C$98,'Résumé Budget'!H8,ED!$D$2:$D$98)),(IF(SUMIF(ED!$C$2:$C$98,'Résumé Budget'!H8,ED!$D$2:$D$98)=0,"",SUMIF(ED!$C$2:$C$98,'Résumé Budget'!H8,ED!$D$2:$D$98))-R8))) -> 1000 | L8: =IF(H8="","",IF(R8="","idem",IF(SUMIF(ED!$C$2:$C$98,'Résumé Budget'!H8,ED!$D$2:$D$98)=0,"",SUMIF(ED!$C$2:$C$98,'Résumé Budget'!H8,ED!$D$2:$D$98)))) -> idem | M8: =IF($K8="","",SUMIF('Suivi historique'!$M$2:$M$99,'Résumé Budget'!$H8,'Suivi historique'!$G$2:$G$99)) -> 1000 | N8: =IF($K8="","",SUMIF('Suivi historique'!$M$2:$M$99,'Résumé Budget'!$H8,'Suivi historique'!$P$2:$P$99)) -> 1000 | O8: =IF(K8="","",M8-N8) -> 0 | P8: =IF(K8="","",IF(R8="",K8-M8,L8-M8)) -> 0 | Q8: =IF(O8<0,"!! Cumul Facturé > Cumul BC !!","") | R8: =IF(SUMIFS(ED!$D$2:$D$98,ED!C$2:C$98,'Résumé Budget'!H8,ED!D$2:D$98,"<0")=0,"",SUMIFS(ED!$D$2:$D$98,ED!C$2:C$98,'Résumé Budget'!H8,ED!D$2:D$98,"<0"))
B9: A | C9: 44347 | D9: 44712 | E9: 45077 | F9: 45443 | H9: {=IFERROR(INDEX(ED!$C$2:$C$98,MATCH(0,IF(ISBLANK(ED!$C$2:$C$98),1,COUNTIF($H$7:H8,ED!$C$2:$C$98)),0)),"")} -> 2200001845 | I9: =_xlfn.IFNA(VLOOKUP(H9,ED!$C$2:$F$98,4,FALSE),"") -> 44561 | J9: =_xlfn.IFNA(VLOOKUP(H9,ED!$C$2:$E$98,3,FALSE),"") -> Provisionnel | K9: =IF(H9="","",IF(R9="",IF(SUMIF(ED!$C$2:$C$98,'Résumé Budget'!H9,ED!$D$2:$D$98)=0,"",SUMIF(ED!$C$2:$C$98,'Résumé Budget'!H9,ED!$D$2:$D$98)),(IF(SUMIF(ED!$C$2:$C$98,'Résumé Budget'!H9,ED!$D$2:$D$98)=0,"",SUMIF(ED!$C$2:$C$98,'Résumé Budget'!H9,ED!$D$2:$D$98))-R9))) -> 4000 | L9: =IF(H9="","",IF(R9="","idem",IF(SUMIF(ED!$C$2:$C$98,'Résumé Budget'!H9,ED!$D$2:$D$98)=0,"",SUMIF(ED!$C$2:$C$98,'Résumé Budget'!H9,ED!$D$2:$D$98)))) -> 3000 | M9: =IF($K9="","",SUMIF('Suivi historique'!$M$2:$M$99,'Résumé Budget'!$H9,'Suivi historique'!$G$2:$G$99)) -> 21000 | N9: =IF($K9="","",SUMIF('Suivi historique'!$M$2:$M$99,'Résumé Budget'!$H9,'Suivi historique'!$P$2:$P$99)) -> 5000 | O9: =IF(K9="","",M9-N9) -> 16000 | P9: =IF(K9="","",IF(R9="",K9-M9,L9-M9)) -> -18000 | Q9: =IF(O9<0,"!! Cumul Facturé > Cumul BC !!","") | R9: =IF(SUMIFS(ED!$D$2:$D$98,ED!C$2:C$98,'Résumé Budget'!H9,ED!D$2:D$98,"<0")=0,"",SUMIFS(ED!$D$2:$D$98,ED!C$2:C$98,'Résumé Budget'!H9,ED!D$2:D$98,"<0")) -> -1000
H10: {=IFERROR(INDEX(ED!$C$2:$C$98,MATCH(0,IF(ISBLANK(ED!$C$2:$C$98),1,COUNTIF($H$7:H9,ED!$C$2:$C$98)),0)),"")} -> 2100006056 | I10: =_xlfn.IFNA(VLOOKUP(H10,ED!$C$2:$F$98,4,FALSE),"") | J10: =_xlfn.IFNA(VLOOKUP(H10,ED!$C$2:$E$98,3,FALSE),"") -> Individuel | K10: =IF(H10="","",IF(R10="",IF(SUMIF(ED!$C$2:$C$98,'Résumé Budget'!H10,ED!$D$2:$D$98)=0,"",SUMIF(ED!$C$2:$C$98,'Résumé Budget'!H10,ED!$D$2:$D$98)),(IF(SUMIF(ED!$C$2:$C$98,'Résumé Budget'!H10,ED!$D$2:$D$98)=0,"",SUMIF(ED!$C$2:$C$98,'Résumé Budget'!H10,ED!$D$2:$D$98))-R10))) -> 1000 | L10: =IF(H10="","",IF(R10="","idem",IF(SUMIF(ED!$C$2:$C$98,'Résumé Budget'!H10,ED!$D$2:$D$98)=0,"",SUMIF(ED!$C$2:$C$98,'Résumé Budget'!H10,ED!$D$2:$D$98)))) -> idem | M10: =IF($K10="","",SUMIF('Suivi historique'!$M$2:$M$99,'Résumé Budget'!$H10,'Suivi historique'!$G$2:$G$99)) -> 1000 | N10: =IF($K10="","",SUMIF('Suivi historique'!$M$2:$M$99,'Résumé Budget'!$H10,'Suivi historique'!$P$2:$P$99)) -> 1000 | O10: =IF(K10="","",M10-N10) -> 0 | P10: =IF(K10="","",IF(R10="",K10-M10,L10-M10)) -> 0 | Q10: =IF(O10<0,"!! Cumul Facturé > Cumul BC !!","") | R10: =IF(SUMIFS(ED!$D$2:$D$98,ED!C$2:C$98,'Résumé Budget'!H10,ED!D$2:D$98,"<0")=0,"",SUMIFS(ED!$D$2:$D$98,ED!C$2:C$98,'Résumé Budget'!H10,ED!D$2:D$98,"<0"))
A11: Provisionnel | B11: Tot BC sur Provisionnels | C11: =SUMIFS('Suivi historique'!$G:$G,'Suivi historique'!$H:$H,">="&'Résumé Budget'!C$8,'Suivi historique'!$H:$H,"<="&'Résumé Budget'!C$9,'Suivi historique'!$N:$N,"="&"Provisionnel") -> 0 | D11: =SUMIFS('Suivi historique'!$G:$G,'Suivi historique'!$H:$H,">="&'Résumé Budget'!D$8,'Suivi historique'!$H:$H,"<="&'Résumé Budget'!D$9,'Suivi historique'!$N:$N,"="&"Provisionnel") -> 23000 | E11: =SUMIFS('Suivi historique'!$G:$G,'Suivi historique'!$H:$H,">="&'Résumé Budget'!E$8,'Suivi historique'!$H:$H,"<="&'Résumé Budget'!E$9,'Suivi historique'!$N:$N,"="&"Provisionnel") -> 2000 | F11: =SUMIFS('Suivi historique'!$G:$G,'Suivi historique'!$H:$H,">="&'Résumé Budget'!F$8,'Suivi historique'!$H:$H,"<="&'Résumé Budget'!F$9,'Suivi historique'!$N:$N,"="&"Provisionnel") -> 0 | H11: {=IFERROR(INDEX(ED!$C$2:$C$98,MATCH(0,IF(ISBLANK(ED!$C$2:$C$98),1,COUNTIF($H$7:H10,ED!$C$2:$C$98)),0)),"")} -> 2200002642 | I11: =_xlfn.IFNA(VLOOKUP(H11,ED!$C$2:$F$98,4,FALSE),"") -> 45291 | J11: =_xlfn.IFNA(VLOOKUP(H11,ED!$C$2:$E$98,3,FALSE),"") -> Provisionnel | K11: =IF(H11="","",IF(R11="",IF(SUMIF(ED!$C$2:$C$98,'Résumé Budget'!H11,ED!$D$2:$D$98)=0,"",SUMIF(ED!$C$2:$C$98,'Résumé Budget'!H11,ED!$D$2:$D$98)),(IF(SUMIF(ED!$C$2:$C$98,'Résumé Budget'!H11,ED!$D$2:$D$98)=0,"",SUMIF(ED!$C$2:$C$98,'Résumé Budget'!H11,ED!$D$2:$D$98))-R11))) -> 2000 | L11: =IF(H11="","",IF(R11="","idem",IF(SUMIF(ED!$C$2:$C$98,'Résumé Budget'!H11,ED!$D$2:$D$98)=0,"",SUMIF(ED!$C$2:$C$98,'Résumé Budget'!H11,ED!$D$2:$D$98)))) -> idem | M11: =IF($K11="","",SUMIF('Suivi historique'!$M$2:$M$99,'Résumé Budget'!$H11,'Suivi historique'!$G$2:$G$99)) -> 4000 | N11: =IF($K11="","",SUMIF('Suivi historique'!$M$2:$M$99,'Résumé Budget'!$H11,'Suivi historique'!$P$2:$P$99)) -> 3000 | O11: =IF(K11="","",M11-N11) -> 1000 | P11: =IF(K11="","",IF(R11="",K11-M11,L11-M11)) -> -2000 | Q11: =IF(O11<0,"!! Cumul Facturé > Cumul BC !!","") | R11: =IF(SUMIFS(ED!$D$2:$D$98,ED!C$2:C$98,'Résumé Budget'!H11,ED!D$2:D$98,"<0")=0,"",SUMIFS(ED!$D$2:$D$98,ED!C$2:C$98,'Résumé Budget'!H11,ED!D$2:D$98,"<0"))
B12: Tot ED Provisionnels | C12: =SUMIFS(ED!$D:$D,ED!$B:$B,">="&'Résumé Budget'!C$8,ED!$B:$B,"<="&'Résumé Budget'!C$9,ED!$E:$E,"="&"Provisionnel") -> 2000 | D12: =SUMIFS(ED!$D:$D,ED!$B:$B,">="&'Résumé Budget'!D$8,ED!$B:$B,"<="&'Résumé Budget'!D$9,ED!$E:$E,"="&"Provisionnel") -> 2000 | E12: =SUMIFS(ED!$D:$D,ED!$B:$B,">="&'Résumé Budget'!E$8,ED!$B:$B,"<="&'Résumé Budget'!E$9,ED!$E:$E,"="&"Provisionnel") -> 2000 | F12: =SUMIFS(ED!$D:$D,ED!$B:$B,">="&'Résumé Budget'!F$8,ED!$B:$B,"<="&'Résumé Budget'!F$9,ED!$E:$E,"="&"Provisionnel") -> 0 | H12: {=IFERROR(INDEX(ED!$C$2:$C$98,MATCH(0,IF(ISBLANK(ED!$C$2:$C$98),1,COUNTIF($H$7:H11,ED!$C$2:$C$98)),0)),"")} -> 2100012869 | I12: =_xlfn.IFNA(VLOOKUP(H12,ED!$C$2:$F$98,4,FALSE),"") | J12: =_xlfn.IFNA(VLOOKUP(H12,ED!$C$2:$E$98,3,FALSE),"") -> Individuel | K12: =IF(H12="","",IF(R12="",IF(SUMIF(ED!$C$2:$C$98,'Résumé Budget'!H12,ED!$D$2:$D$98)=0,"",SUMIF(ED!$C$2:$C$98,'Résumé Budget'!H12,ED!$D$2:$D$98)),(IF(SUMIF(ED!$C$2:$C$98,'Résumé Budget'!H12,ED!$D$2:$D$98)=0,"",SUMIF(ED!$C$2:$C$98,'Résumé Budget'!H12,ED!$D$2:$D$98))-R12))) -> 1000 | L12: =IF(H12="","",IF(R12="","idem",IF(SUMIF(ED!$C$2:$C$98,'Résumé Budget'!H12,ED!$D$2:$D$98)=0,"",SUMIF(ED!$C$2:$C$98,'Résumé Budget'!H12,ED!$D$2:$D$98)))) -> idem | M12: =IF($K12="","",SUMIF('Suivi historique'!$M$2:$M$99,'Résumé Budget'!$H12,'Suivi historique'!$G$2:$G$99)) -> 1000 | N12: =IF($K12="","",SUMIF('Suivi historique'!$M$2:$M$99,'Résumé Budget'!$H12,'Suivi historique'!$P$2:$P$99)) -> 1000 | O12: =IF(K12="","",M12-N12) -> 0 | P12: =IF(K12="","",IF(R12="",K12-M12,L12-M12)) -> 0 | Q12: =IF(O12<0,"!! Cumul Facturé > Cumul BC !!","") | R12: =IF(SUMIFS(ED!$D$2:$D$98,ED!C$2:C$98,'Résumé Budget'!H12,ED!D$2:D$98,"<0")=0,"",SUMIFS(ED!$D$2:$D$98,ED!C$2:C$98,'Résumé Budget'!H12,ED!D$2:D$98,"<0"))
B13: ="Solde provisionnel est de "&SUM(C13:F13)&" €" -> Solde provisionnel est de -19000 € | C13: =C12-C11 -> 2000 | D13: =D12-D11 -> -21000 | E13: =E12-E11 -> 0 | F13: =F12-F11 -> 0 | G13: =IF(SUM(C13:F13)<=0,"ATTENTION ! prévoir provisionnel","") -> ATTENTION ! prévoir provisionnel | H13: {=IFERROR(INDEX(ED!$C$2:$C$98,MATCH(0,IF(ISBLANK(ED!$C$2:$C$98),1,COUNTIF($H$7:H12,ED!$C$2:$C$98)),0)),"")} -> 2200004037 | I13: =_xlfn.IFNA(VLOOKUP(H13,ED!$C$2:$F$98,4,FALSE),"") -> 45291 | J13: =_xlfn.IFNA(VLOOKUP(H13,ED!$C$2:$E$98,3,FALSE),"") -> Provisionnel | K13: =IF(H13="","",IF(R13="",IF(SUMIF(ED!$C$2:$C$98,'Résumé Budget'!H13,ED!$D$2:$D$98)=0,"",SUMIF(ED!$C$2:$C$98,'Résumé Budget'!H13,ED!$D$2:$D$98)),(IF(SUMIF(ED!$C$2:$C$98,'Résumé Budget'!H13,ED!$D$2:$D$98)=0,"",SUMIF(ED!$C$2:$C$98,'Résumé Budget'!H13,ED!$D$2:$D$98))-R13))) -> 1000 | L13: =IF(H13="","",IF(R13="","idem",IF(SUMIF(ED!$C$2:$C$98,'Résumé Budget'!H13,ED!$D$2:$D$98)=0,"",SUMIF(ED!$C$2:$C$98,'Résumé Budget'!H13,ED!$D$2:$D$98)))) -> idem | M13: =IF($K13="","",SUMIF('Suivi historique'!$M$2:$M$99,'Résumé Budget'!$H13,'Suivi historique'!$G$2:$G$99)) -> 0 | N13: =IF($K13="","",SUMIF('Suivi historique'!$M$2:$M$99,'Résumé Budget'!$H13,'Suivi historique'!$P$2:$P$99)) -> 0 | O13: =IF(K13="","",M13-N13) -> 0 | P13: =IF(K13="","",IF(R13="",K13-M13,L13-M13)) -> 1000 | Q13: =IF(O13<0,"!! Cumul Facturé > Cumul BC !!","") | R13: =IF(SUMIFS(ED!$D$2:$D$98,ED!C$2:C$98,'Résumé Budget'!H13,ED!D$2:D$98,"<0")=0,"",SUMIFS(ED!$D$2:$D$98,ED!C$2:C$98,'Résumé Budget'!H13,ED!D$2:D$98,"<0"))
H14: {=IFERROR(INDEX(ED!$C$2:$C$98,MATCH(0,IF(ISBLANK(ED!$C$2:$C$98),1,COUNTIF($H$7:H13,ED!$C$2:$C$98)),0)),"")} | I14: =_xlfn.IFNA(VLOOKUP(H14,ED!$C$2:$F$98,4,FALSE),"") | J14: =_xlfn.IFNA(VLOOKUP(H14,ED!$C$2:$E$98,3,FALSE),"") | K14: =IF(H14="","",IF(R14="",IF(SUMIF(ED!$C$2:$C$98,'Résumé Budget'!H14,ED!$D$2:$D$98)=0,"",SUMIF(ED!$C$2:$C$98,'Résumé Budget'!H14,ED!$D$2:$D$98)),(IF(SUMIF(ED!$C$2:$C$98,'Résumé Budget'!H14,ED!$D$2:$D$98)=0,"",SUMIF(ED!$C$2:$C$98,'Résumé Budget'!H14,ED!$D$2:$D$98))-R14))) | L14: =IF(H14="","",IF(R14="","idem",IF(SUMIF(ED!$C$2:$C$98,'Résumé Budget'!H14,ED!$D$2:$D$98)=0,"",SUMIF(ED!$C$2:$C$98,'Résumé Budget'!H14,ED!$D$2:$D$98)))) | M14: =IF($K14="","",SUMIF('Suivi historique'!$M$2:$M$99,'Résumé Budget'!$H14,'Suivi historique'!$G$2:$G$99)) | N14: =IF($K14="","",SUMIF('Suivi historique'!$M$2:$M$99,'Résumé Budget'!$H14,'Suivi historique'!$P$2:$P$99)) | O14: =IF(K14="","",M14-N14) | P14: =IF(K14="","",IF(R14="",K14-M14,L14-M14)) | Q14: =IF(O14<0,"!! Cumul Facturé > Cumul BC !!","") | R14: =IF(SUMIFS(ED!$D$2:$D$98,ED!C$2:C$98,'Résumé Budget'!H14,ED!D$2:D$98,"<0")=0,"",SUMIFS(ED!$D$2:$D$98,ED!C$2:C$98,'Résumé Budget'!H14,ED!D$2:D$98,"<0"))
A15: Individuel | B15: Tot BC sur Individuel | C15: =SUMIFS('Suivi historique'!$G:$G,'Suivi historique'!$H:$H,">="&'Résumé Budget'!C$8,'Suivi historique'!$H:$H,"<="&'Résumé Budget'!C$9,'Suivi historique'!$N:$N,"="&"Individuel") -> 2000 | D15: =SUMIFS('Suivi historique'!$G:$G,'Suivi historique'!$H:$H,">="&'Résumé Budget'!D$8,'Suivi historique'!$H:$H,"<="&'Résumé Budget'!D$9,'Suivi historique'!$N:$N,"="&"Individuel") -> 0 | E15: =SUMIFS('Suivi historique'!$G:$G,'Suivi historique'!$H:$H,">="&'Résumé Budget'!E$8,'Suivi historique'!$H:$H,"<="&'Résumé Budget'!E$9,'Suivi historique'!$N:$N,"="&"Individuel") -> 1000 | F15: =SUMIFS('Suivi historique'!$G:$G,'Suivi historique'!$H:$H,">="&'Résumé Budget'!F$8,'Suivi historique'!$H:$H,"<="&'Résumé Budget'!F$9,'Suivi historique'!$N:$N,"="&"Individuel") -> 0 | H15: {=IFERROR(INDEX(ED!$C$2:$C$98,MATCH(0,IF(ISBLANK(ED!$C$2:$C$98),1,COUNTIF($H$7:H14,ED!$C$2:$C$98)),0)),"")} | I15: =_xlfn.IFNA(VLOOKUP(H15,ED!$C$2:$F$98,4,FALSE),"") | J15: =_xlfn.IFNA(VLOOKUP(H15,ED!$C$2:$E$98,3,FALSE),"") | K15: =IF(H15="","",IF(R15="",IF(SUMIF(ED!$C$2:$C$98,'Résumé Budget'!H15,ED!$D$2:$D$98)=0,"",SUMIF(ED!$C$2:$C$98,'Résumé Budget'!H15,ED!$D$2:$D$98)),(IF(SUMIF(ED!$C$2:$C$98,'Résumé Budget'!H15,ED!$D$2:$D$98)=0,"",SUMIF(ED!$C$2:$C$98,'Résumé Budget'!H15,ED!$D$2:$D$98))-R15))) | L15: =IF(H15="","",IF(R15="","idem",IF(SUMIF(ED!$C$2:$C$98,'Résumé Budget'!H15,ED!$D$2:$D$98)=0,"",SUMIF(ED!$C$2:$C$98,'Résumé Budget'!H15,ED!$D$2:$D$98)))) | M15: =IF($K15="","",SUMIF('Suivi historique'!$M$2:$M$99,'Résumé Budget'!$H15,'Suivi historique'!$G$2:$G$99)) | N15: =IF($K15="","",SUMIF('Suivi historique'!$M$2:$M$99,'Résumé Budget'!$H15,'Suivi historique'!$P$2:$P$99)) | O15: =IF(K15="","",M15-N15) | P15: =IF(K15="","",IF(R15="",K15-M15,L15-M15)) | Q15: =IF(O15<0,"!! Cumul Facturé > Cumul BC !!","") | R15: =IF(SUMIFS(ED!$D$2:$D$98,ED!C$2:C$98,'Résumé Budget'!H15,ED!D$2:D$98,"<0")=0,"",SUMIFS(ED!$D$2:$D$98,ED!C$2:C$98,'Résumé Budget'!H15,ED!D$2:D$98,"<0"))
B16: Tot ED Individuel | C16: =SUMIFS(ED!$D:$D,ED!$B:$B,">="&'Résumé Budget'!C$8,ED!$B:$B,"<="&'Résumé Budget'!C$9,ED!$E:$E,"="&"Individuel") -> 2000 | D16: =SUMIFS(ED!$D:$D,ED!$B:$B,">="&'Résumé Budget'!D$8,ED!$B:$B,"<="&'Résumé Budget'!D$9,ED!$E:$E,"="&"Individuel") -> 0 | E16: =SUMIFS(ED!$D:$D,ED!$B:$B,">="&'Résumé Budget'!E$8,ED!$B:$B,"<="&'Résumé Budget'!E$9,ED!$E:$E,"="&"Individuel") -> 1000 | F16: =SUMIFS(ED!$D:$D,ED!$B:$B,">="&'Résumé Budget'!F$8,ED!$B:$B,"<="&'Résumé Budget'!F$9,ED!$E:$E,"="&"Individuel") -> 0 | H16: {=IFERROR(INDEX(ED!$C$2:$C$98,MATCH(0,IF(ISBLANK(ED!$C$2:$C$98),1,COUNTIF($H$7:H15,ED!$C$2:$C$98)),0)),"")} | I16: =_xlfn.IFNA(VLOOKUP(H16,ED!$C$2:$F$98,4,FALSE),"") | J16: =_xlfn.IFNA(VLOOKUP(H16,ED!$C$2:$E$98,3,FALSE),"") | K16: =IF(H16="","",IF(R16="",IF(SUMIF(ED!$C$2:$C$98,'Résumé Budget'!H16,ED!$D$2:$D$98)=0,"",SUMIF(ED!$C$2:$C$98,'Résumé Budget'!H16,ED!$D$2:$D$98)),(IF(SUMIF(ED!$C$2:$C$98,'Résumé Budget'!H16,ED!$D$2:$D$98)=0,"",SUMIF(ED!$C$2:$C$98,'Résumé Budget'!H16,ED!$D$2:$D$98))-R16))) | L16: =IF(H16="","",IF(R16="","idem",IF(SUMIF(ED!$C$2:$C$98,'Résumé Budget'!H16,ED!$D$2:$D$98)=0,"",SUMIF(ED!$C$2:$C$98,'Résumé Budget'!H16,ED!$D$2:$D$98)))) | M16: =IF($K16="","",SUMIF('Suivi historique'!$M$2:$M$99,'Résumé Budget'!$H16,'Suivi historique'!$G$2:$G$99)) | N16: =IF($K16="","",SUMIF('Suivi historique'!$M$2:$M$99,'Résumé Budget'!$H16,'Suivi historique'!$P$2:$P$99)) | O16: =IF(K16="","",M16-N16) | P16: =IF(K16="","",IF(R16="",K16-M16,L16-M16)) | Q16: =IF(O16<0,"!! Cumul Facturé > Cumul BC !!","") | R16: =IF(SUMIFS(ED!$D$2:$D$98,ED!C$2:C$98,'Résumé Budget'!H16,ED!D$2:D$98,"<0")=0,"",SUMIFS(ED!$D$2:$D$98,ED!C$2:C$98,'Résumé Budget'!H16,ED!D$2:D$98,"<0"))
G17: Somme générale | H17: {=IFERROR(INDEX(ED!$C$2:$C$98,MATCH(0,IF(ISBLANK(ED!$C$2:$C$98),1,COUNTIF($H$7:H16,ED!$C$2:$C$98)),0)),"")} | I17: =_xlfn.IFNA(VLOOKUP(H17,ED!$C$2:$F$98,4,FALSE),"") | J17: =_xlfn.IFNA(VLOOKUP(H17,ED!$C$2:$E$98,3,FALSE),"") | K17: =IF(H17="","",IF(R17="",IF(SUMIF(ED!$C$2:$C$98,'Résumé Budget'!H17,ED!$D$2:$D$98)=0,"",SUMIF(ED!$C$2:$C$98,'Résumé Budget'!H17,ED!$D$2:$D$98)),(IF(SUMIF(ED!$C$2:$C$98,'Résumé Budget'!H17,ED!$D$2:$D$98)=0,"",SUMIF(ED!$C$2:$C$98,'Résumé Budget'!H17,ED!$D$2:$D$98))-R17))) | L17: =IF(H17="","",IF(R17="","idem",IF(SUMIF(ED!$C$2:$C$98,'Résumé Budget'!H17,ED!$D$2:$D$98)=0,"",SUMIF(ED!$C$2:$C$98,'Résumé Budget'!H17,ED!$D$2:$D$98)))) | M17: =IF($K17="","",SUMIF('Suivi historique'!$M$2:$M$99,'Résumé Budget'!$H17,'Suivi historique'!$G$2:$G$99)) | N17: =IF($K17="","",SUMIF('Suivi historique'!$M$2:$M$99,'Résumé Budget'!$H17,'Suivi historique'!$P$2:$P$99)) | O17: =IF(K17="","",M17-N17) | P17: =IF(K17="","",IF(R17="",K17-M17,L17-M17)) | Q17: =IF(O17<0,"!! Cumul Facturé > Cumul BC !!","") | R17: =IF(SUMIFS(ED!$D$2:$D$98,ED!C$2:C$98,'Résumé Budget'!H17,ED!D$2:D$98,"<0")=0,"",SUMIFS(ED!$D$2:$D$98,ED!C$2:C$98,'Résumé Budget'!H17,ED!D$2:D$98,"<0"))
A18: Total | B18: Tot BC | C18: =C11+C15 -> 2000 | D18: =D11+D15 -> 23000 | E18: =E11+E15 -> 3000 | F18: =F11+F15 -> 0 | G18: =SUM(C18:F18) -> 28000 | H18: {=IFERROR(INDEX(ED!$C$2:$C$98,MATCH(0,IF(ISBLANK(ED!$C$2:$C$98),1,COUNTIF($H$7:H17,ED!$C$2:$C$98)),0)),"")} | I18: =_xlfn.IFNA(VLOOKUP(H18,ED!$C$2:$F$98,4,FALSE),"") | J18: =_xlfn.IFNA(VLOOKUP(H18,ED!$C$2:$E$98,3,FALSE),"") | K18: =IF(H18="","",IF(R18="",IF(SUMIF(ED!$C$2:$C$98,'Résumé Budget'!H18,ED!$D$2:$D$98)=0,"",SUMIF(ED!$C$2:$C$98,'Résumé Budget'!H18,ED!$D$2:$D$98)),(IF(SUMIF(ED!$C$2:$C$98,'Résumé Budget'!H18,ED!$D$2:$D$98)=0,"",SUMIF(ED!$C$2:$C$98,'Résumé Budget'!H18,ED!$D$2:$D$98))-R18))) | L18: =IF(H18="","",IF(R18="","idem",IF(SUMIF(ED!$C$2:$C$98,'Résumé Budget'!H18,ED!$D$2:$D$98)=0,"",SUMIF(ED!$C$2:$C$98,'Résumé Budget'!H18,ED!$D$2:$D$98)))) | M18: =IF($K18="","",SUMIF('Suivi historique'!$M$2:$M$99,'Résumé Budget'!$H18,'Suivi historique'!$G$2:$G$99)) | N18: =IF($K18="","",SUMIF('Suivi historique'!$M$2:$M$99,'Résumé Budget'!$H18,'Suivi historique'!$P$2:$P$99)) | O18: =IF(K18="","",M18-N18) | P18: =IF(K18="","",IF(R18="",K18-M18,L18-M18)) | Q18: =IF(O18<0,"!! Cumul Facturé > Cumul BC !!","") | R18: =IF(SUMIFS(ED!$D$2:$D$98,ED!C$2:C$98,'Résumé Budget'!H18,ED!D$2:D$98,"<0")=0,"",SUMIFS(ED!$D$2:$D$98,ED!C$2:C$98,'Résumé Budget'!H18,ED!D$2:D$98,"<0"))
B19: Tot ED | C19: =C12+C16 -> 4000 | D19: =D12+D16 -> 2000 | E19: =E12+E16 -> 3000 | F19: =F12+F16 -> 0 | G19: =SUM(C19:F19) -> 9000 | H19: {=IFERROR(INDEX(ED!$C$2:$C$98,MATCH(0,IF(ISBLANK(ED!$C$2:$C$98),1,COUNTIF($H$7:H18,ED!$C$2:$C$98)),0)),"")} | I19: =_xlfn.IFNA(VLOOKUP(H19,ED!$C$2:$F$98,4,FALSE),"") | J19: =_xlfn.IFNA(VLOOKUP(H19,ED!$C$2:$E$98,3,FALSE),"") | K19: =IF(H19="","",IF(R19="",IF(SUMIF(ED!$C$2:$C$98,'Résumé Budget'!H19,ED!$D$2:$D$98)=0,"",SUMIF(ED!$C$2:$C$98,'Résumé Budget'!H19,ED!$D$2:$D$98)),(IF(SUMIF(ED!$C$2:$C$98,'Résumé Budget'!H19,ED!$D$2:$D$98)=0,"",SUMIF(ED!$C$2:$C$98,'Résumé Budget'!H19,ED!$D$2:$D$98))-R19))) | L19: =IF(H19="","",IF(R19="","idem",IF(SUMIF(ED!$C$2:$C$98,'Résumé Budget'!H19,ED!$D$2:$D$98)=0,"",SUMIF(ED!$C$2:$C$98,'Résumé Budget'!H19,ED!$D$2:$D$98)))) | M19: =IF($K19="","",SUMIF('Suivi historique'!$M$2:$M$99,'Résumé Budget'!$H19,'Suivi historique'!$G$2:$G$99)) | N19: =IF($K19="","",SUMIF('Suivi historique'!$M$2:$M$99,'Résumé Budget'!$H19,'Suivi historique'!$P$2:$P$99)) | O19: =IF(K19="","",M19-N19) | P19: =IF(K19="","",IF(R19="",K19-M19,L19-M19)) | Q19: =IF(O19<0,"!! Cumul Facturé > Cumul BC !!","") | R19: =IF(SUMIFS(ED!$D$2:$D$98,ED!C$2:C$98,'Résumé Budget'!H19,ED!D$2:D$98,"<0")=0,"",SUMIFS(ED!$D$2:$D$98,ED!C$2:C$98,'Résumé Budget'!H19,ED!D$2:D$98,"<0"))
G20: Somme BDP | H20: {=IFERROR(INDEX(ED!$C$2:$C$98,MATCH(0,IF(ISBLANK(ED!$C$2:$C$98),1,COUNTIF($H$7:H19,ED!$C$2:$C$98)),0)),"")} | I20: =_xlfn.IFNA(VLOOKUP(H20,ED!$C$2:$F$98,4,FALSE),"") | J20: =_xlfn.IFNA(VLOOKUP(H20,ED!$C$2:$E$98,3,FALSE),"") | K20: =IF(H20="","",IF(R20="",IF(SUMIF(ED!$C$2:$C$98,'Résumé Budget'!H20,ED!$D$2:$D$98)=0,"",SUMIF(ED!$C$2:$C$98,'Résumé Budget'!H20,ED!$D$2:$D$98)),(IF(SUMIF(ED!$C$2:$C$98,'Résumé Budget'!H20,ED!$D$2:$D$98)=0,"",SUMIF(ED!$C$2:$C$98,'Résumé Budget'!H20,ED!$D$2:$D$98))-R20))) | L20: =IF(H20="","",IF(R20="","idem",IF(SUMIF(ED!$C$2:$C$98,'Résumé Budget'!H20,ED!$D$2:$D$98)=0,"",SUMIF(ED!$C$2:$C$98,'Résumé Budget'!H20,ED!$D$2:$D$98)))) | M20: =IF($K20="","",SUMIF('Suivi historique'!$M$2:$M$99,'Résumé Budget'!$H20,'Suivi historique'!$G$2:$G$99)) | N20: =IF($K20="","",SUMIF('Suivi historique'!$M$2:$M$99,'Résumé Budget'!$H20,'Suivi historique'!$P$2:$P$99)) | O20: =IF(K20="","",M20-N20) | P20: =IF(K20="","",IF(R20="",K20-M20,L20-M20)) | Q20: =IF(O20<0,"!! Cumul Facturé > Cumul BC !!","") | R20: =IF(SUMIFS(ED!$D$2:$D$98,ED!C$2:C$98,'Résumé Budget'!H20,ED!D$2:D$98,"<0")=0,"",SUMIFS(ED!$D$2:$D$98,ED!C$2:C$98,'Résumé Budget'!H20,ED!D$2:D$98,"<0"))
B21: Ces montants sont reportés dans le fichier excel de suivi global du contrat | G21: =SUMIF('Suivi historique'!E2:E99,"BDP",'Suivi historique'!G2:G99) -> 8000 | H21: {=IFERROR(INDEX(ED!$C$2:$C$98,MATCH(0,IF(ISBLANK(ED!$C$2:$C$98),1,COUNTIF($H$7:H20,ED!$C$2:$C$98)),0)),"")} | I21: =_xlfn.IFNA(VLOOKUP(H21,ED!$C$2:$F$98,4,FALSE),"") | J21: =_xlfn.IFNA(VLOOKUP(H21,ED!$C$2:$E$98,3,FALSE),"") | K21: =IF(H21="","",IF(R21="",IF(SUMIF(ED!$C$2:$C$98,'Résumé Budget'!H21,ED!$D$2:$D$98)=0,"",SUMIF(ED!$C$2:$C$98,'Résumé Budget'!H21,ED!$D$2:$D$98)),(IF(SUMIF(ED!$C$2:$C$98,'Résumé Budget'!H21,ED!$D$2:$D$98)=0,"",SUMIF(ED!$C$2:$C$98,'Résumé Budget'!H21,ED!$D$2:$D$98))-R21))) | L21: =IF(H21="","",IF(R21="","idem",IF(SUMIF(ED!$C$2:$C$98,'Résumé Budget'!H21,ED!$D$2:$D$98)=0,"",SUMIF(ED!$C$2:$C$98,'Résumé Budget'!H21,ED!$D$2:$D$98)))) | M21: =IF($K21="","",SUMIF('Suivi historique'!$M$2:$M$99,'Résumé Budget'!$H21,'Suivi historique'!$G$2:$G$99)) | N21: =IF($K21="","",SUMIF('Suivi historique'!$M$2:$M$99,'Résumé Budget'!$H21,'Suivi historique'!$P$2:$P$99)) | O21: =IF(K21="","",M21-N21) | P21: =IF(K21="","",IF(R21="",K21-M21,L21-M21)) | Q21: =IF(O21<0,"!! Cumul Facturé > Cumul BC !!","") | R21: =IF(SUMIFS(ED!$D$2:$D$98,ED!C$2:C$98,'Résumé Budget'!H21,ED!D$2:D$98,"<0")=0,"",SUMIFS(ED!$D$2:$D$98,ED!C$2:C$98,'Résumé Budget'!H21,ED!D$2:D$98,"<0"))
H22: {=IFERROR(INDEX(ED!$C$2:$C$98,MATCH(0,IF(ISBLANK(ED!$C$2:$C$98),1,COUNTIF($H$7:H21,ED!$C$2:$C$98)),0)),"")} | I22: =_xlfn.IFNA(VLOOKUP(H22,ED!$C$2:$F$98,4,FALSE),"") | J22: =_xlfn.IFNA(VLOOKUP(H22,ED!$C$2:$E$98,3,FALSE),"") | K22: =IF(H22="","",IF(R22="",IF(SUMIF(ED!$C$2:$C$98,'Résumé Budget'!H22,ED!$D$2:$D$98)=0,"",SUMIF(ED!$C$2:$C$98,'Résumé Budget'!H22,ED!$D$2:$D$98)),(IF(SUMIF(ED!$C$2:$C$98,'Résumé Budget'!H22,ED!$D$2:$D$98)=0,"",SUMIF(ED!$C$2:$C$98,'Résumé Budget'!H22,ED!$D$2:$D$98))-R22))) | L22: =IF(H22="","",IF(R22="","idem",IF(SUMIF(ED!$C$2:$C$98,'Résumé Budget'!H22,ED!$D$2:$D$98)=0,"",SUMIF(ED!$C$2:$C$98,'Résumé Budget'!H22,ED!$D$2:$D$98)))) | M22: =IF($K22="","",SUMIF('Suivi historique'!$M$2:$M$99,'Résumé Budget'!$H22,'Suivi historique'!$G$2:$G$99)) | N22: =IF($K22="","",SUMIF('Suivi historique'!$M$2:$M$99,'Résumé Budget'!$H22,'Suivi historique'!$P$2:$P$99)) | O22: =IF(K22="","",M22-N22) | P22: =IF(K22="","",IF(R22="",K22-M22,L22-M22)) | Q22: =IF(O22<0,"!! Cumul Facturé > Cumul BC !!","") | R22: =IF(SUMIFS(ED!$D$2:$D$98,ED!C$2:C$98,'Résumé Budget'!H22,ED!D$2:D$98,"<0")=0,"",SUMIFS(ED!$D$2:$D$98,ED!C$2:C$98,'Résumé Budget'!H22,ED!D$2:D$98,"<0"))
H23: {=IFERROR(INDEX(ED!$C$2:$C$98,MATCH(0,IF(ISBLANK(ED!$C$2:$C$98),1,COUNTIF($H$7:H22,ED!$C$2:$C$98)),0)),"")} | I23: =_xlfn.IFNA(VLOOKUP(H23,ED!$C$2:$F$98,4,FALSE),"") | J23: =_xlfn.IFNA(VLOOKUP(H23,ED!$C$2:$E$98,3,FALSE),"") | K23: =IF(H23="","",IF(R23="",IF(SUMIF(ED!$C$2:$C$98,'Résumé Budget'!H23,ED!$D$2:$D$98)=0,"",SUMIF(ED!$C$2:$C$98,'Résumé Budget'!H23,ED!$D$2:$D$98)),(IF(SUMIF(ED!$C$2:$C$98,'Résumé Budget'!H23,ED!$D$2:$D$98)=0,"",SUMIF(ED!$C$2:$C$98,'Résumé Budget'!H23,ED!$D$2:$D$98))-R23))) | L23: =IF(H23="","",IF(R23="","idem",IF(SUMIF(ED!$C$2:$C$98,'Résumé Budget'!H23,ED!$D$2:$D$98)=0,"",SUMIF(ED!$C$2:$C$98,'Résumé Budget'!H23,ED!$D$2:$D$98)))) | M23: =IF($K23="","",SUMIF('Suivi historique'!$M$2:$M$99,'Résumé Budget'!$H23,'Suivi historique'!$G$2:$G$99)) | N23: =IF($K23="","",SUMIF('Suivi historique'!$M$2:$M$99,'Résumé Budget'!$H23,'Suivi historique'!$P$2:$P$99)) | O23: =IF(K23="","",M23-N23) | P23: =IF(K23="","",IF(R23="",K23-M23,L23-M23)) | Q23: =IF(O23<0,"!! Cumul Facturé > Cumul BC !!","") | R23: =IF(SUMIFS(ED!$D$2:$D$98,ED!C$2:C$98,'Résumé Budget'!H23,ED!D$2:D$98,"<0")=0,"",SUMIFS(ED!$D$2:$D$98,ED!C$2:C$98,'Résumé Budget'!H23,ED!D$2:D$98,"<0"))
B24: Pour info: | H24: {=IFERROR(INDEX(ED!$C$2:$C$98,MATCH(0,IF(ISBLANK(ED!$C$2:$C$98),1,COUNTIF($H$7:H23,ED!$C$2:$C$98)),0)),"")} | I24: =_xlfn.IFNA(VLOOKUP(H24,ED!$C$2:$F$98,4,FALSE),"") | J24: =_xlfn.IFNA(VLOOKUP(H24,ED!$C$2:$E$98,3,FALSE),"") | K24: =IF(H24="","",IF(R24="",IF(SUMIF(ED!$C$2:$C$98,'Résumé Budget'!H24,ED!$D$2:$D$98)=0,"",SUMIF(ED!$C$2:$C$98,'Résumé Budget'!H24,ED!$D$2:$D$98)),(IF(SUMIF(ED!$C$2:$C$98,'Résumé Budget'!H24,ED!$D$2:$D$98)=0,"",SUMIF(ED!$C$2:$C$98,'Résumé Budget'!H24,ED!$D$2:$D$98))-R24))) | L24: =IF(H24="","",IF(R24="","idem",IF(SUMIF(ED!$C$2:$C$98,'Résumé Budget'!H24,ED!$D$2:$D$98)=0,"",SUMIF(ED!$C$2:$C$98,'Résumé Budget'!H24,ED!$D$2:$D$98)))) | M24: =IF($K24="","",SUMIF('Suivi historique'!$M$2:$M$99,'Résumé Budget'!$H24,'Suivi historique'!$G$2:$G$99)) | N24: =IF($K24="","",SUMIF('Suivi historique'!$M$2:$M$99,'Résumé Budget'!$H24,'Suivi historique'!$P$2:$P$99)) | O24: =IF(K24="","",M24-N24) | P24: =IF(K24="","",IF(R24="",K24-M24,L24-M24)) | Q24: =IF(O24<0,"!! Cumul Facturé > Cumul BC !!","") | R24: =IF(SUMIFS(ED!$D$2:$D$98,ED!C$2:C$98,'Résumé Budget'!H24,ED!D$2:D$98,"<0")=0,"",SUMIFS(ED!$D$2:$D$98,ED!C$2:C$98,'Résumé Budget'!H24,ED!D$2:D$98,"<0"))
B25: Dépenses effectuées pour "autre que xxx" (Secteur IT, secteur Projets, etc) | H25: {=IFERROR(INDEX(ED!$C$2:$C$98,MATCH(0,IF(ISBLANK(ED!$C$2:$C$98),1,COUNTIF($H$7:H24,ED!$C$2:$C$98)),0)),"")} | I25: =_xlfn.IFNA(VLOOKUP(H25,ED!$C$2:$F$98,4,FALSE),"") | J25: =_xlfn.IFNA(VLOOKUP(H25,ED!$C$2:$E$98,3,FALSE),"") | K25: =IF(H25="","",IF(R25="",IF(SUMIF(ED!$C$2:$C$98,'Résumé Budget'!H25,ED!$D$2:$D$98)=0,"",SUMIF(ED!$C$2:$C$98,'Résumé Budget'!H25,ED!$D$2:$D$98)),(IF(SUMIF(ED!$C$2:$C$98,'Résumé Budget'!H25,ED!$D$2:$D$98)=0,"",SUMIF(ED!$C$2:$C$98,'Résumé Budget'!H25,ED!$D$2:$D$98))-R25))) | L25: =IF(H25="","",IF(R25="","idem",IF(SUMIF(ED!$C$2:$C$98,'Résumé Budget'!H25,ED!$D$2:$D$98)=0,"",SUMIF(ED!$C$2:$C$98,'Résumé Budget'!H25,ED!$D$2:$D$98)))) | M25: =IF($K25="","",SUMIF('Suivi historique'!$M$2:$M$99,'Résumé Budget'!$H25,'Suivi historique'!$G$2:$G$99)) | N25: =IF($K25="","",SUMIF('Suivi historique'!$M$2:$M$99,'Résumé Budget'!$H25,'Suivi historique'!$P$2:$P$99)) | O25: =IF(K25="","",M25-N25) | P25: =IF(K25="","",IF(R25="",K25-M25,L25-M25)) | Q25: =IF(O25<0,"!! Cumul Facturé > Cumul BC !!","") | R25: =IF(SUMIFS(ED!$D$2:$D$98,ED!C$2:C$98,'Résumé Budget'!H25,ED!D$2:D$98,"<0")=0,"",SUMIFS(ED!$D$2:$D$98,ED!C$2:C$98,'Résumé Budget'!H25,ED!D$2:D$98,"<0"))
B26: tot | C26: =SUMIFS('Suivi historique'!$G:$G,'Suivi historique'!$H:$H,">="&'Résumé Budget'!C$8,'Suivi historique'!$H:$H,"<="&'Résumé Budget'!C$9,'Suivi historique'!$D:$D,"="&Data!$A3) -> 1000 | D26: =SUMIFS('Suivi historique'!$G:$G,'Suivi historique'!$H:$H,">="&'Résumé Budget'!D$8,'Suivi historique'!$H:$H,"<="&'Résumé Budget'!D$9,'Suivi historique'!$D:$D,"="&Data!$A3) -> 4000 | E26: =SUMIFS('Suivi historique'!$G:$G,'Suivi historique'!$H:$H,">="&'Résumé Budget'!E$8,'Suivi historique'!$H:$H,"<="&'Résumé Budget'!E$9,'Suivi historique'!$D:$D,"="&Data!$A3) -> 1000 | F26: =SUMIFS('Suivi historique'!$G:$G,'Suivi historique'!$H:$H,">="&'Résumé Budget'!F$8,'Suivi historique'!$H:$H,"<="&'Résumé Budget'!F$9,'Suivi historique'!$D:$D,"="&Data!$A3) -> 0 | H26: {=IFERROR(INDEX(ED!$C$2:$C$98,MATCH(0,IF(ISBLANK(ED!$C$2:$C$98),1,COUNTIF($H$7:H25,ED!$C$2:$C$98)),0)),"")} | I26: =_xlfn.IFNA(VLOOKUP(H26,ED!$C$2:$F$98,4,FALSE),"") | J26: =_xlfn.IFNA(VLOOKUP(H26,ED!$C$2:$E$98,3,FALSE),"") | K26: =IF(H26="","",IF(R26="",IF(SUMIF(ED!$C$2:$C$98,'Résumé Budget'!H26,ED!$D$2:$D$98)=0,"",SUMIF(ED!$C$2:$C$98,'Résumé Budget'!H26,ED!$D$2:$D$98)),(IF(SUMIF(ED!$C$2:$C$98,'Résumé Budget'!H26,ED!$D$2:$D$98)=0,"",SUMIF(ED!$C$2:$C$98,'Résumé Budget'!H26,ED!$D$2:$D$98))-R26))) | L26: =IF(H26="","",IF(R26="","idem",IF(SUMIF(ED!$C$2:$C$98,'Résumé Budget'!H26,ED!$D$2:$D$98)=0,"",SUMIF(ED!$C$2:$C$98,'Résumé Budget'!H26,ED!$D$2:$D$98)))) | M26: =IF($K26="","",SUMIF('Suivi historique'!$M$2:$M$99,'Résumé Budget'!$H26,'Suivi historique'!$G$2:$G$99)) | N26: =IF($K26="","",SUMIF('Suivi historique'!$M$2:$M$99,'Résumé Budget'!$H26,'Suivi historique'!$P$2:$P$99)) | O26: =IF(K26="","",M26-N26) | P26: =IF(K26="","",IF(R26="",K26-M26,L26-M26)) | Q26: =IF(O26<0,"!! Cumul Facturé > Cumul BC !!","") | R26: =IF(SUMIFS(ED!$D$2:$D$98,ED!C$2:C$98,'Résumé Budget'!H26,ED!D$2:D$98,"<0")=0,"",SUMIFS(ED!$D$2:$D$98,ED!C$2:C$98,'Résumé Budget'!H26,ED!D$2:D$98,"<0"))
B27: Pourcentage de dépenses faites pour "autre que xxx" par rapport au total des dépenses de l'année en Type III | H27: {=IFERROR(INDEX(ED!$C$2:$C$98,MATCH(0,IF(ISBLANK(ED!$C$2:$C$98),1,COUNTIF($H$7:H26,ED!$C$2:$C$98)),0)),"")} | I27: =_xlfn.IFNA(VLOOKUP(H27,ED!$C$2:$F$98,4,FALSE),"") | J27: =_xlfn.IFNA(VLOOKUP(H27,ED!$C$2:$E$98,3,FALSE),"") | K27: =IF(H27="","",IF(R27="",IF(SUMIF(ED!$C$2:$C$98,'Résumé Budget'!H27,ED!$D$2:$D$98)=0,"",SUMIF(ED!$C$2:$C$98,'Résumé Budget'!H27,ED!$D$2:$D$98)),(IF(SUMIF(ED!$C$2:$C$98,'Résumé Budget'!H27,ED!$D$2:$D$98)=0,"",SUMIF(ED!$C$2:$C$98,'Résumé Budget'!H27,ED!$D$2:$D$98))-R27))) | L27: =IF(H27="","",IF(R27="","idem",IF(SUMIF(ED!$C$2:$C$98,'Résumé Budget'!H27,ED!$D$2:$D$98)=0,"",SUMIF(ED!$C$2:$C$98,'Résumé Budget'!H27,ED!$D$2:$D$98)))) | M27: =IF($K27="","",SUMIF('Suivi historique'!$M$2:$M$99,'Résumé Budget'!$H27,'Suivi historique'!$G$2:$G$99)) | N27: =IF($K27="","",SUMIF('Suivi historique'!$M$2:$M$99,'Résumé Budget'!$H27,'Suivi historique'!$P$2:$P$99)) | O27: =IF(K27="","",M27-N27) | P27: =IF(K27="","",IF(R27="",K27-M27,L27-M27)) | Q27: =IF(O27<0,"!! Cumul Facturé > Cumul BC !!","") | R27: =IF(SUMIFS(ED!$D$2:$D$98,ED!C$2:C$98,'Résumé Budget'!H27,ED!D$2:D$98,"<0")=0,"",SUMIFS(ED!$D$2:$D$98,ED!C$2:C$98,'Résumé Budget'!H27,ED!D$2:D$98,"<0"))
C28: =IF(C26=0,"",C26/(C11+C15)) -> 0.5 | D28: =IF(D26=0,"",D26/(D11+D15)) -> 0.17391304 | E28: =IF(E26=0,"",E26/(E11+E15)) -> 0.33333333 | F28: =IF(F26=0,"",F26/(F11+F15)) | H28: {=IFERROR(INDEX(ED!$C$2:$C$98,MATCH(0,IF(ISBLANK(ED!$C$2:$C$98),1,COUNTIF($H$7:H27,ED!$C$2:$C$98)),0)),"")} | I28: =_xlfn.IFNA(VLOOKUP(H28,ED!$C$2:$F$98,4,FALSE),"") | J28: =_xlfn.IFNA(VLOOKUP(H28,ED!$C$2:$E$98,3,FALSE),"") | K28: =IF(H28="","",IF(R28="",IF(SUMIF(ED!$C$2:$C$98,'Résumé Budget'!H28,ED!$D$2:$D$98)=0,"",SUMIF(ED!$C$2:$C$98,'Résumé Budget'!H28,ED!$D$2:$D$98)),(IF(SUMIF(ED!$C$2:$C$98,'Résumé Budget'!H28,ED!$D$2:$D$98)=0,"",SUMIF(ED!$C$2:$C$98,'Résumé Budget'!H28,ED!$D$2:$D$98))-R28))) | L28: =IF(H28="","",IF(R28="","idem",IF(SUMIF(ED!$C$2:$C$98,'Résumé Budget'!H28,ED!$D$2:$D$98)=0,"",SUMIF(ED!$C$2:$C$98,'Résumé Budget'!H28,ED!$D$2:$D$98)))) | M28: =IF($K28="","",SUMIF('Suivi historique'!$M$2:$M$99,'Résumé Budget'!$H28,'Suivi historique'!$G$2:$G$99)) | N28: =IF($K28="","",SUMIF('Suivi historique'!$M$2:$M$99,'Résumé Budget'!$H28,'Suivi historique'!$P$2:$P$99)) | O28: =IF(K28="","",M28-N28) | P28: =IF(K28="","",IF(R28="",K28-M28,L28-M28)) | Q28: =IF(O28<0,"!! Cumul Facturé > Cumul BC !!","") | R28: =IF(SUMIFS(ED!$D$2:$D$98,ED!C$2:C$98,'Résumé Budget'!H28,ED!D$2:D$98,"<0")=0,"",SUMIFS(ED!$D$2:$D$98,ED!C$2:C$98,'Résumé Budget'!H28,ED!D$2:D$98,"<0"))
H29: {=IFERROR(INDEX(ED!$C$2:$C$98,MATCH(0,IF(ISBLANK(ED!$C$2:$C$98),1,COUNTIF($H$7:H28,ED!$C$2:$C$98)),0)),"")} | I29: =_xlfn.IFNA(VLOOKUP(H29,ED!$C$2:$F$98,4,FALSE),"") | J29: =_xlfn.IFNA(VLOOKUP(H29,ED!$C$2:$E$98,3,FALSE),"") | K29: =IF(H29="","",IF(R29="",IF(SUMIF(ED!$C$2:$C$98,'Résumé Budget'!H29,ED!$D$2:$D$98)=0,"",SUMIF(ED!$C$2:$C$98,'Résumé Budget'!H29,ED!$D$2:$D$98)),(IF(SUMIF(ED!$C$2:$C$98,'Résumé Budget'!H29,ED!$D$2:$D$98)=0,"",SUMIF(ED!$C$2:$C$98,'Résumé Budget'!H29,ED!$D$2:$D$98))-R29))) | L29: =IF(H29="","",IF(R29="","idem",IF(SUMIF(ED!$C$2:$C$98,'Résumé Budget'!H29,ED!$D$2:$D$98)=0,"",SUMIF(ED!$C$2:$C$98,'Résumé Budget'!H29,ED!$D$2:$D$98)))) | M29: =IF($K29="","",SUMIF('Suivi historique'!$M$2:$M$99,'Résumé Budget'!$H29,'Suivi historique'!$G$2:$G$99)) | N29: =IF($K29="","",SUMIF('Suivi historique'!$M$2:$M$99,'Résumé Budget'!$H29,'Suivi historique'!$P$2:$P$99)) | O29: =IF(K29="","",M29-N29) | P29: =IF(K29="","",IF(R29="",K29-M29,L29-M29)) | Q29: =IF(O29<0,"!! Cumul Facturé > Cumul BC !!","") | R29: =IF(SUMIFS(ED!$D$2:$D$98,ED!C$2:C$98,'Résumé Budget'!H29,ED!D$2:D$98,"<0")=0,"",SUMIFS(ED!$D$2:$D$98,ED!C$2:C$98,'Résumé Budget'!H29,ED!D$2:D$98,"<0"))
A31: ="Résumé budget TYPE III "&Data!$J$2&" TYPE III "&Data!$J$2&" TYPE III "&Data!$J$2&"" -> Résumé budget TYPE III blabla TYPE III blabla TYPE III blabla

Sheet Suivi historique
A1: =Data!$J$2&" TYPE III "&Data!$J$2&" TYPE III "&Data!$J$2&" TYPE III "&Data!$J$2&" TYPE III" -> blabla TYPE III blabla TYPE III blabla TYPE III blabla TYPE III | B1: N° BDC | C1: Objet | D1: pour xxx? | E1: Date Offre | F1: réf Offre | G1: Montant BC | H1: Date BC | I1: Date Validité BC | J1: Order Form N° [SAFE/DIRC/] | K1: réf BC | L1: Réf HERMES/GEDA | M1: N° ED | N1: Type ED | O1: N° Facture | P1: Montant Facture | Q1: Doc. de réception commande | R1: Commentaire | S1: marchandise reçue ? | T1: =Data!$J$2&" TYPE III "&Data!$J$2&" TYPE III "&Data!$J$2&" TYPE III "&Data!$J$2&" TYPE III" -> blabla TYPE III blabla TYPE III blabla TYPE III blabla TYPE III
B2: 0 | C2: Stock test 01 | D2: OUI | E2: BDP | F2: BDP | G2: 1000 | H2: 44025 | I2: 44950 | J2: 2020-340 | K2: 1200005528 | L2: D(2020)19627 | M2: 2100004039 | N2: =IF(ISBLANK(M2),"",VLOOKUP(M2,ED!C$2:E$98,3,FALSE)) -> Individuel | O2: 5110019239 | P2: 1000 | Q2: 44099 | R2: facture test 01 | S2: marchandise reçue
B3: 0 | C3: Stock test 02 | D3: NON (voir comm.) | E3: BDP | F3: BDP | G3: 1000 | H3: 44175 | I3: 44951 | J3: 2020-405 | K3: 1200009691 | L3: EP(2020)001792 | M3: 2100006056 | N3: =IF(ISBLANK(M3),"",VLOOKUP(M3,ED!C$2:E$98,3,FALSE)) -> Individuel | O3: 5110010753 | P3: 1000 | Q3: 44322 | R3: facture test 02 | S3: marchandise reçue
B4: 1 | C4: Stock test 03 | D4: OUI | E4: BDP | F4: BDP | G4: 1000 | H4: 44356 | I4: 44952 | J4: 2021-223 | K4: 1200012773 | L4: D(2021)9614 | M4: 2200001845 | N4: =IF(ISBLANK(M4),"",VLOOKUP(M4,ED!C$2:E$98,3,FALSE)) -> Provisionnel | O4: 5120019862 | P4: 1000 | Q4: 44407 | R4: facture test 03 | S4: marchandise reçue
B5: 1 | C5: Stock test 04 | D5: OUI | E5: BDP | F5: BDP | G5: 1000 | H5: 44356 | K5: 1200012773 | L5: D(2021)9614 | M5: 2200001845 | N5: =IF(ISBLANK(M5),"",VLOOKUP(M5,ED!C$2:E$98,3,FALSE)) -> Provisionnel | O5: 5120019862 | Q5: 44397 | R5: facture test 04 | S5: marchandise reçue
B6: 1 | C6: Stock test 05 | D6: OUI | E6: BDP | F6: BDP | G6: 1000 | H6: 44356 | K6: 1200012773 | L6: D(2021)9614 | M6: 2200001845 | N6: =IF(ISBLANK(M6),"",VLOOKUP(M6,ED!C$2:E$98,3,FALSE)) -> Provisionnel | O6: 5120019862 | Q6: 44397 | R6: facture test 05 | S6: marchandise reçue
B7: 1 | C7: Stock test 06 | D7: OUI | E7: BDP | F7: BDP | G7: 1000 | H7: 44356 | K7: 1200012773 | L7: D(2021)9614 | M7: 2200001845 | N7: =IF(ISBLANK(M7),"",VLOOKUP(M7,ED!C$2:E$98,3,FALSE)) -> Provisionnel | O7: 5120019862 | Q7: 44397 | R7: facture test 06 | S7: marchandise reçue
B8: 1 | C8: Stock test 07 | D8: OUI | E8: BDP | F8: BDP | G8: 1000 | H8: 44356 | K8: 1200012773 | L8: D(2021)9614 | M8: 2200001845 | N8: =IF(ISBLANK(M8),"",VLOOKUP(M8,ED!C$2:E$98,3,FALSE)) -> Provisionnel | O8: 5120019862 | Q8: 44397 | R8: facture test 07 | S8: marchandise reçue
B9: 2 | C9: Stock test 08 | D9: OUI | E9: 44362 | F9: I2021061501 | G9: 1000 | H9: 44356 | I9: 44953 | J9: 2021-239 | K9: 1200013227 | L9: D(2021)12140 | M9: 2200001845 | N9: =IF(ISBLANK(M9),"",VLOOKUP(M9,ED!C$2:E$98,3,FALSE)) -> Provisionnel | O9: 5120020839 | P9: 1000 | Q9: 44454 | R9: facture test 08 | S9: marchandise reçue
B10: 2 | C10: Stock test 09 | D10: OUI | E10: 44362 | F10: I2021061501 | G10: 1000 | H10: 44378 | K10: 1200013227 | L10: D(2021)12140 | M10: 2200001845 | N10: =IF(ISBLANK(M10),"",VLOOKUP(M10,ED!C$2:E$98,3,FALSE)) -> Provisionnel | Q10: 44414 | R10: facture test 09 | S10: marchandise reçue
B11: 2 | C11: Stock test 10 | D11: OUI | E11: 44362 | F11: I2021061501 | G11: 1000 | H11: 44378 | K11: 1200013227 | L11: D(2021)12140 | M11: 2200001845 | N11: =IF(ISBLANK(M11),"",VLOOKUP(M11,ED!C$2:E$98,3,FALSE)) -> Provisionnel | Q11: 44414 | R11: facture test 10 | S11: marchandise reçue
B12: 2 | C12: Stock test 11 | D12: OUI | E12: 44362 | F12: I2021061501 | G12: 1000 | H12: 44378 | K12: 1200013227 | L12: D(2021)12140 | M12: 2200001845 | N12: =IF(ISBLANK(M12),"",VLOOKUP(M12,ED!C$2:E$98,3,FALSE)) -> Provisionnel | Q12: 44414 | R12: facture test 11 | S12: marchandise reçue
B13: 2 | C13: Stock test 12 | D13: OUI | E13: 44362 | F13: I2021061501 | G13: 1000 | H13: 44378 | K13: 1200013227 | L13: D(2021)12140 | M13: 2200001845 | N13: =IF(ISBLANK(M13),"",VLOOKUP(M13,ED!C$2:E$98,3,FALSE)) -> Provisionnel | Q13: 44414 | R13: facture test 12 | S13: marchandise reçue
B14: 2 | C14: Stock test 13 | D14: OUI | E14: 44362 | F14: I2021061501 | G14: 1000 | H14: 44378 | K14: 1200013227 | L14: D(2021)12140 | M14: 2200001845 | N14: =IF(ISBLANK(M14),"",VLOOKUP(M14,ED!C$2:E$98,3,FALSE)) -> Provisionnel | Q14: 44414 | R14: facture test 13 | S14: marchandise reçue
B15: 2 | C15: Stock test 14 | D15: OUI | E15: 44362 | F15: I2021061501 | G15: 1000 | H15: 44378 | K15: 1200013227 | L15: D(2021)12140 | M15: 2200001845 | N15: =IF(ISBLANK(M15),"",VLOOKUP(M15,ED!C$2:E$98,3,FALSE)) -> Provisionnel | Q15: 44414 | R15: facture test 14 | S15: marchandise reçue
B16: 2 | C16: Stock test 15 | D16: OUI | E16: 44362 | F16: I2021061501 | G16: 1000 | H16: 44378 | K16: 1200013227 | L16: D(2021)12140 | M16: 2200001845 | N16: =IF(ISBLANK(M16),"",VLOOKUP(M16,ED!C$2:E$98,3,FALSE)) -> Provisionnel | Q16: 44414 | R16: facture test 15 | S16: marchandise reçue
B17: 2 | C17: Stock test 16 | D17: OUI | E17: 44362 | F17: I2021061501 | G17: 1000 | H17: 44378 | K17: 1200013227 | L17: D(2021)12140 | M17: 2200001845 | N17: =IF(ISBLANK(M17),"",VLOOKUP(M17,ED!C$2:E$98,3,FALSE)) -> Provisionnel | Q17: 44454 | R17: facture test 16 | S17: marchandise reçue
B18: 2 | C18: Stock test 17 | D18: OUI | E18: 44362 | F18: I2021061501 | G18: 1000 | H18: 44378 | K18: 1200013227 | L18: D(2021)12140 | M18: 2200001845 | N18: =IF(ISBLANK(M18),"",VLOOKUP(M18,ED!C$2:E$98,3,FALSE)) -> Provisionnel | Q18: 44566 | R18: facture test 17 | S18: marchandise reçue
B19: 2 | C19: Stock test 18 | D19: NON (voir comm.) | E19: 44362 | F19: I2021061501 | G19: 1000 | H19: 44378 | K19: 1200013227 | L19: D(2021)12140 | M19: 2200001845 | N19: =IF(ISBLANK(M19),"",VLOOKUP(M19,ED!C$2:E$98,3,FALSE)) -> Provisionnel | Q19: 44454 | R19: facture test 18 | S19: marchandise reçue
B20: 2 | C20: Stock test 19 | D20: NON (voir comm.) | E20: 44362 | F20: I2021061501 | G20: 1000 | H20: 44378 | K20: 1200013227 | L20: D(2021)12140 | M20: 2200001845 | N20: =IF(ISBLANK(M20),"",VLOOKUP(M20,ED!C$2:E$98,3,FALSE)) -> Provisionnel | Q20: 44414 | R20: facture test 19 | S20: marchandise reçue
B21: 2 | C21: Stock test 20 | D21: OUI | E21: 44362 | F21: I2021061501 | G21: 1000 | H21: 44378 | K21: 1200013227 | L21: D(2021)12140 | M21: 2200001845 | N21: =IF(ISBLANK(M21),"",VLOOKUP(M21,ED!C$2:E$98,3,FALSE)) -> Provisionnel | Q21: 44482 | R21: facture test 20 | S21: marchandise reçue
C22: Stock test 21 | D22: OUI | E22: 44228 | F22: I2021020102 | G22: 1000 | H22: pas de | K22: bon | L22: de commande | N22: =IF(ISBLANK(M22),"",VLOOKUP(M22,ED!C$2:E$98,3,FALSE)) | Q22: =IF(ISBLANK(K22),"","En attente...") -> En attente... | R22: facture test 21
B23: 3 | C23: Stock test 22 | D23: NON (voir comm.) | E23: 44466 | F23: I202107301 | G23: 1000 | H23: 44475 | I23: 44954 | J23: 2021-268 | K23: 1200015161 | L23: D(2021)19909 | M23: 2200001845 | N23: =IF(ISBLANK(M23),"",VLOOKUP(M23,ED!C$2:E$98,3,FALSE)) -> Provisionnel | O23: 5110021443 | P23: 1000 | Q23: 44510 | R23: facture test 22 | S23: marchandise reçue
B24: 4 | C24: Stock test 23 | D24: NON (voir comm.) | E24: 44502 | F24: I202111021 | G24: 1000 | H24: 44504 | I24: 44955 | J24: 2021-305 | K24: 1200015873 | L24: D(2021)23968 | M24: 2200001845 | N24: =IF(ISBLANK(M24),"",VLOOKUP(M24,ED!C$2:E$98,3,FALSE)) -> Provisionnel | O24: 5120009235 | P24: 1000 | Q24: 44536 | R24: facture test 23 | S24: marchandise reçue
B25: 5 | C25: Stock test 24 | D25: OUI | E25: 44524 | F25: I202111241 | G25: 1000 | H25: 44536 | I25: 44956 | J25: 2021-318 | K25: 1200016480 | L25: D(2021)27001 | M25: 2200001845 | N25: =IF(ISBLANK(M25),"",VLOOKUP(M25,ED!C$2:E$98,3,FALSE)) -> Provisionnel | O25: 5120020838 | P25: 1000 | Q25: 44536 | R25: facture test 24 | S25: marchandise reçue
B26: 6 | C26: Stock test 25 | D26: OUI | E26: 44638 | F26: I2022031801 | G26: 1000 | H26: 44659 | I26: 44957 | J26: 2022-097 | K26: 1200018901 | L26: D(20222)11369 | M26: 2200002642 | N26: =IF(ISBLANK(M26),"",VLOOKUP(M26,ED!C$2:E$98,3,FALSE)) -> Provisionnel | O26: 512009345 | P26: 1000 | Q26: 44677 | R26: facture test 25 | S26: marchandise reçue
B27: 7 | C27: Stock test 26 | D27: oui | E27: BDP | F27: BDP | G27: 1000 | H27: 44699 | I27: 44958 | J27: 2022-121 | K27: 1200020681 | L27: D(2022)15895 | M27: 2200002642 | N27: =IF(ISBLANK(M27),"",VLOOKUP(M27,ED!C$2:E$98,3,FALSE)) -> Provisionnel | P27: 1000 | Q27: 44735 | R27: facture test 26
B28: 8 | C28: Stock test 27 | D28: NON (voir comm.) | E28: 44777 | F28: I202208041 | G28: 1000 | H28: 44798 | I28: 44959 | J28: 2022-186 | K28: 1200022851 | L28: D(2022)25798 | M28: 2100012869 | N28: =IF(ISBLANK(M28),"",VLOOKUP(M28,ED!C$2:E$98,3,FALSE)) -> Individuel | P28: 1000 | Q28: 44872 | R28: facture test 27 | S28: marchandise reçue
B29: 9 | C29: Stock test 28 | D29: OUI | E29: 44784 | F29: I2022081101 | G29: 1000 | H29: 44812 | I29: 44960 | J29: 2022-195 | K29: 1200022958 | L29: D(2022)26409 | M29: 2200002642 | N29: =IF(ISBLANK(M29),"",VLOOKUP(M29,ED!C$2:E$98,3,FALSE)) -> Provisionnel | O29: 512002254 | P29: 1000 | Q29: 44847 | R29: facture test 28
B30: 10 | C30: Stock test 29 | D30: oui | E30: 44840 | F30: I2022100601 | G30: 1000 | H30: 44889 | I30: 44961 | J30: 2022-244 | K30: 1200024481 | L30: D(2022)244 | M30: 2200002642 | N30: =IF(ISBLANK(M30),"",VLOOKUP(M30,ED!C$2:E$98,3,FALSE)) -> Provisionnel | Q30: 44943 | R30: facture test 29
N31: =IF(ISBLANK(M31),"",VLOOKUP(M31,ED!C$2:E$98,3,FALSE))
N32: =IF(ISBLANK(M32),"",VLOOKUP(M32,ED!C$2:E$98,3,FALSE))
N33: =IF(ISBLANK(M33),"",VLOOKUP(M33,ED!C$2:E$98,3,FALSE))
N34: =IF(ISBLANK(M34),"",VLOOKUP(M34,ED!C$2:E$98,3,FALSE))
N35: =IF(ISBLANK(M35),"",VLOOKUP(M35,ED!C$2:E$98,3,FALSE))
N36: =IF(ISBLANK(M36),"",VLOOKUP(M36,ED!C$2:E$98,3,FALSE))
N37: =IF(ISBLANK(M37),"",VLOOKUP(M37,ED!C$2:E$98,3,FALSE))
N38: =IF(ISBLANK(M38),"",VLOOKUP(M38,ED!C$2:E$98,3,FALSE))
N39: =IF(ISBLANK(M39),"",VLOOKUP(M39,ED!C$2:E$98,3,FALSE))
N40: =IF(ISBLANK(M40),"",VLOOKUP(M40,ED!C$2:E$98,3,FALSE))
...

Sheet ED
A1: =Data!$J$2&" TYPE III "&Data!$J$2&" TYPE III "&Data!$J$2&" TYPE III "&Data!$J$2&" TYPE III" -> blabla TYPE III blabla TYPE III blabla TYPE III blabla TYPE III | B1: Date ED | C1: N° ED | D1: Montant ED | E1: Type ED | F1: Date validité (Provisionnel) | G1: Objet ED | H1: =Data!$J$2&" TYPE III "&Data!$J$2&" TYPE III "&Data!$J$2&" TYPE III "&Data!$J$2&" TYPE III" -> blabla TYPE III blabla TYPE III blabla TYPE III blabla TYPE III
B2: 43983 | C2: 2100004039 | D2: 1000 | E2: Individuel | F2: =IF(B2="","",IF(E2="Provisionnel",IF(D2>0,DATE(YEAR(B2)+1,12,31),"DECOMMIT"),""))
B3: 44139 | C3: 2200001845 | D3: 1000 | E3: Provisionnel | F3: =IF(B3="","",IF(E3="Provisionnel",IF(D3>0,DATE(YEAR(B3)+1,12,31),"DECOMMIT"),"")) -> 44561 | G3: ajout de ED 2200002029 pour payer 8 licences sensor (2088€)
B4: 44162 | C4: 2200001845 | D4: 1000 | E4: Provisionnel | F4: =IF(B4="","",IF(E4="Provisionnel",IF(D4>0,DATE(YEAR(B4)+1,12,31),"DECOMMIT"),"")) -> 44561
B5: 44175 | C5: 2100006056 | D5: 1000 | E5: Individuel | F5: =IF(B5="","",IF(E5="Provisionnel",IF(D5>0,DATE(YEAR(B5)+1,12,31),"DECOMMIT"),"")) | G5: blabla
B6: 44350 | C6: 2200001845 | D6: 1000 | E6: Provisionnel | F6: =IF(B6="","",IF(E6="Provisionnel",IF(D6>0,DATE(YEAR(B6)+1,12,31),"DECOMMIT"),"")) -> 44926
B7: 44509 | C7: 2200001845 | D7: -1000 | E7: Provisionnel | F7: =IF(B7="","",IF(E7="Provisionnel",IF(D7>0,DATE(YEAR(B7)+1,12,31),"DECOMMIT"),"")) -> DECOMMIT
B8: 44530 | C8: 2200001845 | D8: 1000 | E8: Provisionnel | F8: =IF(B8="","",IF(E8="Provisionnel",IF(D8>0,DATE(YEAR(B8)+1,12,31),"DECOMMIT"),"")) -> 44926
B9: 44562 | C9: 2200002642 | D9: 1000 | E9: Provisionnel | F9: =IF(B9="","",IF(E9="Provisionnel",IF(D9>0,DATE(YEAR(B9)+1,12,31),"DECOMMIT"),"")) -> 45291
B10: 44713 | C10: 2200002642 | D10: 1000 | E10: Provisionnel | F10: =IF(B10="","",IF(E10="Provisionnel",IF(D10>0,DATE(YEAR(B10)+1,12,31),"DECOMMIT"),"")) -> 45291
B11: 44792 | C11: 2100012869 | D11: 1000 | E11: Individuel | F11: =IF(B11="","",IF(E11="Provisionnel",IF(D11>0,DATE(YEAR(B11)+1,12,31),"DECOMMIT"),"")) | G11: blabla
B12: 44904 | C12: 2200004037 | D12: 1000 | E12: Provisionnel | F12: =IF(B12="","",IF(E12="Provisionnel",IF(D12>0,DATE(YEAR(B12)+1,12,31),"DECOMMIT"),"")) -> 45291
F13: =IF(B13="","",IF(E13="Provisionnel",IF(D13>0,DATE(YEAR(B13)+1,12,31),"DECOMMIT"),""))
F14: =IF(B14="","",IF(E14="Provisionnel",IF(D14>0,DATE(YEAR(B14)+1,12,31),"DECOMMIT"),""))
F15: =IF(B15="","",IF(E15="Provisionnel",IF(D15>0,DATE(YEAR(B15)+1,12,31),"DECOMMIT"),""))
F16: =IF(B16="","",IF(E16="Provisionnel",IF(D16>0,DATE(YEAR(B16)+1,12,31),"DECOMMIT"),""))
F17: =IF(B17="","",IF(E17="Provisionnel",IF(D17>0,DATE(YEAR(B17)+1,12,31),"DECOMMIT"),""))
F18: =IF(B18="","",IF(E18="Provisionnel",IF(D18>0,DATE(YEAR(B18)+1,12,31),"DECOMMIT"),""))
F19: =IF(B19="","",IF(E19="Provisionnel",IF(D19>0,DATE(YEAR(B19)+1,12,31),"DECOMMIT"),""))
F20: =IF(B20="","",IF(E20="Provisionnel",IF(D20>0,DATE(YEAR(B20)+1,12,31),"DECOMMIT"),""))
F21: =IF(B21="","",IF(E21="Provisionnel",IF(D21>0,DATE(YEAR(B21)+1,12,31),"DECOMMIT"),""))
F22: =IF(B22="","",IF(E22="Provisionnel",IF(D22>0,DATE(YEAR(B22)+1,12,31),"DECOMMIT"),""))
F23: =IF(B23="","",IF(E23="Provisionnel",IF(D23>0,DATE(YEAR(B23)+1,12,31),"DECOMMIT"),""))
F24: =IF(B24="","",IF(E24="Provisionnel",IF(D24>0,DATE(YEAR(B24)+1,12,31),"DECOMMIT"),""))
... F98: =IF(B98="","",IF(E98="Provisionnel",IF(D98>0,DATE(YEAR(B98)+1,12,31),"DECOMMIT"),""))

Sheet Data
A1: Pour ETS | B1: Type ED | C1: Doc. de réception de comande | D1: Unicité ED | E1: Unicité ED | F1: Unicité ED | J1: Site Bandeau
A2: OUI | B2: Provisionnel | C2: OK présent | D2: {=IFERROR(INDEX(ED!$C$2:$C$98,MATCH(0,COUNTIF(Data!$D$1:D1,ED!$C$2:$C$98),0)),"")} -> 2100004039 | E2: =COUNT(D2:D30)-1 -> 6 | F2: =IF(E2<=0,"",INDEX(D$2:D$30,E2)) -> 2200004037 | J2: blabla
A3: NON (voir comm.) | B3: Individuel | C3: Non applicable | D3: {=IFERROR(INDEX(ED!$C$2:$C$98,MATCH(0,COUNTIF(Data!$D$1:D2,ED!$C$2:$C$98),0)),"")} -> 2200001845 | E3: =COUNT(D3:D31)-1 -> 5 | F3: =IF(E3<=0,"",INDEX(D$2:D$30,E3)) -> 2100012869
C4: En attente... | D4: {=IFERROR(INDEX(ED!$C$2:$C$98,MATCH(0,COUNTIF(Data!$D$1:D3,ED!$C$2:$C$98),0)),"")} -> 2100006056 | E4: =COUNT(D4:D32)-1 -> 4 | F4: =IF(E4<=0,"",INDEX(D$2:D$30,E4)) -> 2200002642 | J4: Site objet mail
D5: {=IFERROR(INDEX(ED!$C$2:$C$98,MATCH(0,COUNTIF(Data!$D$1:D4,ED!$C$2:$C$98),0)),"")} -> 2200002642 | E5: =COUNT(D5:D33)-1 -> 3 | F5: =IF(E5<=0,"",INDEX(D$2:D$30,E5)) -> 2100006056 | J5: XXX
D6: {=IFERROR(INDEX(ED!$C$2:$C$98,MATCH(0,COUNTIF(Data!$D$1:D5,ED!$C$2:$C$98),0)),"")} -> 2100012869 | E6: =COUNT(D6:D34)-1 -> 2 | F6: =IF(E6<=0,"",INDEX(D$2:D$30,E6)) -> 2200001845
D7: {=IFERROR(INDEX(ED!$C$2:$C$98,MATCH(0,COUNTIF(Data!$D$1:D6,ED!$C$2:$C$98),0)),"")} -> 2200004037 | E7: =COUNT(D7:D35)-1 -> 1 | F7: =IF(E7<=0,"",INDEX(D$2:D$30,E7)) -> 2100004039 | J7: Mail rappel 1 à | K7: 30 | L7: jours de l'échéance
D8: {=IFERROR(INDEX(ED!$C$2:$C$98,MATCH(0,COUNTIF(Data!$D$1:D7,ED!$C$2:$C$98),0)),"")} -> 0 | E8: =COUNT(D8:D36)-1 -> 0 | F8: =IF(E8<=0,"",INDEX(D$2:D$30,E8)) | J8: Mail rappel 2 à | K8: 15 | L8: jours de l'échéance
D9: {=IFERROR(INDEX(ED!$C$2:$C$98,MATCH(0,COUNTIF(Data!$D$1:D8,ED!$C$2:$C$98),0)),"")} | E9: =COUNT(D9:D37)-1 -> -1 | F9: =IF(E9<=0,"",INDEX(D$2:D$30,E9)) | J9: Mail rappel 3 à | K9: 1 | L9: jours de l'échéance
D10: {=IFERROR(INDEX(ED!$C$2:$C$98,MATCH(0,COUNTIF(Data!$D$1:D9,ED!$C$2:$C$98),0)),"")} | E10: =COUNT(D10:D38)-1 -> -1 | F10: =IF(E10<=0,"",INDEX(D$2:D$30,E10))
D11: {=IFERROR(INDEX(ED!$C$2:$C$98,MATCH(0,COUNTIF(Data!$D$1:D10,ED!$C$2:$C$98),0)),"")} | E11: =COUNT(D11:D39)-1 -> -1 | F11: =IF(E11<=0,"",INDEX(D$2:D$30,E11))
D12: {=IFERROR(INDEX(ED!$C$2:$C$98,MATCH(0,COUNTIF(Data!$D$1:D11,ED!$C$2:$C$98),0)),"")} | E12: =COUNT(D12:D40)-1 -> -1 | F12: =IF(E12<=0,"",INDEX(D$2:D$30,E12))
D13: {=IFERROR(INDEX(ED!$C$2:$C$98,MATCH(0,COUNTIF(Data!$D$1:D12,ED!$C$2:$C$98),0)),"")} | E13: =COUNT(D13:D41)-1 -> -1 | F13: =IF(E13<=0,"",INDEX(D$2:D$30,E13))
D14: {=IFERROR(INDEX(ED!$C$2:$C$98,MATCH(0,COUNTIF(Data!$D$1:D13,ED!$C$2:$C$98),0)),"")} | E14: =COUNT(D14:D42)-1 -> -1 | F14: =IF(E14<=0,"",INDEX(D$2:D$30,E14))
D15: {=IFERROR(INDEX(ED!$C$2:$C$98,MATCH(0,COUNTIF(Data!$D$1:D14,ED!$C$2:$C$98),0)),"")} | E15: =COUNT(D15:D43)-1 -> -1 | F15: =IF(E15<=0,"",INDEX(D$2:D$30,E15))
D16: {=IFERROR(INDEX(ED!$C$2:$C$98,MATCH(0,COUNTIF(Data!$D$1:D15,ED!$C$2:$C$98),0)),"")} | E16: =COUNT(D16:D44)-1 -> -1 | F16: =IF(E16<=0,"",INDEX(D$2:D$30,E16))
D17: {=IFERROR(INDEX(ED!$C$2:$C$98,MATCH(0,COUNTIF(Data!$D$1:D16,ED!$C$2:$C$98),0)),"")} | E17: =COUNT(D17:D45)-1 -> -1 | F17: =IF(E17<=0,"",INDEX(D$2:D$30,E17))
D18: {=IFERROR(INDEX(ED!$C$2:$C$98,MATCH(0,COUNTIF(Data!$D$1:D17,ED!$C$2:$C$98),0)),"")} | E18: =COUNT(D18:D46)-1 -> -1 | F18: =IF(E18<=0,"",INDEX(D$2:D$30,E18))
D19: {=IFERROR(INDEX(ED!$C$2:$C$98,MATCH(0,COUNTIF(Data!$D$1:D18,ED!$C$2:$C$98),0)),"")} | E19: =COUNT(D19:D47)-1 -> -1 | F19: =IF(E19<=0,"",INDEX(D$2:D$30,E19))
D20: {=IFERROR(INDEX(ED!$C$2:$C$98,MATCH(0,COUNTIF(Data!$D$1:D19,ED!$C$2:$C$98),0)),"")} | E20: =COUNT(D20:D48)-1 -> -1 | F20: =IF(E20<=0,"",INDEX(D$2:D$30,E20))
D21: {=IFERROR(INDEX(ED!$C$2:$C$98,MATCH(0,COUNTIF(Data!$D$1:D20,ED!$C$2:$C$98),0)),"")} | E21: =COUNT(D21:D49)-1 -> -1 | F21: =IF(E21<=0,"",INDEX(D$2:D$30,E21))
... D30: {=IFERROR(INDEX(ED!$C$2:$C$98,MATCH(0,COUNTIF(Data!$D$1:D29,ED!$C$2:$C$98),0)),"")} | E30: =COUNT(D30:D58)-1 -> -1 | F30: =IF(E30<=0,"",INDEX(D$2:D$30,E30))
