Workbook

Sheet 01
B2: Journée du | C2: 43770

Sheet 02
B2: Journée du | C2: =Date!C3 -> 43771

Sheet 03
B2: Journée du | C2: =Date!C4 -> 43772

Sheet 04
B2: Journée du | C2: =Date!C5 -> 43773

Sheet 05
B2: Journée du | C2: =Date!C6 -> 43774

Sheet 06
B2: Journée du | C2: =Date!C7 -> 43775

Sheet 07
B2: Journée du | C2: =Date!C8 -> 43776

Sheet 08
B2: Journée du | C2: =Date!C9 -> 43777

Sheet 09
B2: Journée du | C2: =Date!C10 -> 43778

Sheet 10
B2: Journée du | C2: =Date!C11 -> 43779

Sheet 11
B2: Journée du | C2: =Date!C12 -> 43780

Sheet 12
B2: Journée du | C2: =Date!C13 -> 43781

Sheet 13
B2: Journée du | C2: =Date!C14 -> 43782

Sheet 14
B2: Journée du | C2: =Date!C15 -> 43783

Sheet 15
B2: Journée du | C2: =Date!C16 -> 43784

Sheet 16
B2: Journée du | C2: =Date!C17 -> 43785

Sheet 17
B2: Journée du | C2: =Date!C18 -> 43786

Sheet 18
B2: Journée du | C2: =Date!C19 -> 43787

Sheet 19
B2: Journée du | C2: =Date!C20 -> 43788

Sheet 20
B2: Journée du | C2: =Date!C21 -> 43789

Sheet 21
B2: Journée du | C2: =Date!C22 -> 43790

Sheet 22
B2: Journée du | C2: =Date!C23 -> 43791

Sheet 23
B2: Journée du | C2: =Date!C24 -> 43792

Sheet 24
B2: Journée du | C2: =Date!C25 -> 43793

Sheet 25
B2: Journée du | C2: =Date!C26 -> 43794

Sheet 26
B2: Journée du | C2: =Date!C27 -> 43795

Sheet 27
B2: Journée du | C2: =Date!C28 -> 43796

Sheet 28
B2: Journée du | C2: =Date!C29 -> 43797

Sheet 29
B2: Journée du | C2: =Date!C30 -> 43798

Sheet 30
B2: Journée du | C2: =Date!C31 -> 43799

Sheet 31
B2: Journée du | C2: =Date!C32 -> 43800

Sheet 1
B2: Journée du | C2: 43770

Sheet Date
C2: 43770
C3: =C2+1 -> 43771
C4: =C3+1 -> 43772
C5: =C4+1 -> 43773
C6: =C5+1 -> 43774
C7: =C6+1 -> 43775
C8: =C7+1 -> 43776
C9: =C8+1 -> 43777
C10: =C9+1 -> 43778
C11: =C10+1 -> 43779
C12: =C11+1 -> 43780
C13: =C12+1 -> 43781
C14: =C13+1 -> 43782
... C33: =C32+1 -> 43801
