Workbook

Sheet Liste des articles
A1: Désignation
A2: PRODUITS | B2: P.V HT
A3: 1 bouton va et vient | B3: 25
A4: Accessoires tableau | B4: 35
A5: Acheminement fourreaux extérieurs | B5: 30
A6: Acier (fondation) | B6: 15
A7: Acier (mur) | B7: 22
A8: Acier (treillis soudé) | B8: 15
A9: Agglos ciment creux | B9: 2.5
A10: Alim | B10: 0
A11: Alimentation ballon d'eau chaude | B11: 50
A12: Alimentation dressing | B12: 30
A13: Alimentation meuble | B13: 36
A14: Alimentation pompe a chaleur | B14: 350
... A259: VMR avec percement | B259: 350
A261: SERVICES
A262: Alimentation volets roulants | B262: 30
A263: Alimentation WC et placard | B263: 60
A264: Coulage béton auto-nivelant | B264: 0
A265: Coulage et nettoyage | B265: 0
A266: Dalle béton (sol) | B266: 70
A267: Découpe de l'enrobé | B267: 15
A268: Démolition | B268: 110
A269: Démontage pierre d'angle et linteau | B269: 550
A270: Dépannage électrique | B270: 30
A271: Déplacer boite de dérivation | B271: 150
A272: Déplacer interrupteur | B272: 40
A273: Déplacer prise de courant | B273: 40
... A327: Terrassement fondation | B327: 40

Sheet Prog
A1: Quantité | C1: DEVIS : | D1: ELECTRICITE
A2: 1 | D2: MACONNERIE
A3: 1.5
A4: 2
A5: 2.5
A6: 3
A7: 3.5
A8: 4
A9: 4.5
A10: 5
A11: 5.5
A12: 6
A13: 6.5
A14: 7
... A2000: 1000

Sheet Devis
G1: DEVIS :
A20: DEVIS N° : | G20: =TODAY() -> 44591
A22: Désignation | G22: Quantité | H22: PU Vente | I22: Total
H23: =IF(A23="","",INDEX('Liste des articles'!$B$3:$B$327,MATCH(A23,'Liste des articles'!$A$3:$A$327,0))) | I23: =IF(G23="","",G23*H23)
H24: =IF(A24="","",INDEX('Liste des articles'!$B$3:$B$327,MATCH(A24,'Liste des articles'!$A$3:$A$327,0))) | I24: =IF(G24="","",G24*H24)
H25: =IF(A25="","",INDEX('Liste des articles'!$B$3:$B$327,MATCH(A25,'Liste des articles'!$A$3:$A$327,0))) | I25: =IF(G25="","",G25*H25)
H26: =IF(A26="","",INDEX('Liste des articles'!$B$3:$B$327,MATCH(A26,'Liste des articles'!$A$3:$A$327,0))) | I26: =IF(G26="","",G26*H26)
H27: =IF(A27="","",INDEX('Liste des articles'!$B$3:$B$327,MATCH(A27,'Liste des articles'!$A$3:$A$327,0))) | I27: =IF(G27="","",G27*H27)
H28: =IF(A28="","",INDEX('Liste des articles'!$B$3:$B$327,MATCH(A28,'Liste des articles'!$A$3:$A$327,0))) | I28: =IF(G28="","",G28*H28)
H29: =IF(A29="","",INDEX('Liste des articles'!$B$3:$B$327,MATCH(A29,'Liste des articles'!$A$3:$A$327,0))) | I29: =IF(G29="","",G29*H29)
H30: =IF(A30="","",INDEX('Liste des articles'!$B$3:$B$327,MATCH(A30,'Liste des articles'!$A$3:$A$327,0))) | I30: =IF(G30="","",G30*H30)
H31: =IF(A31="","",INDEX('Liste des articles'!$B$3:$B$327,MATCH(A31,'Liste des articles'!$A$3:$A$327,0))) | I31: =IF(G31="","",G31*H31)
H32: =IF(A32="","",INDEX('Liste des articles'!$B$3:$B$327,MATCH(A32,'Liste des articles'!$A$3:$A$327,0))) | I32: =IF(G32="","",G32*H32)
H33: =IF(A33="","",INDEX('Liste des articles'!$B$3:$B$327,MATCH(A33,'Liste des articles'!$A$3:$A$327,0))) | I33: =IF(G33="","",G33*H33)
H34: =IF(A34="","",INDEX('Liste des articles'!$B$3:$B$327,MATCH(A34,'Liste des articles'!$A$3:$A$327,0))) | I34: =IF(G34="","",G34*H34)
... H40: =IF(A40="","",INDEX('Liste des articles'!$B$3:$B$327,MATCH(A40,'Liste des articles'!$A$3:$A$327,0))) | I40: =IF(G40="","",G40*H40)
A42: Conditions de règlement : 30% à la commande | H42: Total HT | I42: =SUM(I23:I40) -> 0
H43: TVA ( 0% ) | I43: =I42*0 -> 0
A44: Devis valable 3 mois | H44: Total TTC | I44: =I42 -> 0
G46: TVA non applicable.art.293 B du CGI
