Workbook

Sheet Story
B2: Assistant combat | G2: D4 | H2: D6 | I2: D8 | J2: D12 | K2: D20 | L2: D100
G3: =INT(4*RAND())+1 -> 1 | H3: =INT(6*RAND())+1 -> 1 | I3: =INT(8*RAND())+1 -> 4 | J3: =INT(12*RAND())+1 -> 12 | K3: =INT(20*RAND())+1 -> 4 | L3: =INT(100*RAND())+1 -> 59
B5: ATT | C5: Comp | D5: N° | E5: Nom | H5: Prot | I5: Comp | J5: DEF
B6: PNJ 2 | D6: Dégât | J6: PNJ 1
B7: ADD | D7: 6 | H7: Arme | J7: PAR
D8: =IF(ISBLANK(B8),IF(ISBLANK(B10),IF(ISBLANK(B12),IF(ISBLANK(B14),IF(ISBLANK(B16),IF(ISBLANK(B18),IF(ISBLANK(B20),"",IF(B20=20,IF(B19="AM",(PJ!$BT$6+D7-H6+Story!G10)*2,IF(B19="ADD",(PJ!$BT$5+D7-H6+G9)*2,(PJ!$BT$4+D7-H6+G8)*2)),IF(B19="AM",PJ!$BT$6+D7-H6+Story!G10,IF(B19="ADD",(PJ!$BT$5+D7-H6+G9),(PJ!$BT$4+D7-H6+G8))))),IF(B18=20,IF(B17="AM",(PJ!$BG$6+D7-H6+Story!G10)*2,IF(B17="ADD",(PJ!$BG$5+D7-H6+G9)*2,(PJ!$BG$4+D7-H6+G8)*2)),IF(B17="AM",PJ!$BG$6+D7-H6+Story!G10,IF(B17="ADD",(PJ!$BG$5+D7-H6+G9),(PJ!$BG$4+D7-H6+G8))))),IF(B16=20,IF(B15="AM",(PJ!$AT$6+D7-H6+Story!G10)*2,IF(B15="ADD",(PJ!$AT$5+D7-H6+G9)*2,(PJ!$AT$4+D7-H6+G8)*2)),IF(B15="AM",PJ!$AT$6+D7-H6+Story!G10,IF(B15="ADD",(PJ!$AT$5+D7-H6+G9),(PJ!$AT$4+D7-H6+G8))))),IF(B14=20,IF(B13="AM",(PJ!$AG$6+D7-H6+Story!G10)*2,IF(B13="ADD",(PJ!$AG$5+D7-H6+G9)*2,(PJ!$AG$4+D7-H6+G8)*2)),IF(B13="AM",PJ!$AG$6+D7-H6+Story!G10,IF(B13="ADD",(PJ!$AG$5+D7-H6+G9),(PJ!$AG$4+D7-H6+G8))))),IF(B12=20,IF(B11="AM",(PJ!$T$6+D7-H6+Story!G10)*2,IF(B11="ADD",(PJ!$T$5+D7-H6+G9)*2,(PJ!$T$4+D7-H6+G8)*2)),IF(B11="AM",PJ!$T$6+D7-H6+Story!G10,IF(B11="ADD",(PJ!$T$5+D7-H6+G9),(PJ!$T$4+D7-H6+G8))))),IF(B10=20,IF(B9="AM",(PJ!$G$6+D7-H6+Story!G10)*2,IF(B9="ADD",(PJ!$G$5+D7-H6+G9)*2,(PJ!$G$4+D7-H6+G8)*2)),IF(B9="AM",PJ!$G$6+D7-H6+Story!G10,IF(B9="ADD",(PJ!$G$5+D7-H6+G9),(PJ!$G$4+D7-H6+G8))))),IF(B6="PNJ 1",IF(B8=20,IF(B7="AM",(PNJ!$F$5+Story!D7+Story!G10)*2,IF(B7="ADD",(PNJ!$F$4+Story!D7-H6+G9)*2,(PNJ!$F$3+Story!D7-H6+G8)*2)),IF(B7="AM",PNJ!$F$5+Story!D7+Story!G10,IF(B7="ADD",(PNJ!$F$4+Story!D7-H6+G9),(PNJ!$F$3+Story!D7-H6+G8)))),IF(Story!B6="PNJ 2",IF(B8=20,IF(B7="AM",(PNJ!$F$18+Story!D7+Story!G10)*2,IF(B7="ADD",(PNJ!$F$17+Story!D7-H6+G9)*2,(PNJ!$F$16+Story!D7-H6+G8)*2)),IF(B7="AM",PNJ!$F$18+Story!D7+Story!G10,IF(B7="ADD",(PNJ!$F$17+Story!D7-H6+G9),(PNJ!$F$16+Story!D7-H6+G8)))),""))) | F8: =IFERROR(DGET(INDIRECT(ADDRESS(15+15*E10,2+13*E9,1,,"PJ")):INDIRECT(ADDRESS(27+15*E10,13+13*E9,1,,"PJ")),2,Story!E11:E12),0) -> 0 | G8: =IFERROR(DGET(INDIRECT(ADDRESS(15+15*E10,2+13*E9,1,,"PJ")):INDIRECT(ADDRESS(27+15*E10,13+13*E9,1,,"PJ")),7,Story!E11:E12),0) -> 0
B9: ADD | D9: Score | E9: =IF(ISBLANK(C10),IF(ISBLANK(C12),IF(ISBLANK(C14),IF(ISBLANK(C16),IF(ISBLANK(C18),IF(ISBLANK(C20),IF(ISBLANK(I10),IF(ISBLANK(I12),IF(ISBLANK(I14),IF(ISBLANK(I16),IF(ISBLANK(I18),IF(ISBLANK(I20),"",5),4),3),2),1),0),5),4),3),2),1),0) | F9: =IFERROR(DGET(INDIRECT(ADDRESS(15+15*E10,2+13*E9,1,,"PJ")):INDIRECT(ADDRESS(27+15*E10,13+13*E9,1,,"PJ")),3,Story!E11:E12),0) -> 0 | G9: =IFERROR(DGET(INDIRECT(ADDRESS(15+15*E10,2+13*E9,1,,"PJ")):INDIRECT(ADDRESS(27+15*E10,13+13*E9,1,,"PJ")),8,Story!E11:E12),0) -> 0 | H9: Score | J9: ESC
D10: =IF(ISBLANK(B8),IF(ISBLANK(B10), IF(ISBLANK(B12),IF(ISBLANK(B14),IF(ISBLANK(B16),IF(ISBLANK(B18),IF(ISBLANK(B20),"",IF(B19="ACC",B20+PJ!$BQ$4+F8,IF(B19="ADD",B20+PJ!$BQ$5+F9,B20+PJ!$BQ$6+F10))),IF(B17="ACC",B18+PJ!$BD$4+F8,IF(B17="ADD",B18+PJ!$BD$5+F9,B18+PJ!$BD$6+F10))),IF(B15="ACC",B16+PJ!$AQ$4+F8,IF(B15="ADD",B16+PJ!$AQ$5+F9,B16+PJ!$AQ$6+F10))),IF(B13="ACC",B14+PJ!$AD$4+F8,IF(B13="ADD",B14+PJ!$AD$5+F9,B14+PJ!$AD$6+F10))),IF(B11="ACC",B12+PJ!$Q$4+F8,IF(B11="ADD",B12+PJ!$Q$5+F9,B12+PJ!$Q$6+F10))),IF(B9="ACC",B10+PJ!$D$4+F8,IF(B9="ADD",B10+PJ!$D$5+F9,B10+PJ!$D$6+F10))),IF(Story!B6="PNJ 1",IF(Story!B7="ACC",B8+PNJ!$C$3+F8,IF(Story!B7="ADD",B8+PNJ!$C$4+F9,B8+PNJ!$C$5+F10)),IF(Story!B6="PNJ 2",IF(Story!B7="ACC",B8+PNJ!$C$16+F8,IF(Story!B7="ADD",B8+PNJ!$C$17+F9,B8+PNJ!$C$18+F10)),"")))-10 -> #VALUE! | E10: =IF(ISBLANK(C9),IF(ISBLANK(C11),IF(ISBLANK(C13),IF(ISBLANK(C15),IF(ISBLANK(C17),IF(ISBLANK(C19),IF(ISBLANK(I9),IF(ISBLANK(I11),IF(ISBLANK(I13),IF(ISBLANK(I15),IF(ISBLANK(I17),IF(ISBLANK(I19),"",I19),I17),I15),I13),I11),I9),C19),C17),C15),C13),C11),C9) | F10: =IFERROR(DGET(INDIRECT(ADDRESS(15+15*E10,2+13*E9,1,,"PJ")):INDIRECT(ADDRESS(27+15*E10,13+13*E9,1,,"PJ")),4,Story!E11:E12),0) -> 0 | G10: =IFERROR(DGET(INDIRECT(ADDRESS(15+15*E10,2+13*E9,1,,"PJ")):INDIRECT(ADDRESS(27+15*E10,13+13*E9,1,,"PJ")),9,Story!E11:E12),0) -> 0 | H10: =IF(ISBLANK(J8),IF(ISBLANK(J10),IF(ISBLANK(J12),IF(ISBLANK(J14),IF(ISBLANK(J16),IF(ISBLANK(J18),IF(ISBLANK(J20),"",IF(J19="PAR",J20+PJ!$BQ$7+F11,J18+PJ!$BQ$8+F12)),IF(J17="PAR",J18+PJ!$BD$7+F11,J18+PJ!$BD$8+F12)),IF(J15="PAR",J16+PJ!$AQ$7+F11,J16+PJ!$AQ$8+F12)),IF(J13="PAR",J14+PJ!$AD$7+F11,J14+PJ!$AD$8+F12)),IF(J12="PAR",J12+PJ!$Q$7+F11,J12+PJ!$Q$8+F12)),IF(J9="PAR",J10+PJ!$D$7+F11,J10+PJ!$D$8+F12)),IF(Story!J6="PNJ 1",IF(Story!J7="PAR",PNJ!$C$6+Story!J8+F11,PNJ!$C$7+Story!J8+F12),IF(Story!J6="PNJ 2",IF(Story!J7="PAR",PNJ!$C$19+Story!J8+F11,PNJ!$C$20+Story!J8+F12),"")))-10 -> #VALUE!
B11: ADD | D11: Bonus | E11: Score | F11: =IFERROR(DGET(INDIRECT(ADDRESS(15+15*E10,2+13*E9,1,,"PJ")):INDIRECT(ADDRESS(27+15*E10,13+13*E9,1,,"PJ")),5,Story!E11:E12),0) -> 0 | G11: =IFERROR(DGET(INDIRECT(ADDRESS(15+15*E10,2+13*E9,1,,"PJ")):INDIRECT(ADDRESS(27+15*E10,13+13*E9,1,,"PJ")),10,Story!E11:E12),0) -> 0 | H11: Bonus | J11: PAR
E12: =IF(ISBLANK(C10),IF(ISBLANK(C12),IF(ISBLANK(C14),IF(ISBLANK(C16),IF(ISBLANK(C18),IF(ISBLANK(C20),IF(ISBLANK(I10),IF(ISBLANK(I12),IF(ISBLANK(I14),IF(ISBLANK(I16),IF(ISBLANK(I18),IF(ISBLANK(I20),"",I20),I18),I16),I14),I12),I10),C20),C18),C16),C14),C12),C10) | F12: =IFERROR(DGET(INDIRECT(ADDRESS(15+15*E10,2+13*E9,1,,"PJ")):INDIRECT(ADDRESS(27+15*E10,13+13*E9,1,,"PJ")),6,Story!E11:E12),0) -> 0 | G12: =IFERROR(DGET(INDIRECT(ADDRESS(15+15*E10,2+13*E9,1,,"PJ")):INDIRECT(ADDRESS(27+15*E10,13+13*E9,1,,"PJ")),11,Story!E11:E12),0) -> 0
B13: ADD | D13: MEN | E13: INT | F13: ADR | G13: FOR | H13: INS | J13: PAR
D14: 10 | E14: 10 | F14: 10 | G14: 10 | H14: 10
B15: ACC | D15: Ac Ad Am | E15: =ROUNDUP((2*F14+G14)/3,0) -> 10 | F15: =ROUNDUP((F14+D14)/4,0) -> 5 | G15: =ROUNDUP((D14+E14)/2,0) -> 10 | H15: =IF(H17="ACC",E15+G17,IF(H17="ADD",F15+G17,G15+G17))-10 -> 15 | J15: PAR
D16: Pa Es Cha | E16: =ROUNDUP((H14*2+G14*2+F14)/5,0) -> 10 | F16: =ROUNDUP((H14+F14)/2,0) -> 10 | G16: 10 | H16: =IF(D17="PAR",E16+E17,IF(D17="ESC",F16+E17,G16+E17))-10 -> 9
B17: ADD | D17: ESC | E17: =INT(20*RAND())+1 -> 9 | F17: =INT(6*RAND())+1 -> 2 | G17: =INT(20*RAND())+1 -> 20 | H17: ADD | J17: PAR
D18: HP | E18: 50 | F18: 50 | G18: Écart | H18: =F18-D8 -> #VALUE!
B19: ACC | D19: =IF(E17=1,"Echec Critique",IF(E17=20,"Coup Critique",IF(D10+D12>H16,"Joueur attaque","PNJ défend"))) -> #VALUE! | G19: =ABS(D10+D12-H16) -> #VALUE! | H19: Dégât | J19: PAR
D20: =IF(G17=1,"Echec Critique",IF(G17=20,"Coup Critique",IF(H10+H12>=H15,"Joueur défend","PNJ attaque"))) -> Coup Critique | G20: =ABS(H10+H12-H15) -> #VALUE! | H20: =IF(D20="Coup Critique",IF(ISBLANK(J8),IF(ISBLANK(J10),IF(ISBLANK(J12),IF(ISBLANK(J14),IF(ISBLANK(J16),IF(ISBLANK(J18),IF(ISBLANK(J20),"",2*(F17+H8+ROUNDUP(G14/4,0))-PJ!$BS$7-G11),2*(F17+H8+ROUNDUP(G14/4,0))-PJ!$BF$7-G11),F17+H8+ROUNDUP(G14/4,0)-PJ!$AS$7-G11),2*(F17+H8+ROUNDUP(G14/4,0))-PJ!$AF$7-G11),2*F17+H8+ROUNDUP(G14/4,0)-PJ!$S$7-G11),2*(F17+H8+ROUNDUP(G14/4,0))-PJ!$F$7-G11),IF(Story!J6="PNJ 1",2*(F17+H8+ROUNDUP(G14/4,0))-PNJ!$E$6-G11,IF(Story!J6="PNJ 2",2*(F17+H8+ROUNDUP(G14/4,0))-PNJ!$E$19-G11,""))),IF(D20="PNJ attaque",IF(ISBLANK(J8),IF(ISBLANK(J10),IF(ISBLANK(J12),IF(ISBLANK(J14),IF(ISBLANK(J16),IF(ISBLANK(J18),IF(ISBLANK(J20),"",F17+H8+ROUNDUP(G14/4,0)-PJ!$BS$7-G11),F17+H8+ROUNDUP(G14/4,0)-PJ!$BF$7-G11),F17+H8+ROUNDUP(G14/4,0)-PJ!$AS$7-G11),F17+H8+ROUNDUP(G14/4,0)-PJ!$AF$7-G11),F17+H8+ROUNDUP(G14/4,0)-PJ!$S$7-G11),F17+H8+ROUNDUP(G14/4,0)-PJ!$F$7-G11),IF(Story!J6="PNJ 1",F17+H8+ROUNDUP(G14/4,0)-PNJ!$E$6-G11,IF(Story!J6="PNJ 2",F17+H8+ROUNDUP(G14/4,0)-PNJ!$E$19-G11,""))),"Nope"))
B21: =IFERROR(DGET(INDIRECT(ADDRESS(15+15*E10,2+13*E9,1,,"PJ")):INDIRECT(ADDRESS(27+15*E10,13+13*E9,1,,"PJ")),12,Story!E11:E12),"")

Sheet PJ
B2: NRJ | C2: Vie | O2: NRJ | P2: Vie | AB2: NRJ | AC2: Vie | AO2: NRJ | AP2: Vie | BB2: NRJ | BC2: Vie | BO2: NRJ | BP2: Vie
B3: 40 | C3: 40 | D3: Total | F3: Equip | G3: Dégat | O3: 40 | P3: 40 | Q3: Total | S3: Equip | T3: Dégat | AB3: 40 | AC3: 40 | AD3: Total | AF3: Equip | AG3: Dégat | AO3: 40 | AP3: 40 | AQ3: Total | AS3: Equip | AT3: Dégat | BB3: 40 | BC3: 40 | BD3: Total | BF3: Equip | BG3: Dégat | BO3: 40 | BP3: 40 | BQ3: Total | BS3: Equip | BT3: Dégat
B4: ACC | C4: 0 | D4: =ROUNDUP(((2*(D10+D11))+E10+E11)/3,0)+C4 -> 10 | E4: Phy | F4: 0 | G4: =ROUNDUP((E11+E10)/4,0)+F4+G8 -> 3 | O4: ACC | P4: 0 | Q4: =ROUNDUP(((2*(Q10+Q11))+R10+R11)/3,0)+P4 -> 34 | R4: Phy | S4: 0 | T4: =ROUNDUP((R10+R11)/4,0)+S4+T8 -> 6 | AB4: ACC | AC4: 0 | AD4: =ROUNDUP(((2*(AD10+AD11))+AE10+AE11)/3,0)+AC4 -> 10 | AE4: Phy | AF4: 0 | AG4: =ROUNDUP((AE11+AE10)/4,0)+AF4+AG8 -> 3 | AO4: ACC | AP4: 0 | AQ4: =ROUNDUP(((2*(AQ10+AQ11))+AR10+AR11)/3,0)+AP4 -> 10 | AR4: Phy | AS4: 0 | AT4: =ROUNDUP((AR11+AR10)/4,0)+AS4+AT8 -> 3 | BB4: ACC | BC4: 0 | BD4: =ROUNDUP(((2*(BD10+BD11))+BE10+BE11)/3,0)+BC4 -> 10 | BE4: Phy | BF4: 0 | BG4: =ROUNDUP((BE11+BE10)/4,0)+BF4+BG8 -> 3 | BO4: ACC | BP4: 0 | BQ4: =ROUNDUP(((2*(BQ10+BQ11))+BR10+BR11)/3,0)+BP4 -> 10 | BR4: Phy | BS4: 0 | BT4: =ROUNDUP((BR11+BR10)/4,0)+BS4+BT8 -> 3 | CF4: n comp | CJ4: n j
B5: ADD | C5: 0 | D5: =ROUNDUP((D10+D11+B10+B11)/4,0)+C5 -> 5 | E5: Tir | F5: 0 | G5: =ROUNDUP((F10+F11)/4,0)+F5+G8 -> 3 | O5: ADD | P5: 0 | Q5: =ROUNDUP((Q10+Q11+O10+O11)/4,0)+P5 -> 17 | R5: Tir | S5: 0 | T5: =ROUNDUP((S10+S11)/4,0)+S5+T8 -> 7 | AB5: ADD | AC5: 0 | AD5: =ROUNDUP((AD10+AD11+AB10+AB11)/4,0)+AC5 -> 5 | AE5: Tir | AF5: 0 | AG5: =ROUNDUP((AF10+AF11)/4,0)+AF5+AG8 -> 3 | AO5: ADD | AP5: 0 | AQ5: =ROUNDUP((AQ10+AQ11+AO10+AO11)/4,0)+AP5 -> 5 | AR5: Tir | AS5: 0 | AT5: =ROUNDUP((AS10+AS11)/4,0)+AS5+AT8 -> 3 | BB5: ADD | BC5: 0 | BD5: =ROUNDUP((BD10+BD11+BB10+BB11)/4,0)+BC5 -> 5 | BE5: Tir | BF5: 0 | BG5: =ROUNDUP((BF10+BF11)/4,0)+BF5+BG8 -> 3 | BO5: ADD | BP5: 0 | BQ5: =ROUNDUP((BQ10+BQ11+BO10+BO11)/4,0)+BP5 -> 5 | BR5: Tir | BS5: 0 | BT5: =ROUNDUP((BS10+BS11)/4,0)+BS5+BT8 -> 3 | CF5: 7 | CJ5: 4 | CM5: =DGET(INDIRECT(ADDRESS(15+15*CF5,2+11*CJ5,1,,"PJ")):INDIRECT(ADDRESS(27+15*CF5,11+11*CJ5,1,,"PJ")),3,Story!#REF!) -> #REF!
B6: AM | C6: 0 | D6: =ROUNDUP((B10+B11+C10+C11)/2,0)+C6 -> 10 | E6: Mag | F6: 0 | G6: =ROUNDUP((B11+B10)/4,0)+F6+G8 -> 3 | O6: AM | P6: 0 | Q6: =ROUNDUP((O10+O11+P10+P11)/2,0)+P6 -> 20 | R6: Mag | S6: 0 | T6: =ROUNDUP((O10+O11)/4,0)+S6+T8 -> 7 | AB6: AM | AC6: 0 | AD6: =ROUNDUP((AB10+AB11+AC10+AC11)/2,0)+AC6 -> 10 | AE6: Mag | AF6: 0 | AG6: =ROUNDUP((AB11+AB10)/4,0)+AF6+AG8 -> 3 | AO6: AM | AP6: 0 | AQ6: =ROUNDUP((AO10+AO11+AP10+AP11+AS10+AS11)/3,0)+AP6 -> 10 | AR6: Mag | AS6: 0 | AT6: =ROUNDUP((AO11+AO10)/4,0)+AS6+AT8 -> 3 | BB6: AM | BC6: 0 | BD6: =ROUNDUP((BB10+BB11+BC10+BC11)/2,0)+BC6 -> 10 | BE6: Mag | BF6: 0 | BG6: =ROUNDUP((BF11+BF10)/4,0)+BF6+BG8 -> 3 | BO6: AM | BP6: 0 | BQ6: =ROUNDUP((BO10+BO11+BP10+BP11)/2,0)+BP6 -> 10 | BR6: Mag | BS6: 0 | BT6: =ROUNDUP((BO11+BO10)/4,0)+BS6+BT8 -> 3
B7: PAR | C7: 0 | D7: =ROUNDUP(((E10+E11)*2+D10+D11+(F10+F11)*2)/5,0)+C7 -> 10 | E7: Prot | F7: 0 | G7: Bonus | O7: PAR | P7: 0 | Q7: =ROUNDUP(((R10+R11)*2+Q10+Q11+(S10+S11)*2)/5,0)+P7 -> 27 | R7: Prot | S7: 0 | T7: Bonus | AB7: PAR | AC7: 0 | AD7: =ROUNDUP(((AE10+AE11)*2+AD10+AD11+(AF10+AF11)*2)/5,0)+AC7 -> 10 | AE7: Prot | AF7: 0 | AG7: Bonus | AO7: PAR | AP7: 0 | AQ7: =ROUNDUP(((AR10+AR11)*2+AQ10+AQ11+(AS10+AS11)*2)/5,0)+AP7 -> 10 | AR7: Prot | AS7: 0 | AT7: Bonus | BB7: PAR | BC7: 0 | BD7: =ROUNDUP(((BE10+BE11)*2+BD10+BD11+(BF10+BF11)*2)/5,0)+BC7 -> 10 | BE7: Prot | BF7: 0 | BG7: Bonus | BO7: PAR | BP7: 0 | BQ7: =ROUNDUP(((BR10+BR11)*2+BQ10+BQ11+(BS10+BS11)*2)/5,0)+BP7 -> 10 | BR7: Prot | BS7: 0 | BT7: Bonus
B8: ESC | C8: 0 | D8: =ROUNDUP((D10+D11+F10+F11)/2,0)+C8 -> 10 | E8: Soin | F8: 0 | G8: 0 | O8: ESC | P8: 0 | Q8: =ROUNDUP((Q10+Q11+S10+S11)/2,0)+P8 -> 33 | R8: Soin | S8: 0 | T8: 0 | AB8: ESC | AC8: 0 | AD8: =ROUNDUP((AD10+AD11+AF10+AF11)/2,0)+AC8 -> 10 | AE8: Soin | AF8: 0 | AG8: 0 | AO8: ESC | AP8: 0 | AQ8: =ROUNDUP((AQ10+AQ11+AS10+AS11)/2,0)+AP8 -> 10 | AR8: Soin | AS8: 0 | AT8: 0 | BB8: ESC | BC8: 0 | BD8: =ROUNDUP((BD10+BD11+BF10+BF11)/2,0)+BC8 -> 10 | BE8: Soin | BF8: 0 | BG8: 0 | BO8: ESC | BP8: 0 | BQ8: =ROUNDUP((BQ10+BQ11+BS10+BS11)/2,0)+BP8 -> 10 | BR8: Soin | BS8: 0 | BT8: 0
B9: MEN | C9: INT | D9: ADR | E9: FOR | F9: INS | G9: CHA | O9: MEN | P9: INT | Q9: ADR | R9: FOR | S9: INS | T9: CHA | AB9: MEN | AC9: INT | AD9: ADR | AE9: FOR | AF9: INS | AG9: CHA | AO9: MEN | AP9: INT | AQ9: ADR | AR9: FOR | AS9: INS | AT9: CHA | BB9: MEN | BC9: INT | BD9: ADR | BE9: FOR | BF9: INS | BG9: CHA | BO9: MEN | BP9: INT | BQ9: ADR | BR9: FOR | BS9: INS | BT9: CHA
B10: 10 | C10: 10 | D10: 10 | E10: 10 | F10: 10 | G10: 10 | O10: 25 | P10: 15 | Q10: 40 | R10: 21 | S10: 26 | T10: 10 | AB10: 10 | AC10: 10 | AD10: 10 | AE10: 10 | AF10: 10 | AG10: 10 | AO10: 10 | AP10: 10 | AQ10: 10 | AR10: 10 | AS10: 10 | AT10: 10 | BB10: 10 | BC10: 10 | BD10: 10 | BE10: 10 | BF10: 10 | BG10: 10 | BO10: 10 | BP10: 10 | BQ10: 10 | BR10: 10 | BS10: 10 | BT10: 10
B11: 0 | C11: 0 | D11: 0 | E11: 0 | F11: 0 | G11: 0 | O11: 0 | P11: 0 | Q11: 0 | R11: 0 | S11: 0 | T11: 0 | AB11: 0 | AC11: 0 | AD11: 0 | AE11: 0 | AF11: 0 | AG11: 0 | AO11: 0 | AP11: 0 | AQ11: 0 | AR11: 0 | AS11: 0 | AT11: 0 | BB11: 0 | BC11: 0 | BD11: 0 | BE11: 0 | BF11: 0 | BG11: 0 | BO11: 0 | BP11: 0 | BQ11: 0 | BR11: 0 | BS11: 0 | BT11: 0 | CF11: a | CJ11: b
B12: =B10+B11 -> 10 | C12: =C10+C11 -> 10 | D12: =D10+D11 -> 10 | E12: =E10+E11 -> 10 | F12: =F10+F11 -> 10 | G12: =G10+G11 -> 10 | O12: =O10+O11 -> 25 | P12: =P10+P11 -> 15 | Q12: =Q10+Q11 -> 40 | R12: =R10+R11 -> 21 | S12: =S10+S11 -> 26 | T12: =T10+T11 -> 10 | AB12: =AB10+AB11 -> 10 | AC12: =AC10+AC11 -> 10 | AD12: =AD10+AD11 -> 10 | AE12: =AE10+AE11 -> 10 | AF12: =AF10+AF11 -> 10 | AG12: =AG10+AG11 -> 10 | AO12: =AO11+AO10 -> 10 | AP12: =AP11+AP10 -> 10 | AQ12: =AQ11+AQ10 -> 10 | AR12: =AR11+AR10 -> 10 | AS12: =AS11+AS10 -> 10 | AT12: =AT11+AT10 -> 10 | BB12: =BB10+BB11 -> 10 | BC12: =BC10+BC11 -> 10 | BD12: =BD10+BD11 -> 10 | BE12: =BE10+BE11 -> 10 | BF12: =BF10+BF11 -> 10 | BG12: =BG10+BG11 -> 10 | BO12: =BO10+BO11 -> 10 | BP12: =BP10+BP11 -> 10 | BQ12: =BQ10+BQ11 -> 10 | BR12: =BR10+BR11 -> 10 | BS12: =BS10+BS11 -> 10 | BT12: =BT10+BT11 -> 10 | CD12: =DGET(PJ!$B$30:$K$42,3,Story!#REF!) -> #REF! | CF12: =ADDRESS(15+15*CF5,2+11*CJ5,1,,"PJ") -> PJ!$AT$120 | CJ12: =ADDRESS(27+15*CF5,11+11*CJ5,1,,"PJ") -> PJ!$BC$132 | CM12: =DGET(INDIRECT(CF12):INDIRECT(CJ12),3,Story!#REF!) -> #REF!
B14: 0 | C14: Nom Compétence | K14: Adepte | O14: 0 | P14: Nom Compétence | X14: Adepte | AB14: 0 | AC14: Nom Compétence | AK14: Adepte | AO14: 0 | AP14: Nom Compétence | AX14: Adepte | BB14: 0 | BC14: Nom Compétence | BK14: Adepte | BO14: 0 | BP14: Nom Compétence | BX14: Adepte
B15: Score | C15: ACC | D15: ADD | E15: AM | F15: PAR | G15: ESC | H15: Phy | I15: Tir | J15: Mag | K15: Prot | L15: Soin | M15: Com | O15: Score | P15: ACC | Q15: ADD | R15: AM | S15: PAR | T15: ESC | U15: Phy | V15: Tir | W15: Mag | X15: Prot | Y15: Soin | Z15: Com | AB15: Score | AC15: ACC | AD15: ADD | AE15: AM | AF15: PAR | AG15: ESC | AH15: Phy | AI15: Tir | AJ15: Mag | AK15: Prot | AL15: Soin | AM15: Com | AO15: Score | AP15: ACC | AQ15: ADD | AR15: AM | AS15: PAR | AT15: ESC | AU15: Phy | AV15: Tir | AW15: Mag | AX15: Prot | AY15: Soin | AZ15: Com | BB15: Score | BC15: ACC | BD15: ADD | BE15: AM | BF15: PAR | BG15: ESC | BH15: Phy | BI15: Tir | BJ15: Mag | BK15: Prot | BL15: Soin | BM15: Com | BO15: Score | BP15: ACC | BQ15: ADD | BR15: AM | BS15: PAR | BT15: ESC | BU15: Phy | BV15: Tir | BW15: Mag | BX15: Prot | BY15: Soin | BZ15: Com | CB15: =(PJ!C3+PJ!#REF!+PJ!#REF!+PJ!#REF!+PJ!#REF!+PJ!#REF!)/6 -> #REF! | CC15: =(PJ!B3+PJ!#REF!+PJ!#REF!+PJ!#REF!+PJ!#REF!+PJ!#REF!)/6 -> #REF! | CD15: =(PJ!F7+PJ!S7+PJ!AF7+PJ!AS7+PJ!BF7+PJ!BS7)/6 -> 0 | CE15: =(PJ!G4+PJ!T4+PJ!AG4+PJ!AT4+PJ!BG4+PJ!BT4)/6 -> 3.5 | CF15: =(PJ!G6+PJ!T6+PJ!AG6+PJ!AT6+PJ!BG6+PJ!BT6)/6 -> 3.6666667
B16: 1 | O16: 1 | AB16: 1 | AO16: 1 | BB16: 1 | BO16: 1
B17: 2 | O17: 2 | AB17: 2 | AO17: 2 | BB17: 2 | BO17: 2 | CB17: MEN | CC17: INT | CD17: ADR | CE17: FOR | CF17: INS | CG17: CHA
B18: 3 | O18: 3 | AB18: 3 | AO18: 3 | BB18: 3 | BO18: 3 | CB18: =(PJ!B10+PJ!O10+PJ!AB10+PJ!AO10+PJ!BB10+PJ!BO10)/6 -> 12.5 | CC18: =(PJ!C10+PJ!P10+PJ!AC10+PJ!AP10+PJ!BC10+PJ!BP10)/6 -> 10.833333 | CD18: =(PJ!D10+PJ!Q10+PJ!AD10+PJ!AQ10+PJ!BD10+PJ!BQ10)/6 -> 15 | CE18: =(PJ!E10+PJ!R10+PJ!AE10+PJ!AR10+PJ!BE10+PJ!BR10)/6 -> 11.833333 | CF18: =(PJ!F10+PJ!S10+PJ!AF10+PJ!AS10+PJ!BF10+PJ!BS10)/6 -> 12.666667 | CG18: =(PJ!#REF!+PJ!#REF!+PJ!#REF!+PJ!#REF!+PJ!#REF!+PJ!#REF!)/6 -> #REF!
B19: 4 | O19: 4 | AB19: 4 | AO19: 4 | BB19: 4 | BO19: 4
B20: 5 | O20: 5 | AB20: 5 | AO20: 5 | BB20: 5 | BO20: 5 | CB20: ACC | CC20: ADD | CD20: AM | CE20: PAR | CF20: ESC
B21: 6 | O21: 6 | AB21: 6 | AO21: 6 | BB21: 6 | BO21: 6 | CB21: =(PJ!D4+PJ!Q4+PJ!AD4+PJ!AQ4+PJ!BD4+PJ!BQ4)/6 -> 14 | CC21: =(PJ!D5+PJ!Q5+PJ!AD5+PJ!AQ5+PJ!BD5+PJ!BQ5)/6 -> 7 | CD21: =(PJ!D6+PJ!Q6+PJ!AD6+PJ!AQ6+PJ!BD6+PJ!BQ6)/6 -> 11.666667 | CE21: =(PJ!D7+PJ!Q7+PJ!AD7+PJ!AQ7+PJ!BD7+PJ!BQ7)/6 -> 12.833333 | CF21: =(PJ!D8+PJ!Q8+PJ!AD8+PJ!AQ8+PJ!BD8+PJ!BQ8)/6 -> 13.833333
B22: 7 | O22: 7 | AB22: 7 | AO22: 7 | BB22: 7 | BO22: 7
B23: 8 | O23: 8 | AB23: 8 | AO23: 8 | BB23: 8 | BO23: 8
B24: 9 | O24: 9 | AB24: 9 | AO24: 9 | BB24: 9 | BO24: 9 | CB24: Dégât naturel : FOR/4 Dégât magique : MEN/4 ACC=(2xADR+FOR)/3 ADD=(ADR+INS)/4 AM=(MEN+INS+INT)/3 PAR=(MEN+FORx2+ADR)/4 ESC=(INS+ADR+INT)/3
B25: 10 | O25: 10 | AB25: 10 | AO25: 10 | BB25: 10 | BO25: 10
B26: 11 | O26: 11 | AB26: 11 | AO26: 11 | BB26: 11 | BO26: 11
B27: 12 | O27: 12 | AB27: 12 | AO27: 12 | BB27: 12 | BO27: 12
B29: 1 | C29: Nom Compétence | K29: Adepte | O29: 1 | P29: Nom Compétence | X29: Adepte | AB29: 1 | AC29: Nom Compétence | AK29: Adepte | AO29: 1 | AP29: Nom Compétence | AX29: Adepte | BB29: 1 | BC29: Nom Compétence | BK29: Adepte | BO29: 1 | BP29: Nom Compétence | BX29: Adepte
B30: Score | C30: ACC | D30: ADD | E30: AM | F30: PAR | G30: ESC | H30: Phy | I30: Tir | J30: Mag | K30: Prot | L30: Soin | M30: Com | O30: Score | P30: ACC | Q30: ADD | R30: AM | S30: PAR | T30: ESC | U30: Phy | V30: Tir | W30: Mag | X30: Prot | Y30: Soin | Z30: Com | AB30: Score | AC30: ACC | AD30: ADD | AE30: AM | AF30: PAR | AG30: ESC | AH30: Phy | AI30: Tir | AJ30: Mag | AK30: Prot | AL30: Soin | AM30: Com | AO30: Score | AP30: ACC | AQ30: ADD | AR30: AM | AS30: PAR | AT30: ESC | AU30: Phy | AV30: Tir | AW30: Mag | AX30: Prot | AY30: Soin | AZ30: Com | BB30: Score | BC30: ACC | BD30: ADD | BE30: AM | BF30: PAR | BG30: ESC | BH30: Phy | BI30: Tir | BJ30: Mag | BK30: Prot | BL30: Soin | BM30: Com | BO30: Score | BP30: ACC | BQ30: ADD | BR30: AM | BS30: PAR | BT30: ESC | BU30: Phy | BV30: Tir | BW30: Mag | BX30: Prot | BY30: Soin | BZ30: Com
B31: 1 | O31: 1 | AB31: 1 | AO31: 1 | BB31: 1 | BO31: 1
B32: 2 | O32: 2 | AB32: 2 | AO32: 2 | BB32: 2 | BO32: 2
B33: 3 | O33: 3 | AB33: 3 | AO33: 3 | BB33: 3 | BO33: 3
B34: 4 | O34: 4 | AB34: 4 | AO34: 4 | BB34: 4 | BO34: 4
B35: 5 | O35: 5 | AB35: 5 | AO35: 5 | BB35: 5 | BO35: 5
B36: 6 | O36: 6 | AB36: 6 | AO36: 6 | BB36: 6 | BO36: 6
B37: 7 | O37: 7 | AB37: 7 | AC37: 5 | AO37: 7 | BB37: 7 | BO37: 7
B38: 8 | O38: 8 | AB38: 8 | AO38: 8 | BB38: 8 | BO38: 8
B39: 9 | O39: 9 | AB39: 9 | AO39: 9 | BB39: 9 | BO39: 9
B40: 10 | O40: 10 | AB40: 10 | AO40: 10 | BB40: 10 | BO40: 10
B41: 11 | O41: 11 | AB41: 11 | AO41: 11 | BB41: 11 | BO41: 11
B42: 12 | O42: 12 | AB42: 12 | AO42: 12 | BB42: 12 | BO42: 12
B44: 2 | C44: Nom Compétence | K44: Adepte | O44: 2 | P44: Nom Compétence | X44: Adepte | AB44: 2 | AC44: Nom Compétence | AK44: Adepte | AO44: 2 | AP44: Nom Compétence | AX44: Adepte | BB44: 2 | BC44: Nom Compétence | BK44: Adepte | BO44: 2 | BP44: Nom Compétence | BX44: Adepte
...

Sheet PNJ
A1: NRJ | B1: Vie | G1: PNJ 1 | I1: Dif PNJ | K1: Type Attaque | M1: Type défense | R1: Liste Bonus | V1: Liste Comp att | Y1: Liste Comp Def | AB1: ATT | AC1: ACC | AD1: Phy | AF1: Adepte
A2: 40 | B2: 40 | C2: Total | E2: Equip | F2: Dégat | I2: PNJ 1 | K2: ACC | M2: PAR | R2: -10 | V2: 0 | AB2: DEF | AC2: ADD | AD2: Tir | AF2: Expert
A3: ACC | B3: 0 | C3: =ROUNDUP(((2*(C9+C10))+D9+D10)/3,0)+B3 -> 10 | D3: Phy | E3: 0 | F3: =ROUNDUP((D9+D10)/4,0)+E3+E7 -> 3 | I3: PNJ 2 | K3: ADD | M3: ESC | R3: -9 | V3: 1 | AC3: AM | AD3: Mag | AF3: Maitre
A4: ADD | B4: 0 | C4: =ROUNDUP((C9+C10+E9+E10)/4,0)+B4 -> 5 | D4: Tir | E4: 0 | F4: =ROUNDUP((E9+E10)/4,0)+E4+E7 -> 3 | K4: AM | M4: CHA | R4: -8 | V4: 2 | AC4: PAR | AD4: Prot
A5: AM | B5: 0 | C5: =ROUNDUP((A9+A10+B9+B10+E9+E10)/3,0)+B5 -> 10 | D5: Mag | E5: 0 | F5: =ROUNDUP((A9+A10)/4,0)+E5+E7 -> 3 | R5: -7 | V5: 3 | AC5: ESC
A6: PAR | B6: 0 | C6: =ROUNDUP(((D9+D10)*2+C9+C10+A9+A10)/4,0)+B6 -> 10 | D6: Prot | E6: 0 | R6: -6 | V6: 4
A7: ESC | B7: 0 | C7: =ROUNDUP((C9+C10+E9+E10+B9+B10)/3,0)+B7 -> 10 | D7: Bonus | E7: 0 | R7: -5 | V7: 5
A8: MEN | B8: INT | C8: ADR | D8: FOR | E8: INS | F8: CHA | R8: -4 | V8: 6
A9: 10 | B9: 10 | C9: 10 | D9: 10 | E9: 10 | F9: 10 | R9: -3 | V9: 7
A10: 0 | B10: 0 | C10: 0 | D10: 0 | E10: 0 | F10: 0 | R10: -2 | V10: 8
A11: =A9+A10 -> 10 | B11: =B9+B10 -> 10 | C11: =C9+C10 -> 10 | D11: =D9+D10 -> 10 | E11: =E9+E10 -> 10 | F11: =F9+F10 -> 10 | R11: -1 | V11: 9
R12: 0 | V12: 10
R13: 1
A14: NRJ | B14: Vie | G14: PNJ 2 | R14: 2
A15: 40 | B15: 40 | C15: Total | E15: Equip | F15: Dégat | R15: 3
A16: ACC | B16: 0 | C16: =ROUNDUP(((2*(C22+C23))+D22+D23)/3,0)+B16 -> 10 | D16: Phy | E16: 0 | F16: =ROUNDUP((D22+D23)/4,0)+E16+E20 -> 3 | R16: 4
A17: ADD | B17: 0 | C17: =ROUNDUP((C22+C23+E22+E23)/4,0)+B17 -> 5 | D17: Tir | E17: 0 | F17: =ROUNDUP((E22+E23)/4,0)+E17+E20 -> 3 | R17: 5
A18: AM | B18: 0 | C18: =ROUNDUP((A22+A23+B22+B23+E22+E23)/3,0)+B18 -> 10 | D18: Mag | E18: 0 | F18: =ROUNDUP((A22+A23)/4,0)+E18+E20 -> 3 | R18: 6
A19: PAR | B19: 0 | C19: =ROUNDUP(((D22+D23)*2+C22+C23+A22+A23)/4,0)+B19 -> 10 | D19: Prot | E19: 0 | R19: 7
A20: ESC | B20: 0 | C20: =ROUNDUP((C22+C23+E22+E23+B22+B23)/3,0)+B20 -> 10 | D20: Bonus | E20: 0 | R20: 8
A21: MEN | B21: INT | C21: ADR | D21: FOR | E21: INS | F21: CHA | R21: 9
A22: 10 | B22: 10 | C22: 10 | D22: 10 | E22: 10 | F22: 10 | R22: 10
A23: 0 | B23: 0 | C23: 0 | D23: 0 | E23: 0 | F23: 0 | R23: 11
A24: =A22+A23 -> 10 | B24: =B22+B23 -> 10 | C24: =C22+C23 -> 10 | D24: =D22+D23 -> 10 | E24: =E22+E23 -> 10 | F24: =F22+F23 -> 10 | R24: 12
R25: 13
R26: 14
R27: 15
R28: 16
R29: 17
R30: 18
R31: 19
R32: 20
R33: 21
R34: 22
R35: 23
R36: 24
... R42: 30
