Workbook
Name Appro: #REF!
Name ARRETS: #REF!
Name Changement: #REF!
Name Cobot: #REF!
Name DEFAUTS: #REF!
Name dept: [1]Horaire!$B$1
Name dept: Horaire!$B$1
Name Filmeuse: #REF!
Name Fischbein: #REF!
Name listeh: [1]Horaire!$C$2:$C$288
Name listeh: Horaire!$C$2:$C$288
Name MachA: 'mach&causes'!$B$3:$B$11
Name MachB: 'mach&causes'!$C$3:$C$8
Name MachC: 'mach&causes'!$D$3:$D$5
Name MachD: 'mach&causes'!$E$3:$E$8
Name MachE: 'mach&causes'!$F$3:$F$5
Name MachF: 'mach&causes'!$G$3:$G$5
Name MachG: 'mach&causes'!$H$3:$H$6
Name MachH: 'mach&causes'!$I$3:$I$5
Name MACHINES: 'mach&causes'!$B$2:$I$2
Name Nettoyage: #REF!
Name Organisationnel: #REF!
Name Technologique: #REF!

Sheet Codeproduit
B2: Nom produit | C2: Code produit | D2: Cadence Condi (Pc/H) | E2: Cadence Condi (Kg/H)
B4: Prod1 | C4: 1001 | D4: 40 | E4: 1000
B5: Prod2 | C5: 1002 | D5: 40 | E5: 1000
B6: Prod3 | C6: 1003 | D6: 40 | E6: 1000
B7: Prod4 | C7: 1004 | D7: 40 | E7: 1000
B8: Prod5 | C8: 1005 | D8: 40 | E8: 1000

Sheet Horaire
B1: Plage horaire | C1: 0.0034722222
B2: 0.21180556 | C2: 0.21180556
B3: 0.21527778 | C3: =B2+C$1 -> 0.21527778
B4: 0.21875 | C4: =B3+C$1 -> 0.21875
B5: 0.22222222 | C5: =B4+C$1 -> 0.22222222
B6: 0.22569444 | C6: =B5+C$1 -> 0.22569444
B7: 0.22916667 | C7: =B6+C$1 -> 0.22916667
B8: 0.23263889 | C8: =B7+C$1 -> 0.23263889
B9: 0.23611111 | C9: =B8+C$1 -> 0.23611111
B10: 0.23958333 | C10: =B9+C$1 -> 0.23958333
B11: 0.24305556 | C11: =B10+C$1 -> 0.24305556
B12: 0.24652778 | C12: =B11+C$1 -> 0.24652778
B13: 0.25 | C13: =B12+C$1 -> 0.25
B14: 0.25347222 | C14: =B13+C$1 -> 0.25347222
... B288: 1.2048611 | C288: =B287+C$1 -> 1.2048611

Sheet Prod&Arrets
A1: SEM : 9
A2: JEUDI
F3: 5h | K3: 5h
F4: Formule 1 | H4: Formule 2 | J4: Formule 3 | L4: Total
A5: DONNEES DE PRODUCTION | B5: Nom formule | F5: Prod1
B6: Numéro formule | F6: =IFERROR(VLOOKUP(F5,Codeproduit!$B$4:$E$8,2,FALSE)," ") -> 1001 | H6: =IFERROR(VLOOKUP(H5,Codeproduit!$B$4:$E$8,2,FALSE)," ") | J6: =IFERROR(VLOOKUP(J5,Codeproduit!$B$4:$E$8,2,FALSE)," ")
B7: Cadence théorique condi (kg/h) | F7: =IFERROR(IF(F5=" "," ",VLOOKUP(F5,Codeproduit!$B$4:$E$8,4,FALSE)), " ") -> 1000 | H7: =IFERROR(IF(H5=" "," ",VLOOKUP(H5,Codeproduit!$B$4:$E$8,4,FALSE)), " ") | J7: =IFERROR(IF(J5=" "," ",VLOOKUP(J5,Codeproduit!$B$4:$E$8,4,FALSE)), " ")
B8: Cadence théorique condi (sac/h) | F8: =IFERROR(IF(F5=" "," ",VLOOKUP(F5,Codeproduit!$B$4:$E$8,3,FALSE)), " ") -> 40 | H8: =IFERROR(IF(H5=" "," ",VLOOKUP(H5,Codeproduit!$B$4:$E$8,3,FALSE)), " ") | J8: =IFERROR(IF(J5=" "," ",VLOOKUP(J5,Codeproduit!$B$4:$E$8,3,FALSE)), " ")
B9: Heure de démarrage Formule | F9: 0.33333333
B10: Heure de fin Formule | F10: 0.5
F11: 1 | H11: 1 | J11: 1
B12: Temps de conditionnement | F12: =IF(F10-F9<0,(F10+F11)-F9,F10-F9) -> 0.16666667 | H12: =IF(H10-H9<0,(H10+H11)-H9,H10-H9) -> 0 | J12: =IF(J10-J9<0,(J10+J11)-J9,J10-J9) -> 0 | L12: =IFERROR(SUM(F12:K12), " ") -> 0.16666667
B13: Nombre de palettes réalisées | L13: =SUM(F13:K13) -> 0
B14: Sac(s) percés/non-conformes | L14: =SUM(F14:K14) -> 0
B15: TOTAL NB SACS REALISES | L15: =L13*14 -> 0
B16: Temps de production réel | H16: =IF(H6="","",#REF!/(#REF!*3)) -> #REF! | J16: =IF(J6="","",#REF!/(#REF!*3)) -> #REF!
E18: FORMULE 1
E19: Arrêt | F19: Heure d'arrêt | G19: Machine/Action | H19: Cause de l'arrêt | I19: Durée de l'arrêt (en min) | J19: Intervention EM ? | K19: Commentaires opérateurs/EM | L19: Heure de fin
E20: 1 | F20: 0.34027778 | G20: MachA | H20: CauseA5 | I20: 2 | J20: NON | L20: =F20+I20/1440 -> 0.34166667
E21: 2 | F21: 0.34375 | G21: MachB | H21: CauseB3 | I21: 4 | J21: NON | L21: =F21+I21/1440 -> 0.34652778
E22: 3 | F22: 0.35416667 | G22: MachF | H22: CauseF3 | I22: 5 | J22: NON | L22: =F22+I22/1440 -> 0.35763889
E23: 4 | F23: 0.375 | G23: MachC | H23: CauseC2 | I23: 3 | J23: NON | L23: =F23+I23/1440 -> 0.37708333
E24: 5 | F24: 0.38194444 | G24: MachC | H24: CauseC1 | I24: 4 | J24: NON | K24: Pb peseuses | L24: =F24+I24/1440 -> 0.38472222
E25: 6 | F25: 0.40625 | G25: MachD | H25: CauseD4 | I25: 2 | J25: NON | K25: Ficelles | L25: =F25+I25/1440 -> 0.40763889 | X25: =268/40/24 -> 0.27916667
E26: 7 | F26: 0.41319444 | G26: MachD | H26: CauseD2 | I26: 1 | J26: NON | L26: =F26+I26/1440 -> 0.41388889
E27: 8 | F27: 0.41666667 | G27: MachB | H27: CauseB5 | I27: 4 | J27: OUI | L27: =F27+I27/1440 -> 0.41944444
E28: 9 | F28: 0.44791667 | G28: MachB | H28: CauseB2 | I28: 3 | J28: OUI | K28: Attente EM | L28: =F28+I28/1440 -> 0.45
E29: 10 | F29: 0.45486111 | G29: MachC | H29: CauseC1 | I29: 5 | J29: NON | L29: =F29+I29/1440 -> 0.45833333
E30: 11 | F30: 0.45833333 | G30: MachD | H30: CauseD3 | I30: 3 | J30: NON | L30: =F30+I30/1440 -> 0.46041667
E31: 12 | F31: 0.46180556 | G31: MachA | H31: CauseA7 | I31: 5 | J31: NON | L31: =F31+I31/1440 -> 0.46527778
E32: 13 | F32: 0.47569444 | G32: MachG | H32: CauseG2 | I32: 3 | J32: NON | L32: =F32+I32/1440 -> 0.47777778
E33: 14 | F33: 0.47916667 | G33: MachH | H33: CauseH2 | I33: 5 | J33: NON | L33: =F33+I33/1440 -> 0.48263889
E34: 15 | F34: 0.49305556 | G34: MachE | H34: CauseE1 | I34: 6 | J34: NON | L34: =F34+I34/1440 -> 0.49722222
E35: 16 | L35: =F35+I35/1440 -> 0
E36: 17 | L36: =F36+I36/1440 -> 0
E37: 18 | L37: =F37+I37/1440 -> 0
E38: 19 | L38: =F38+I38/1440 -> 0
E39: 20 | L39: =F39+I39/1440 -> 0
E40: 21 | L40: =F40+I40/1440 -> 0
E41: 22 | L41: =F41+I41/1440 -> 0
E42: 23 | L42: =F42+I42/1440 -> 0
E43: 24 | L43: =F43+I43/1440 -> 0
E44: 25 | L44: =F44+I44/1440 -> 0
E45: 26 | L45: =F45+I45/1440 -> 0
E46: 27 | L46: =F46+I46/1440 -> 0
... E81: 62 | L81: =F81+I81/1440 -> 0

Sheet mach&causes
B2: MachA | C2: MachB | D2: MachC | E2: MachD | F2: MachE | G2: MachF | H2: MachG | I2: MachH
B3: CauseA1 | C3: CauseB1 | D3: CauseC1 | E3: CauseD1 | F3: CauseE1 | G3: CauseF1 | H3: CauseG1 | I3: CauseH1
B4: CauseA2 | C4: CauseB2 | D4: CauseC2 | E4: CauseD2 | F4: CauseE2 | G4: CauseF2 | H4: GauseG2 | I4: CauseH2
B5: CauseA3 | C5: CauseB3 | D5: CauseC3 | E5: CauseD3 | F5: CauseE3 | G5: CauseF3 | H5: CauseG2 | I5: CauseH3
B6: CauseA4 | C6: CauseB4 | E6: CauseD4 | H6: GauseG3
B7: CauseA5 | C7: CauseB5 | E7: CauseD5
B8: CauseA6 | C8: CauseB6 | E8: CauseD6
B9: CauseA7
B10: CauseA8
B11: CauseA9
