Workbook

Sheet COCKPIT
B1: COCKPIT SDR | T1: En attendant la création de la famille Poisson
B3: UA ET PERTES | T3: Reclacule ton objectif VV avec le poisson
B5: N° WGI | C5: WGI | D5: CA HT | F5: CA HT N-1 | I5: % CA | J5: % CA N-1 | K5: Pertes € | M5: Pertes € N-1 | P5: % Pertes | Q5: % Pertes N-1 | R5: Ecart / Obj en € | S5: Obj. | T5: Et remplace ton objectif VV par ton obectif VVP
B6: 10 | C6: Fruits et légumes | D6: =SUMIFS(#REF!,#REF!,B6) -> #REF! | F6: =SUMIFS(#REF!,#REF!,B6) -> #REF! | I6: =IFERROR(D6/$D$15*100,"") | J6: =IFERROR(F6/$F$15*100,"") | K6: =SUMIFS(#REF!,#REF!,B6) -> #REF! | M6: =SUMIFS(#REF!,#REF!,B6) -> #REF! | P6: =IFERROR(K6/D6*100,"") | Q6: =IFERROR(M6/F6*100,"") | R6: =IFERROR((S6-P6)/100*D6,"") | S6: -6.84
B7: 20 | C7: Fleurs | D7: =SUMIFS(#REF!,#REF!,B7) -> #REF! | F7: =SUMIFS(#REF!,#REF!,B7) -> #REF! | I7: =IFERROR(D7/$D$15*100,"") | J7: =IFERROR(F7/$F$15*100,"") | K7: =SUMIFS(#REF!,#REF!,B7) -> #REF! | M7: =SUMIFS(#REF!,#REF!,B7) -> #REF! | P7: =IFERROR(K7/D7*100,"") | Q7: =IFERROR(M7/F7*100,"") | R7: =IFERROR((S7-P7)/100*D7,"") | S7: -10.96
B8: 30 | C8: Volaille / Viande / Poisson | D8: =SUMIFS(#REF!,#REF!,B8) -> #REF! | F8: =SUMIFS(#REF!,#REF!,B8) -> #REF! | I8: =IFERROR(D8/$D$15*100,"") | J8: =IFERROR(F8/$F$15*100,"") | K8: =SUMIFS(#REF!,#REF!,B8) -> #REF! | M8: =SUMIFS(#REF!,#REF!,B8) -> #REF! | P8: =IFERROR(K8/D8*100,"") | Q8: =IFERROR(M8/F8*100,"") | R8: =IFERROR((S8-P8)/100*D8,"") | S8: -5.37
B9: 40 | C9: Surgelés | D9: =SUMIFS(#REF!,#REF!,B9) -> #REF! | F9: =SUMIFS(#REF!,#REF!,B9) -> #REF! | I9: =IFERROR(D9/$D$15*100,"") | J9: =IFERROR(F9/$F$15*100,"") | K9: =SUMIFS(#REF!,#REF!,B9) -> #REF! | M9: =SUMIFS(#REF!,#REF!,B9) -> #REF! | P9: =IFERROR(K9/D9*100,"") | Q9: =IFERROR(M9/F9*100,"") | R9: =IFERROR((S9-P9)/100*D9,"") | S9: -1.45
B10: 50 | C10: Frais | D10: =SUMIFS(#REF!,#REF!,B10) -> #REF! | F10: =SUMIFS(#REF!,#REF!,B10) -> #REF! | I10: =IFERROR(D10/$D$15*100,"") | J10: =IFERROR(F10/$F$15*100,"") | K10: =SUMIFS(#REF!,#REF!,B10) -> #REF! | M10: =SUMIFS(#REF!,#REF!,B10) -> #REF! | P10: =IFERROR(K10/D10*100,"") | Q10: =IFERROR(M10/F10*100,"") | R10: =IFERROR((S10-P10)/100*D10,"") | S10: -2.34
B11: 60 | C11: Sec | D11: =SUMIFS(#REF!,#REF!,B11) -> #REF! | F11: =SUMIFS(#REF!,#REF!,B11) -> #REF! | I11: =IFERROR(D11/$D$15*100,"") | J11: =IFERROR(F11/$F$15*100,"") | K11: =SUMIFS(#REF!,#REF!,B11) -> #REF! | M11: =SUMIFS(#REF!,#REF!,B11) -> #REF! | P11: =IFERROR(K11/D11*100,"") | Q11: =IFERROR(M11/F11*100,"") | R11: =IFERROR((S11-P11)/100*D11,"") | S11: -0.75
B12: 70 | C12: Non-Food | D12: =SUMIFS(#REF!,#REF!,B12) -> #REF! | F12: =SUMIFS(#REF!,#REF!,B12) -> #REF! | I12: =IFERROR(D12/$D$15*100,"") | J12: =IFERROR(F12/$F$15*100,"") | K12: =SUMIFS(#REF!,#REF!,B12) -> #REF! | M12: =SUMIFS(#REF!,#REF!,B12) -> #REF! | P12: =IFERROR(K12/D12*100,"") | Q12: =IFERROR(M12/F12*100,"") | R12: =IFERROR((S12-P12)/100*D12,"") | S12: -5.29
B13: 90 | C13: Pain | D13: =SUMIFS(#REF!,#REF!,B13) -> #REF! | F13: =SUMIFS(#REF!,#REF!,B13) -> #REF! | I13: =IFERROR(D13/$D$15*100,"") | J13: =IFERROR(F13/$F$15*100,"") | K13: =SUMIFS(#REF!,#REF!,B13) -> #REF! | M13: =SUMIFS(#REF!,#REF!,B13) -> #REF! | P13: =IFERROR(K13/D13*100,"") | Q13: =IFERROR(M13/F13*100,"") | R13: =IFERROR((S13-P13)/100*D13,"") | S13: -12.93
B14: 32 | C14: Poisson | D14: =SUMIFS(#REF!,#REF!,B14) -> #REF! | F14: =SUMIFS(#REF!,#REF!,B14) -> #REF! | I14: =IFERROR(D14/$D$15*100,"") | J14: =IFERROR(F14/$F$15*100,"") | K14: =SUMIFS(#REF!,#REF!,B14) -> #REF! | M14: =SUMIFS(#REF!,#REF!,B14) -> #REF! | P14: =IFERROR(K14/D14*100,"") | Q14: =IFERROR(M14/F14*100,"") | R14: =IFERROR((S14-P14)/100*D14,"") | S14: -6.21
B15: TOTAL | C15: =+(D15-F15)/F15 -> #REF! | D15: =SUM(D6:E14) -> #REF! | F15: =SUM(F6:G14) -> #REF! | I15: =SUM(I6:I14) -> 0 | J15: =IF(SUM(J6:J14)<100,100,SUM(J6:J14)) -> 100 | K15: =SUM(K6:L14) -> #REF! | M15: =SUM(M6:O14) -> #REF! | P15: =IFERROR(K15/D15*100,"") | Q15: =IFERROR(M15/F15*100,"") | R15: =IFERROR((S15-P15)/100*D15,"") | S15: -3.26
K16: HORS SINISTRE | P16: =-(-K15-#REF!)/D15 -> #REF!
B17: FLOPS
A21: 2 | B21: 20 | C21: Fleurs | D21: Pertes € | J21: 60 | K21: Sec | P21: Pertes €
A22: 3 | B22: =IF(D22="","",SUMIFS('LEAD_106 FLOPS PERTES'!C:C,'LEAD_106 FLOPS PERTES'!H:H,D22,'LEAD_106 FLOPS PERTES'!A:A,$B21)) -> 0 | C22: =IFERROR(VLOOKUP(B22,'LEAD_106 FLOPS PERTES'!C:D,2,FALSE),"") | D22: {=IFERROR(SMALL(IF('LEAD_106 FLOPS PERTES'!A:A=B21,'LEAD_106 FLOPS PERTES'!H:H),A21),"")} -> -3290.0552 | J22: =IF(P22="","",SUMIFS('LEAD_106 FLOPS PERTES'!C:C,'LEAD_106 FLOPS PERTES'!H:H,P22,'LEAD_106 FLOPS PERTES'!A:A,$J21)) | K22: =IFERROR(VLOOKUP(J22,'LEAD_106 FLOPS PERTES'!C:D,2,FALSE),"") | P22: {=IFERROR(SMALL(IF('LEAD_106 FLOPS PERTES'!A:A=$J21,'LEAD_106 FLOPS PERTES'!H:H),A21),"")}
A23: 4 | B23: =IF(D23="","",SUMIFS('LEAD_106 FLOPS PERTES'!C:C,'LEAD_106 FLOPS PERTES'!H:H,D23,'LEAD_106 FLOPS PERTES'!A:A,$B21)) -> 0 | C23: =IFERROR(VLOOKUP(B23,'LEAD_106 FLOPS PERTES'!C:D,2,FALSE),"") | D23: {=IFERROR(SMALL(IF('LEAD_106 FLOPS PERTES'!A:A=B21,'LEAD_106 FLOPS PERTES'!H:H),A22),"")} -> -1842.1 | J23: =IF(P23="","",SUMIFS('LEAD_106 FLOPS PERTES'!C:C,'LEAD_106 FLOPS PERTES'!H:H,P23,'LEAD_106 FLOPS PERTES'!A:A,$J21)) | K23: =IFERROR(VLOOKUP(J23,'LEAD_106 FLOPS PERTES'!C:D,2,FALSE),"") | P23: {=IFERROR(SMALL(IF('LEAD_106 FLOPS PERTES'!A:A=$J21,'LEAD_106 FLOPS PERTES'!H:H),A22),"")}
A24: 5 | B24: =IF(D24="","",SUMIFS('LEAD_106 FLOPS PERTES'!C:C,'LEAD_106 FLOPS PERTES'!H:H,D24,'LEAD_106 FLOPS PERTES'!A:A,$B21)) -> 0 | C24: =IFERROR(VLOOKUP(B24,'LEAD_106 FLOPS PERTES'!C:D,2,FALSE),"") | D24: {=IFERROR(SMALL(IF('LEAD_106 FLOPS PERTES'!A:A=B21,'LEAD_106 FLOPS PERTES'!H:H),A23),"")} -> -1643.3632 | J24: =IF(P24="","",SUMIFS('LEAD_106 FLOPS PERTES'!C:C,'LEAD_106 FLOPS PERTES'!H:H,P24,'LEAD_106 FLOPS PERTES'!A:A,$J21)) | K24: =IFERROR(VLOOKUP(J24,'LEAD_106 FLOPS PERTES'!C:D,2,FALSE),"") | P24: {=IFERROR(SMALL(IF('LEAD_106 FLOPS PERTES'!A:A=$J21,'LEAD_106 FLOPS PERTES'!H:H),A23),"")}
A25: 6 | B25: =IF(D25="","",SUMIFS('LEAD_106 FLOPS PERTES'!C:C,'LEAD_106 FLOPS PERTES'!H:H,D25,'LEAD_106 FLOPS PERTES'!A:A,$B21)) -> 0 | C25: =IFERROR(VLOOKUP(B25,'LEAD_106 FLOPS PERTES'!C:D,2,FALSE),"") | D25: {=IFERROR(SMALL(IF('LEAD_106 FLOPS PERTES'!A:A=B21,'LEAD_106 FLOPS PERTES'!H:H),A24),"")} -> -1548.7183 | J25: =IF(P25="","",SUMIFS('LEAD_106 FLOPS PERTES'!C:C,'LEAD_106 FLOPS PERTES'!H:H,P25,'LEAD_106 FLOPS PERTES'!A:A,$J21)) | K25: =IFERROR(VLOOKUP(J25,'LEAD_106 FLOPS PERTES'!C:D,2,FALSE),"") | P25: {=IFERROR(SMALL(IF('LEAD_106 FLOPS PERTES'!A:A=$J21,'LEAD_106 FLOPS PERTES'!H:H),A24),"")}
B26: =IF(D26="","",SUMIFS('LEAD_106 FLOPS PERTES'!C:C,'LEAD_106 FLOPS PERTES'!H:H,D26,'LEAD_106 FLOPS PERTES'!A:A,$B21)) -> 0 | C26: =IFERROR(VLOOKUP(B26,'LEAD_106 FLOPS PERTES'!C:D,2,FALSE),"") | D26: {=IFERROR(SMALL(IF('LEAD_106 FLOPS PERTES'!A:A=B21,'LEAD_106 FLOPS PERTES'!H:H),A25),"")} -> -1292.3354 | J26: =IF(P26="","",SUMIFS('LEAD_106 FLOPS PERTES'!C:C,'LEAD_106 FLOPS PERTES'!H:H,P26,'LEAD_106 FLOPS PERTES'!A:A,$J21)) | K26: =IFERROR(VLOOKUP(J26,'LEAD_106 FLOPS PERTES'!C:D,2,FALSE),"") | P26: {=IFERROR(SMALL(IF('LEAD_106 FLOPS PERTES'!A:A=$J21,'LEAD_106 FLOPS PERTES'!H:H),A25),"")}
A29: =IF(B29="","",#REF!) | L29: =IF(M29="","",#REF!) | M29: =IF(N29="","",#REF!) | N29: =IF(O29="","",#REF!) | O29: =IF(P29="","",#REF!) | P29: =IF(Q29="","",#REF!)
B30: TOP
B34: 20 | C34: Fleurs | D34: Pertes € | J34: 60 | K34: Sec | P34: Pertes €
A35: 2 | B35: =IF(D35="","",SUMIFS('LEAD_106 FLOPS PERTES'!B:B,'LEAD_106 FLOPS PERTES'!G:G,D35,'LEAD_106 FLOPS PERTES'!#REF!,$B34)) | C35: =IFERROR(VLOOKUP(B35,'LEAD_106 FLOPS PERTES'!B:C,2,FALSE),"") | D35: {=IFERROR(SMALL(IF('LEAD_106 FLOPS PERTES'!#REF!=B34,'LEAD_106 FLOPS PERTES'!G:G),#REF!),"")}
A36: 3 | B36: =IF(D36="","",SUMIFS('LEAD_106 FLOPS PERTES'!B:B,'LEAD_106 FLOPS PERTES'!G:G,D36,'LEAD_106 FLOPS PERTES'!#REF!,$B34)) | C36: =IFERROR(VLOOKUP(B36,'LEAD_106 FLOPS PERTES'!B:C,2,FALSE),"") | D36: {=IFERROR(SMALL(IF('LEAD_106 FLOPS PERTES'!#REF!=B34,'LEAD_106 FLOPS PERTES'!G:G),#REF!),"")}
A37: 4 | B37: =IF(D37="","",SUMIFS('LEAD_106 FLOPS PERTES'!B:B,'LEAD_106 FLOPS PERTES'!G:G,D37,'LEAD_106 FLOPS PERTES'!#REF!,$B34)) | C37: =IFERROR(VLOOKUP(B37,'LEAD_106 FLOPS PERTES'!B:C,2,FALSE),"") | D37: {=IFERROR(SMALL(IF('LEAD_106 FLOPS PERTES'!#REF!=B34,'LEAD_106 FLOPS PERTES'!G:G),#REF!),"")}
A38: 5 | B38: =IF(D38="","",SUMIFS('LEAD_106 FLOPS PERTES'!B:B,'LEAD_106 FLOPS PERTES'!G:G,D38,'LEAD_106 FLOPS PERTES'!#REF!,$B34)) | C38: =IFERROR(VLOOKUP(B38,'LEAD_106 FLOPS PERTES'!B:C,2,FALSE),"") | D38: {=IFERROR(SMALL(IF('LEAD_106 FLOPS PERTES'!#REF!=B34,'LEAD_106 FLOPS PERTES'!G:G),#REF!),"")}
A39: 6 | B39: =IF(D39="","",SUMIFS('LEAD_106 FLOPS PERTES'!B:B,'LEAD_106 FLOPS PERTES'!G:G,D39,'LEAD_106 FLOPS PERTES'!#REF!,$B34)) | C39: =IFERROR(VLOOKUP(B39,'LEAD_106 FLOPS PERTES'!B:C,2,FALSE),"") | D39: {=IFERROR(SMALL(IF('LEAD_106 FLOPS PERTES'!#REF!=B34,'LEAD_106 FLOPS PERTES'!G:G),#REF!),"")}
L42: =IF(M42="","",#REF!) | M42: =IF(N42="","",#REF!) | N42: =IF(O42="","",#REF!) | O42: =IF(P42="","",#REF!) | P42: =IF(Q42="","",#REF!)
L43: =IF(M43="","",#REF!) | M43: =IF(N43="","",#REF!) | N43: =IF(O43="","",#REF!) | O43: =IF(P43="","",#REF!) | P43: =IF(Q43="","",#REF!)
L44: =IF(M44="","",#REF!) | M44: =IF(N44="","",#REF!) | N44: =IF(O44="","",#REF!) | O44: =IF(P44="","",#REF!) | P44: =IF(Q44="","",#REF!)

Sheet LEAD_106 FLOPS PERTES
H8: Pertes Totales (en €)
A9: 20 | B9: Fleurs | H9: 2736.3636
A10: 20 | B10: Fleurs | H10: -88.9634
A11: 20 | B11: Fleurs | H11: 0
A12: 20 | B12: Fleurs | H12: -67.3092
A13: 20 | B13: Fleurs | H13: 0
A14: 20 | B14: Fleurs | H14: -36.6452
A15: 20 | B15: Fleurs | H15: 0
A16: 20 | B16: Fleurs | H16: 0
A17: 20 | B17: Fleurs | H17: 0
A18: 20 | B18: Fleurs | H18: -41.8274
A19: 20 | B19: Fleurs | H19: -364.9902
A20: 20 | B20: Fleurs | H20: -885.782
... A97: 20 | B97: Fleurs | H97: -17102.365
