Workbook
Name total_zones_1: janvier!$H$5:$H$33
Name total_zones_2: janvier!$Q$5:$Q$21

Sheet janvier
A1: 43831
B2: SEMAINE DU | C2: 43829 | D2: AU | E2: 43833 | K2: SEMAINE DU | L2: 43836 | M2: AU | N2: 43840
B3: MATIN | D3: APRES-MIDI | F3: TOTAL | G3: chantier plus eloigné du domicile | H3: zone | K3: MATIN | M3: APRES-MIDI | O3: TOTAL | P3: chantier plus eloigné du domicile | Q3: zone
B4: arrivée | C4: départ | D4: arrivée | E4: départ | K4: arrivée | L4: départ | M4: arrivée | N4: départ
A5: LUNDI | F5: =(C5-B5)+(E5-D5) -> 0 | G5: arradon | H5: =VLOOKUP(G5,'zone de deplacement'!A1:B39,2,FALSE) -> 2 | J5: LUNDI | O5: =(L5-K5)+(N5-M5) -> 0 | P5: arradon | Q5: =VLOOKUP(P5,'zone de deplacement'!A1:B39,2,FALSE) -> 2
A6: MARDI | B6: 8 | C6: 12 | D6: 13 | E6: 20 | F6: =(C6-B6)+(E6-D6) -> 11 | G6: brech | H6: =VLOOKUP(G6,'zone de deplacement'!A1:B39,2,FALSE) -> 1a | J6: MARDI | K6: 5 | L6: 60 | M6: 61 | N6: 120 | O6: =(L6-K6)+(N6-M6) -> 114 | P6: brech | Q6: =VLOOKUP(P6,'zone de deplacement'!A1:B39,2,FALSE) -> 1a
A7: MERCREDI | B7: 1 | C7: 20 | D7: 21 | E7: 60 | F7: =(C7-B7)+(E7-D7) -> 58 | G7: landaul | H7: =VLOOKUP(G7,'zone de deplacement'!A1:B39,2,FALSE) -> 1b | J7: MERCREDI | O7: =(L7-K7)+(N7-M7) -> 0 | P7: landaul | Q7: =VLOOKUP(P7,'zone de deplacement'!A1:B39,2,FALSE) -> 1b
A8: JEUDI | F8: =(C8-B8)+(E8-D8) -> 0 | G8: vannes | H8: =VLOOKUP(G8,'zone de deplacement'!A4:B42,2,FALSE) -> 3 | J8: JEUDI | O8: =(L8-K8)+(N8-M8) -> 0 | P8: vannes | Q8: =VLOOKUP(P8,'zone de deplacement'!A1:B39,2,FALSE) -> 3
A9: VENDREDI | F9: =(C9-B9)+(E9-D9) -> 0 | G9: arradon | H9: =VLOOKUP(G9,'zone de deplacement'!A1:B39,2,FALSE) -> 2 | J9: VENDREDI | O9: =(L9-K9)+(N9-M9) -> 0 | P9: arradon | Q9: =VLOOKUP(P9,'zone de deplacement'!A1:B39,2,FALSE) -> 2
D12: Total heures semaine | F12: =SUM(F5:F9) -> 69 | G12: heure SUP | H12: =IF(F12>=35,F12-35,0) -> 34 | M12: Total heures semaine | O12: =SUM(O5:O9) -> 114 | P12: heure SUP | Q12: =IF(O12>=35,O12-35,0) -> 79
B14: SEMAINE DU | C14: 43843 | D14: AU | E14: 43847 | K14: SEMAINE DU | L14: 43850 | M14: AU | N14: 43854
B15: MATIN | D15: APRES-MIDI | F15: TOTAL | G15: chantier plus eloigné du domicile | H15: zone | K15: MATIN | M15: APRES-MIDI | O15: TOTAL | P15: chantier plus eloigné du domicile | Q15: zone
B16: arrivée | C16: départ | D16: arrivée | E16: départ | K16: arrivée | L16: départ | M16: arrivée | N16: départ
A17: LUNDI | F17: =(C17-B17)+(E17-D17) -> 0 | G17: arradon | H17: =VLOOKUP(G17,'zone de deplacement'!A1:B39,2,FALSE) -> 2 | J17: LUNDI | O17: =(L17-K17)+(N17-M17) -> 0 | P17: arradon | Q17: =VLOOKUP(P17,'zone de deplacement'!A1:B39,2,FALSE) -> 2
A18: MARDI | F18: =(C18-B18)+(E18-D18) -> 0 | G18: brech | H18: =VLOOKUP(G18,'zone de deplacement'!A1:B39,2,FALSE) -> 1a | J18: MARDI | O18: =(L18-K18)+(N18-M18) -> 0 | P18: brech | Q18: =VLOOKUP(P18,'zone de deplacement'!A1:B39,2,FALSE) -> 1a
A19: MERCREDI | F19: =(C19-B19)+(E19-D19) -> 0 | G19: landaul | H19: =VLOOKUP(G19,'zone de deplacement'!A1:B39,2,FALSE) -> 1b | J19: MERCREDI | O19: =(L19-K19)+(N19-M19) -> 0 | P19: landaul | Q19: =VLOOKUP(P19,'zone de deplacement'!A1:B39,2,FALSE) -> 1b
A20: JEUDI | F20: =(C20-B20)+(E20-D20) -> 0 | G20: vannes | H20: =VLOOKUP(G20,'zone de deplacement'!A1:B39,2,FALSE) -> 3 | J20: JEUDI | O20: =(L20-K20)+(N20-M20) -> 0 | P20: vannes | Q20: =VLOOKUP(P20,'zone de deplacement'!A1:B39,2,FALSE) -> 3
A21: VENDREDI | F21: =(C21-B21)+(E21-D21) -> 0 | G21: arradon | H21: =VLOOKUP(G21,'zone de deplacement'!A1:B39,2,FALSE) -> 2 | J21: VENDREDI | O21: =(L21-K21)+(N21-M21) -> 0 | P21: arradon | Q21: =VLOOKUP(P21,'zone de deplacement'!A1:B39,2,FALSE) -> 2
D24: Total heures semaine | F24: =SUM(F17:F21) -> 0 | G24: heure SUP | H24: =IF(F24>=35,F24-35,0) -> 0 | M24: Total heures semaine | O24: =SUM(O17:O21) -> 0 | P24: heure SUP | Q24: =IF(O24>=35,O24-35,0) -> 0
B26: SEMAINE DU | C26: 43857 | D26: AU | E26: 43861
B27: MATIN | D27: APRES-MIDI | F27: TOTAL | G27: chantier plus eloigné du domicile | H27: zone | J27: TOTAL MENSUEL | L27: =F12+O12+F24+O24+F36 -> 183
B28: arrivée | C28: départ | D28: arrivée | E28: départ | N28: total zone déplacement
A29: LUNDI | F29: =(C29-B29)+(E29-D29) -> 0 | G29: arradon | H29: =VLOOKUP(G29,'zone de deplacement'!A1:B39,2,FALSE) -> 2 | N29: 1a | O29: =COUNTIF(total_zones_1,N29)+COUNTIF(total_zones_2,N29) -> 5
A30: MARDI | F30: =(C30-B30)+(E30-D30) -> 0 | G30: brech | H30: =VLOOKUP(G30,'zone de deplacement'!A1:B39,2,FALSE) -> 1a | J30: TOTAL HEURE SUP | L30: =H12+Q12+H24+Q24+H36 -> 113 | N30: 1b | O30: =COUNTIF(total_zones_1,N30)+COUNTIF(total_zones_2,N30) -> 5
A31: MERCREDI | F31: =(C31-B31)+(E31-D31) -> 0 | G31: landaul | H31: =VLOOKUP(G31,'zone de deplacement'!A1:B39,2,FALSE) -> 1b | J31: heure sup majoré à 25% | L31: =IF(L30<=8,L30,8) -> 8 | N31: 2 | O31: =COUNTIF(total_zones_1,N31)+COUNTIF(total_zones_2,N31) -> 10
A32: JEUDI | F32: =(C32-B32)+(E32-D32) -> 0 | G32: vannes | H32: =VLOOKUP(G32,'zone de deplacement'!A1:B39,2,FALSE) -> 3 | J32: heure sup majoré à 50% | L32: =IF(L30>L31,L30-L31,0) -> 105 | N32: 3 | O32: =COUNTIF(total_zones_1,N32)+COUNTIF(total_zones_2,N32) -> 5
A33: VENDREDI | F33: =(C33-B33)+(E33-D33) -> 0 | G33: arradon | H33: =VLOOKUP(G33,'zone de deplacement'!A1:B39,2,FALSE) -> 2 | N33: 4 | O33: =COUNTIF(total_zones_1,N33)+COUNTIF(total_zones_2,N33) -> 0
N34: 5 | O34: =COUNTIF(total_zones_1,N34)+COUNTIF(total_zones_2,N34) -> 0
D36: Total heures semaine | F36: =SUM(F29:F33) -> 0 | G36: heure SUP | H36: =IF(F36>=35,F36-35,0) -> 0

Sheet fevrier

Sheet mars

Sheet avril

Sheet mai

Sheet juin

Sheet juillet

Sheet aout

Sheet septembre

Sheet octobre

Sheet novembre

Sheet decembre

Sheet zone de deplacement
A1: arradon | B1: 2
A2: arzon | B2: 5
A3: auray | B3: 1a
A4: belz | B4: 2
A5: brech | B5: 1a
A6: carnac | B6: 2
A7: elven | B7: 4
A8: erdeven | B8: 3
A9: grand-champ | B9: 2
A10: landaul | B10: 1b
A11: landevant | B11: 2
A12: le hezo | B12: 4
A13: locoal-mendon | B13: 2
A14: meucon | B14: 3
A15: monterblanc | B15: 3
A16: plescop | B16: 2
A17: ploemel | B17: 2
A18: plouharnel | B18: 2
A19: plumergat | B19: 1b
A20: pluvigner | B20: 1b
A21: pont scorff | B21: 4
A22: questembert | B22: 5
A23: saint avé | B23: 3
A24: saint nolff | B24: 4
A25: sarzeau | B25: 5
A26: sene | B26: 3
A27: sulniac | B27: 4
A28: surzur | B28: 4
A29: theix | B29: 4
A30: treflean | B30: 4
A31: trinite surzur | B31: 4
A32: vannes | B32: 3
