Workbook

Sheet personnage
B3: =""&data!C1 -> soldat
C4: allure | E4: Parade | G4: Résistance
C5: =""&data!C10 -> 6 | E5: =""&data!C8 -> 5 | G5: =""&data!C9 -> 6
C7: agilité | D7: âme | E7: force | F7: intelect | G7: vigueur
C8: ="d "&data!C2 -> d 4 | D8: ="d "&data!C3 -> d 6 | E8: ="d "&data!C4 -> d 6 | F8: ="d "&data!C5 -> d 4 | G8: ="d "&data!C6 -> d 6
B9: compétence:
B10: ATHLÉTISME (AGILITÉ) | E10: =IF(data!E2,"d "&data!E2,"") -> d 8 | F10: =IF(data!P3,data!O3,"") -> RECHERCHE (INTELLECT) | H10: =IF(data!P3,"d "&data!P3,"") -> d 8
B11: CULTURE GÉNÉRALE (INT) | E11: =IF(data!E3,"d "&data!E3,"") -> d 4 | F11: =IF(data!P4,data!O4,"") -> SURVIE (INTELLECT) | H11: =IF(data!P4,"d "&data!P4,"") -> d 6
B12: DISCRÉTION (AGILITÉ) | E12: =IF(data!E4,"d "&data!E4,"") -> d 4 | F12: =IF(data!P5,data!O5,"") -> TIR (AGILITÉ) | H12: =IF(data!P5,"d "&data!P5,"") -> d 8
B13: PERCEPTION (INTELLECT) | E13: =IF(data!E5,"d "&data!E5,"") -> d 6 | F13: =IF(data!P6,data!O6,"") | H13: =IF(data!P6,"d "&data!P6,"")
B14: PERSUASION (ÂME) | E14: =IF(data!E6,"d "&data!E6,"") -> d 4 | F14: =IF(data!P7,data!O7,"") | H14: =IF(data!P7,"d "&data!P7,"")
B15: =IF(data!P1,data!O1,"") -> COMBAT (AGILITÉ) | E15: =IF(data!P1,"d "&data!P1,"") -> d 4 | F15: =IF(data!P8,data!O8,"") | H15: =IF(data!P8,"d "&data!P8,"")
B16: =IF(data!P2,data!O2,"") -> PILOTAGE (AGILITÉ) | E16: =IF(data!P2,"d "&data!P2,"") -> d 4 | F16: =IF(data!P9,data!O9,"") | H16: =IF(data!P9,"d "&data!P9,"")

Sheet data
B1: nom | C1: soldat | N1: filtre competence=>9 | O1: {=_xlfn._xlws.FILTER(D7:E33,E7:E33<>"")} -> COMBAT (AGILITÉ) | P1: 4
B2: agilité | C2: 4 | D2: ATHLÉTISME (AGILITÉ) | E2: 8 | O2: PILOTAGE (AGILITÉ) | P2: 4
B3: âme | C3: 6 | D3: CULTURE GÉNÉRALE (INTELLECT) | E3: 4 | O3: RECHERCHE (INTELLECT) | P3: 8
B4: Force | C4: 6 | D4: DISCRÉTION (AGILITÉ) | E4: 4 | O4: SURVIE (INTELLECT) | P4: 6
B5: intelect | C5: 4 | D5: PERCEPTION (INTELLECT) | E5: 6 | O5: TIR (AGILITÉ) | P5: 8
B6: vigeur | C6: 6 | D6: PERSUASION (ÂME) | E6: 4
D7: COMBAT (AGILITÉ) | E7: 4
B8: Parade | C8: 5 | D8: CONDUITE (AGILITÉ)
B9: Résistance | C9: 6 | D9: ÉDUCATION (INTELLECT)
B10: Allure | C10: 6 | D10: ÉLECTRONIQUE (INTELLECT)
D11: ÉQUITATION (AGILITÉ)
D12: FOCUS (ÂME)
D13: FOI (ÂME)
D14: INFORMATIQUE (INTELLECT)
D15: INTIMIDATION (ÂME)
D16: JEU (INTELLECT)
D17: LANGUE (INTELLECT)
D18: MAGIE (INTELLECT)
D19: NAVIGATION (AGILITÉ)
D20: OCCULTISME (INTELLECT)
D21: PERFORMANCE (ÂME)
D22: PILOTAGE (AGILITÉ) | E22: 4
D23: PROVOCATION (INTELLECT)
D24: PSIONIQUES (INTELLECT)
D25: RECHERCHE (INTELLECT) | E25: 8
D26: RÉPARATION (INTELLECT)
D27: SCIENCE ÉTRANGE (INTELLECT)
D28: SCIENCES (INTELLECT)
D29: SOINS (INTELLECT)
D30: STRATÉGIE (INTELLECT)
D31: SUBTERFUGE (AGILITÉ)
D32: SURVIE (INTELLECT) | E32: 6
D33: TIR (AGILITÉ) | E33: 8
