Workbook

Sheet personnage
B3: =""&data!G2 -> soldat | G3: image
B4: allure | C4: =""&data!C10 -> 6
B6: Parade | C6: =""&data!C8 -> 5 | E6: Résistance | F6: =""&data!C9 -> 5
B8: agilité | C8: âme | D8: force | E8: intelect | F8: vigueur
B9: ="d "&data!C2 -> d 4 | C9: ="d "&data!C3 -> d 6 | D9: ="d "&data!C4 -> d 6 | E9: ="d "&data!C5 -> d 4 | F9: ="d "&data!C6 -> d 6
B11: compétance:
B13: =IF(data!G4,data!F4,"") -> ATHLÉTISME (AGILITÉ) | D13: =IF(data!G4,"d "&data!G4,"") -> d 4 | E13: =IF(data!G11,data!F11,"") -> ÉDUCATION (INTELLECT) | G13: =IF(data!G11,"d "&data!G11,"") -> d 25
B14: =IF(data!G5,data!F5,"") -> CULTURE GÉNÉRALE (INTELLECT) | D14: =IF(data!G5,"d "&data!G5,"") -> d 4 | E14: =IF(data!G12,data!F12,"") -> ÉLECTRONIQUE (INTELLECT) | G14: =IF(data!G12,"d "&data!G12,"") -> d 8
B15: =IF(data!G6,data!F6,"") -> DISCRÉTION (AGILITÉ) | D15: =IF(data!G6,"d "&data!G6,"") -> d 4 | E15: =IF(data!G13,data!F13,"") | G15: =IF(data!G13,"d "&data!G13,"")
B16: =IF(data!G7,data!F7,"") -> PERCEPTION (INTELLECT) | D16: =IF(data!G7,"d "&data!G7,"") -> d 6 | E16: =IF(data!G14,data!F14,"") -> FOCUS (ÂME) | G16: =IF(data!G14,"d "&data!G14,"") -> d 5
B17: =IF(data!G8,data!F8,"") -> PERSUASION (ÂME) | D17: =IF(data!G8,"d "&data!G8,"") -> d 6 | E17: =IF(data!G15,data!F15,"") | G17: =IF(data!G15,"d "&data!G15,"")
B18: =IF(data!G9,data!F9,"") -> COMBAT (AGILITÉ) | D18: =IF(data!G9,"d "&data!G9,"") -> d 6 | E18: =IF(data!G16,data!F16,"") | G18: =IF(data!G16,"d "&data!G16,"")
B19: =IF(data!G10,data!F10,"") -> CONDUITE (AGILITÉ) | D19: =IF(data!G10,"d "&data!G10,"") -> d 8 | E19: =IF(data!G17,data!F17,"") -> INTIMIDATION (ÂME) | G19: =IF(data!G17,"d "&data!G17,"") -> d 44

Sheet data
B2: agilité | C2: 4 | F2: nom | G2: soldat
B3: âme | C3: 6
B4: Force | C4: 6 | E4: fixe | F4: ATHLÉTISME (AGILITÉ) | G4: 4
B5: intelect | C5: 4 | F5: CULTURE GÉNÉRALE (INTELLECT) | G5: 4
B6: vigeur | C6: 6 | F6: DISCRÉTION (AGILITÉ) | G6: 4
F7: PERCEPTION (INTELLECT) | G7: 6
B8: Parade | C8: 5 | F8: PERSUASION (ÂME) | G8: 6
B9: Résistance | C9: 5 | E9: choix | F9: COMBAT (AGILITÉ) | G9: 6
B10: Allure | C10: 6 | F10: CONDUITE (AGILITÉ) | G10: 8
F11: ÉDUCATION (INTELLECT) | G11: 25
F12: ÉLECTRONIQUE (INTELLECT) | G12: 8
F13: ÉQUITATION (AGILITÉ)
F14: FOCUS (ÂME) | G14: 5
F15: FOI (ÂME)
F16: INFORMATIQUE (INTELLECT)
F17: INTIMIDATION (ÂME) | G17: 44
F18: JEU (INTELLECT)
F19: LANGUE (INTELLECT)
F20: MAGIE (INTELLECT)
F21: NAVIGATION (AGILITÉ)
F22: OCCULTISME (INTELLECT)
F23: PERFORMANCE (ÂME)
F24: PILOTAGE (AGILITÉ)
F25: PROVOCATION (INTELLECT)
F26: PSIONIQUES (INTELLECT)
F27: RECHERCHE (INTELLECT)
F28: RÉPARATION (INTELLECT)
F29: SCIENCE ÉTRANGE (INTELLECT)
F30: SCIENCES (INTELLECT)
F31: SOINS (INTELLECT) | G31: 4
F32: STRATÉGIE (INTELLECT)
F33: SUBTERFUGE (AGILITÉ)
F34: SURVIE (INTELLECT)
F35: TIR (AGILITÉ) | G35: 4
