Workbook
Name _15_juil.: #REF!

Sheet JUIN
A1: PAIEMENT A FAIRE DU MOIS DE : JUIN
A2: FACTURE DU | B2: DATE D'ECHEANCE | C2: MODE | D2: CREANCIER | E2: REFERENCE | F2: MONTANT HT | G2: TVA | H2: MONTANT TTC | I2: PAYE au 31 | J2: FAIT / A FAIRE LE | K2: commentaires
A3: 44371 | B3: 44382 | C3: VIR | D3: 1 | E3: ECHEANCE JUIL/AOUT/SEPT | F3: 2589.46 | H3: 2589.46 | J3: AF 05/07 | L3: 7768,38 /3 MOIS
A4: 44356 | B4: 44370 | C4: VIR | D4: 4 | E4: 1138835810621 | F4: 34.22 | G4: 6.84 | H4: =G4+F4 -> 41.06 | J4: AF 23/06
A5: 44363 | B5: 44373 | C5: VIR/CHQ | D5: 5 | E5: 20.308.160 | F5: 114.96 | G5: 22.99 | H5: =G5+F5 -> 137.95 | J5: AF 26/06
A6: 44377 | B6: 44408 | C6: VIR | D6: 6 | E6: 2021005644 | F6: 2705.25 | G6: 541.05 | H6: =G6+F6 -> 3246.3 | J6: AF 31/07
A7: 44371 | B7: 44439 | C7: VIR | D7: 7 | E7: CRA2106VFN0186 | F7: 104 | G7: 20.8 | H7: =G7+F7 -> 124.8 | J7: AF 31/08 | L7: TOTAL TVA | M7: =G51 -> 7654.6
A8: 44363 | B8: 44393 | C8: VIR | D8: 8 | E8: 5583872 | F8: 306.52 | G8: 30.9 | H8: =G8+F8 -> 337.42 | J8: AF 16/07
A9: 44377 | B9: 44387 | C9: VIR | D9: 9 | E9: 210741190 | F9: 7 | G9: 1.4 | H9: =G9+F9 -> 8.4 | J9: AF 10/07
A10: 44377 | B10: 44439 | C10: VIR | D10: 10 | E10: 27442568 | F10: 202 | G10: 40.4 | H10: =G10+F10 -> 242.4 | J10: AF 31/08
A11: 44350 | B11: 44439 | C11: VIR | D11: 11 | E11: 692101642 | F11: 20.8 | G11: 4.16 | H11: =G11+F11 -> 24.96 | J11: AF 31/08
A12: 44350 | B12: 44439 | C12: VIR | D12: 12 | E12: 692101643 | F12: 155.52 | G12: 31.1 | H12: =G12+F12 -> 186.62 | J12: AF 31/08
A13: 44363 | B13: 44439 | C13: VIR | D13: 13 | E13: 692101792 | F13: 68.69 | G13: 13.74 | H13: =G13+F13 -> 82.43 | J13: AF 31/08
A14: 44363 | B14: 44439 | C14: VIR | D14: 14 | E14: 692110793 | F14: 62.96 | G14: 12.59 | H14: =G14+F14 -> 75.55 | J14: AF 31/08
A15: 44371 | B15: 44439 | C15: VIR | D15: 15 | E15: 69211879 | F15: 46.2 | G15: 9.24 | H15: =G15+F15 -> 55.44 | J15: AF 31/08
A16: 44377 | B16: 44439 | C16: VIR | D16: 16 | E16: 69211973 | F16: 194.18 | G16: 38.84 | H16: =G16+F16 -> 233.02 | J16: AF 31/08
A17: 44377 | B17: 44439 | C17: VIR | D17: 17 | E17: 692101972 | F17: 10.49 | G17: 2.1 | H17: =G17+F17 -> 12.59 | J17: AF 31/08
A18: 44349 | B18: 44349 | C18: CHQ | D18: 18 | E18: FC1891 | F18: 354.8 | G18: 41.48 | H18: =F18+G18 -> 396.28 | J18: AF 02/06
A19: 44356 | B19: 44439 | C19: AVOIR | D19: 19 | E19: 10117951 | F19: -94.2 | G19: -18.84 | H19: =F19+G19 -> -113.04 | J19: AF 31/08
A20: 44377 | B20: 44439 | C20: LCR | D20: 20 | E20: 11188859 Attente avoir 5,09 | F20: 1002.88 | G20: 200.58 | H20: =F20+G20 -> 1203.46 | J20: AF 31/08
A21: 44377 | B21: 44439 | C21: LCR | D21: 21 | E21: 27123590 | F21: 102.77 | G21: 20.55 | H21: =F21+G21 -> 123.32 | J21: AF 31/08
A22: 44377 | B22: 44423 | C22: LCR | D22: 22 | E22: 21447223 Attente avoir 232,15 | F22: 431.21 | G22: 86.24 | H22: =F22+G22 -> 517.45 | J22: AF 15/08
A23: 44362 | B23: 44407 | C23: LCR | D23: 23 | E23: 113732248-0001 | F23: 323.12 | G23: 64.62 | H23: =F23+G23 -> 387.74 | J23: AF 30/07
A24: 44354 | B24: 44408 | C24: LCR | D24: 24 | E24: 2106--02390 | F24: 1375.98 | G24: 275.2 | H24: =F24+G24 -> 1651.18 | J24: AF 31/07
A25: 44358 | B25: 44408 | C25: LCR | D25: 25 | E25: 2106-04779 Galip | F25: 461.45 | G25: 92.29 | H25: =F25+G25 -> 553.74 | J25: AF 31/07
A26: 44369 | B26: 44408 | C26: LCR | D26: 26 | E26: 2106-09999 | F26: 4595.17 | G26: 919.03 | H26: =F26+G26 -> 5514.2 | J26: AF 31/07
A27: 44364 | B27: 44408 | C27: VIR | D27: 27 | E27: 154620 | F27: 307.57 | G27: 61.51 | H27: =F27+G27 -> 369.08 | J27: AF 31/07
A28: 44364 | B28: 44408 | C28: LCR | D28: 28 | E28: 98552470 | F28: 820.23 | G28: 164.05 | H28: =F28+G28 -> 984.28 | J28: AF 31/07
A29: 44377 | B29: 44330 | C29: VIR | D29: 29 | E29: FA0746 | F29: 374.6 | G29: 74.92 | H29: =F29+G29 -> 449.52 | J29: AF 14/08
A30: 44348 | B30: 44408 | C30: lcr | D30: 30 | E30: 2206130184 | F30: 288.26 | G30: 57.65 | H30: =F30+G30 -> 345.91 | J30: AF 31/07
A31: 44348 | B31: 44408 | C31: LCR | D31: 31 | E31: 2206130185 | F31: 82.34 | G31: 16.47 | H31: =F31+G31 -> 98.81 | J31: AF 31/07
A32: 44363 | B32: 44380 | C32: LCR | D32: 32 | E32: 2203143519 | F32: 195.66 | G32: 39.13 | H32: =F32+G32 -> 234.79 | J32: AF 31/07
A33: 44363 | B33: 44408 | C33: LCR | D33: 33 | E33: 2206143529 | F33: 11.9 | G33: 2.38 | H33: =F33+G33 -> 14.28 | J33: AF 31/07
A34: 44363 | B34: 44408 | C34: LCR | D34: 34 | E34: 2206144474 SCI CZU | F34: 4009.36 | G34: 801.87 | H34: =F34+G34 -> 4811.23 | J34: AF 31/07
A35: 44363 | B35: 44408 | C35: LCR | D35: 35 | E35: 2206144475 | F35: 363.93 | G35: 72.79 | H35: =F35+G35 -> 436.72 | J35: AF 31/07
A36: 44370 | B36: 44408 | C36: LCR | D36: 36 | E36: 2206151225 | F36: 118.93 | G36: 23.79 | H36: =F36+G36 -> 142.72 | J36: AF 31/07
A37: 44370 | B37: 44408 | C37: LCR | D37: 37 | E37: 2206151226 - AKARSU | F37: 722.9 | G37: 144.58 | H37: =F37+G37 -> 867.48 | J37: AF 31/07
A38: 44370 | B38: 44408 | C38: LCR | D38: 38 | E38: 2206151227 - DI PALMA | F38: 7730.43 | G38: 1546.09 | H38: =F38+G38 -> 9276.52 | J38: AF 31/07
A39: 44370 | B39: 44408 | C39: LCR | D39: 39 | E39: 2206151228 | F39: 119.7 | G39: 23.94 | H39: =F39+G39 -> 143.64 | J39: AF 31/07
A40: 44370 | B40: 44408 | C40: LCR | D40: 40 | E40: 2206151229 - LARBI | F40: 3956.35 | G40: 791.27 | H40: =F40+G40 -> 4747.62 | J40: AF 31/07
...

Sheet JUILLET
A1: PAIEMENT A FAIRE DU MOIS DE : JUILLET
A2: FACTURE DU | B2: DATE D'ECHEANCE | C2: MODE | D2: CREANCIER | E2: REFERENCE | F2: MONTANT HT | G2: TVA | H2: MONTANT TTC | I2: PAYE au 31 | J2: FAIT / A FAIRE LE | K2: commentaires
A3: 44378 | B3: 44439 | C3: LCR | D3: a | E3: 2206159867 | F3: 288.26 | G3: 57.65 | H3: =F3+G3 -> 345.91 | J3: AF 31/08
A4: 44378 | B4: 44439 | C4: LCR | D4: a | E4: 2206159868 | F4: 82.34 | G4: 16.47 | H4: =F4+G4 -> 98.81 | J4: AF 31/08
A5: 44386 | B5: 44386 | C5: VIR | D5: b | E5: FA20216338 | F5: 194.77 | G5: 38.95 | H5: =F5+G5 -> 233.72 | J5: F 09/07
A6: 44385 | B6: 44415 | C6: CHQ | D6: c | E6: 302513 | F6: 70 | G6: 14 | H6: =F6+G6 -> 84 | J6: AF 07/08
A7: 44379 | B7: 44393 | C7: PREL | D7: d | E7: 11553301660721 | F7: 22.49 | G7: 4.5 | H7: =F7+G7 -> 26.99 | J7: AF 16/07 | L7: TOTAL TVA | M7: =G30 -> 138.24
A8: 44386 | B8: 44400 | C8: PREL | D8: d | E8: 11605658510721 | F8: 33.32 | G8: 6.67 | H8: =F8+G8 -> 39.99
H9: =F9+G9 -> 0
H10: =F10+G10 -> 0
H11: =F11+G11 -> 0
H12: =F12+G12 -> 0
H13: =F13+G13 -> 0
H14: =F14+G14 -> 0
H15: =F15+G15 -> 0
H16: =F16+G16 -> 0
H17: =F17+G17 -> 0
H18: =F18+G18 -> 0
H19: =F19+G19 -> 0
H20: =F20+G20 -> 0
... H28: =F28+G28 -> 0
A30: TOTAL | F30: =SUM(F3:F29) -> 691.18 | G30: =SUM(G3:G29) -> 138.24 | H30: =SUM(H3:H29) -> 829.42
A31: REPORT
A32: =JUILLET!A3 -> 44378 | B32: =JUIN!B3 -> 44382 | C32: =JUIN!C3 -> VIR | D32: =JUIN!D3 -> 1 | E32: =JUIN!E3 -> ECHEANCE JUIL/AOUT/SEPT | F32: =JUIN!F3 -> 2589.46 | G32: =JUIN!G3 -> 0 | H32: =JUIN!H3 -> 2589.46 | I32: X | K32: PAYE SEPTEMBRE
A33: =JUILLET!A4 -> 44378 | B33: =JUIN!B4 -> 44370 | C33: =JUILLET!C4 -> LCR | D33: =JUIN!D4 -> 4 | E33: =JUILLET!E4 -> 2206159868 | F33: =JUIN!F4 -> 34.22 | G33: =JUILLET!G4 -> 16.47 | H33: =JUIN!H4 -> 41.06 | I33: X | K33: PAYE SEPTEMBRE
A36: TOTAL | F36: =SUM(F32:F35) -> 2623.68 | G36: =SUM(G32:G35) -> 16.47 | H36: =SUM(H32:H35) -> 2630.52

Sheet AOUT
A1: PAIEMENT A FAIRE DU MOIS DE : AOUT
A2: FACTURE DU | B2: DATE D'ECHEANCE | C2: MODE | D2: CREANCIER | E2: REFERENCE | F2: MONTANT HT | G2: TVA | H2: MONTANT TTC | I2: PAYE au 31 | J2: FAIT / A FAIRE LE | K2: commentaires
K4: ATTENTE D'AVOIR
L7: TOTAL TVA | M7: =G24 -> 0
I19: x
I20: x
I21: x
A24: TOTAL | F24: =SUM(F3:F23) -> 0 | G24: =SUM(G3:G23) -> 0 | H24: =SUM(H3:H23) -> 0
A25: REPORT
A26: =JUIN!A10 -> 44377 | B26: =JUIN!B10 -> 44439 | C26: =JUIN!C10 -> VIR | D26: =JUIN!D10 -> 10 | E26: =JUIN!E10 -> 27442568 | F26: =JUIN!F10 -> 202 | G26: =JUIN!G10 -> 40.4 | H26: =JUIN!H10 -> 242.4
A27: =JUIN!A11 -> 44350 | B27: =JUIN!B11 -> 44439 | C27: =JUIN!C11 -> VIR | D27: =JUIN!D11 -> 11 | E27: =JUIN!E11 -> 692101642 | F27: =JUIN!F11 -> 20.8 | G27: =JUIN!G11 -> 4.16 | H27: =JUIN!H11 -> 24.96
A28: =JUIN!A12 -> 44350 | B28: =JUIN!B12 -> 44439 | C28: =JUIN!C12 -> VIR | D28: =JUIN!D12 -> 12 | E28: =JUIN!E12 -> 692101643 | F28: =JUIN!F12 -> 155.52 | G28: =JUIN!G12 -> 31.1 | H28: =JUIN!H12 -> 186.62
A29: =JUIN!A13 -> 44363 | B29: =JUIN!B13 -> 44439 | C29: =JUIN!C13 -> VIR | D29: =JUIN!D13 -> 13 | E29: =JUIN!E13 -> 692101792 | F29: =JUIN!F13 -> 68.69 | G29: =JUIN!G13 -> 13.74 | H29: =JUIN!H13 -> 82.43
A30: =JUIN!A14 -> 44363 | B30: =JUIN!B14 -> 44439 | C30: =JUIN!C14 -> VIR | D30: =JUIN!D14 -> 14 | E30: =JUIN!E14 -> 692110793 | F30: =JUIN!F14 -> 62.96 | G30: =JUIN!G14 -> 12.59 | H30: =JUIN!H14 -> 75.55
A31: =JUIN!A15 -> 44371 | B31: =JUIN!B15 -> 44439 | C31: =JUIN!C15 -> VIR | D31: =JUIN!D15 -> 15 | E31: =JUIN!E15 -> 69211879 | F31: =JUIN!F15 -> 46.2 | G31: =JUIN!G15 -> 9.24 | H31: =JUIN!H15 -> 55.44
A32: =JUIN!A16 -> 44377 | B32: =JUIN!B16 -> 44439 | C32: =JUIN!C16 -> VIR | D32: =JUIN!D16 -> 16 | E32: =JUIN!E16 -> 69211973 | F32: =JUIN!F16 -> 194.18 | G32: =JUIN!G16 -> 38.84 | H32: =JUIN!H16 -> 233.02
A33: =JUIN!A17 -> 44377 | B33: =JUIN!B17 -> 44439 | C33: =JUIN!C17 -> VIR | D33: =JUIN!D17 -> 17 | E33: =JUIN!E17 -> 692101972 | F33: =JUIN!F17 -> 10.49 | G33: =JUIN!G17 -> 2.1 | H33: =JUIN!H17 -> 12.59
A38: TOTAL | F38: =SUM(F26:F37) -> 760.84 | G38: =SUM(G26:G37) -> 152.17 | H38: =SUM(H26:H37) -> 913.01
A40: PAIEMENT TOTAL DU MOIS | H40: =SUM(H22:H31) -> 667.4
