Workbook

Sheet GS
A1: ECOLE PRIVEE DE L'AVENIR
A3: FACTURE(BILL) - ANNEE(YEAR) 2020-2021
A4: Delai de paiement (deadline): 05 DEC 2020 | E4: Solde échu
A5: Veuillez svp nous signaler toute anomalie / Please, report any error | E5: Overdue bal.
F6: MOIS | G6: TRIM | H6: ANNEE
A7: =A1 -> ECOLE PRIVEE DE L'AVENIR
A9: =A3 -> FACTURE(BILL) - ANNEE(YEAR) 2020-2021
B10: Année (9mois) / Year (9months) | E10: =$E$4 -> Solde échu
A11: GS | B11: Total | C11: Payé / Paid | D11: Solde / Balance | E11: =$E$5 -> Overdue bal.
D12: =B12-C12 -> 0
A13: Scolarité/School fees | D13: =B13-C13 -> 0
A14: Transport | D14: =B14-C14 -> 0
A15: Cantine | D15: =B15-C15 -> 0
A16: Total | C16: =SUM(C12:C15) -> 0 | D16: =SUM(D12:D15) -> 0
A17: Inscription / Registration | D17: =B17-C17 -> 0 | E17: =D17 -> 0
A18: =$A$4 -> Delai de paiement (deadline): 05 DEC 2020 | B18: =B16+B17 -> 0 | C18: =C16+C17 -> 0 | D18: =D16+D17 -> 0 | E18: =SUM(E12:E17) -> 0
A19: =$A$5 -> Veuillez svp nous signaler toute anomalie / Please, report any error
A21: =A7 -> ECOLE PRIVEE DE L'AVENIR
A23: =A9 -> FACTURE(BILL) - ANNEE(YEAR) 2020-2021
B24: Année (9mois) / Year (9months) | E24: =$E$4 -> Solde échu
A25: GS | B25: Total | C25: Payé / Paid | D25: Solde / Balance | E25: =$E$5 -> Overdue bal.
D26: =B26-C26 -> 0
A27: Scolarité/School fees | D27: =B27-C27 -> 0
A28: Transport | D28: =B28-C28 -> 0
A29: Cantine | D29: =B29-C29 -> 0
A30: Total | B30: =SUM(B26:B29) -> 0 | C30: =SUM(C26:C29) -> 0 | D30: =SUM(D26:D29) -> 0
A31: Inscription / Registration | D31: =B31-C31 -> 0 | E31: =D31 -> 0
A32: =$A$4 -> Delai de paiement (deadline): 05 DEC 2020 | B32: =B30+B31 -> 0 | C32: =C30+C31 -> 0 | D32: =D30+D31 -> 0 | E32: =SUM(E26:E31) -> 0
A33: =$A$5 -> Veuillez svp nous signaler toute anomalie / Please, report any error

Sheet CI
A1: =GS!A1:E2 -> ECOLE PRIVEE DE L'AVENIR | F1: 40000 | G1: 40000 | H1: M
F2: 222000 | G2: 222000 | H2: M
A3: =GS!A3:E3 -> FACTURE(BILL) - ANNEE(YEAR) 2020-2021 | F3: 200000 | G3: 200000 | H3: M
A4: =GS!A4 -> Delai de paiement (deadline): 05 DEC 2020 | E4: =GS!E4 -> Solde échu | F4: 150000 | G4: 150000 | H4: M
A5: =GS!A5 -> Veuillez svp nous signaler toute anomalie / Please, report any error | E5: =GS!E5 -> Overdue bal. | F5: 0 | G5: 0 | H5: M
F6: 40000 | G6: 40000 | H6: M
F7: 30000 | G7: 30000 | H7: M
F8: 0 | G8: 0 | H8: M
F9: 290000 | G9: 290000 | H9: T
F10: 50000 | G10: 50000 | H10: M
G11: 1022000
A13: =A1 -> ECOLE PRIVEE DE L'AVENIR
A15: =A3 -> FACTURE(BILL) - ANNEE(YEAR) 2020-2021
B16: Année (9mois) / Year (9months) | E16: =$E$4 -> Solde échu
A17: CI | B17: Total | C17: Payé | D17: Solde | E17: =$E$5 -> Overdue bal.
D18: =B18-C18 -> 0 | E18: 0
A19: Droits | D19: =B19-C19 -> 0
A20: Uniforme | D20: =B20-C20 -> 0
A21: Scolarité | D21: =B21-C21 -> 0
D22: =B22-C22 -> 0
A23: Total | B23: =SUM(B18:B22) -> 0 | C23: =SUM(C18:C22) -> 0 | D23: =SUM(D18:D22) -> 0
A24: Solde inscript° / balance from registrat°
A25: TOTAL | B25: =B23+B24 -> 0 | C25: =C23+C24 -> 0 | D25: =D23+D24 -> 0 | E25: =SUM(E18:E24) -> 0
A26: =GS!A5 -> Veuillez svp nous signaler toute anomalie / Please, report any error
A28: =$A$13 -> ECOLE PRIVEE DE L'AVENIR
A30: =$A$15 -> FACTURE(BILL) - ANNEE(YEAR) 2020-2021
B31: Année (9mois) / Year (9months) | E31: =$E$4 -> Solde échu
A32: CI | B32: Total | C32: Payé | D32: Solde | E32: =$E$5 -> Overdue bal.
D33: =B33-C33 -> 0 | E33: 0
A34: Droits | D34: =B34-C34 -> 0
A35: Uniforme | D35: =B35-C35 -> 0
A36: Scolarité | D36: =B36-C36 -> 0
B37: 0 | C37: 0 | D37: =B37-C37 -> 0 | E37: =B37/9 -> 0
A38: Total | B38: =SUM(B33:B37) -> 0 | C38: =SUM(C33:C37) -> 0 | D38: =SUM(D33:D37) -> 0
A39: Solde inscript° / balance from registrat°
B40: =B38+B39 -> 0 | C40: =C38+C39 -> 0 | D40: =D38+D39 -> 0 | E40: =SUM(E33:E39) -> 0
A41: =A26 -> Veuillez svp nous signaler toute anomalie / Please, report any error
A43: =$A$13 -> ECOLE PRIVEE DE L'AVENIR
A45: =$A$15 -> FACTURE(BILL) - ANNEE(YEAR) 2020-2021
B46: Année (9mois) / Year (9months) | E46: =$E$4 -> Solde échu
...

Sheet CP
A1: =GS!A1:E2 -> ECOLE PRIVEE DE L'AVENIR
A3: =GS!A3:E3 -> FACTURE(BILL) - ANNEE(YEAR) 2020-2021
A4: =GS!A4 -> Delai de paiement (deadline): 05 DEC 2020 | E4: =GS!E4 -> Solde échu
A5: =GS!A5 -> Veuillez svp nous signaler toute anomalie / Please, report any error | E5: =GS!E5 -> Overdue bal.
A9: =A1 -> ECOLE PRIVEE DE L'AVENIR
A11: =A3 -> FACTURE(BILL) - ANNEE(YEAR) 2020-2021
B12: Année (9mois) / Year (9months) | E12: =$E$4 -> Solde échu
A13: CP | B13: Total | C13: Payé | D13: Solde | E13: =$E$5 -> Overdue bal.
D14: =B14-C14 -> 0
A15: Droits | D15: =B15-C15 -> 0
A16: Uniforme | D16: =B16-C16 -> 0
A17: Scolarité | D17: =B17-C17 -> 0
D18: =B18-C18 -> 0
A19: Total | B19: =SUM(B14:B18) -> 0 | C19: =SUM(C14:C18) -> 0 | D19: =SUM(D14:D18) -> 0
A20: Solde inscript° / balance from registrat°
A21: TOTAL | B21: =B19+B20 -> 0 | C21: =C19+C20 -> 0 | D21: =D19+D20 -> 0 | E21: =SUM(E14:E20) -> 0
A22: =GS!A5 -> Veuillez svp nous signaler toute anomalie / Please, report any error
A24: =$A$9 -> ECOLE PRIVEE DE L'AVENIR
A26: =$A$11 -> FACTURE(BILL) - ANNEE(YEAR) 2020-2021
B27: Année (9mois) / Year (9months) | E27: =$E$4 -> Solde échu
A28: CP | B28: Total | C28: Payé | D28: Solde | E28: =$E$5 -> Overdue bal.
D29: =B29-C29 -> 0
A30: Droits | D30: =B30-C30 -> 0
A31: Uniforme | D31: =B31-C31 -> 0
A32: Scolarité | D32: =B32-C32 -> 0
A34: Total | B34: =SUM(B29:B32) -> 0 | C34: =SUM(C29:C32) -> 0 | D34: =SUM(D29:D32) -> 0
A35: Solde inscript° / balance from registrat°
A36: =A21 -> TOTAL | B36: =B34+B35 -> 0 | C36: =C34+C35 -> 0 | D36: =D34+D35 -> 0 | E36: =SUM(E29:E35) -> 0
A37: =A22 -> Veuillez svp nous signaler toute anomalie / Please, report any error
A39: =$A$9 -> ECOLE PRIVEE DE L'AVENIR
A41: =$A$11 -> FACTURE(BILL) - ANNEE(YEAR) 2020-2021
B42: Année (9mois) / Year (9months) | E42: =$E$4 -> Solde échu
A43: CP | B43: Total | C43: Payé | D43: Solde | E43: =$E$5 -> Overdue bal.
D44: =B44-C44 -> 0
A45: Droits | D45: =B45-C45 -> 0
A46: Uniforme | D46: =B46-C46 -> 0
A47: Scolarité | D47: =B47-C47 -> 0
A49: Total
A50: Solde inscript° / balance from registrat°
A51: =A36 -> TOTAL | B51: =B49+B50 -> 0 | C51: =C49+C50 -> 0 | D51: =D49+D50 -> 0 | E51: =SUM(E44:E50) -> 0
...

Sheet CE2
A1: =GS!A1:E2 -> ECOLE PRIVEE DE L'AVENIR | F1: 60000 | G1: 60000 | H1: M
A2: =GS!A3:E3 -> FACTURE(BILL) - ANNEE(YEAR) 2020-2021 | F2: 150000 | G2: 150000 | H2: M
A3: =GS!A4 -> Delai de paiement (deadline): 05 DEC 2020 | E3: =GS!E4 -> Solde échu | F3: 20000 | G3: 20000 | H3: M
A4: =GS!A5 -> Veuillez svp nous signaler toute anomalie / Please, report any error | E4: =GS!E5 -> Overdue bal. | F4: 70000 | G4: 70000 | H4: M
F5: 70000 | G5: 70000 | H5: M
F6: 90000 | G6: 90000 | H6: M
F7: 260000 | G7: 260000 | H7: M
G8: 110000 | H8: ce2/cm ?
F9: 50000 | G9: 50000 | H9: M
G10: =SUM(G1:G9) -> 880000
A13: =A1 -> ECOLE PRIVEE DE L'AVENIR
A15: =A2 -> FACTURE(BILL) - ANNEE(YEAR) 2020-2021
B16: Année (9mois) / Year (9months) | E16: =GS!E4 -> Solde échu
A17: CE2 | B17: Total | C17: Payé | D17: Solde | E17: =GS!E5 -> Overdue bal.
D18: =B18-C18 -> 0
A19: Droits | D19: =B19-C19 -> 0
A20: Uniforme | D20: =B20-C20 -> 0
A21: Scolarité | D21: =B21-C21 -> 0
A23: Total | B23: =SUM(B18:B21) -> 0 | C23: =SUM(C18:C21) -> 0 | D23: =SUM(D18:D21) -> 0
A24: Solde inscript° / balance from registrat°
A25: TOTAL | B25: =B23+B24 -> 0 | C25: =C23+C24 -> 0 | D25: =D23+D24 -> 0 | E25: =SUM(E18:E24) -> 0
A26: =GS!A5 -> Veuillez svp nous signaler toute anomalie / Please, report any error
A28: =A13 -> ECOLE PRIVEE DE L'AVENIR
A30: =A15 -> FACTURE(BILL) - ANNEE(YEAR) 2020-2021
B31: Année (9mois) / Year (9months) | E31: =$E$16 -> Solde échu
A32: CE2 | B32: Total | C32: Payé | D32: Solde | E32: =$E$17 -> Overdue bal.
D33: =B33-C33 -> 0
A34: Droits | D34: =B34-C34 -> 0
A35: Uniforme | D35: =B35-C35 -> 0
A36: Scolarité | D36: =B36-C36 -> 0
A38: Total | B38: =SUM(B33:B37) -> 0 | C38: =SUM(C33:C37) -> 0 | D38: =SUM(D33:D37) -> 0
A39: Solde inscript° / balance from registrat° | E39: =D39 -> 0
A40: =A25 -> TOTAL | B40: =B38+B39 -> 0 | C40: =C38+C39 -> 0 | D40: =D38+D39 -> 0 | E40: =SUM(E33:E39) -> 0 | AIX40: =#REF! -> #REF! | AIY40: =#REF! -> #REF! | AIZ40: =#REF! -> #REF!
A41: =A26 -> Veuillez svp nous signaler toute anomalie / Please, report any error
A43: =A28 -> ECOLE PRIVEE DE L'AVENIR
A45: =A30 -> FACTURE(BILL) - ANNEE(YEAR) 2020-2021
B46: Année (9mois) / Year (9months) | E46: =$E$16 -> Solde échu
A47: CE2 | B47: Total | C47: Payé | D47: Solde | E47: =$E$17 -> Overdue bal.
D48: =B48-C48 -> 0
A49: Droits | D49: =B49-C49 -> 0
...

Sheet INSCRIPTIONS
A3: =TODAY() -> 44384 | B3: INSCRIPTIONS ECOLE PRIVEE DE L'AVENIR
A4: Date | B4: A | C4: N | D4: M | E4: F | F4: NOMS ET PRENOMS | G4: CLASSE | H4: Droit | I4: uniforme | J4: Scolarité
A6: 44102 | C6: 1 | E6: 1 | F6: Sarr BACH | G6: CI | H6: 50000 | I6: 50000 | J6: 50000
A7: 44142 | B7: 1 | E7: 1 | F7: Max IBRA | G7: GS | H7: 50000 | I7: 50000 | J7: 50000
A8: 44151 | B8: 1 | E8: 1 | F8: Paul BALLAR | G8: CE2 | H8: 10000 | I8: 40000 | J8: 10000
A9: 44151 | B9: 1 | D9: 1 | F9: Issa BADRACH | G9: CI | H9: 25000 | I9: 40000 | J9: 10000
A10: 44151 | B10: 1 | E10: 1 | F10: Carl SIOUFFA | G10: CE2 | H10: 0 | I10: 40000 | J10: 0
A11: 44151 | B11: 1 | D11: 1 | F11: Pape KADR | G11: CP | H11: 50000 | I11: 50000 | J11: 50000
A12: 44152 | B12: 1 | E12: 1 | F12: Bibon RAZAK | G12: CE2 | H12: 35000 | I12: 40000 | J12: 15000
A13: 44152 | B13: 1 | E13: 1 | F13: Pascal LONGCHAMP | G13: CI | H13: 55000 | I13: 45000 | J13: 35000
A14: 44160 | B14: 1 | D14: 1 | F14: Pierre GONZAG | G14: CE2 | H14: 40000 | I14: 40000 | J14: 25000
B16: =SUM(B6:B15) -> 8 | C16: =SUM(C6:C15) -> 1 | D16: =SUM(D6:D15) -> 3 | E16: =SUM(E6:E15) -> 6 | H16: =SUM(H6:H15) -> 315000 | I16: =SUM(I6:I15) -> 395000 | J16: =SUM(J6:J15) -> 245000
