Workbook

Sheet Tableau
A1: =RIGHT(_xlfn.TEXTBEFORE(Base!$A$8,","),10) -> 03/01/2025 | B1: =+Base!B3 -> arthur | C1: =+LEFT(Base!C3,10) -> 01/01/2025 | D1: =+RIGHT(Base!C3,10) -> 30/06/2025 | E1: =+Compte!$A$1 -> 401 | G1: =+[1]Sheet1!G3 -> 6 540,51 €
A2: =RIGHT(_xlfn.TEXTBEFORE(Base!$A$8,","),10) -> 03/01/2025 | B2: =+B1 -> arthur | C2: =+C1 -> 01/01/2025 | D2: =+D1 -> 30/06/2025 | E2: =+Compte!$A$2 -> 7061 | G2: =+[1]Sheet1!F3 -> 800,27 €
A3: =RIGHT(_xlfn.TEXTBEFORE(Base!$A$8,","),10) -> 03/01/2025 | B3: =+B1 -> arthur | C3: =+C2 -> 01/01/2025 | D3: =+D2 -> 30/06/2025 | E3: =+Compte!$A$3 -> 4679 | F3: =+[1]Sheet1!E3 -> 7 340,78 €
A4: =RIGHT(_xlfn.TEXTBEFORE(Base!$A$8,","),10) -> 03/01/2025 | B4: =+Base!B6 -> max | C4: =+LEFT(Base!C6,10) -> 01/01/2023 | D4: =+RIGHT(Base!C6,10) -> 31/12/2023 | E4: =+Compte!$A$1 -> 401 | G4: =+[1]Sheet1!G6 -> 6 056,61 €
A5: =RIGHT(_xlfn.TEXTBEFORE(Base!$A$8,","),10) -> 03/01/2025 | B5: =+B4 -> max | C5: =+C4 -> 01/01/2023 | D5: =+D4 -> 31/12/2023 | E5: =+Compte!$A$2 -> 7061 | G5: =+[1]Sheet1!F6 -> 746,79 €
A6: =RIGHT(_xlfn.TEXTBEFORE(Base!$A$8,","),10) -> 03/01/2025 | B6: =+B4 -> max | C6: =+C5 -> 01/01/2023 | D6: =+D5 -> 31/12/2023 | E6: =+Compte!$A$3 -> 4679 | F6: =+[1]Sheet1!E6 -> 6 803,40 €

Sheet Base
A3: 17226 | B3: arthur | C3: 01/01/2025 30/06/2025 | D3: COM | E3: 100 | F3: 20 | G3: =+E3-F3 -> 80
A4: 4306649 | B4: paul | C4: 21/09/2024 31/12/2024 | D4: COM | E4: 20 | F4: 2 | G4: =+E4-F4 -> 18
A5: 42556580R0001 | B5: lea | C5: 01/01/2023 31/12/2023 | D5: COM | E5: 150 | F5: 23 | G5: =+E5-F5 -> 127
A6: 42556580R0001 | B6: max | C6: 01/01/2023 31/12/2023 | D6: COM | E6: 11100 | F6: 250 | G6: =+E6-F6 -> 10850
A8: Bordereau n°1 du 03/01/2025, lyon
A13: 17226180 | B13: bob | C13: 01/01/2025 30/06/2025 | D13: COM | E13: 1000 | F13: 50 | G13: =+E13-F13 -> 950
A14: 4255 | B14: manon | C14: 01/01/2023 31/12/2023 | D14: COM | E14: 1520 | F14: 100 | G14: =+E14-F14 -> 1420
A16: Bordereau n°2 du 03/01/2025, Paris
A21: 1722618 | B21: marion | C21: 01/01/2025 30/06/2025 | D21: COM | E21: 150 | F21: 15 | G21: =+E21-F21 -> 135
A22: 4255658 | B22: fred | C22: 01/01/2023 31/12/2023 | D22: COM | E22: 1310 | F22: 1 | G22: =+E22-F22 -> 1309
A23: 42556580 | B23: lilian | C23: 01/01/2023 31/12/2023 | D23: COM | E23: 13 | F23: 2 | G23: =+E23-F23 -> 11
A25: Bordereau n°3 du 03/01/2025, bordeaux

Sheet Compte
A1: 401
A2: 7061
A3: 4679
