Workbook
Name Select_day: Calendrier!$AV$31:$AV$45

Sheet Calendrier
A1: =Enfants!AT1 -> 2021
C2: Lundi | D2: Mardi | E2: Mercredi | F2: Jeudi | G2: Vendredi | H2: Samedi | I2: Dimanche | J2: Lundi | K2: Mardi | L2: Mercredi | M2: Jeudi | N2: Vendredi | O2: Samedi | P2: Dimanche | Q2: Lundi | R2: Mardi | S2: Mercredi | T2: Jeudi | U2: Vendredi | V2: Samedi | W2: Dimanche | X2: Lundi | Y2: Mardi | Z2: Mercredi | AA2: Jeudi | AB2: Vendredi | AC2: Samedi | AD2: Dimanche | AE2: Lundi | AF2: Mardi | AG2: Mercredi | AH2: Jeudi | AI2: Vendredi | AJ2: Samedi | AK2: Dimanche | AL2: Lundi | AM2: Mardi | AN2: Férier | AO2: Congé | AP2: Récup | AQ2: Sans solde | AR2: Maladie | AS2: Téléworking | AT2: Congé Extra-légal
A3: Janvier | C3: =Enfants!AU3 -> . | D3: =Enfants!AV3 -> . | E3: =Enfants!AW3 -> . | F3: =Enfants!AX3 -> . | G3: =Enfants!AY3 -> 1 | H3: =Enfants!AZ3 -> 2 | I3: =Enfants!BA3 -> 3 | J3: =Enfants!BB3 -> 4 | ... AM3: =Enfants!CE3 -> . | AN3: =COUNTIF(C4:AM4,"Férier") -> 1 | AO3: =(COUNTIF(C4:AM4,"8h_CL")+(COUNTIF(C4:AM4,"4h_CL")*0.5)) -> 0 | AP3: =(COUNTIF(C4:AM4,"8h_RC")+(COUNTIF(C4:AM4,"4h_RC")*0.5)+(COUNTIF(C4:AM4,"2h_RC")*0.25)+(COUNTIF(C4:AM4,"6h_RC")*0.75)) -> 0 | AQ3: =COUNTIF(C4:AM4,"SaSo") -> 0 | AR3: =COUNTIF(C4:AM4,"Malad") -> 1 | AS3: =COUNTIF(C4:AM4,"T-HW") -> 19 | AT3: =(COUNTIF(C4:AM4,"8h_CEL")+(COUNTIF(C4:AM4,"4h_CEL")*0.5)) -> 0
C4: . | D4: . | E4: . | F4: . | G4: Férier | J4: T-HW | K4: Malad | L4: T-HW | M4: T-HW | N4: T-HW | Q4: T-HW | R4: T-HW | S4: T-HW | T4: T-HW | U4: T-HW | X4: T-HW | Y4: T-HW | Z4: T-HW | AA4: T-HW | AB4: T-HW | AE4: T-HW | AF4: T-HW | AG4: T-HW | AH4: T-HW | AI4: T-HW | AL4: . | AM4: .
A5: Février | C5: =Enfants!AU4 -> 1 | D5: =Enfants!AV4 -> 2 | E5: =Enfants!AW4 -> 3 | F5: =Enfants!AX4 -> 4 | G5: =Enfants!AY4 -> 5 | H5: =Enfants!AZ4 -> 6* | I5: =Enfants!BA4 -> 7* | J5: =Enfants!BB4 -> 8 | ... AM5: =Enfants!CE4 -> . | AN5: =COUNTIF(C6:AM6,"Férier") -> 0 | AO5: =(COUNTIF(C6:AM6,"8h_CL")+(COUNTIF(C6:AM6,"4h_CL")*0.5)) -> 0 | AP5: =(COUNTIF(C6:AM6,"8h_RC")+(COUNTIF(C6:AM6,"4h_RC")*0.5)+(COUNTIF(C6:AM6,"2h_RC")*0.25)+(COUNTIF(C6:AM6,"6h_RC")*0.75)) -> 0 | AQ5: =COUNTIF(C6:AM6,"SaSo") -> 0 | AR5: =COUNTIF(C6:AM6,"Malad") -> 0 | AS5: =COUNTIF(C6:AM6,"T-HW") -> 20 | AT5: =(COUNTIF(C6:AM6,"8h_CEL")+(COUNTIF(C6:AM6,"4h_CEL")*0.5)) -> 0
C6: T-HW | D6: T-HW | E6: T-HW | F6: T-HW | G6: T-HW | J6: T-HW | K6: T-HW | L6: T-HW | M6: T-HW | N6: T-HW | Q6: T-HW | R6: T-HW | S6: T-HW | T6: T-HW | U6: T-HW | X6: T-HW | Y6: T-HW | Z6: T-HW | AA6: T-HW | AB6: T-HW | AE6: . | AF6: . | AG6: . | AH6: . | AI6: . | AJ6: . | AK6: . | AL6: . | AM6: .
A7: Mars | C7: =Enfants!AU5 -> 1 | D7: =Enfants!AV5 -> 2 | E7: =Enfants!AW5 -> 3 | F7: =Enfants!AX5 -> 4 | G7: =Enfants!AY5 -> 5 | H7: =Enfants!AZ5 -> 6* | I7: =Enfants!BA5 -> 7* | J7: =Enfants!BB5 -> 8 | ... AM7: =Enfants!CE5 -> . | AN7: =COUNTIF(C8:AM8,"Férier") -> 0 | AO7: =(COUNTIF(C8:AM8,"8h_CL")+(COUNTIF(C8:AM8,"4h_CL")*0.5)) -> 0 | AP7: =(COUNTIF(C8:AM8,"8h_RC")+(COUNTIF(C8:AM8,"4h_RC")*0.5)+(COUNTIF(C8:AM8,"2h_RC")*0.25)+(COUNTIF(C8:AM8,"6h_RC")*0.75)) -> 0 | AQ7: =COUNTIF(C8:AM8,"SaSo") -> 0 | AR7: =COUNTIF(C8:AM8,"Malad") -> 0 | AS7: =COUNTIF(C8:AM8,"T-HW") -> 23 | AT7: =(COUNTIF(C8:AM8,"8h_CEL")+(COUNTIF(C8:AM8,"4h_CEL")*0.5)) -> 0
C8: T-HW | D8: T-HW | E8: T-HW | F8: T-HW | G8: T-HW | J8: T-HW | K8: T-HW | L8: T-HW | M8: T-HW | N8: T-HW | Q8: T-HW | R8: T-HW | S8: T-HW | T8: T-HW | U8: T-HW | X8: T-HW | Y8: T-HW | Z8: T-HW | AA8: T-HW | AB8: T-HW | AE8: T-HW | AF8: T-HW | AG8: T-HW | AH8: . | AI8: . | AJ8: . | AK8: . | AL8: . | AM8: .
A9: Avril | C9: =Enfants!AU6 -> . | D9: =Enfants!AV6 -> . | E9: =Enfants!AW6 -> . | F9: =Enfants!AX6 -> 1 | G9: =Enfants!AY6 -> 2 | H9: =Enfants!AZ6 -> 3* | I9: =Enfants!BA6 -> 4* | J9: =Enfants!BB6 -> 5 | ... AM9: =Enfants!CE6 -> . | AN9: =COUNTIF(C10:AM10,"Férier") -> 1 | AO9: =(COUNTIF(C10:AM10,"8h_CL")+(COUNTIF(C10:AM10,"4h_CL")*0.5)) -> 5 | AP9: =(COUNTIF(C10:AM10,"8h_RC")+(COUNTIF(C10:AM10,"4h_RC")*0.5)+(COUNTIF(C10:AM10,"2h_RC")*0.25)+(COUNTIF(C10:AM10,"6h_RC")*0.75)) -> 0 | AQ9: =COUNTIF(C10:AM10,"SaSo") -> 0 | AR9: =COUNTIF(C10:AM10,"Malad") -> 0 | AS9: =COUNTIF(C10:AM10,"T-HW") -> 16 | AT9: =(COUNTIF(C10:AM10,"8h_CEL")+(COUNTIF(C10:AM10,"4h_CEL")*0.5)) -> 0
C10: . | D10: . | E10: . | F10: T-HW | G10: T-HW | J10: Férier | K10: T-HW | L10: T-HW | M10: T-HW | N10: T-HW | Q10: 8h_CL | R10: 8h_CL | S10: 8h_CL | T10: 8h_CL | U10: 8h_CL | X10: T-HW | Y10: T-HW | Z10: T-HW | AA10: T-HW | AB10: T-HW | AE10: T-HW | AF10: T-HW | AG10: T-HW | AH10: T-HW | AI10: T-HW | AJ10: . | AK10: . | AL10: . | AM10: .
A11: Mai | C11: =Enfants!AU7 -> . | D11: =Enfants!AV7 -> . | E11: =Enfants!AW7 -> . | F11: =Enfants!AX7 -> . | G11: =Enfants!AY7 -> . | H11: =Enfants!AZ7 -> 1* | I11: =Enfants!BA7 -> 2* | J11: =Enfants!BB7 -> 3 | ... AM11: =Enfants!CE7 -> . | AN11: =COUNTIF(C12:AM12,"Férier") -> 2 | AO11: =(COUNTIF(C12:AM12,"8h_CL")+(COUNTIF(C12:AM12,"4h_CL")*0.5)) -> 0 | AP11: =(COUNTIF(C12:AM12,"8h_RC")+(COUNTIF(C12:AM12,"4h_RC")*0.5)+(COUNTIF(C12:AM12,"2h_RC")*0.25)+(COUNTIF(C12:AM12,"6h_RC")*0.75)) -> 0 | AQ11: =COUNTIF(C12:AM12,"SaSo") -> 0 | AR11: =COUNTIF(C12:AM12,"Malad") -> 0 | AS11: =COUNTIF(C12:AM12,"T-HW") -> 19 | AT11: =(COUNTIF(C12:AM12,"8h_CEL")+(COUNTIF(C12:AM12,"4h_CEL")*0.5)) -> 0
C12: . | D12: . | E12: . | F12: . | G12: . | J12: T-HW | K12: T-HW | L12: T-HW | M12: T-HW | N12: T-HW | Q12: T-HW | R12: T-HW | S12: T-HW | T12: Férier | U12: T-HW | X12: T-HW | Y12: T-HW | Z12: T-HW | AA12: T-HW | AB12: T-HW | AE12: Férier | AF12: T-HW | AG12: T-HW | AH12: T-HW | AI12: T-HW | AL12: T-HW | AM12: .
A13: Juin | C13: =Enfants!AU8 -> . | D13: =Enfants!AV8 -> 1 | E13: =Enfants!AW8 -> 2 | F13: =Enfants!AX8 -> 3 | G13: =Enfants!AY8 -> 4 | H13: =Enfants!AZ8 -> 5 | I13: =Enfants!BA8 -> 6 | J13: =Enfants!BB8 -> 7 | ... AM13: =Enfants!CE8 -> . | AN13: =COUNTIF(C14:AM14,"Férier") -> 0 | AO13: =(COUNTIF(C14:AM14,"8h_CL")+(COUNTIF(C14:AM14,"4h_CL")*0.5)) -> 0 | AP13: =(COUNTIF(C14:AM14,"8h_RC")+(COUNTIF(C14:AM14,"4h_RC")*0.5)+(COUNTIF(C14:AM14,"2h_RC")*0.25)+(COUNTIF(C14:AM14,"6h_RC")*0.75)) -> 0 | AQ13: =COUNTIF(C14:AM14,"SaSo") -> 0 | AR13: =COUNTIF(C14:AM14,"Malad") -> 0 | AS13: =COUNTIF(C14:AM14,"T-HW") -> 22 | AT13: =(COUNTIF(C14:AM14,"8h_CEL")+(COUNTIF(C14:AM14,"4h_CEL")*0.5)) -> 0
C14: . | D14: T-HW | E14: T-HW | F14: T-HW | G14: T-HW | J14: T-HW | K14: T-HW | L14: T-HW | M14: T-HW | N14: T-HW | Q14: T-HW | R14: T-HW | S14: T-HW | T14: T-HW | U14: T-HW | X14: T-HW | Y14: T-HW | Z14: T-HW | AA14: T-HW | AB14: T-HW | AE14: T-HW | AF14: T-HW | AG14: T-HW | AH14: . | AI14: . | AJ14: . | AK14: . | AL14: . | AM14: .
A15: Juillet | C15: =Enfants!AU9 -> . | D15: =Enfants!AV9 -> . | E15: =Enfants!AW9 -> . | F15: =Enfants!AX9 -> 1 | G15: =Enfants!AY9 -> 2 | H15: =Enfants!AZ9 -> 3 | I15: =Enfants!BA9 -> 4 | J15: =Enfants!BB9 -> 5 | ... AM15: =Enfants!CE9 -> . | AN15: =COUNTIF(C16:AM16,"Férier") -> 1 | AO15: =(COUNTIF(C16:AM16,"8h_CL")+(COUNTIF(C16:AM16,"4h_CL")*0.5)) -> 0 | AP15: =(COUNTIF(C16:AM16,"8h_RC")+(COUNTIF(C16:AM16,"4h_RC")*0.5)+(COUNTIF(C16:AM16,"2h_RC")*0.25)+(COUNTIF(C16:AM16,"6h_RC")*0.75)) -> 7 | AQ15: =COUNTIF(C16:AM16,"SaSo") -> 0 | AR15: =COUNTIF(C16:AM16,"Malad") -> 0 | AS15: =COUNTIF(C16:AM16,"T-HW") -> 12 | AT15: =(COUNTIF(C16:AM16,"8h_CEL")+(COUNTIF(C16:AM16,"4h_CEL")*0.5)) -> 0
C16: . | D16: . | E16: . | F16: T-HW | G16: T-HW | J16: T-HW | K16: T-HW | L16: T-HW | M16: T-HW | N16: T-HW | Q16: T-HW | R16: T-HW | S16: T-HW | T16: T-HW | U16: T-HW | X16: 4h_RC | Y16: 4h_RC | Z16: Férier | AA16: 4h_RC | AB16: 4h_RC | AE16: 8h_RC | AF16: 8h_RC | AG16: 8h_RC | AH16: 8h_RC | AI16: 8h_RC | AK16: . | AL16: . | AM16: .
A17: Aout | C17: =Enfants!AU10 -> . | D17: =Enfants!AV10 -> . | E17: =Enfants!AW10 -> . | F17: =Enfants!AX10 -> . | G17: =Enfants!AY10 -> . | H17: =Enfants!AZ10 -> . | I17: =Enfants!BA10 -> 1 | J17: =Enfants!BB10 -> 2 | ... AM17: =Enfants!CE10 -> 31 | AN17: =COUNTIF(C18:AM18,"Férier") -> 0 | AO17: =(COUNTIF(C18:AM18,"8h_CL")+(COUNTIF(C18:AM18,"4h_CL")*0.5)) -> 6.5 | AP17: =(COUNTIF(C18:AM18,"8h_RC")+(COUNTIF(C18:AM18,"4h_RC")*0.5)+(COUNTIF(C18:AM18,"2h_RC")*0.25)+(COUNTIF(C18:AM18,"6h_RC")*0.75)) -> 2 | AQ17: =COUNTIF(C18:AM18,"SaSo") -> 0 | AR17: =COUNTIF(C18:AM18,"Malad") -> 0 | AS17: =COUNTIF(C18:AM18,"T-HW") -> 11 | AT17: =(COUNTIF(C18:AM18,"8h_CEL")+(COUNTIF(C18:AM18,"4h_CEL")*0.5)) -> 0
C18: . | D18: . | E18: . | F18: . | G18: . | H18: . | J18: T-HW | K18: T-HW | L18: T-HW | M18: T-HW | N18: T-HW | Q18: T-HW | R18: T-HW | S18: T-HW | T18: T-HW | U18: T-HW | X18: 8h_RC | Y18: 8h_CL | Z18: 8h_CL | AA18: 8h_CL | AB18: 8h_CL | AE18: 4h_CL | AF18: 4h_CL | AG18: 4h_CL | AH18: 4h_CL | AI18: 4h_CL | AL18: T-HW | AM18: 8h_RC
A20: Septembre | B20: Date | C20: =Enfants!AU11 -> . | D20: =Enfants!AV11 -> . | E20: =Enfants!AW11 -> 1 | F20: =Enfants!AX11 -> 2 | G20: =Enfants!AY11 -> 3 | H20: =Enfants!AZ11 -> 4 | I20: =Enfants!BA11 -> 5 | J20: =Enfants!BB11 -> 6 | ... AM20: =Enfants!CE11 -> . | AN20: =COUNTIF(C21:AM21,"Férier") -> 0 | AO20: =(COUNTIF(C21:AM21,"8h_CL")+(COUNTIF(C21:AM21,"4h_CL")*0.5)) -> 0 | AP20: =(COUNTIF(C21:AM21,"8h_RC")+(COUNTIF(C21:AM21,"2h_RC")*0.5)+(COUNTIF(C21:AM21,"2h_RC")*0.25)+(COUNTIF(C21:AM21,"6h_RC")*0.75)) -> 0 | AQ20: =COUNTIF(C21:AM21,"SaSo") -> 0 | AR20: =COUNTIF(C21:AM21,"Malad") -> 0 | AS20: =COUNTIF(C21:AM21,"T-HW") -> 0 | AT20: =(COUNTIF(C21:AM21,"8h_CEL")+(COUNTIF(C20:AM20,"2h_CEL")*0.5)) -> 0
B21: y/n | C21: =IF(C20=".",".","") -> . | D21: =IF(D20=".",".","") -> . | H21: =IF(H20=".",".","tot jour") -> tot jour | I21: =IF(I20=".",".",IFERROR(SUM(VLOOKUP(C21,$AV$32:$AX$45,3,0),VLOOKUP(D21,$AV$32:$AX$45,3,0),VLOOKUP(E21,$AV$32:$AX$45,3,0),VLOOKUP(F21,$AV$32:$AX$45,3,0),VLOOKUP(G21,$AV$32:$AX$45,3,0)),"")) | K21: =IF(K20=".",".","") | L21: =IF(L20=".",".","") | M21: =IF(M20=".",".","") | N21: =IF(N20=".",".","") | O21: =IF(O20=".",".","tot jour") -> tot jour | P21: =IF(P20=".",".",IFERROR(SUM(VLOOKUP(J21,$AV$32:$AX$45,3,0),VLOOKUP(K21,$AV$32:$AX$45,3,0),VLOOKUP(L21,$AV$32:$AX$45,3,0),VLOOKUP(M21,$AV$32:$AX$45,3,0),VLOOKUP(N21,$AV$32:$AX$45,3,0)),"")) | Q21: =IF(Q20=".",".","") | R21: =IF(R20=".",".","") | S21: =IF(S20=".",".","") | T21: =IF(T20=".",".","") | U21: =IF(U20=".",".","") | V21: =IF(V20=".",".","tot jour") -> tot jour | W21: =IF(W20=".",".",IFERROR(SUM(VLOOKUP(Q21,$AV$32:$AX$45,3,0),VLOOKUP(R21,$AV$32:$AX$45,3,0),VLOOKUP(S21,$AV$32:$AX$45,3,0),VLOOKUP(T21,$AV$32:$AX$45,3,0),VLOOKUP(U21,$AV$32:$AX$45,3,0)),"")) | X21: =IF(X20=".",".","") | Y21: =IF(Y20=".",".","") | Z21: =IF(Z20=".",".","") | AB21: =IF(AB20=".",".","") | AC21: =IF(AC20=".",".","tot jour") -> tot jour | AD21: =IF(AD20=".",".",IFERROR(SUM(VLOOKUP(X21,$AV$32:$AX$45,3,0),VLOOKUP(Y21,$AV$32:$AX$45,3,0),VLOOKUP(Z21,$AV$32:$AX$45,3,0),VLOOKUP(AA21,$AV$32:$AX$45,3,0),VLOOKUP(AB21,$AV$32:$AX$45,3,0)),"")) | AE21: =IF(AE20=".",".","") | AF21: =IF(AF20=".",".","") | AG21: =IF(AG20=".",".","") | AH21: =IF(AH20=".",".","") | AI21: =IF(AI20=".",".","") -> . | AJ21: =IF(AJ20=".",".","tot jour") -> . | AK21: =IF(AK20=".",".",IFERROR(SUM(VLOOKUP(AE21,$AV$32:$AX$45,3,0),VLOOKUP(AF21,$AV$32:$AX$45,3,0),VLOOKUP(AG21,$AV$32:$AX$45,3,0),VLOOKUP(AH21,$AV$32:$AX$45,3,0),VLOOKUP(AI21,$AV$32:$AX$45,3,0)),"")) -> . | AL21: =IF(AL20=".",".","") -> . | AM21: =IF(AM20=".",".","") -> . | AW21: =IFERROR(SUM(VLOOKUP(J21,AV32:AX45,3,0),VLOOKUP(K21,AV32:AX45,3,0),VLOOKUP(L21,AV32:AX45,3,0),VLOOKUP(M21,AV32:AX45,3,0),VLOOKUP(N21,AV32:AX45,3,0)),"")
B22: IN | C22: =IF(C21=".",".",IF(OR(C21=$AV$32,C21=$AV$34,C21=$AV$36,C21=$AV$40,C21=$AV$42,C21=$AV$43,C21=$AV$44,C21=""),"","-")) -> . | D22: =IF(D21=".",".",IF(OR(D21=$AV$32,D21=$AV$34,D21=$AV$36,D21=$AV$40,D21=$AV$42,D21=$AV$43,D21=$AV$44,D21=""),"","-")) -> . | E22: =IF(E21=".",".",IF(OR(E21=$AV$32,E21=$AV$34,E21=$AV$36,E21=$AV$40,E21=$AV$42,E21=$AV$43,E21=$AV$44,E21=""),"","-")) | F22: =IF(F21=".",".",IF(OR(F21=$AV$32,F21=$AV$34,F21=$AV$36,F21=$AV$40,F21=$AV$42,F21=$AV$43,F21=$AV$44,F21=""),"","-")) | G22: =IF(G21=".",".",IF(OR(G21=$AV$32,G21=$AV$34,G21=$AV$36,G21=$AV$40,G21=$AV$42,G21=$AV$43,G21=$AV$44,G21=""),"","-")) | H22: =IF(H21=".",".","") | I22: =IF(I21=".",".","") | J22: =IF(J21=".",".",IF(OR(J21=$AV$32,J21=$AV$34,J21=$AV$36,J21=$AV$40,J21=$AV$42,J21=$AV$43,J21=$AV$44,J21=""),"","-")) | K22: =IF(K21=".",".",IF(OR(K21=$AV$32,K21=$AV$34,K21=$AV$36,K21=$AV$40,K21=$AV$42,K21=$AV$43,K21=$AV$44,K21=""),"","-")) | L22: =IF(L21=".",".",IF(OR(L21=$AV$32,L21=$AV$34,L21=$AV$36,L21=$AV$40,L21=$AV$42,L21=$AV$43,L21=$AV$44,L21=""),"","-")) | M22: =IF(M21=".",".",IF(OR(M21=$AV$32,M21=$AV$34,M21=$AV$36,M21=$AV$40,M21=$AV$42,M21=$AV$43,M21=$AV$44,M21=""),"","-")) | N22: =IF(N21=".",".",IF(OR(N21=$AV$32,N21=$AV$34,N21=$AV$36,N21=$AV$40,N21=$AV$42,N21=$AV$43,N21=$AV$44,N21=""),"","-")) | O22: =IF(O21=".",".","") | P22: =IF(P21=".",".","") | Q22: =IF(Q21=".",".",IF(OR(Q21=$AV$32,Q21=$AV$34,Q21=$AV$36,Q21=$AV$40,Q21=$AV$42,Q21=$AV$43,Q21=$AV$44,Q21=""),"","-")) | R22: =IF(R21=".",".",IF(OR(R21=$AV$32,R21=$AV$34,R21=$AV$36,R21=$AV$40,R21=$AV$42,R21=$AV$43,R21=$AV$44,R21=""),"","-")) | S22: =IF(S21=".",".",IF(OR(S21=$AV$32,S21=$AV$34,S21=$AV$36,S21=$AV$40,S21=$AV$42,S21=$AV$43,S21=$AV$44,S21=""),"","-")) | T22: =IF(T21=".",".",IF(OR(T21=$AV$32,T21=$AV$34,T21=$AV$36,T21=$AV$40,T21=$AV$42,T21=$AV$43,T21=$AV$44,T21=""),"","-")) | U22: =IF(U21=".",".",IF(OR(U21=$AV$32,U21=$AV$34,U21=$AV$36,U21=$AV$40,U21=$AV$42,U21=$AV$43,U21=$AV$44,U21=""),"","-")) | V22: =IF(V21=".",".","") | W22: =IF(W21=".",".","") | X22: =IF(X21=".",".",IF(OR(X21=$AV$32,X21=$AV$34,X21=$AV$36,X21=$AV$40,X21=$AV$42,X21=$AV$43,X21=$AV$44,X21=""),"","-")) | Y22: =IF(Y21=".",".",IF(OR(Y21=$AV$32,Y21=$AV$34,Y21=$AV$36,Y21=$AV$40,Y21=$AV$42,Y21=$AV$43,Y21=$AV$44,Y21=""),"","-")) | Z22: =IF(Z21=".",".",IF(OR(Z21=$AV$32,Z21=$AV$34,Z21=$AV$36,Z21=$AV$40,Z21=$AV$42,Z21=$AV$43,Z21=$AV$44,Z21=""),"","-")) | AA22: =IF(AA21=".",".",IF(OR(AA21=$AV$32,AA21=$AV$34,AA21=$AV$36,AA21=$AV$40,AA21=$AV$42,AA21=$AV$43,AA21=$AV$44,AA21=""),"","-")) | AB22: =IF(AB21=".",".",IF(OR(AB21=$AV$32,AB21=$AV$34,AB21=$AV$36,AB21=$AV$40,AB21=$AV$42,AB21=$AV$43,AB21=$AV$44,AB21=""),"","-")) | AC22: =IF(AC21=".",".","") | AD22: =IF(AD21=".",".","") | AE22: =IF(AE21=".",".",IF(OR(AE21=$AV$32,AE21=$AV$34,AE21=$AV$36,AE21=$AV$40,AE21=$AV$42,AE21=$AV$43,AE21=$AV$44,AE21=""),"","-")) | AF22: =IF(AF21=".",".",IF(OR(AF21=$AV$32,AF21=$AV$34,AF21=$AV$36,AF21=$AV$40,AF21=$AV$42,AF21=$AV$43,AF21=$AV$44,AF21=""),"","-")) | AG22: =IF(AG21=".",".",IF(OR(AG21=$AV$32,AG21=$AV$34,AG21=$AV$36,AG21=$AV$40,AG21=$AV$42,AG21=$AV$43,AG21=$AV$44,AG21=""),"","-")) | AH22: =IF(AH21=".",".",IF(OR(AH21=$AV$32,AH21=$AV$34,AH21=$AV$36,AH21=$AV$40,AH21=$AV$42,AH21=$AV$43,AH21=$AV$44,AH21=""),"","-")) | AI22: =IF(AI21=".",".",IF(OR(AI21=$AV$32,AI21=$AV$34,AI21=$AV$36,AI21=$AV$40,AI21=$AV$42,AI21=$AV$43,AI21=$AV$44,AI21=""),"","-")) -> . | AJ22: =IF(AJ21=".",".","") -> . | AK22: =IF(AK21=".",".","") -> . | AL22: =IF(AL21=".",".",IF(OR(AL21=$AV$32,AL21=$AV$34,AL21=$AV$36,AL21=$AV$40,AL21=$AV$42,AL21=$AV$43,AL21=$AV$44,AL21=""),"","-")) -> . | AM22: =IF(AM21=".",".",IF(OR(AM21=$AV$32,AM21=$AV$34,AM21=$AV$36,AM21=$AV$40,AM21=$AV$42,AM21=$AV$43,AM21=$AV$44,AM21=""),"","-")) -> .
B23: OUT | C23: =IF(C22=".",".",IF(C22="-","-","")) -> . | D23: =IF(D22=".",".",IF(D22="-","-","")) -> . | E23: =IF(E22=".",".",IF(E22="-","-","")) | F23: =IF(F22=".",".",IF(F22="-","-","")) | G23: =IF(G22=".",".",IF(G22="-","-","")) | J23: =IF(J22=".",".",IF(J22="-","-","")) | K23: =IF(K22=".",".",IF(K22="-","-","")) | L23: =IF(L22=".",".",IF(L22="-","-","")) | M23: =IF(M22=".",".",IF(M22="-","-","")) | N23: =IF(N22=".",".",IF(N22="-","-","")) | O23: =IF(O22=".",".","") | P23: =IF(P22=".",".","") | Q23: =IF(Q22=".",".",IF(Q22="-","-","")) | R23: =IF(R22=".",".",IF(R22="-","-","")) | S23: =IF(S22=".",".",IF(S22="-","-","")) | T23: =IF(T22=".",".",IF(T22="-","-","")) | U23: =IF(U22=".",".",IF(U22="-","-","")) | V23: =IF(V22=".",".","") | W23: =IF(W22=".",".","") | X23: =IF(X22=".",".",IF(X22="-","-","")) | Y23: =IF(Y22=".",".",IF(Y22="-","-","")) | Z23: =IF(Z22=".",".",IF(Z22="-","-","")) | AA23: =IF(AA22=".",".",IF(AA22="-","-","")) | AB23: =IF(AB22=".",".",IF(AB22="-","-","")) | AC23: =IF(AC22=".",".","") | AD23: =IF(AD22=".",".","") | AE23: =IF(AE22=".",".",IF(AE22="-","-","")) | AF23: =IF(AF22=".",".",IF(AF22="-","-","")) | AG23: =IF(AG22=".",".",IF(AG22="-","-","")) | AH23: =IF(AH22=".",".",IF(AH22="-","-","")) | AI23: =IF(AI22=".",".",IF(AI22="-","-","")) -> . | AJ23: =IF(AJ22=".",".","") -> . | AK23: =IF(AK22=".",".","") -> . | AL23: =IF(AL22=".",".",IF(AL22="-","-","")) -> . | AM23: =IF(AM22=".",".",IF(AM22="-","-","")) -> .
A24: /jour/mois | B24: Pause | C24: =IF(C23=".",".",IF(C23="-","-",0)) -> . | D24: =IF(D23=".",".",IF(D23="-","-",0)) -> . | E24: =IF(E23=".",".",IF(E23="-","-",0)) -> 0 | F24: =IF(F23=".",".",IF(F23="-","-",0)) -> 0 | G24: =IF(G23=".",".",IF(G23="-","-",0)) -> 0 | H24: =IF(H23=".",".","All") -> All | I24: =IF(I23=".",".","/ jour") -> / jour | J24: =IF(J23=".",".",IF(J23="-","-",0)) -> 0 | K24: =IF(K23=".",".",IF(K23="-","-",0)) -> 0 | L24: =IF(L23=".",".",IF(L23="-","-",0)) -> 0 | M24: =IF(M23=".",".",IF(M23="-","-",0)) -> 0 | N24: =IF(N23=".",".",IF(N23="-","-",0)) -> 0 | O24: =IF(O23=".",".","All") -> All | P24: =IF(P23=".",".","/ jour") -> / jour | Q24: =IF(Q23=".",".",IF(Q23="-","-",0)) -> 0 | R24: =IF(R23=".",".",IF(R23="-","-",0)) -> 0 | S24: =IF(S23=".",".",IF(S23="-","-",0)) -> 0 | T24: =IF(T23=".",".",IF(T23="-","-",0)) -> 0 | U24: =IF(U23=".",".",IF(U23="-","-",0)) -> 0 | V24: =IF(V23=".",".","All") -> All | W24: =IF(W23=".",".","/ jour") -> / jour | X24: =IF(X23=".",".",IF(X23="-","-",0)) -> 0 | Y24: =IF(Y23=".",".",IF(Y23="-","-",0)) -> 0 | Z24: =IF(Z23=".",".",IF(Z23="-","-",0)) -> 0 | AA24: =IF(AA23=".",".",IF(AA23="-","-",0)) -> 0 | AB24: =IF(AB23=".",".",IF(AB23="-","-",0)) -> 0 | AC24: =IF(AC23=".",".","All") -> All | AD24: =IF(AD23=".",".","/ jour") -> / jour | AE24: =IF(AE23=".",".",IF(AE23="-","-",0)) -> 0 | AF24: =IF(AF23=".",".",IF(AF23="-","-",0)) -> 0 | AG24: =IF(AG23=".",".",IF(AG23="-","-",0)) -> 0 | AH24: =IF(AH23=".",".",IF(AH23="-","-",0)) -> 0 | AI24: =IF(AI23=".",".",IF(AI23="-","-",0)) -> . | AJ24: =IF(AJ23=".",".","All") -> . | AK24: =IF(AK23=".",".","/ jour") -> . | AL24: =IF(AL23=".",".",IF(AL23="-","-",0)) -> . | AM24: =IF(AM23=".",".",IF(AM23="-","-",0)) -> .
A25: =IFERROR(AVERAGE(I25,P25,W25,AD25,AK25),"-") -> - | B25: Total | C25: =IF(C23=".",".",IF(C23="-","-",IFERROR(C23-C22-C24,""))) -> . | D25: =IF(D23=".",".",IF(D23="-","-",IFERROR(D23-D22-D24,""))) -> . | E25: =IF(E23=".",".",IF(E23="-","",IFERROR(E23-E22-E24,""))) | F25: =IF(F23=".",".",IF(F23="-","-",IFERROR(F23-F22-F24,""))) | G25: =IF(G23=".",".",IF(G23="-","-",IFERROR(G23-G22-G24,""))) | H25: =IF(H23=".",".",SUM(C25:G25)+SUM(AL13:AM13)) -> 0 | I25: =IF(I23=".",".",IFERROR(AVERAGE(AL18:AM18,C25:G25),"")) | J25: =IF(J23=".",".",IF(J23="-","-",IFERROR(J23-J22-J24,""))) | K25: =IF(K23=".",".",IF(K23="-","-",IFERROR(K23-K22-K24,""))) | L25: =IF(L23=".",".",IF(L23="-","",IFERROR(L23-L22-L24,""))) | M25: =IF(M23=".",".",IF(M23="-","-",IFERROR(M23-M22-M24,""))) | N25: =IF(N23=".",".",IF(N23="-","-",IFERROR(N23-N22-N24,""))) | O25: =IF(O23=".",".",SUM(J25:N25)) -> 0 | P25: =IF(P23=".",".",IFERROR(O25/P21,"")) | Q25: =IF(Q23=".",".",IF(Q23="-","-",IFERROR(Q23-Q22-Q24,""))) | R25: =IF(R23=".",".",IF(R23="-","-",IFERROR(R23-R22-R24,""))) | S25: =IF(S23=".",".",IF(S23="-","",IFERROR(S23-S22-S24,""))) | T25: =IF(T23=".",".",IF(T23="-","-",IFERROR(T23-T22-T24,""))) | U25: =IF(U23=".",".",IF(U23="-","-",IFERROR(U23-U22-U24,""))) | V25: =IF(V23=".",".",SUM(Q25:U25)) -> 0 | W25: =IF(W23=".",".",IFERROR(AVERAGE(Q25:U25),"")) | X25: =IF(X23=".",".",IF(X23="-","-",IFERROR(X23-X22-X24,""))) | Y25: =IF(Y23=".",".",IF(Y23="-","-",IFERROR(Y23-Y22-Y24,""))) | Z25: =IF(Z23=".",".",IF(Z23="-","",IFERROR(Z23-Z22-Z24,""))) | AA25: =IF(AA23=".",".",IF(AA23="-","-",IFERROR(AA23-AA22-AA24,""))) | AB25: =IF(AB23=".",".",IF(AB23="-","-",IFERROR(AB23-AB22-AB24,""))) | AC25: =IF(AC23=".",".",SUM(X25:AB25)) -> 0 | AD25: =IF(AD23=".",".",IFERROR(AVERAGE(X25:AB25),"")) | AE25: =IF(AE23=".",".",IF(AE23="-","-",IFERROR(AE23-AE22-AE24,""))) | AF25: =IF(AF23=".",".",IF(AF23="-","-",IFERROR(AF23-AF22-AF24,""))) | AG25: =IF(AG23=".",".",IF(AG23="-","",IFERROR(AG23-AG22-AG24,""))) | AH25: =IF(AH23=".",".",IF(AH23="-","-",IFERROR(AH23-AH22-AH24,""))) | AI25: =IF(AI23=".",".",IF(AI23="-","-",IFERROR(AI23-AI22-AI24,""))) -> . | AJ25: =IF(AJ23=".",".",SUM(AE25:AI25)) -> . | AK25: =IF(AK23=".",".",IFERROR(AVERAGE(AE25:AI25),"")) -> . | AL25: =IF(AL23=".",".",IF(AL23="-","-",IFERROR(AL23-AL22-AL24,""))) -> . | AM25: =IF(AM23=".",".",IF(AM23="-","-",IFERROR(AM23-AM22-AM24,""))) -> .
A26: Octobre | B26: Date | C26: =Enfants!AU12 -> . | D26: =Enfants!AV12 -> . | E26: =Enfants!AW12 -> . | F26: =Enfants!AX12 -> . | G26: =Enfants!AY12 -> 1 | H26: =Enfants!AZ12 -> 2 | I26: =Enfants!BA12 -> 3 | J26: =Enfants!BB12 -> 4 | ... AM26: =Enfants!CE12 -> . | AN26: =COUNTIF(C27:AM27,"Férier") -> 0 | AO26: =(COUNTIF(C27:AM27,"8h_CL")+(COUNTIF(C27:AM27,"4h_CL")*0.5)) -> 0 | AP26: =(COUNTIF(C27:AM27,"8h_RC")+(COUNTIF(C27:AM27,"2h_RC")*0.5)+(COUNTIF(C27:AM27,"2h_RC")*0.25)+(COUNTIF(C27:AM27,"6h_RC")*0.75)) -> 0 | AQ26: =COUNTIF(C27:AM27,"SaSo") -> 0 | AR26: =COUNTIF(C27:AM27,"Malad") -> 0 | AS26: =COUNTIF(C27:AM27,"T-HW") -> 0 | AT26: =(COUNTIF(C27:AM27,"8h_CEL")+(COUNTIF(C26:AM26,"2h_CEL")*0.5)) -> 0
B27: y/n | C27: =IF(C26=".",".","") -> . | D27: =IF(D26=".",".","") -> . | E27: =IF(E26=".",".","") -> . | F27: =IF(F26=".",".","") -> . | G27: =IF(G26=".",".","") | H27: =IF(H26=".",".","tot jour") -> tot jour | I27: =IF(I26=".",".",IFERROR(SUM(VLOOKUP(AL21,$AV$32:$AX$45,3,0),VLOOKUP(AM21,$AV$32:$AX$45,3,0),VLOOKUP(C27,$AV$32:$AX$45,3,0),VLOOKUP(D27,$AV$32:$AX$45,3,0),VLOOKUP(E27,$AV$32:$AX$45,3,0),VLOOKUP(F27,$AV$32:$AX$45,3,0),VLOOKUP(G27,$AV$32:$AX$45,3,0)),"")) | K27: =IF(K26=".",".","") | L27: =IF(L26=".",".","") | M27: =IF(M26=".",".","") | N27: =IF(N26=".",".","") | O27: =IF(O26=".",".","tot jour") -> tot jour | P27: =IF(P26=".",".",IFERROR(SUM(VLOOKUP(J27,$AV$32:$AX$45,3,0),VLOOKUP(K27,$AV$32:$AX$45,3,0),VLOOKUP(L27,$AV$32:$AX$45,3,0),VLOOKUP(M27,$AV$32:$AX$45,3,0),VLOOKUP(N27,$AV$32:$AX$45,3,0)),"")) | Q27: =IF(Q26=".",".","") | R27: =IF(R26=".",".","") | S27: =IF(S26=".",".","") | T27: =IF(T26=".",".","") | U27: =IF(U26=".",".","") | V27: =IF(V26=".",".","tot jour") -> tot jour | W27: =IF(W26=".",".",IFERROR(SUM(VLOOKUP(Q27,$AV$32:$AX$45,3,0),VLOOKUP(R27,$AV$32:$AX$45,3,0),VLOOKUP(S27,$AV$32:$AX$45,3,0),VLOOKUP(T27,$AV$32:$AX$45,3,0),VLOOKUP(U27,$AV$32:$AX$45,3,0)),"")) | X27: =IF(X26=".",".","") | Y27: =IF(Y26=".",".","") | Z27: =IF(Z26=".",".","") | AA27: =IF(AA26=".",".","") | AB27: =IF(AB26=".",".","") | AC27: =IF(AC26=".",".","tot jour") -> tot jour | AD27: =IF(AD26=".",".",IFERROR(SUM(VLOOKUP(X27,$AV$32:$AX$45,3,0),VLOOKUP(Y27,$AV$32:$AX$45,3,0),VLOOKUP(Z27,$AV$32:$AX$45,3,0),VLOOKUP(AA27,$AV$32:$AX$45,3,0),VLOOKUP(AB27,$AV$32:$AX$45,3,0)),"")) | AE27: =IF(AE26=".",".","") | AF27: =IF(AF26=".",".","") | AG27: =IF(AG26=".",".","") | AH27: =IF(AH26=".",".","") | AI27: =IF(AI26=".",".","") | AJ27: =IF(AJ26=".",".","tot jour") -> tot jour | AK27: =IF(AK26=".",".",IFERROR(SUM(VLOOKUP(AE27,$AV$32:$AX$45,3,0),VLOOKUP(AF27,$AV$32:$AX$45,3,0),VLOOKUP(AG27,$AV$32:$AX$45,3,0),VLOOKUP(AH27,$AV$32:$AX$45,3,0),VLOOKUP(AI27,$AV$32:$AX$45,3,0)),"")) | AL27: =IF(AL26=".",".","") -> . | AM27: =IF(AM26=".",".","") -> .
B28: IN | C28: =IF(C27=".",".",IF(C27="T-HW","",IF(C27="Work","",IF(C27="","","-")))) -> . | D28: =IF(D27=".",".",IF(D27="T-HW","",IF(D27="Work","",IF(D27="","","-")))) -> . | E28: =IF(E27=".",".",IF(E27="T-HW","",IF(E27="Work","",IF(E27="","","-")))) -> . | F28: =IF(F27=".",".",IF(F27="T-HW","",IF(F27="Work","",IF(F27="","","-")))) -> . | G28: =IF(G27=".",".",IF(G27="T-HW","",IF(G27="Work","",IF(G27="","","-")))) | H28: =IF(H27=".",".","") | I28: =IF(I27=".",".","") | J28: =IF(J27=".",".",IF(J27="T-HW","",IF(J27="Work","",IF(J27="","","-")))) | K28: =IF(K27=".",".",IF(K27="T-HW","",IF(K27="Work","",IF(K27="","","-")))) | L28: =IF(L27=".",".",IF(L27="T-HW","",IF(L27="Work","",IF(L27="","","-")))) | M28: =IF(M27=".",".",IF(M27="T-HW","",IF(M27="Work","",IF(M27="","","-")))) | N28: =IF(N27=".",".",IF(N27="T-HW","",IF(N27="Work","",IF(N27="","","-")))) | O28: =IF(O27=".",".","") | P28: =IF(P27=".",".","") | Q28: =IF(Q27=".",".",IF(Q27="T-HW","",IF(Q27="Work","",IF(Q27="","","-")))) | R28: =IF(R27=".",".",IF(R27="T-HW","",IF(R27="Work","",IF(R27="","","-")))) | S28: =IF(S27=".",".",IF(S27="T-HW","",IF(S27="Work","",IF(S27="","","-")))) | T28: =IF(T27=".",".",IF(T27="T-HW","",IF(T27="Work","",IF(T27="","","-")))) | U28: =IF(U27=".",".",IF(U27="T-HW","",IF(U27="Work","",IF(U27="","","-")))) | V28: =IF(V27=".",".","") | W28: =IF(W27=".",".","") | X28: =IF(X27=".",".",IF(X27="T-HW","",IF(X27="Work","",IF(X27="","","-")))) | Y28: =IF(Y27=".",".",IF(Y27="T-HW","",IF(Y27="Work","",IF(Y27="","","-")))) | Z28: =IF(Z27=".",".",IF(Z27="T-HW","",IF(Z27="Work","",IF(Z27="","","-")))) | AA28: =IF(AA27=".",".",IF(AA27="T-HW","",IF(AA27="Work","",IF(AA27="","","-")))) | AB28: =IF(AB27=".",".",IF(AB27="T-HW","",IF(AB27="Work","",IF(AB27="","","-")))) | AC28: =IF(AC27=".",".","") | AD28: =IF(AD27=".",".","") | AE28: =IF(AE27=".",".",IF(AE27="T-HW","",IF(AE27="Work","",IF(AE27="","","-")))) | AF28: =IF(AF27=".",".",IF(AF27="T-HW","",IF(AF27="Work","",IF(AF27="","","-")))) | AG28: =IF(AG27=".",".",IF(AG27="T-HW","",IF(AG27="Work","",IF(AG27="","","-")))) | AH28: =IF(AH27=".",".",IF(AH27="T-HW","",IF(AH27="Work","",IF(AH27="","","-")))) | AI28: =IF(AI27=".",".",IF(AI27="T-HW","",IF(AI27="Work","",IF(AI27="","","-")))) | AJ28: =IF(AJ27=".",".","") | AK28: =IF(AK27=".",".","") | AL28: =IF(AL27=".",".",IF(AL27="T-HW","",IF(AL27="Work","",IF(AL27="","","-")))) -> . | AM28: =IF(AM27=".",".",IF(AM27="T-HW","",IF(AM27="Work","",IF(AM27="","","-")))) -> .
B29: OUT | C29: =IF(C28=".",".",IF(C28="-","-","")) -> . | D29: =IF(D28=".",".",IF(D28="-","-","")) -> . | E29: =IF(E28=".",".",IF(E28="-","-","")) -> . | F29: =IF(F28=".",".",IF(F28="-","-","")) -> . | G29: =IF(G28=".",".",IF(G28="-","-","")) | H29: =IF(H28=".",".","") | I29: =IF(I28=".",".","") | J29: =IF(J28=".",".",IF(J28="-","-","")) | K29: =IF(K28=".",".",IF(K28="-","-","")) | L29: =IF(L28=".",".",IF(L28="-","-","")) | M29: =IF(M28=".",".",IF(M28="-","-","")) | N29: =IF(N28=".",".",IF(N28="-","-","")) | O29: =IF(O28=".",".","") | P29: =IF(P28=".",".","") | Q29: =IF(Q28=".",".",IF(Q28="-","-","")) | R29: =IF(R28=".",".",IF(R28="-","-","")) | S29: =IF(S28=".",".",IF(S28="-","-","")) | T29: =IF(T28=".",".",IF(T28="-","-","")) | U29: =IF(U28=".",".",IF(U28="-","-","")) | V29: =IF(V28=".",".","") | W29: =IF(W28=".",".","") | X29: =IF(X28=".",".",IF(X28="-","-","")) | Y29: =IF(Y28=".",".",IF(Y28="-","-","")) | Z29: =IF(Z28=".",".",IF(Z28="-","-","")) | AA29: =IF(AA28=".",".",IF(AA28="-","-","")) | AB29: =IF(AB28=".",".",IF(AB28="-","-","")) | AC29: =IF(AC28=".",".","") | AD29: =IF(AD28=".",".","") | AE29: =IF(AE28=".",".",IF(AE28="-","-","")) | AF29: =IF(AF28=".",".",IF(AF28="-","-","")) | AG29: =IF(AG28=".",".",IF(AG28="-","-","")) | AH29: =IF(AH28=".",".",IF(AH28="-","-","")) | AI29: =IF(AI28=".",".",IF(AI28="-","-","")) | AJ29: =IF(AJ28=".",".","") | AK29: =IF(AK28=".",".","") | AL29: =IF(AL28=".",".",IF(AL28="-","-","")) -> . | AM29: =IF(AM28=".",".",IF(AM28="-","-","")) -> .
A30: /jour/mois | B30: Pause | C30: =IF(C29=".",".",IF(C29="-","-",0)) -> . | D30: =IF(D29=".",".",IF(D29="-","-",0)) -> . | E30: =IF(E29=".",".",IF(E29="-","-",0)) -> . | F30: =IF(F29=".",".",IF(F29="-","-",0)) -> . | G30: =IF(G29=".",".",IF(G29="-","-",0)) -> 0 | H30: =IF(H29=".",".","All") -> All | I30: =IF(I29=".",".","/ jour") -> / jour | J30: =IF(J29=".",".",IF(J29="-","-",0)) -> 0 | K30: =IF(K29=".",".",IF(K29="-","-",0)) -> 0 | L30: =IF(L29=".",".",IF(L29="-","-",0)) -> 0 | M30: =IF(M29=".",".",IF(M29="-","-",0)) -> 0 | N30: =IF(N29=".",".",IF(N29="-","-",0)) -> 0 | O30: =IF(O29=".",".","All") -> All | P30: =IF(P29=".",".","/ jour") -> / jour | Q30: =IF(Q29=".",".",IF(Q29="-","-",0)) -> 0 | R30: =IF(R29=".",".",IF(R29="-","-",0)) -> 0 | S30: =IF(S29=".",".",IF(S29="-","-",0)) -> 0 | T30: =IF(T29=".",".",IF(T29="-","-",0)) -> 0 | U30: =IF(U29=".",".",IF(U29="-","-",0)) -> 0 | V30: =IF(V29=".",".","All") -> All | W30: =IF(W29=".",".","/ jour") -> / jour | X30: =IF(X29=".",".",IF(X29="-","-",0)) -> 0 | Y30: =IF(Y29=".",".",IF(Y29="-","-",0)) -> 0 | Z30: =IF(Z29=".",".",IF(Z29="-","-",0)) -> 0 | AA30: =IF(AA29=".",".",IF(AA29="-","-",0)) -> 0 | AB30: =IF(AB29=".",".",IF(AB29="-","-",0)) -> 0 | AC30: =IF(AC29=".",".","All") -> All | AD30: =IF(AD29=".",".","/ jour") -> / jour | AE30: =IF(AE29=".",".",IF(AE29="-","-",0)) -> 0 | AF30: =IF(AF29=".",".",IF(AF29="-","-",0)) -> 0 | AG30: =IF(AG29=".",".",IF(AG29="-","-",0)) -> 0 | AH30: =IF(AH29=".",".",IF(AH29="-","-",0)) -> 0 | AI30: =IF(AI29=".",".",IF(AI29="-","-",0)) -> 0 | AJ30: =IF(AJ29=".",".","All") -> All | AK30: =IF(AK29=".",".","/ jour") -> / jour | AL30: =IF(AL29=".",".",IF(AL29="-","-",0)) -> . | AM30: =IF(AM29=".",".",IF(AM29="-","-",0)) -> .
A31: =IFERROR(AVERAGE(C31:G31,J31:N31,Q31:U31,X31:AB31,AE31:AI31,AL31:AM31),"-") -> - | B31: Total | C31: =IF(C29=".",".",IF(C29="-","-",IFERROR(C29-C28-C30,""))) -> . | D31: =IF(D29=".",".",IF(D29="-","-",IFERROR(D29-D28-D30,""))) -> . | E31: =IF(E29=".",".",IF(E29="-","",IFERROR(E29-E28-E30,""))) -> . | F31: =IF(F29=".",".",IF(F29="-","-",IFERROR(F29-F28-F30,""))) -> . | G31: =IF(G29=".",".",IF(G29="-","-",IFERROR(G29-G28-G30,""))) | H31: =IF(H29=".",".",SUM(C31:G31)+SUM(AL19:AM19)) -> 0 | I31: =IF(I29=".",".",IFERROR(AVERAGE(AL25:AM25,C31:G31),"")) | J31: =IF(J29=".",".",IF(J29="-","-",IFERROR(J29-J28-J30,""))) | K31: =IF(K29=".",".",IF(K29="-","-",IFERROR(K29-K28-K30,""))) | L31: =IF(L29=".",".",IF(L29="-","",IFERROR(L29-L28-L30,""))) | M31: =IF(M29=".",".",IF(M29="-","-",IFERROR(M29-M28-M30,""))) | N31: =IF(N29=".",".",IF(N29="-","-",IFERROR(N29-N28-N30,""))) | O31: =IF(O29=".",".",SUM(J31:N31)) -> 0 | P31: =IF(P29=".",".",IFERROR(AVERAGE(J31:N31),"")) | Q31: =IF(Q29=".",".",IF(Q29="-","-",IFERROR(Q29-Q28-Q30,""))) | R31: =IF(R29=".",".",IF(R29="-","-",IFERROR(R29-R28-R30,""))) | S31: =IF(S29=".",".",IF(S29="-","",IFERROR(S29-S28-S30,""))) | T31: =IF(T29=".",".",IF(T29="-","-",IFERROR(T29-T28-T30,""))) | U31: =IF(U29=".",".",IF(U29="-","-",IFERROR(U29-U28-U30,""))) | V31: =IF(V29=".",".",SUM(Q31:U31)) -> 0 | W31: =IF(W29=".",".",IFERROR(AVERAGE(Q31:U31),"")) | X31: =IF(X29=".",".",IF(X29="-","-",IFERROR(X29-X28-X30,""))) | Y31: =IF(Y29=".",".",IF(Y29="-","-",IFERROR(Y29-Y28-Y30,""))) | Z31: =IF(Z29=".",".",IF(Z29="-","",IFERROR(Z29-Z28-Z30,""))) | AA31: =IF(AA29=".",".",IF(AA29="-","-",IFERROR(AA29-AA28-AA30,""))) | AB31: =IF(AB29=".",".",IF(AB29="-","-",IFERROR(AB29-AB28-AB30,""))) | AC31: =IF(AC29=".",".",SUM(X31:AB31)) -> 0 | AD31: =IF(AD29=".",".",IFERROR(AVERAGE(X31:AB31),"")) | AE31: =IF(AE29=".",".",IF(AE29="-","-",IFERROR(AE29-AE28-AE30,""))) | AF31: =IF(AF29=".",".",IF(AF29="-","-",IFERROR(AF29-AF28-AF30,""))) | AG31: =IF(AG29=".",".",IF(AG29="-","",IFERROR(AG29-AG28-AG30,""))) | AH31: =IF(AH29=".",".",IF(AH29="-","-",IFERROR(AH29-AH28-AH30,""))) | AI31: =IF(AI29=".",".",IF(AI29="-","-",IFERROR(AI29-AI28-AI30,""))) | AJ31: =IF(AJ29=".",".",SUM(AE31:AI31)) -> 0 | AK31: =IF(AK29=".",".",IFERROR(AVERAGE(AE31:AI31),"")) | AL31: =IF(AL29=".",".",IF(AL29="-","-",IFERROR(AL29-AL28-AL30,""))) -> . | AM31: =IF(AM29=".",".",IF(AM29="-","-",IFERROR(AM29-AM28-AM30,""))) -> . | AW31: heures/semaines | AY31: 1.5833333
A32: Novembre | B32: Date | C32: =Enfants!AU13 -> 1 | D32: =Enfants!AV13 -> 2 | E32: =Enfants!AW13 -> 3 | F32: =Enfants!AX13 -> 4* | G32: =Enfants!AY13 -> 5* | H32: =Enfants!AZ13 -> 6* | I32: =Enfants!BA13 -> 7* | J32: =Enfants!BB13 -> 8 | ... AM32: =Enfants!CE13 -> . | AN32: =COUNTIF(C33:AM33,"Férier") -> 0 | AO32: =(COUNTIF(C33:AM33,"8h_CL")+(COUNTIF(C33:AM33,"4h_CL")*0.5)) -> 0 | AP32: =(COUNTIF(C33:AM33,"8h_RC")+(COUNTIF(C33:AM33,"2h_RC")*0.5)+(COUNTIF(C33:AM33,"2h_RC")*0.25)+(COUNTIF(C33:AM33,"6h_RC")*0.75)) -> 0 | AQ32: =COUNTIF(C33:AM33,"SaSo") -> 0 | AR32: =COUNTIF(C33:AM33,"Malad") -> 0 | AS32: =COUNTIF(C33:AM33,"T-HW") -> 0 | AT32: =(COUNTIF(C33:AM33,"8h_CEL")+(COUNTIF(C32:AM32,"2h_CEL")*0.5)) -> 0 | AV32: Work | AW32: Jour normal de travail | AX32: 1 | AY32: =AY31/5 -> 0.31666667
B33: y/n | C33: =IF(C32=".",".","") | D33: =IF(D32=".",".","") | E33: =IF(E32=".",".","") | H33: =IF(H32=".",".","tot jour") -> tot jour | I33: =IF(I32=".",".",IFERROR(SUM(VLOOKUP(AL27,$AV$32:$AX$45,3,0),VLOOKUP(AM27,$AV$32:$AX$45,3,0),VLOOKUP(C33,$AV$32:$AX$45,3,0),VLOOKUP(D33,$AV$32:$AX$45,3,0),VLOOKUP(E33,$AV$32:$AX$45,3,0),VLOOKUP(F33,$AV$32:$AX$45,3,0),VLOOKUP(G33,$AV$32:$AX$45,3,0)),"")) | J33: =IF(J32=".",".","") | K33: =IF(K32=".",".","") | L33: =IF(L32=".",".","") | M33: =IF(M32=".",".","") | N33: =IF(N32=".",".","") | O33: =IF(O32=".",".","tot jour") -> tot jour | P33: =IF(P32=".",".",IFERROR(SUM(VLOOKUP(J33,$AV$32:$AX$45,3,0),VLOOKUP(K33,$AV$32:$AX$45,3,0),VLOOKUP(L33,$AV$32:$AX$45,3,0),VLOOKUP(M33,$AV$32:$AX$45,3,0),VLOOKUP(N33,$AV$32:$AX$45,3,0)),"")) | Q33: =IF(Q32=".",".","") | R33: =IF(R32=".",".","") | S33: =IF(S32=".",".","") | T33: =IF(T32=".",".","") | U33: =IF(U32=".",".","") | V33: =IF(V32=".",".","tot jour") -> tot jour | W33: =IF(W32=".",".",IFERROR(SUM(VLOOKUP(Q33,$AV$32:$AX$45,3,0),VLOOKUP(R33,$AV$32:$AX$45,3,0),VLOOKUP(S33,$AV$32:$AX$45,3,0),VLOOKUP(T33,$AV$32:$AX$45,3,0),VLOOKUP(U33,$AV$32:$AX$45,3,0)),"")) | X33: =IF(X32=".",".","") | Y33: =IF(Y32=".",".","") | Z33: =IF(Z32=".",".","") | AA33: =IF(AA32=".",".","") | AB33: =IF(AB32=".",".","") | AC33: =IF(AC32=".",".","tot jour") -> tot jour | AD33: =IF(AD32=".",".",IFERROR(SUM(VLOOKUP(X33,$AV$32:$AX$45,3,0),VLOOKUP(Y33,$AV$32:$AX$45,3,0),VLOOKUP(Z33,$AV$32:$AX$45,3,0),VLOOKUP(AA33,$AV$32:$AX$45,3,0),VLOOKUP(AB33,$AV$32:$AX$45,3,0)),"")) | AE33: =IF(AE32=".",".","") | AF33: =IF(AF32=".",".","") | AG33: =IF(AG32=".",".","") -> . | AH33: =IF(AH32=".",".","") -> . | AI33: =IF(AI32=".",".","") -> . | AJ33: =IF(AJ32=".",".","tot jour") -> . | AK33: =IF(AK32=".",".",IFERROR(SUM(VLOOKUP(AE33,$AV$32:$AX$45,3,0),VLOOKUP(AF33,$AV$32:$AX$45,3,0),VLOOKUP(AG33,$AV$32:$AX$45,3,0),VLOOKUP(AH33,$AV$32:$AX$45,3,0),VLOOKUP(AI33,$AV$32:$AX$45,3,0)),"")) -> . | AL33: =IF(AL32=".",".","") -> . | AM33: =IF(AM32=".",".","") -> . | AV33: Férier | AW33: Jour férier | AX33: 0 | AY33: 0
B34: IN | C34: =IF(C33=".",".",IF(C33="T-HW","",IF(C33="Work","",IF(C33="","","-")))) | D34: =IF(D33=".",".",IF(D33="T-HW","",IF(D33="Work","",IF(D33="","","-")))) | E34: =IF(E33=".",".",IF(E33="T-HW","",IF(E33="Work","",IF(E33="","","-")))) | F34: =IF(F33=".",".",IF(F33="T-HW","",IF(F33="Work","",IF(F33="","","-")))) | G34: =IF(G33=".",".",IF(G33="T-HW","",IF(G33="Work","",IF(G33="","","-")))) | H34: =IF(H33=".",".","") | I34: =IF(I33=".",".","") | J34: =IF(J33=".",".",IF(J33="T-HW","",IF(J33="Work","",IF(J33="","","-")))) | K34: =IF(K33=".",".",IF(K33="T-HW","",IF(K33="Work","",IF(K33="","","-")))) | L34: =IF(L33=".",".",IF(L33="T-HW","",IF(L33="Work","",IF(L33="","","-")))) | M34: =IF(M33=".",".",IF(M33="T-HW","",IF(M33="Work","",IF(M33="","","-")))) | N34: =IF(N33=".",".",IF(N33="T-HW","",IF(N33="Work","",IF(N33="","","-")))) | O34: =IF(O33=".",".","") | P34: =IF(P33=".",".","") | Q34: =IF(Q33=".",".",IF(Q33="T-HW","",IF(Q33="Work","",IF(Q33="","","-")))) | R34: =IF(R33=".",".",IF(R33="T-HW","",IF(R33="Work","",IF(R33="","","-")))) | S34: =IF(S33=".",".",IF(S33="T-HW","",IF(S33="Work","",IF(S33="","","-")))) | T34: =IF(T33=".",".",IF(T33="T-HW","",IF(T33="Work","",IF(T33="","","-")))) | U34: =IF(U33=".",".",IF(U33="T-HW","",IF(U33="Work","",IF(U33="","","-")))) | V34: =IF(V33=".",".","") | W34: =IF(W33=".",".","") | X34: =IF(X33=".",".",IF(X33="T-HW","",IF(X33="Work","",IF(X33="","","-")))) | Y34: =IF(Y33=".",".",IF(Y33="T-HW","",IF(Y33="Work","",IF(Y33="","","-")))) | Z34: =IF(Z33=".",".",IF(Z33="T-HW","",IF(Z33="Work","",IF(Z33="","","-")))) | AA34: =IF(AA33=".",".",IF(AA33="T-HW","",IF(AA33="Work","",IF(AA33="","","-")))) | AB34: =IF(AB33=".",".",IF(AB33="T-HW","",IF(AB33="Work","",IF(AB33="","","-")))) | AC34: =IF(AC33=".",".","") | AD34: =IF(AD33=".",".","") | AE34: =IF(AE33=".",".",IF(AE33="T-HW","",IF(AE33="Work","",IF(AE33="","","-")))) | AF34: =IF(AF33=".",".",IF(AF33="T-HW","",IF(AF33="Work","",IF(AF33="","","-")))) | AG34: =IF(AG33=".",".",IF(AG33="T-HW","",IF(AG33="Work","",IF(AG33="","","-")))) -> . | AH34: =IF(AH33=".",".",IF(AH33="T-HW","",IF(AH33="Work","",IF(AH33="","","-")))) -> . | AI34: =IF(AI33=".",".",IF(AI33="T-HW","",IF(AI33="Work","",IF(AI33="","","-")))) -> . | AJ34: =IF(AJ33=".",".","") -> . | AK34: =IF(AK33=".",".","") -> . | AL34: =IF(AL33=".",".",IF(AL33="T-HW","",IF(AL33="Work","",IF(AL33="","","-")))) -> . | AM34: =IF(AM33=".",".",IF(AM33="T-HW","",IF(AM33="Work","",IF(AM33="","","-")))) -> . | AV34: 4h_CL | AW34: 0,5 jour congé légal | AX34: 0.5 | AY34: =AY32/2 -> 0.15833333
B35: OUT | C35: =IF(C34=".",".",IF(C34="-","-","")) | D35: =IF(D34=".",".",IF(D34="-","-","")) | E35: =IF(E34=".",".",IF(E34="-","-","")) | F35: =IF(F34=".",".",IF(F34="-","-","")) | G35: =IF(G34=".",".",IF(G34="-","-","")) | H35: =IF(H34=".",".","") | I35: =IF(I34=".",".","") | J35: =IF(J34=".",".",IF(J34="-","-","")) | K35: =IF(K34=".",".",IF(K34="-","-","")) | L35: =IF(L34=".",".",IF(L34="-","-","")) | M35: =IF(M34=".",".",IF(M34="-","-","")) | N35: =IF(N34=".",".",IF(N34="-","-","")) | O35: =IF(O34=".",".","") | P35: =IF(P34=".",".","") | Q35: =IF(Q34=".",".",IF(Q34="-","-","")) | R35: =IF(R34=".",".",IF(R34="-","-","")) | S35: =IF(S34=".",".",IF(S34="-","-","")) | T35: =IF(T34=".",".",IF(T34="-","-","")) | U35: =IF(U34=".",".",IF(U34="-","-","")) | V35: =IF(V34=".",".","") | W35: =IF(W34=".",".","") | X35: =IF(X34=".",".",IF(X34="-","-","")) | Y35: =IF(Y34=".",".",IF(Y34="-","-","")) | Z35: =IF(Z34=".",".",IF(Z34="-","-","")) | AA35: =IF(AA34=".",".",IF(AA34="-","-","")) | AB35: =IF(AB34=".",".",IF(AB34="-","-","")) | AC35: =IF(AC34=".",".","") | AD35: =IF(AD34=".",".","") | AE35: =IF(AE34=".",".",IF(AE34="-","-","")) | AF35: =IF(AF34=".",".",IF(AF34="-","-","")) | AG35: =IF(AG34=".",".",IF(AG34="-","-","")) -> . | AH35: =IF(AH34=".",".",IF(AH34="-","-","")) -> . | AI35: =IF(AI34=".",".",IF(AI34="-","-","")) -> . | AJ35: =IF(AJ34=".",".","") -> . | AK35: =IF(AK34=".",".","") -> . | AL35: =IF(AL34=".",".",IF(AL34="-","-","")) -> . | AM35: =IF(AM34=".",".",IF(AM34="-","-","")) -> . | AV35: 8h_CL | AW35: 1 Jour congé légal | AX35: 0 | AY35: 0
A36: /jour/mois | B36: Pause | C36: =IF(C35=".",".",IF(C35="-","-",0)) -> 0 | D36: =IF(D35=".",".",IF(D35="-","-",0)) -> 0 | E36: =IF(E35=".",".",IF(E35="-","-",0)) -> 0 | F36: =IF(F35=".",".",IF(F35="-","-",0)) -> 0 | G36: =IF(G35=".",".",IF(G35="-","-",0)) -> 0 | H36: =IF(H35=".",".","All") -> All | I36: =IF(I35=".",".","/ jour") -> / jour | J36: =IF(J35=".",".",IF(J35="-","-",0)) -> 0 | K36: =IF(K35=".",".",IF(K35="-","-",0)) -> 0 | L36: =IF(L35=".",".",IF(L35="-","-",0)) -> 0 | M36: =IF(M35=".",".",IF(M35="-","-",0)) -> 0 | N36: =IF(N35=".",".",IF(N35="-","-",0)) -> 0 | O36: =IF(O35=".",".","All") -> All | P36: =IF(P35=".",".","/ jour") -> / jour | Q36: =IF(Q35=".",".",IF(Q35="-","-",0)) -> 0 | R36: =IF(R35=".",".",IF(R35="-","-",0)) -> 0 | S36: =IF(S35=".",".",IF(S35="-","-",0)) -> 0 | T36: =IF(T35=".",".",IF(T35="-","-",0)) -> 0 | U36: =IF(U35=".",".",IF(U35="-","-",0)) -> 0 | V36: =IF(V35=".",".","All") -> All | W36: =IF(W35=".",".","/ jour") -> / jour | X36: =IF(X35=".",".",IF(X35="-","-",0)) -> 0 | Y36: =IF(Y35=".",".",IF(Y35="-","-",0)) -> 0 | Z36: =IF(Z35=".",".",IF(Z35="-","-",0)) -> 0 | AA36: =IF(AA35=".",".",IF(AA35="-","-",0)) -> 0 | AB36: =IF(AB35=".",".",IF(AB35="-","-",0)) -> 0 | AC36: =IF(AC35=".",".","All") -> All | AD36: =IF(AD35=".",".","/ jour") -> / jour | AE36: =IF(AE35=".",".",IF(AE35="-","-",0)) -> 0 | AF36: =IF(AF35=".",".",IF(AF35="-","-",0)) -> 0 | AG36: =IF(AG35=".",".",IF(AG35="-","-",0)) -> . | AH36: =IF(AH35=".",".",IF(AH35="-","-",0)) -> . | AI36: =IF(AI35=".",".",IF(AI35="-","-",0)) -> . | AJ36: =IF(AJ35=".",".","All") -> . | AK36: =IF(AK35=".",".","/ jour") -> . | AL36: =IF(AL35=".",".",IF(AL35="-","-",0)) -> . | AM36: =IF(AM35=".",".",IF(AM35="-","-",0)) -> . | AV36: 4h_CEL | AW36: 0,5 jour congé extra-légal | AX36: 0.5 | AY36: =AY34 -> 0.15833333
A37: =IFERROR(AVERAGE(C37:G37,J37:N37,Q37:U37,X37:AB37,AE37:AI37,AL37:AM37),"-") -> - | B37: Total | C37: =IF(C35=".",".",IF(C35="-","-",IFERROR(C35-C34-C36,""))) | D37: =IF(D35=".",".",IF(D35="-","-",IFERROR(D35-D34-D36,""))) | E37: =IF(E35=".",".",IF(E35="-","",IFERROR(E35-E34-E36,""))) | F37: =IF(F35=".",".",IF(F35="-","-",IFERROR(F35-F34-F36,""))) | G37: =IF(G35=".",".",IF(G35="-","-",IFERROR(G35-G34-G36,""))) | H37: =IF(H35=".",".",SUM(C37:G37)+SUM(AL25:AM25)) -> 0 | I37: =IF(I35=".",".",IFERROR(AVERAGE(AL31:AM31,C37:G37),"")) | J37: =IF(J35=".",".",IF(J35="-","-",IFERROR(J35-J34-J36,""))) | K37: =IF(K35=".",".",IF(K35="-","-",IFERROR(K35-K34-K36,""))) | L37: =IF(L35=".",".",IF(L35="-","",IFERROR(L35-L34-L36,""))) | M37: =IF(M35=".",".",IF(M35="-","-",IFERROR(M35-M34-M36,""))) | N37: =IF(N35=".",".",IF(N35="-","-",IFERROR(N35-N34-N36,""))) | O37: =IF(O35=".",".",SUM(J37:N37)) -> 0 | P37: =IF(P35=".",".",IFERROR(AVERAGE(J37:N37),"")) | Q37: =IF(Q35=".",".",IF(Q35="-","-",IFERROR(Q35-Q34-Q36,""))) | R37: =IF(R35=".",".",IF(R35="-","-",IFERROR(R35-R34-R36,""))) | S37: =IF(S35=".",".",IF(S35="-","",IFERROR(S35-S34-S36,""))) | T37: =IF(T35=".",".",IF(T35="-","-",IFERROR(T35-T34-T36,""))) | U37: =IF(U35=".",".",IF(U35="-","-",IFERROR(U35-U34-U36,""))) | V37: =IF(V35=".",".",SUM(Q37:U37)) -> 0 | W37: =IF(W35=".",".",IFERROR(AVERAGE(Q37:U37),"")) | X37: =IF(X35=".",".",IF(X35="-","-",IFERROR(X35-X34-X36,""))) | Y37: =IF(Y35=".",".",IF(Y35="-","-",IFERROR(Y35-Y34-Y36,""))) | Z37: =IF(Z35=".",".",IF(Z35="-","",IFERROR(Z35-Z34-Z36,""))) | AA37: =IF(AA35=".",".",IF(AA35="-","-",IFERROR(AA35-AA34-AA36,""))) | AB37: =IF(AB35=".",".",IF(AB35="-","-",IFERROR(AB35-AB34-AB36,""))) | AC37: =IF(AC35=".",".",SUM(X37:AB37)) -> 0 | AD37: =IF(AD35=".",".",IFERROR(AVERAGE(X37:AB37),"")) | AE37: =IF(AE35=".",".",IF(AE35="-","-",IFERROR(AE35-AE34-AE36,""))) | AF37: =IF(AF35=".",".",IF(AF35="-","-",IFERROR(AF35-AF34-AF36,""))) | AG37: =IF(AG35=".",".",IF(AG35="-","",IFERROR(AG35-AG34-AG36,""))) -> . | AH37: =IF(AH35=".",".",IF(AH35="-","-",IFERROR(AH35-AH34-AH36,""))) -> . | AI37: =IF(AI35=".",".",IF(AI35="-","-",IFERROR(AI35-AI34-AI36,""))) -> . | AJ37: =IF(AJ35=".",".",SUM(AE37:AI37)) -> . | AK37: =IF(AK35=".",".",IFERROR(AVERAGE(AE37:AI37),"")) -> . | AL37: =IF(AL35=".",".",IF(AL35="-","-",IFERROR(AL35-AL34-AL36,""))) -> . | AM37: =IF(AM35=".",".",IF(AM35="-","-",IFERROR(AM35-AM34-AM36,""))) -> . | AV37: 8h_CEL | AW37: 1 Jour congé extra-légal | AX37: 0 | AY37: 0
A38: Décembre | B38: Date | C38: =Enfants!AU14 -> . | D38: =Enfants!AV14 -> . | E38: =Enfants!AW14 -> 1 | F38: =Enfants!AX14 -> 2 | G38: =Enfants!AY14 -> 3 | H38: =Enfants!AZ14 -> 4* | I38: =Enfants!BA14 -> 5* | J38: =Enfants!BB14 -> 6 | ... AM38: =Enfants!CE14 -> . | AN38: =COUNTIF(C39:AM39,"Férier") -> 0 | AO38: =(COUNTIF(C39:AM39,"8h_CL")+(COUNTIF(C39:AM39,"4h_CL")*0.5)) -> 2 | AP38: =(COUNTIF(C39:AM39,"8h_RC")+(COUNTIF(C39:AM39,"2h_RC")*0.5)+(COUNTIF(C39:AM39,"2h_RC")*0.25)+(COUNTIF(C39:AM39,"6h_RC")*0.75)) -> 0 | AQ38: =COUNTIF(C39:AM39,"SaSo") -> 0 | AR38: =COUNTIF(C39:AM39,"Malad") -> 0 | AS38: =COUNTIF(C39:AM39,"T-HW") -> 0 | AT38: =(COUNTIF(C39:AM39,"8h_CEL")+(COUNTIF(C38:AM38,"2h_CEL")*0.5)) -> 0 | AV38: SaSo | AW38: Sans solde | AX38: 0 | AY38: 0
B39: y/n | C39: =IF(C38=".",".","") -> . | D39: =IF(D38=".",".","") -> . | E39: =IF(E38=".",".","") | F39: =IF(F38=".",".","") | G39: =IF(G38=".",".","") | H39: =IF(H38=".",".","tot jour") -> tot jour | I39: =IF(I38=".",".",IFERROR(SUM(VLOOKUP(AL33,$AV$32:$AX$45,3,0),VLOOKUP(AM33,$AV$32:$AX$45,3,0),VLOOKUP(C39,$AV$32:$AX$45,3,0),VLOOKUP(D39,$AV$32:$AX$45,3,0),VLOOKUP(E39,$AV$32:$AX$45,3,0),VLOOKUP(F39,$AV$32:$AX$45,3,0),VLOOKUP(G39,$AV$32:$AX$45,3,0)),"")) | J39: =IF(J38=".",".","") | K39: =IF(K38=".",".","") | L39: =IF(L38=".",".","") | M39: =IF(M38=".",".","") | N39: =IF(N38=".",".","") | O39: =IF(O38=".",".","tot jour") -> tot jour | P39: =IF(P38=".",".",IFERROR(SUM(VLOOKUP(J39,$AV$32:$AX$45,3,0),VLOOKUP(K39,$AV$32:$AX$45,3,0),VLOOKUP(L39,$AV$32:$AX$45,3,0),VLOOKUP(M39,$AV$32:$AX$45,3,0),VLOOKUP(N39,$AV$32:$AX$45,3,0)),"")) | Q39: =IF(Q38=".",".","") | R39: =IF(R38=".",".","") | S39: =IF(S38=".",".","") | T39: =IF(T38=".",".","") | U39: =IF(U38=".",".","") | V39: =IF(V38=".",".","tot jour") -> tot jour | W39: =IF(W38=".",".",IFERROR(SUM(VLOOKUP(Q39,$AV$32:$AX$45,3,0),VLOOKUP(R39,$AV$32:$AX$45,3,0),VLOOKUP(S39,$AV$32:$AX$45,3,0),VLOOKUP(T39,$AV$32:$AX$45,3,0),VLOOKUP(U39,$AV$32:$AX$45,3,0)),"")) | X39: =IF(X38=".",".","") | Y39: =IF(Y38=".",".","") | Z39: =IF(Z38=".",".","") | AA39: =IF(AA38=".",".","") | AB39: =IF(AB38=".",".","") | AC39: =IF(AC38=".",".","tot jour") -> tot jour | AD39: =IF(AD38=".",".",IFERROR(SUM(VLOOKUP(X39,$AV$32:$AX$45,3,0),VLOOKUP(Y39,$AV$32:$AX$45,3,0),VLOOKUP(Z39,$AV$32:$AX$45,3,0),VLOOKUP(AA39,$AV$32:$AX$45,3,0),VLOOKUP(AB39,$AV$32:$AX$45,3,0)),"")) | AE39: =IF(AE38=".",".","") | AF39: =IF(AF38=".",".","") | AG39: =IF(AG38=".",".","") | AH39: 8h_CL | AI39: 8h_CL | AJ39: =IF(AJ38=".",".","tot jour") -> . | AK39: =IF(AK38=".",".",IFERROR(SUM(VLOOKUP(AE39,$AV$32:$AX$45,3,0),VLOOKUP(AF39,$AV$32:$AX$45,3,0),VLOOKUP(AG39,$AV$32:$AX$45,3,0),VLOOKUP(AH39,$AV$32:$AX$45,3,0),VLOOKUP(AI39,$AV$32:$AX$45,3,0)),"")) -> . | AL39: =IF(AL38=".",".","") -> . | AM39: =IF(AM38=".",".","") -> . | AV39: Malad | AW39: Malade | AX39: 0 | AY39: 0
B40: IN | C40: =IF(C39=".",".",IF(C39="T-HW","",IF(C39="Work","",IF(C39="","","-")))) -> . | D40: =IF(D39=".",".",IF(D39="T-HW","",IF(D39="Work","",IF(D39="","","-")))) -> . | E40: =IF(E39=".",".",IF(E39="T-HW","",IF(E39="Work","",IF(E39="","","-")))) | F40: =IF(F39=".",".",IF(F39="T-HW","",IF(F39="Work","",IF(F39="","","-")))) | G40: =IF(G39=".",".",IF(G39="T-HW","",IF(G39="Work","",IF(G39="","","-")))) | H40: =IF(H39=".",".","") | I40: =IF(I39=".",".","") | J40: =IF(J39=".",".",IF(J39="T-HW","",IF(J39="Work","",IF(J39="","","-")))) | K40: =IF(K39=".",".",IF(K39="T-HW","",IF(K39="Work","",IF(K39="","","-")))) | L40: =IF(L39=".",".",IF(L39="T-HW","",IF(L39="Work","",IF(L39="","","-")))) | M40: =IF(M39=".",".",IF(M39="T-HW","",IF(M39="Work","",IF(M39="","","-")))) | N40: =IF(N39=".",".",IF(N39="T-HW","",IF(N39="Work","",IF(N39="","","-")))) | O40: =IF(O39=".",".","") | P40: =IF(P39=".",".","") | Q40: =IF(Q39=".",".",IF(Q39="T-HW","",IF(Q39="Work","",IF(Q39="","","-")))) | R40: =IF(R39=".",".",IF(R39="T-HW","",IF(R39="Work","",IF(R39="","","-")))) | S40: =IF(S39=".",".",IF(S39="T-HW","",IF(S39="Work","",IF(S39="","","-")))) | T40: =IF(T39=".",".",IF(T39="T-HW","",IF(T39="Work","",IF(T39="","","-")))) | U40: =IF(U39=".",".",IF(U39="T-HW","",IF(U39="Work","",IF(U39="","","-")))) | V40: =IF(V39=".",".","") | W40: =IF(W39=".",".","") | X40: =IF(X39=".",".",IF(X39="T-HW","",IF(X39="Work","",IF(X39="","","-")))) | Y40: =IF(Y39=".",".",IF(Y39="T-HW","",IF(Y39="Work","",IF(Y39="","","-")))) | Z40: =IF(Z39=".",".",IF(Z39="T-HW","",IF(Z39="Work","",IF(Z39="","","-")))) | AA40: =IF(AA39=".",".",IF(AA39="T-HW","",IF(AA39="Work","",IF(AA39="","","-")))) | AB40: =IF(AB39=".",".",IF(AB39="T-HW","",IF(AB39="Work","",IF(AB39="","","-")))) | AC40: =IF(AC39=".",".","") | AD40: =IF(AD39=".",".","") | AE40: =IF(AE39=".",".",IF(AE39="T-HW","",IF(AE39="Work","",IF(AE39="","","-")))) | AF40: =IF(AF39=".",".",IF(AF39="T-HW","",IF(AF39="Work","",IF(AF39="","","-")))) | AG40: =IF(AG39=".",".",IF(AG39="T-HW","",IF(AG39="Work","",IF(AG39="","","-")))) | AH40: =IF(AH39=".",".",IF(AH39="T-HW","",IF(AH39="Work","",IF(AH39="","","-")))) -> - | AI40: =IF(AI39=".",".",IF(AI39="T-HW","",IF(AI39="Work","",IF(AI39="","","-")))) -> - | AJ40: =IF(AJ39=".",".","") -> . | AK40: =IF(AK39=".",".","") -> . | AL40: =IF(AL39=".",".",IF(AL39="T-HW","",IF(AL39="Work","",IF(AL39="","","-")))) -> . | AM40: =IF(AM39=".",".",IF(AM39="T-HW","",IF(AM39="Work","",IF(AM39="","","-")))) -> . | AV40: T-HW | AW40: TW - HW | AX40: 1 | AY40: =AY32 -> 0.31666667
B41: OUT | C41: =IF(C40=".",".",IF(C40="-","-","")) -> . | D41: =IF(D40=".",".",IF(D40="-","-","")) -> . | E41: =IF(E40=".",".",IF(E40="-","-","")) | F41: =IF(F40=".",".",IF(F40="-","-","")) | G41: =IF(G40=".",".",IF(G40="-","-","")) | H41: =IF(H40=".",".","") | I41: =IF(I40=".",".","") | J41: =IF(J40=".",".",IF(J40="-","-","")) | K41: =IF(K40=".",".",IF(K40="-","-","")) | L41: =IF(L40=".",".",IF(L40="-","-","")) | M41: =IF(M40=".",".",IF(M40="-","-","")) | N41: =IF(N40=".",".",IF(N40="-","-","")) | O41: =IF(O40=".",".","") | P41: =IF(P40=".",".","") | Q41: =IF(Q40=".",".",IF(Q40="-","-","")) | R41: =IF(R40=".",".",IF(R40="-","-","")) | S41: =IF(S40=".",".",IF(S40="-","-","")) | T41: =IF(T40=".",".",IF(T40="-","-","")) | U41: =IF(U40=".",".",IF(U40="-","-","")) | V41: =IF(V40=".",".","") | W41: =IF(W40=".",".","") | X41: =IF(X40=".",".",IF(X40="-","-","")) | Y41: =IF(Y40=".",".",IF(Y40="-","-","")) | Z41: =IF(Z40=".",".",IF(Z40="-","-","")) | AA41: =IF(AA40=".",".",IF(AA40="-","-","")) | AB41: =IF(AB40=".",".",IF(AB40="-","-","")) | AC41: =IF(AC40=".",".","") | AD41: =IF(AD40=".",".","") | AE41: =IF(AE40=".",".",IF(AE40="-","-","")) | AF41: =IF(AF40=".",".",IF(AF40="-","-","")) | AG41: =IF(AG40=".",".",IF(AG40="-","-","")) | AH41: =IF(AH40=".",".",IF(AH40="-","-","")) -> - | AI41: =IF(AI40=".",".",IF(AI40="-","-","")) -> - | AJ41: =IF(AJ40=".",".","") -> . | AK41: =IF(AK40=".",".","") -> . | AL41: =IF(AL40=".",".",IF(AL40="-","-","")) -> . | AM41: =IF(AM40=".",".",IF(AM40="-","-","")) -> . | AV41: Grev | AW41: Grève | AX41: 0 | AY41: 0
...

Sheet Enfants
B1: 2021 | AT1: =B1 -> 2021
C2: Lundi | D2: Mardi | E2: Mercredi | F2: Jeudi | G2: Vendredi | H2: Samedi | I2: Dimanche | J2: Lundi | K2: Mardi | L2: Mercredi | M2: Jeudi | N2: Vendredi | O2: Samedi | P2: Dimanche | Q2: Lundi | R2: Mardi | S2: Mercredi | T2: Jeudi | U2: Vendredi | V2: Samedi | W2: Dimanche | X2: Lundi | Y2: Mardi | Z2: Mercredi | AA2: Jeudi | AB2: Vendredi | AC2: Samedi | AD2: Dimanche | AE2: Lundi | AF2: Mardi | AG2: Mercredi | AH2: Jeudi | AI2: Vendredi | AJ2: Samedi | AK2: Dimanche | AL2: Lundi | AM2: Mardi | AN2: Congé scolaire | AO2: Week-end | AP2: Enfants CS | AQ2: Enfant WE | AU2: =LEFT(C2,2) -> Lu | AV2: =LEFT(D2,2) -> Ma | AW2: =LEFT(E2,2) -> Me | AX2: =LEFT(F2,2) -> Je | AY2: =LEFT(G2,2) -> Ve | AZ2: =LEFT(H2,2) -> Sa | BA2: =LEFT(I2,2) -> Di | BB2: =LEFT(J2,2) -> Lu | ... CE2: =LEFT(AM2,2) -> Ma
B3: Janvier | C3: 0 | D3: 0 | E3: 0 | F3: 0 | G3: =F3+1 -> 1 | H3: =G3+1 -> 2 | I3: =H3+1 -> 3 | J3: =I3+1 -> 4 | K3: =J3+1 -> 5 | L3: =K3+1 -> 6 | M3: =L3+1 -> 7 | N3: =M3+1 -> 8 | ... AK3: =AJ3+1 -> 31 | AL3: 0 | AM3: 0 | AN3: =COUNTIF(C4:AM4,"CS") -> 1 | AO3: =COUNTIF(C4:AM4,"WE")/2 -> 5 | AP3: =COUNTIFS(C4:AM4,"CS",C5:AM5,"Did") -> 0 | AQ3: =COUNTIFS(C4:AM4,"WE",C5:AM5,"Did")/2 -> 2 | AT3: =B3 -> Janvier | AU3: =IF(C3="0",".",IF(C5="",C3,CONCATENATE(C3,"*"))) -> . | AV3: =IF(D3="0",".",IF(D5="",D3,CONCATENATE(D3,"*"))) -> . | AW3: =IF(E3="0",".",IF(E5="",E3,CONCATENATE(E3,"*"))) -> . | AX3: =IF(F3="0",".",IF(F5="",F3,CONCATENATE(F3,"*"))) -> . | AY3: =IF(G3="0",".",IF(G5="",G3,CONCATENATE(G3,"*"))) -> 1 | AZ3: =IF(H3="0",".",IF(H5="",H3,CONCATENATE(H3,"*"))) -> 2 | BA3: =IF(I3="0",".",IF(I5="",I3,CONCATENATE(I3,"*"))) -> 3 | BB3: =IF(J3="0",".",IF(J5="",J3,CONCATENATE(J3,"*"))) -> 4 | ... CE3: =IF(AM3="0",".",IF(AM5="",AM3,CONCATENATE(AM3,"*"))) -> .
C4: =IF(C3="0",C3,"") -> 0 | D4: =IF(D3="0",D3,"") -> 0 | E4: =IF(E3="0",E3,"") -> 0 | F4: =IF(F3="0",F3,"") -> 0 | G4: CS | H4: WE | I4: WE | J4: =IF(J3="0",J3,"") | K4: =IF(K3="0",K3,"") | L4: =IF(L3="0",L3,"") | M4: =IF(M3="0",M3,"") | N4: =IF(N3="0",N3,"") | O4: WE | P4: WE | Q4: =IF(Q3="0",Q3,"") | R4: =IF(R3="0",R3,"") | S4: =IF(S3="0",S3,"") | T4: =IF(T3="0",T3,"") | U4: =IF(U3="0",U3,"") | V4: WE | W4: WE | X4: =IF(X3="0",X3,"") | Y4: =IF(Y3="0",Y3,"") | Z4: =IF(Z3="0",Z3,"") | AA4: =IF(AA3="0",AA3,"") | AB4: =IF(AB3="0",AB3,"") | AC4: WE | AD4: WE | AE4: =IF(AE3="0",AE3,"") | AF4: =IF(AF3="0",AF3,"") | AG4: =IF(AG3="0",AG3,"") | AH4: =IF(AH3="0",AH3,"") | AI4: =IF(AI3="0",AI3,"") | AJ4: WE | AK4: WE | AL4: =IF(AL3="0",AL3,"") -> 0 | AM4: =IF(AM3="0",AM3,"") -> 0 | AT4: =B6 -> Février | AU4: =IF(C6="0",".",IF(C8="",C6,CONCATENATE(C6,"*"))) -> 1 | AV4: =IF(D6="0",".",IF(D8="",D6,CONCATENATE(D6,"*"))) -> 2 | AW4: =IF(E6="0",".",IF(E8="",E6,CONCATENATE(E6,"*"))) -> 3 | AX4: =IF(F6="0",".",IF(F8="",F6,CONCATENATE(F6,"*"))) -> 4 | AY4: =IF(G6="0",".",IF(G8="",G6,CONCATENATE(G6,"*"))) -> 5 | AZ4: =IF(H6="0",".",IF(H8="",H6,CONCATENATE(H6,"*"))) -> 6* | BA4: =IF(I6="0",".",IF(I8="",I6,CONCATENATE(I6,"*"))) -> 7* | BB4: =IF(J6="0",".",IF(J8="",J6,CONCATENATE(J6,"*"))) -> 8 | ... CE4: =IF(AM6="0",".",IF(AM8="",AM6,CONCATENATE(AM6,"*"))) -> .
C5: =IF(C3="0",C3,"") -> 0 | D5: =IF(D3="0",D3,"") -> 0 | E5: =IF(E3="0",E3,"") -> 0 | F5: =IF(F3="0",F3,"") -> 0 | G5: =IF(G3="0",G3,"") | H5: =IF(H3="0",H3,"") | I5: =IF(I3="0",I3,"") | J5: =IF(J3="0",J3,"") | ... N5: =IF(N3="0",N3,"") | O5: Did | P5: Did | Q5: =IF(Q3="0",Q3,"") | R5: =IF(R3="0",R3,"") | S5: =IF(S3="0",S3,"") | T5: =IF(T3="0",T3,"") | U5: =IF(U3="0",U3,"") | V5: =IF(V3="0",V3,"") | W5: =IF(W3="0",W3,"") | X5: =IF(X3="0",X3,"") | ... AB5: =IF(AB3="0",AB3,"") | AC5: Did | AD5: Did | AE5: =IF(AE3="0",AE3,"") | AF5: =IF(AF3="0",AF3,"") | AG5: =IF(AG3="0",AG3,"") | AH5: =IF(AH3="0",AH3,"") | AI5: =IF(AI3="0",AI3,"") | AJ5: =IF(AJ3="0",AJ3,"") | AK5: =IF(AK3="0",AK3,"") | AL5: =IF(AL3="0",AL3,"") -> 0 | AM5: =IF(AM3="0",AM3,"") -> 0 | AT5: =B9 -> Mars | AU5: =IF(C9="0",".",IF(C11="",C9,CONCATENATE(C9,"*"))) -> 1 | AV5: =IF(D9="0",".",IF(D11="",D9,CONCATENATE(D9,"*"))) -> 2 | AW5: =IF(E9="0",".",IF(E11="",E9,CONCATENATE(E9,"*"))) -> 3 | AX5: =IF(F9="0",".",IF(F11="",F9,CONCATENATE(F9,"*"))) -> 4 | AY5: =IF(G9="0",".",IF(G11="",G9,CONCATENATE(G9,"*"))) -> 5 | AZ5: =IF(H9="0",".",IF(H11="",H9,CONCATENATE(H9,"*"))) -> 6* | BA5: =IF(I9="0",".",IF(I11="",I9,CONCATENATE(I9,"*"))) -> 7* | BB5: =IF(J9="0",".",IF(J11="",J9,CONCATENATE(J9,"*"))) -> 8 | ... CE5: =IF(AM9="0",".",IF(AM11="",AM9,CONCATENATE(AM9,"*"))) -> .
B6: Février | C6: 1 | D6: =C6+1 -> 2 | E6: =D6+1 -> 3 | F6: =E6+1 -> 4 | G6: =F6+1 -> 5 | H6: =G6+1 -> 6 | I6: =H6+1 -> 7 | J6: =I6+1 -> 8 | K6: =J6+1 -> 9 | ... AD6: =AC6+1 -> 28 | AE6: 0 | AF6: 0 | AG6: 0 | AH6: 0 | AI6: 0 | AJ6: 0 | AK6: 0 | AL6: 0 | AM6: 0 | AN6: =COUNTIF(C7:AM7,"CS") -> 5 | AO6: =COUNTIF(C7:AM7,"WE")/2 -> 4 | AP6: =COUNTIFS(C7:AM7,"CS",C8:AM8,"Did") -> 3 | AQ6: =COUNTIFS(C7:AM7,"WE",C8:AM8,"Did")/2 -> 2 | AT6: =B12 -> Avril | AU6: =IF(C12="0",".",IF(C14="",C12,CONCATENATE(C12,"*"))) -> . | AV6: =IF(D12="0",".",IF(D14="",D12,CONCATENATE(D12,"*"))) -> . | AW6: =IF(E12="0",".",IF(E14="",E12,CONCATENATE(E12,"*"))) -> . | AX6: =IF(F12="0",".",IF(F14="",F12,CONCATENATE(F12,"*"))) -> 1 | AY6: =IF(G12="0",".",IF(G14="",G12,CONCATENATE(G12,"*"))) -> 2 | AZ6: =IF(H12="0",".",IF(H14="",H12,CONCATENATE(H12,"*"))) -> 3* | BA6: =IF(I12="0",".",IF(I14="",I12,CONCATENATE(I12,"*"))) -> 4* | BB6: =IF(J12="0",".",IF(J14="",J12,CONCATENATE(J12,"*"))) -> 5 | ... CE6: =IF(AM12="0",".",IF(AM14="",AM12,CONCATENATE(AM12,"*"))) -> .
C7: =IF(C6="0",C6,"") | D7: =IF(D6="0",D6,"") | E7: =IF(E6="0",E6,"") | F7: =IF(F6="0",F6,"") | G7: =IF(G6="0",G6,"") | H7: WE | I7: WE | J7: =IF(J6="0",J6,"") | K7: =IF(K6="0",K6,"") | L7: =IF(L6="0",L6,"") | M7: =IF(M6="0",M6,"") | N7: =IF(N6="0",N6,"") | O7: WE | P7: WE | Q7: CS | R7: CS | S7: CS | T7: CS | U7: CS | V7: WE | W7: WE | X7: =IF(X6="0",X6,"") | Y7: =IF(Y6="0",Y6,"") | Z7: =IF(Z6="0",Z6,"") | AA7: =IF(AA6="0",AA6,"") | AB7: =IF(AB6="0",AB6,"") | AC7: WE | AD7: WE | AE7: =IF(AE6="0",AE6,"") -> 0 | AF7: =IF(AF6="0",AF6,"") -> 0 | AG7: =IF(AG6="0",AG6,"") -> 0 | AH7: =IF(AH6="0",AH6,"") -> 0 | AI7: =IF(AI6="0",AI6,"") -> 0 | AJ7: =IF(AJ6="0",AJ6,"") -> 0 | AK7: =IF(AK6="0",AK6,"") -> 0 | AL7: =IF(AL6="0",AL6,"") -> 0 | AM7: =IF(AM6="0",AM6,"") -> 0 | AT7: =B15 -> Mai | AU7: =IF(C15="0",".",IF(C17="",C15,CONCATENATE(C15,"*"))) -> . | AV7: =IF(D15="0",".",IF(D17="",D15,CONCATENATE(D15,"*"))) -> . | AW7: =IF(E15="0",".",IF(E17="",E15,CONCATENATE(E15,"*"))) -> . | AX7: =IF(F15="0",".",IF(F17="",F15,CONCATENATE(F15,"*"))) -> . | AY7: =IF(G15="0",".",IF(G17="",G15,CONCATENATE(G15,"*"))) -> . | AZ7: =IF(H15="0",".",IF(H17="",H15,CONCATENATE(H15,"*"))) -> 1* | BA7: =IF(I15="0",".",IF(I17="",I15,CONCATENATE(I15,"*"))) -> 2* | BB7: =IF(J15="0",".",IF(J17="",J15,CONCATENATE(J15,"*"))) -> 3 | ... CE7: =IF(AM15="0",".",IF(AM17="",AM15,CONCATENATE(AM15,"*"))) -> .
C8: =IF(C6="0",C6,"") | D8: =IF(D6="0",D6,"") | E8: =IF(E6="0",E6,"") | F8: =IF(F6="0",F6,"") | G8: =IF(G6="0",G6,"") | H8: Did | I8: Did | J8: =IF(J6="0",J6,"") | K8: =IF(K6="0",K6,"") | L8: =IF(L6="0",L6,"") | M8: =IF(M6="0",M6,"") | N8: =IF(N6="0",N6,"") | O8: =IF(O6="0",O6,"") | P8: =IF(P6="0",P6,"") | Q8: =IF(Q6="0",Q6,"") | R8: =IF(R6="0",R6,"") | S8: Did | T8: Did | U8: Did | V8: Did | W8: Did | X8: =IF(X6="0",X6,"") | Y8: =IF(Y6="0",Y6,"") | Z8: =IF(Z6="0",Z6,"") | AA8: =IF(AA6="0",AA6,"") | AB8: =IF(AB6="0",AB6,"") | AC8: =IF(AC6="0",AC6,"") | AD8: =IF(AD6="0",AD6,"") | AE8: =IF(AE6="0",AE6,"") -> 0 | ... AM8: =IF(AM6="0",AM6,"") -> 0 | AT8: =B18 -> Juin | AU8: =IF(C18="0",".",IF(C20="",C18,CONCATENATE(C18,"*"))) -> . | AV8: =IF(D18="0",".",IF(D20="",D18,CONCATENATE(D18,"*"))) -> 1 | AW8: =IF(E18="0",".",IF(E20="",E18,CONCATENATE(E18,"*"))) -> 2 | AX8: =IF(F18="0",".",IF(F20="",F18,CONCATENATE(F18,"*"))) -> 3 | AY8: =IF(G18="0",".",IF(G20="",G18,CONCATENATE(G18,"*"))) -> 4 | AZ8: =IF(H18="0",".",IF(H20="",H18,CONCATENATE(H18,"*"))) -> 5 | BA8: =IF(I18="0",".",IF(I20="",I18,CONCATENATE(I18,"*"))) -> 6 | BB8: =IF(J18="0",".",IF(J20="",J18,CONCATENATE(J18,"*"))) -> 7 | ... CE8: =IF(AM18="0",".",IF(AM20="",AM18,CONCATENATE(AM18,"*"))) -> .
B9: Mars | C9: 1 | D9: =C9+1 -> 2 | E9: =D9+1 -> 3 | F9: =E9+1 -> 4 | G9: =F9+1 -> 5 | H9: =G9+1 -> 6 | I9: =H9+1 -> 7 | J9: =I9+1 -> 8 | K9: =J9+1 -> 9 | ... AG9: =AF9+1 -> 31 | AH9: 0 | AI9: 0 | AJ9: 0 | AK9: 0 | AL9: 0 | AM9: 0 | AN9: =COUNTIF(C10:AM10,"CS") -> 0 | AO9: =COUNTIF(C10:AM10,"WE")/2 -> 4 | AP9: =COUNTIFS(C10:AM10,"CS",C11:AM11,"Did") -> 0 | AQ9: =COUNTIFS(C10:AM10,"WE",C11:AM11,"Did")/2 -> 2 | AT9: =B21 -> Juillet | AU9: =IF(C21="0",".",IF(C23="",C21,CONCATENATE(C21,"*"))) -> . | AV9: =IF(D21="0",".",IF(D23="",D21,CONCATENATE(D21,"*"))) -> . | AW9: =IF(E21="0",".",IF(E23="",E21,CONCATENATE(E21,"*"))) -> . | AX9: =IF(F21="0",".",IF(F23="",F21,CONCATENATE(F21,"*"))) -> 1 | AY9: =IF(G21="0",".",IF(G23="",G21,CONCATENATE(G21,"*"))) -> 2 | AZ9: =IF(H21="0",".",IF(H23="",H21,CONCATENATE(H21,"*"))) -> 3 | BA9: =IF(I21="0",".",IF(I23="",I21,CONCATENATE(I21,"*"))) -> 4 | BB9: =IF(J21="0",".",IF(J23="",J21,CONCATENATE(J21,"*"))) -> 5 | ... CE9: =IF(AM21="0",".",IF(AM23="",AM21,CONCATENATE(AM21,"*"))) -> .
