Workbook
Name Select_day: Calendrier!$AV$31:$AV$45

Sheet Calendrier
A1: =Enfants!AT1 -> 2021
C2: Lundi | D2: Mardi | E2: Mercredi | F2: Jeudi | G2: Vendredi | H2: Samedi | I2: Dimanche | J2: Lundi | K2: Mardi | L2: Mercredi | M2: Jeudi | N2: Vendredi | O2: Samedi | P2: Dimanche | Q2: Lundi | R2: Mardi | S2: Mercredi | T2: Jeudi | U2: Vendredi | V2: Samedi | W2: Dimanche | X2: Lundi | Y2: Mardi | Z2: Mercredi | AA2: Jeudi | AB2: Vendredi | AC2: Samedi | AD2: Dimanche | AE2: Lundi | AF2: Mardi | AG2: Mercredi | AH2: Jeudi | AI2: Vendredi | AJ2: Samedi | AK2: Dimanche | AL2: Lundi | AM2: Mardi | AN2: Férier | AO2: Congé | AP2: Récup | AQ2: Sans solde | AR2: Maladie | AS2: Téléworking | AT2: Congé Extra-légal
A3: Janvier | C3: =Enfants!AU3 -> . | D3: =Enfants!AV3 -> . | E3: =Enfants!AW3 -> . | F3: =Enfants!AX3 -> . | G3: =Enfants!AY3 -> 1 | H3: =Enfants!AZ3 -> 2 | I3: =Enfants!BA3 -> 3 | J3: =Enfants!BB3 -> 4 | ... AM3: =Enfants!CE3 -> . | AN3: =COUNTIF(C4:AM4,"Férier") -> 1 | AO3: =(COUNTIF(C4:AM4,"8h_CL")+(COUNTIF(C4:AM4,"4h_CL")*0.5)) -> 0 | AP3: =(COUNTIF(C4:AM4,"8h_RC")+(COUNTIF(C4:AM4,"4h_RC")*0.5)+(COUNTIF(C4:AM4,"2h_RC")*0.25)+(COUNTIF(C4:AM4,"6h_RC")*0.75)) -> 0 | AQ3: =COUNTIF(C4:AM4,"SaSo") -> 0 | AR3: =COUNTIF(C4:AM4,"Malad") -> 1 | AS3: =COUNTIF(C4:AM4,"T-HW") -> 19 | AT3: =(COUNTIF(C4:AM4,"8h_CEL")+(COUNTIF(C4:AM4,"4h_CEL")*0.5)) -> 0
C4: . | D4: . | E4: . | F4: . | G4: Férier | J4: T-HW | K4: Malad | L4: T-HW | M4: T-HW | N4: T-HW | Q4: T-HW | R4: T-HW | S4: T-HW | T4: T-HW | U4: T-HW | X4: T-HW | Y4: T-HW | Z4: T-HW | AA4: T-HW | AB4: T-HW | AE4: T-HW | AF4: T-HW | AG4: T-HW | AH4: T-HW | AI4: T-HW | AL4: . | AM4: .
A5: Février | C5: =Enfants!AU4 -> 1 | D5: =Enfants!AV4 -> 2 | E5: =Enfants!AW4 -> 3 | F5: =Enfants!AX4 -> 4 | G5: =Enfants!AY4 -> 5 | H5: =Enfants!AZ4 -> 6* | I5: =Enfants!BA4 -> 7* | J5: =Enfants!BB4 -> 8 | ... AM5: =Enfants!CE4 -> . | AN5: =COUNTIF(C6:AM6,"Férier") -> 0 | AO5: =(COUNTIF(C6:AM6,"8h_CL")+(COUNTIF(C6:AM6,"4h_CL")*0.5)) -> 0 | AP5: =(COUNTIF(C6:AM6,"8h_RC")+(COUNTIF(C6:AM6,"4h_RC")*0.5)+(COUNTIF(C6:AM6,"2h_RC")*0.25)+(COUNTIF(C6:AM6,"6h_RC")*0.75)) -> 0 | AQ5: =COUNTIF(C6:AM6,"SaSo") -> 0 | AR5: =COUNTIF(C6:AM6,"Malad") -> 0 | AS5: =COUNTIF(C6:AM6,"T-HW") -> 20 | AT5: =(COUNTIF(C6:AM6,"8h_CEL")+(COUNTIF(C6:AM6,"4h_CEL")*0.5)) -> 0
C6: T-HW | D6: T-HW | E6: T-HW | F6: T-HW | G6: T-HW | J6: T-HW | K6: T-HW | L6: T-HW | M6: T-HW | N6: T-HW | Q6: T-HW | R6: T-HW | S6: T-HW | T6: T-HW | U6: T-HW | X6: T-HW | Y6: T-HW | Z6: T-HW | AA6: T-HW | AB6: T-HW | AE6: . | AF6: . | AG6: . | AH6: . | AI6: . | AJ6: . | AK6: . | AL6: . | AM6: .
A7: Mars | C7: =Enfants!AU5 -> 1 | D7: =Enfants!AV5 -> 2 | E7: =Enfants!AW5 -> 3 | F7: =Enfants!AX5 -> 4 | G7: =Enfants!AY5 -> 5 | H7: =Enfants!AZ5 -> 6* | I7: =Enfants!BA5 -> 7* | J7: =Enfants!BB5 -> 8 | ... AM7: =Enfants!CE5 -> . | AN7: =COUNTIF(C8:AM8,"Férier") -> 0 | AO7: =(COUNTIF(C8:AM8,"8h_CL")+(COUNTIF(C8:AM8,"4h_CL")*0.5)) -> 0 | AP7: =(COUNTIF(C8:AM8,"8h_RC")+(COUNTIF(C8:AM8,"4h_RC")*0.5)+(COUNTIF(C8:AM8,"2h_RC")*0.25)+(COUNTIF(C8:AM8,"6h_RC")*0.75)) -> 0 | AQ7: =COUNTIF(C8:AM8,"SaSo") -> 0 | AR7: =COUNTIF(C8:AM8,"Malad") -> 0 | AS7: =COUNTIF(C8:AM8,"T-HW") -> 23 | AT7: =(COUNTIF(C8:AM8,"8h_CEL")+(COUNTIF(C8:AM8,"4h_CEL")*0.5)) -> 0
C8: T-HW | D8: T-HW | E8: T-HW | F8: T-HW | G8: T-HW | J8: T-HW | K8: T-HW | L8: T-HW | M8: T-HW | N8: T-HW | Q8: T-HW | R8: T-HW | S8: T-HW | T8: T-HW | U8: T-HW | X8: T-HW | Y8: T-HW | Z8: T-HW | AA8: T-HW | AB8: T-HW | AE8: T-HW | AF8: T-HW | AG8: T-HW | AH8: . | AI8: . | AJ8: . | AK8: . | AL8: . | AM8: .
A9: Avril | C9: =Enfants!AU6 -> . | D9: =Enfants!AV6 -> . | E9: =Enfants!AW6 -> . | F9: =Enfants!AX6 -> 1 | G9: =Enfants!AY6 -> 2 | H9: =Enfants!AZ6 -> 3* | I9: =Enfants!BA6 -> 4* | J9: =Enfants!BB6 -> 5 | ... AM9: =Enfants!CE6 -> . | AN9: =COUNTIF(C10:AM10,"Férier") -> 1 | AO9: =(COUNTIF(C10:AM10,"8h_CL")+(COUNTIF(C10:AM10,"4h_CL")*0.5)) -> 5 | AP9: =(COUNTIF(C10:AM10,"8h_RC")+(COUNTIF(C10:AM10,"4h_RC")*0.5)+(COUNTIF(C10:AM10,"2h_RC")*0.25)+(COUNTIF(C10:AM10,"6h_RC")*0.75)) -> 0 | AQ9: =COUNTIF(C10:AM10,"SaSo") -> 0 | AR9: =COUNTIF(C10:AM10,"Malad") -> 0 | AS9: =COUNTIF(C10:AM10,"T-HW") -> 16 | AT9: =(COUNTIF(C10:AM10,"8h_CEL")+(COUNTIF(C10:AM10,"4h_CEL")*0.5)) -> 0
C10: . | D10: . | E10: . | F10: T-HW | G10: T-HW | J10: Férier | K10: T-HW | L10: T-HW | M10: T-HW | N10: T-HW | Q10: 8h_CL | R10: 8h_CL | S10: 8h_CL | T10: 8h_CL | U10: 8h_CL | X10: T-HW | Y10: T-HW | Z10: T-HW | AA10: T-HW | AB10: T-HW | AE10: T-HW | AF10: T-HW | AG10: T-HW | AH10: T-HW | AI10: T-HW | AJ10: . | AK10: . | AL10: . | AM10: .
A11: Mai | C11: =Enfants!AU7 -> . | D11: =Enfants!AV7 -> . | E11: =Enfants!AW7 -> . | F11: =Enfants!AX7 -> . | G11: =Enfants!AY7 -> . | H11: =Enfants!AZ7 -> 1* | I11: =Enfants!BA7 -> 2* | J11: =Enfants!BB7 -> 3 | ... AM11: =Enfants!CE7 -> . | AN11: =COUNTIF(C12:AM12,"Férier") -> 2 | AO11: =(COUNTIF(C12:AM12,"8h_CL")+(COUNTIF(C12:AM12,"4h_CL")*0.5)) -> 0 | AP11: =(COUNTIF(C12:AM12,"8h_RC")+(COUNTIF(C12:AM12,"4h_RC")*0.5)+(COUNTIF(C12:AM12,"2h_RC")*0.25)+(COUNTIF(C12:AM12,"6h_RC")*0.75)) -> 0 | AQ11: =COUNTIF(C12:AM12,"SaSo") -> 0 | AR11: =COUNTIF(C12:AM12,"Malad") -> 0 | AS11: =COUNTIF(C12:AM12,"T-HW") -> 19 | AT11: =(COUNTIF(C12:AM12,"8h_CEL")+(COUNTIF(C12:AM12,"4h_CEL")*0.5)) -> 0
C12: . | D12: . | E12: . | F12: . | G12: . | J12: T-HW | K12: T-HW | L12: T-HW | M12: T-HW | N12: T-HW | Q12: T-HW | R12: T-HW | S12: T-HW | T12: Férier | U12: T-HW | X12: T-HW | Y12: T-HW | Z12: T-HW | AA12: T-HW | AB12: T-HW | AE12: Férier | AF12: T-HW | AG12: T-HW | AH12: T-HW | AI12: T-HW | AL12: T-HW | AM12: .
A13: Juin | C13: =Enfants!AU8 -> . | D13: =Enfants!AV8 -> 1 | E13: =Enfants!AW8 -> 2 | F13: =Enfants!AX8 -> 3 | G13: =Enfants!AY8 -> 4 | H13: =Enfants!AZ8 -> 5 | I13: =Enfants!BA8 -> 6 | J13: =Enfants!BB8 -> 7 | ... AM13: =Enfants!CE8 -> . | AN13: =COUNTIF(C14:AM14,"Férier") -> 0 | AO13: =(COUNTIF(C14:AM14,"8h_CL")+(COUNTIF(C14:AM14,"4h_CL")*0.5)) -> 0 | AP13: =(COUNTIF(C14:AM14,"8h_RC")+(COUNTIF(C14:AM14,"4h_RC")*0.5)+(COUNTIF(C14:AM14,"2h_RC")*0.25)+(COUNTIF(C14:AM14,"6h_RC")*0.75)) -> 0 | AQ13: =COUNTIF(C14:AM14,"SaSo") -> 0 | AR13: =COUNTIF(C14:AM14,"Malad") -> 0 | AS13: =COUNTIF(C14:AM14,"T-HW") -> 22 | AT13: =(COUNTIF(C14:AM14,"8h_CEL")+(COUNTIF(C14:AM14,"4h_CEL")*0.5)) -> 0
C14: . | D14: T-HW | E14: T-HW | F14: T-HW | G14: T-HW | J14: T-HW | K14: T-HW | L14: T-HW | M14: T-HW | N14: T-HW | Q14: T-HW | R14: T-HW | S14: T-HW | T14: T-HW | U14: T-HW | X14: T-HW | Y14: T-HW | Z14: T-HW | AA14: T-HW | AB14: T-HW | AE14: T-HW | AF14: T-HW | AG14: T-HW | AH14: . | AI14: . | AJ14: . | AK14: . | AL14: . | AM14: .
A15: Juillet | C15: =Enfants!AU9 -> . | D15: =Enfants!AV9 -> . | E15: =Enfants!AW9 -> . | F15: =Enfants!AX9 -> 1 | G15: =Enfants!AY9 -> 2 | H15: =Enfants!AZ9 -> 3 | I15: =Enfants!BA9 -> 4 | J15: =Enfants!BB9 -> 5 | ... AM15: =Enfants!CE9 -> . | AN15: =COUNTIF(C16:AM16,"Férier") -> 1 | AO15: =(COUNTIF(C16:AM16,"8h_CL")+(COUNTIF(C16:AM16,"4h_CL")*0.5)) -> 0 | AP15: =(COUNTIF(C16:AM16,"8h_RC")+(COUNTIF(C16:AM16,"4h_RC")*0.5)+(COUNTIF(C16:AM16,"2h_RC")*0.25)+(COUNTIF(C16:AM16,"6h_RC")*0.75)) -> 7 | AQ15: =COUNTIF(C16:AM16,"SaSo") -> 0 | AR15: =COUNTIF(C16:AM16,"Malad") -> 0 | AS15: =COUNTIF(C16:AM16,"T-HW") -> 12 | AT15: =(COUNTIF(C16:AM16,"8h_CEL")+(COUNTIF(C16:AM16,"4h_CEL")*0.5)) -> 0
C16: . | D16: . | E16: . | F16: T-HW | G16: T-HW | J16: T-HW | K16: T-HW | L16: T-HW | M16: T-HW | N16: T-HW | Q16: T-HW | R16: T-HW | S16: T-HW | T16: T-HW | U16: T-HW | X16: 4h_RC | Y16: 4h_RC | Z16: Férier | AA16: 4h_RC | AB16: 4h_RC | AE16: 8h_RC | AF16: 8h_RC | AG16: 8h_RC | AH16: 8h_RC | AI16: 8h_RC | AK16: . | AL16: . | AM16: .
A17: Aout | C17: =Enfants!AU10 -> . | D17: =Enfants!AV10 -> . | E17: =Enfants!AW10 -> . | F17: =Enfants!AX10 -> . | G17: =Enfants!AY10 -> . | H17: =Enfants!AZ10 -> . | I17: =Enfants!BA10 -> 1 | J17: =Enfants!BB10 -> 2 | ... AM17: =Enfants!CE10 -> 31 | AN17: =COUNTIF(C18:AM18,"Férier") -> 0 | AO17: =(COUNTIF(C18:AM18,"8h_CL")+(COUNTIF(C18:AM18,"4h_CL")*0.5)) -> 6.5 | AP17: =(COUNTIF(C18:AM18,"8h_RC")+(COUNTIF(C18:AM18,"4h_RC")*0.5)+(COUNTIF(C18:AM18,"2h_RC")*0.25)+(COUNTIF(C18:AM18,"6h_RC")*0.75)) -> 2 | AQ17: =COUNTIF(C18:AM18,"SaSo") -> 0 | AR17: =COUNTIF(C18:AM18,"Malad") -> 0 | AS17: =COUNTIF(C18:AM18,"T-HW") -> 11 | AT17: =(COUNTIF(C18:AM18,"8h_CEL")+(COUNTIF(C18:AM18,"4h_CEL")*0.5)) -> 0
C18: . | D18: . | E18: . | F18: . | G18: . | H18: . | J18: T-HW | K18: T-HW | L18: T-HW | M18: T-HW | N18: T-HW | Q18: T-HW | R18: T-HW | S18: T-HW | T18: T-HW | U18: T-HW | X18: 8h_RC | Y18: 8h_CL | Z18: 8h_CL | AA18: 8h_CL | AB18: 8h_CL | AE18: 4h_CL | AF18: 4h_CL | AG18: 4h_CL | AH18: 4h_CL | AI18: 4h_CL | AL18: T-HW | AM18: 8h_RC
A20: Septembre | B20: Date | C20: =Enfants!AU11 -> . | D20: =Enfants!AV11 -> . | E20: =Enfants!AW11 -> 1 | F20: =Enfants!AX11 -> 2 | G20: =Enfants!AY11 -> 3 | H20: =Enfants!AZ11 -> 4 | I20: =Enfants!BA11 -> 5 | J20: =Enfants!BB11 -> 6 | ... AM20: =Enfants!CE11 -> . | AN20: =COUNTIF(C21:AM21,"Férier") -> 0 | AO20: =(COUNTIF(C21:AM21,"8h_CL")+(COUNTIF(C21:AM21,"4h_CL")*0.5)) -> 0 | AP20: =(COUNTIF(C21:AM21,"8h_RC")+(COUNTIF(C21:AM21,"2h_RC")*0.5)+(COUNTIF(C21:AM21,"2h_RC")*0.25)+(COUNTIF(C21:AM21,"6h_RC")*0.75)) -> 0 | AQ20: =COUNTIF(C21:AM21,"SaSo") -> 0 | AR20: =COUNTIF(C21:AM21,"Malad") -> 0 | AS20: =COUNTIF(C21:AM21,"T-HW") -> 0 | AT20: =(COUNTIF(C21:AM21,"8h_CEL")+(COUNTIF(C20:AM20,"2h_CEL")*0.5)) -> 0
B21: y/n | C21: =IF(C20=".",".","") -> . | D21: =IF(D20=".",".","") -> . | H21: =IF(H20=".",".","tot jour") -> tot jour | I21: =IF(I20=".",".",IFERROR(SUM(VLOOKUP(C21,$AV$32:$AX$45,3,0),VLOOKUP(D21,$AV$32:$AX$45,3,0),VLOOKUP(E21,$AV$32:$AX$45,3,0),VLOOKUP(F21,$AV$32:$AX$45,3,0),VLOOKUP(G21,$AV$32:$AX$45,3,0)),"")) | K21: =IF(K20=".",".","") | L21: =IF(L20=".",".","") | M21: =IF(M20=".",".","") | N21: =IF(N20=".",".","") | O21: =IF(O20=".",".","tot jour") -> tot jour | P21: =IF(P20=".",".",IFERROR(SUM(VLOOKUP(J21,$AV$32:$AX$45,3,0),VLOOKUP(K21,$AV$32:$AX$45,3,0),VLOOKUP(L21,$AV$32:$AX$45,3,0),VLOOKUP(M21,$AV$32:$AX$45,3,0),VLOOKUP(N21,$AV$32:$AX$45,3,0)),"")) | Q21: =IF(Q20=".",".","") | R21: =IF(R20=".",".","") | S21: =IF(S20=".",".","") | T21: =IF(T20=".",".","") | U21: =IF(U20=".",".","") | V21: =IF(V20=".",".","tot jour") -> tot jour | W21: =IF(W20=".",".",IFERROR(SUM(VLOOKUP(Q21,$AV$32:$AX$45,3,0),VLOOKUP(R21,$AV$32:$AX$45,3,0),VLOOKUP(S21,$AV$32:$AX$45,3,0),VLOOKUP(T21,$AV$32:$AX$45,3,0),VLOOKUP(U21,$AV$32:$AX$45,3,0)),"")) | X21: =IF(X20=".",".","") | Y21: =IF(Y20=".",".","") | Z21: =IF(Z20=".",".","") | AB21: =IF(AB20=".",".","") | AC21: =IF(AC20=".",".","tot jour") -> tot jour | AD21: =IF(AD20=".",".",IFERROR(SUM(VLOOKUP(X21,$AV$32:$AX$45,3,0),VLOOKUP(Y21,$AV$32:$AX$45,3,0),VLOOKUP(Z21,$AV$32:$AX$45,3,0),VLOOKUP(AA21,$AV$32:$AX$45,3,0),VLOOKUP(AB21,$AV$32:$AX$45,3,0)),"")) | AE21: =IF(AE20=".",".","") | AF21: =IF(AF20=".",".","") | AG21: =IF(AG20=".",".","") | AH21: =IF(AH20=".",".","") | AI21: =IF(AI20=".",".","") -> . | AJ21: =IF(AJ20=".",".","tot jour") -> . | AK21: =IF(AK20=".",".",IFERROR(SUM(VLOOKUP(AE21,$AV$32:$AX$45,3,0),VLOOKUP(AF21,$AV$32:$AX$45,3,0),VLOOKUP(AG21,$AV$32:$AX$45,3,0),VLOOKUP(AH21,$AV$32:$AX$45,3,0),VLOOKUP(AI21,$AV$32:$AX$45,3,0)),"")) -> . | AL21: =IF(AL20=".",".","") -> . | AM21: =IF(AM20=".",".","") -> . | AW21: =IFERROR(SUM(VLOOKUP(J21,AV32:AX45,3,0),VLOOKUP(K21,AV32:AX45,3,0),VLOOKUP(L21,AV32:AX45,3,0),VLOOKUP(M21,AV32:AX45,3,0),VLOOKUP(N21,AV32:AX45,3,0)),"")
B22: IN | C22: =IF(C21=".",".",IF(OR(C21=$AV$32,C21=$AV$34,C21=$AV$36,C21=$AV$40,C21=$AV$42,C21=$AV$43,C21=$AV$44,C21=""),"","-")) -> . | D22: =IF(D21=".",".",IF(OR(D21=$AV$32,D21=$AV$34,D21=$AV$36,D21=$AV$40,D21=$AV$42,D21=$AV$43,D21=$AV$44,D21=""),"","-")) -> . | E22: =IF(E21=".",".",IF(OR(E21=$AV$32,E21=$AV$34,E21=$AV$36,E21=$AV$40,E21=$AV$42,E21=$AV$43,E21=$AV$44,E21=""),"","-")) | F22: =IF(F21=".",".",IF(OR(F21=$AV$32,F21=$AV$34,F21=$AV$36,F21=$AV$40,F21=$AV$42,F21=$AV$43,F21=$AV$44,F21=""),"","-")) | G22: =IF(G21=".",".",IF(OR(G21=$AV$32,G21=$AV$34,G21=$AV$36,G21=$AV$40,G21=$AV$42,G21=$AV$43,G21=$AV$44,G21=""),"","-")) | H22: =IF(H21=".",".","") | I22: =IF(I21=".",".","") | J22: =IF(J21=".",".",IF(OR(J21=$AV$32,J21=$AV$34,J21=$AV$36,J21=$AV$40,J21=$AV$42,J21=$AV$43,J21=$AV$44,J21=""),"","-")) | K22: =IF(K21=".",".",IF(OR(K21=$AV$32,K21=$AV$34,K21=$AV$36,K21=$AV$40,K21=$AV$42,K21=$AV$43,K21=$AV$44,K21=""),"","-")) | L22: =IF(L21=".",".",IF(OR(L21=$AV$32,L21=$AV$34,L21=$AV$36,L21=$AV$40,L21=$AV$42,L21=$AV$43,L21=$AV$44,L21=""),"","-")) | M22: =IF(M21=".",".",IF(OR(M21=$AV$32,M21=$AV$34,M21=$AV$36,M21=$AV$40,M21=$AV$42,M21=$AV$43,M21=$AV$44,M21=""),"","-")) | N22: =IF(N21=".",".",IF(OR(N21=$AV$32,N21=$AV$34,N21=$AV$36,N21=$AV$40,N21=$AV$42,N21=$AV$43,N21=$AV$44,N21=""),"","-")) | O22: =IF(O21=".",".","") | P22: =IF(P21=".",".","") | Q22: =IF(Q21=".",".",IF(OR(Q21=$AV$32,Q21=$AV$34,Q21=$AV$36,Q21=$AV$40,Q21=$AV$42,Q21=$AV$43,Q21=$AV$44,Q21=""),"","-")) | R22: =IF(R21=".",".",IF(OR(R21=$AV$32,R21=$AV$34,R21=$AV$36,R21=$AV$40,R21=$AV$42,R21=$AV$43,R21=$AV$44,R21=""),"","-")) | S22: =IF(S21=".",".",IF(OR(S21=$AV$32,S21=$AV$34,S21=$AV$36,S21=$AV$40,S21=$AV$42,S21=$AV$43,S21=$AV$44,S21=""),"","-")) | T22: =IF(T21=".",".",IF(OR(T21=$AV$32,T21=$AV$34,T21=$AV$36,T21=$AV$40,T21=$AV$42,T21=$AV$43,T21=$AV$44,T21=""),"","-")) | U22: =IF(U21=".",".",IF(OR(U21=$AV$32,U21=$AV$34,U21=$AV$36,U21=$AV$40,U21=$AV$42,U21=$AV$43,U21=$AV$44,U21=""),"","-")) | V22: =IF(V21=".",".","") | W22: =IF(W21=".",".","") | X22: =IF(X21=".",".",IF(OR(X21=$AV$32,X21=$AV$34,X21=$AV$36,X21=$AV$40,X21=$AV$42,X21=$AV$43,X21=$AV$44,X21=""),"","-")) | Y22: =IF(Y21=".",".",IF(OR(Y21=$AV$32,Y21=$AV$34,Y21=$AV$36,Y21=$AV$40,Y21=$AV$42,Y21=$AV$43,Y21=$AV$44,Y21=""),"","-")) | Z22: =IF(Z21=".",".",IF(OR(Z21=$AV$32,Z21=$AV$34,Z21=$AV$36,Z21=$AV$40,Z21=$AV$42,Z21=$AV$43,Z21=$AV$44,Z21=""),"","-")) | AA22: =IF(AA21=".",".",IF(OR(AA21=$AV$32,AA21=$AV$34,AA21=$AV$36,AA21=$AV$40,AA21=$AV$42,AA21=$AV$43,AA21=$AV$44,AA21=""),"","-")) | AB22: =IF(AB21=".",".",IF(OR(AB21=$AV$32,AB21=$AV$34,AB21=$AV$36,AB21=$AV$40,AB21=$AV$42,AB21=$AV$43,AB21=$AV$44,AB21=""),"","-")) | AC22: =IF(AC21=".",".","") | AD22: =IF(AD21=".",".","") | AE22: =IF(AE21=".",".",IF(OR(AE21=$AV$32,AE21=$AV$34,AE21=$AV$36,AE21=$AV$40,AE21=$AV$42,AE21=$AV$43,AE21=$AV$44,AE21=""),"","-")) | AF22: =IF(AF21=".",".",IF(OR(AF21=$AV$32,AF21=$AV$34,AF21=$AV$36,AF21=$AV$40,AF21=$AV$42,AF21=$AV$43,AF21=$AV$44,AF21=""),"","-")) | AG22: =IF(AG21=".",".",IF(OR(AG21=$AV$32,AG21=$AV$34,AG21=$AV$36,AG21=$AV$40,AG21=$AV$42,AG21=$AV$43,AG21=$AV$44,AG21=""),"","-")) | AH22: =IF(AH21=".",".",IF(OR(AH21=$AV$32,AH21=$AV$34,AH21=$AV$36,AH21=$AV$40,AH21=$AV$42,AH21=$AV$43,AH21=$AV$44,AH21=""),"","-")) | AI22: =IF(AI21=".",".",IF(OR(AI21=$AV$32,AI21=$AV$34,AI21=$AV$36,AI21=$AV$40,AI21=$AV$42,AI21=$AV$43,AI21=$AV$44,AI21=""),"","-")) -> . | AJ22: =IF(AJ21=".",".","") -> . | AK22: =IF(AK21=".",".","") -> . | AL22: =IF(AL21=".",".",IF(OR(AL21=$AV$32,AL21=$AV$34,AL21=$AV$36,AL21=$AV$40,AL21=$AV$42,AL21=$AV$43,AL21=$AV$44,AL21=""),"","-")) -> . | AM22: =IF(AM21=".",".",IF(OR(AM21=$AV$32,AM21=$AV$34,AM21=$AV$36,AM21=$AV$40,AM21=$AV$42,AM21=$AV$43,AM21=$AV$44,AM21=""),"","-")) -> .
B23: OUT | C23: =IF(C22=".",".",IF(C22="-","-","")) -> . | D23: =IF(D22=".",".",IF(D22="-","-","")) -> . | E23: =IF(E22=".",".",IF(E22="-","-","")) | F23: =IF(F22=".",".",IF(F22="-","-","")) | G23: =IF(G22=".",".",IF(G22="-","-","")) | J23: =IF(J22=".",".",IF(J22="-","-","")) | K23: =IF(K22=".",".",IF(K22="-","-","")) | L23: =IF(L22=".",".",IF(L22="-","-","")) | M23: =IF(M22=".",".",IF(M22="-","-","")) | N23: =IF(N22=".",".",IF(N22="-","-","")) | O23: =IF(O22=".",".","") | P23: =IF(P22=".",".","") | Q23: =IF(Q22=".",".",IF(Q22="-","-","")) | R23: =IF(R22=".",".",IF(R22="-","-","")) | S23: =IF(S22=".",".",IF(S22="-","-","")) | T23: =IF(T22=".",".",IF(T22="-","-","")) | U23: =IF(U22=".",".",IF(U22="-","-","")) | V23: =IF(V22=".",".","") | W23: =IF(W22=".",".","") | X23: =IF(X22=".",".",IF(X22="-","-","")) | Y23: =IF(Y22=".",".",IF(Y22="-","-","")) | Z23: =IF(Z22=".",".",IF(Z22="-","-","")) | AA23: =IF(AA22=".",".",IF(AA22="-","-","")) | AB23: =IF(AB22=".",".",IF(AB22="-","-","")) | AC23: =IF(AC22=".",".","") | AD23: =IF(AD22=".",".","") | AE23: =IF(AE22=".",".",IF(AE22="-","-","")) | AF23: =IF(AF22=".",".",IF(AF22="-","-","")) | AG23: =IF(AG22=".",".",IF(AG22="-","-","")) | AH23: =IF(AH22=".",".",IF(AH22="-","-","")) | AI23: =IF(AI22=".",".",IF(AI22="-","-","")) -> . | AJ23: =IF(AJ22=".",".","") -> . | AK23: =IF(AK22=".",".","") -> . | AL23: =IF(AL22=".",".",IF(AL22="-","-","")) -> . | AM23: =IF(AM22=".",".",IF(AM22="-","-","")) -> .
A24: /jour/mois | B24: Pause | C24: =IF(C23=".",".",IF(C23="-","-",0)) -> . | D24: =IF(D23=".",".",IF(D23="-","-",0)) -> . | E24: =IF(E23=".",".",IF(E23="-","-",0)) -> 0 | F24: =IF(F23=".",".",IF(F23="-","-",0)) -> 0 | G24: =IF(G23=".",".",IF(G23="-","-",0)) -> 0 | H24: =IF(H23=".",".","All") -> All | I24: =IF(I23=".",".","/ jour") -> / jour | J24: =IF(J23=".",".",IF(J23="-","-",0)) -> 0 | K24: =IF(K23=".",".",IF(K23="-","-",0)) -> 0 | L24: =IF(L23=".",".",IF(L23="-","-",0)) -> 0 | M24: =IF(M23=".",".",IF(M23="-","-",0)) -> 0 | N24: =IF(N23=".",".",IF(N23="-","-",0)) -> 0 | O24: =IF(O23=".",".","All") -> All | P24: =IF(P23=".",".","/ jour") -> / jour | Q24: =IF(Q23=".",".",IF(Q23="-","-",0)) -> 0 | R24: =IF(R23=".",".",IF(R23="-","-",0)) -> 0 | S24: =IF(S23=".",".",IF(S23="-","-",0)) -> 0 | T24: =IF(T23=".",".",IF(T23="-","-",0)) -> 0 | U24: =IF(U23=".",".",IF(U23="-","-",0)) -> 0 | V24: =IF(V23=".",".","All") -> All | W24: =IF(W23=".",".","/ jour") -> / jour | X24: =IF(X23=".",".",IF(X23="-","-",0)) -> 0 | Y24: =IF(Y23=".",".",IF(Y23="-","-",0)) -> 0 | Z24: =IF(Z23=".",".",IF(Z23="-","-",0)) -> 0 | AA24: =IF(AA23=".",".",IF(AA23="-","-",0)) -> 0 | AB24: =IF(AB23=".",".",IF(AB23="-","-",0)) -> 0 | AC24: =IF(AC23=".",".","All") -> All | AD24: =IF(AD23=".",".","/ jour") -> / jour | AE24: =IF(AE23=".",".",IF(AE23="-","-",0)) -> 0 | AF24: =IF(AF23=".",".",IF(AF23="-","-",0)) -> 0 | AG24: =IF(AG23=".",".",IF(AG23="-","-",0)) -> 0 | AH24: =IF(AH23=".",".",IF(AH23="-","-",0)) -> 0 | AI24: =IF(AI23=".",".",IF(AI23="-","-",0)) -> . | AJ24: =IF(AJ23=".",".","All") -> . | AK24: =IF(AK23=".",".","/ jour") -> . | AL24: =IF(AL23=".",".",IF(AL23="-","-",0)) -> . | AM24: =IF(AM23=".",".",IF(AM23="-","-",0)) -> .
A25: =IFERROR(AVERAGE(I25,P25,W25,AD25,AK25),"-") -> - | B25: Total | C25: =IF(C23=".",".",IF(C23="-","-",IFERROR(C23-C22-C24,""))) -> . | D25: =IF(D23=".",".",IF(D23="-","-",IFERROR(D23-D22-D24,""))) -> . | E25: =IF(E23=".",".",IF(E23="-","",IFERROR(E23-E22-E24,""))) | F25: =IF(F23=".",".",IF(F23="-","-",IFERROR(F23-F22-F24,""))) | G25: =IF(G23=".",".",IF(G23="-","-",IFERROR(G23-G22-G24,""))) | H25: =IF(H23=".",".",SUM(C25:G25)+SUM(AL13:AM13)) -> 0 | I25: =IF(I23=".",".",IFERROR(AVERAGE(AL18:AM18,C25:G25),"")) | J25: =IF(J23=".",".",IF(J23="-","-",IFERROR(J23-J22-J24,""))) | K25: =IF(K23=".",".",IF(K23="-","-",IFERROR(K23-K22-K24,""))) | L25: =IF(L23=".",".",IF(L23="-","",IFERROR(L23-L22-L24,""))) | M25: =IF(M23=".",".",IF(M23="-","-",IFERROR(M23-M22-M24,""))) | N25: =IF(N23=".",".",IF(N23="-","-",IFERROR(N23-N22-N24,""))) | O25: =IF(O23=".",".",SUM(J25:N25)) -> 0 | P25: =IF(P23=".",".",IFERROR(O25/P21,"")) | Q25: =IF(Q23=".",".",IF(Q23="-","-",IFERROR(Q23-Q22-Q24,""))) | R25: =IF(R23=".",".",IF(R23="-","-",IFERROR(R23-R22-R24,""))) | S25: =IF(S23=".",".",IF(S23="-","",IFERROR(S23-S22-S24,""))) | T25: =IF(T23=".",".",IF(T23="-","-",IFERROR(T23-T22-T24,""))) | U25: =IF(U23=".",".",IF(U23="-","-",IFERROR(U23-U22-U24,""))) | V25: =IF(V23=".",".",SUM(Q25:U25)) -> 0 | W25: =IF(W23=".",".",IFERROR(AVERAGE(Q25:U25),"")) | X25: =IF(X23=".",".",IF(X23="-","-",IFERROR(X23-X22-X24,""))) | Y25: =IF(Y23=".",".",IF(Y23="-","-",IFERROR(Y23-Y22-Y24,""))) | Z25: =IF(Z23=".",".",IF(Z23="-","",IFERROR(Z23-Z22-Z24,""))) | AA25: =IF(AA23=".",".",IF(AA23="-","-",IFERROR(AA23-AA22-AA24,""))) | AB25: =IF(AB23=".",".",IF(AB23="-","-",IFERROR(AB23-AB22-AB24,""))) | AC25: =IF(AC23=".",".",SUM(X25:AB25)) -> 0 | AD25: =IF(AD23=".",".",IFERROR(AVERAGE(X25:AB25),"")) | AE25: =IF(AE23=".",".",IF(AE23="-","-",IFERROR(AE23-AE22-AE24,""))) | AF25: =IF(AF23=".",".",IF(AF23="-","-",IFERROR(AF23-AF22-AF24,""))) | AG25: =IF(AG23=".",".",IF(AG23="-","",IFERROR(AG23-AG22-AG24,""))) | AH25: =IF(AH23=".",".",IF(AH23="-","-",IFERROR(AH23-AH22-AH24,""))) | AI25: =IF(AI23=".",".",IF(AI23="-","-",IFERROR(AI23-AI22-AI24,""))) -> . | AJ25: =IF(AJ23=".",".",SUM(AE25:AI25)) -> . | AK25: =IF(AK23=".",".",IFERROR(AVERAGE(AE25:AI25),"")) -> . | AL25: =IF(AL23=".",".",IF(AL23="-","-",IFERROR(AL23-AL22-AL24,""))) -> . | AM25: =IF(AM23=".",".",IF(AM23="-","-",IFERROR(AM23-AM22-AM24,""))) -> .
A26: Octobre | B26: Date | C26: =Enfants!AU12 -> . | D26: =Enfants!AV12 -> . | E26: =Enfants!AW12 -> . | F26: =Enfants!AX12 -> . | G26: =Enfants!AY12 -> 1 | H26: =Enfants!AZ12 -> 2 | I26: =Enfants!BA12 -> 3 | J26: =Enfants!BB12 -> 4 | ... AM26: =Enfants!CE12 -> . | AN26: =COUNTIF(C27:AM27,"Férier") -> 0 | AO26: =(COUNTIF(C27:AM27,"8h_CL")+(COUNTIF(C27:AM27,"4h_CL")*0.5)) -> 0 | AP26: =(COUNTIF(C27:AM27,"8h_RC")+(COUNTIF(C27:AM27,"2h_RC")*0.5)+(COUNTIF(C27:AM27,"2h_RC")*0.25)+(COUNTIF(C27:AM27,"6h_RC")*0.75)) -> 0 | AQ26: =COUNTIF(C27:AM27,"SaSo") -> 0 | AR26: =COUNTIF(C27:AM27,"Malad") -> 0 | AS26: =COUNTIF(C27:AM27,"T-HW") -> 0 | AT26: =(COUNTIF(C27:AM27,"8h_CEL")+(COUNTIF(C26:AM26,"2h_CEL")*0.5)) -> 0
B27: y/n | C27: =IF(C26=".",".","") -> . | D27: =IF(D26=".",".","") -> . | E27: =IF(E26=".",".","") -> . | F27: =IF(F26=".",".","") -> . | G27: =IF(G26=".",".","") | H27: =IF(H26=".",".","tot jour") -> tot jour | I27: =IF(I26=".",".",IFERROR(SUM(VLOOKUP(AL21,$AV$32:$AX$45,3,0),VLOOKUP(AM21,$AV$32:$AX$45,3,0),VLOOKUP(C27,$AV$32:$AX$45,3,0),VLOOKUP(D27,$AV$32:$AX$45,3,0),VLOOKUP(E27,$AV$32:$AX$45,3,0),VLOOKUP(F27,$AV$32:$AX$45,3,0),VLOOKUP(G27,$AV$32:$AX$45,3,0)),"")) | K27: =IF(K26=".",".","") | L27: =IF(L26=".",".","") | M27: =IF(M26=".",".","") | N27: =IF(N26=".",".","") | O27: =IF(O26=".",".","tot jour") -> tot jour | P27: =IF(P26=".",".",IFERROR(SUM(VLOOKUP(J27,$AV$32:$AX$45,3,0),VLOOKUP(K27,$AV$32:$AX$45,3,0),VLOOKUP(L27,$AV$32:$AX$45,3,0),VLOOKUP(M27,$AV$32:$AX$45,3,0),VLOOKUP(N27,$AV$32:$AX$45,3,0)),"")) | Q27: =IF(Q26=".",".","") | R27: =IF(R26=".",".","") | S27: =IF(S26=".",".","") | T27: =IF(T26=".",".","") | U27: =IF(U26=".",".","") | V27: =IF(V26=".",".","tot jour") -> tot jour | W27: =IF(W26=".",".",IFERROR(SUM(VLOOKUP(Q27,$AV$32:$AX$45,3,0),VLOOKUP(R27,$AV$32:$AX$45,3,0),VLOOKUP(S27,$AV$32:$AX$45,3,0),VLOOKUP(T27,$AV$32:$AX$45,3,0),VLOOKUP(U27,$AV$32:$AX$45,3,0)),"")) | X27: =IF(X26=".",".","") | Y27: =IF(Y26=".",".","") | Z27: =IF(Z26=".",".","") | AA27: =IF(AA26=".",".","") | AB27: =IF(AB26=".",".","") | AC27: =IF(AC26=".",".","tot jour") -> tot jour | AD27: =IF(AD26=".",".",IFERROR(SUM(VLOOKUP(X27,$AV$32:$AX$45,3,0),VLOOKUP(Y27,$AV$32:$AX$45,3,0),VLOOKUP(Z27,$AV$32:$AX$45,3,0),VLOOKUP(AA27,$AV$32:$AX$45,3,0),VLOOKUP(AB27,$AV$32:$AX$45,3,0)),"")) | AE27: =IF(AE26=".",".","") | AF27: =IF(AF26=".",".","") | AG27: =IF(AG26=".",".","") | AH27: =IF(AH26=".",".","") | AI27: =IF(AI26=".",".","") | AJ27: =IF(AJ26=".",".","tot jour") -> tot jour | AK27: =IF(AK26=".",".",IFERROR(SUM(VLOOKUP(AE27,$AV$32:$AX$45,3,0),VLOOKUP(AF27,$AV$32:$AX$45,3,0),VLOOKUP(AG27,$AV$32:$AX$45,3,0),VLOOKUP(AH27,$AV$32:$AX$45,3,0),VLOOKUP(AI27,$AV$32:$AX$45,3,0)),"")) | AL27: =IF(AL26=".",".","") -> . | AM27: =IF(AM26=".",".","") -> .
B28: IN | C28: =IF(C27=".",".",IF(C27="T-HW","",IF(C27="Work","",IF(C27="","","-")))) -> . | D28: =IF(D27=".",".",IF(D27="T-HW","",IF(D27="Work","",IF(D27="","","-")))) -> . | E28: =IF(E27=".",".",IF(E27="T-HW","",IF(E27="Work","",IF(E27="","","-")))) -> . | F28: =IF(F27=".",".",IF(F27="T-HW","",IF(F27="Work","",IF(F27="","","-")))) -> . | G28: =IF(G27=".",".",IF(G27="T-HW","",IF(G27="Work","",IF(G27="","","-")))) | H28: =IF(H27=".",".","") | I28: =IF(I27=".",".","") | J28: =IF(J27=".",".",IF(J27="T-HW","",IF(J27="Work","",IF(J27="","","-")))) | K28: =IF(K27=".",".",IF(K27="T-HW","",IF(K27="Work","",IF(K27="","","-")))) | L28: =IF(L27=".",".",IF(L27="T-HW","",IF(L27="Work","",IF(L27="","","-")))) | M28: =IF(M27=".",".",IF(M27="T-HW","",IF(M27="Work","",IF(M27="","","-")))) | N28: =IF(N27=".",".",IF(N27="T-HW","",IF(N27="Work","",IF(N27="","","-")))) | O28: =IF(O27=".",".","") | P28: =IF(P27=".",".","") | Q28: =IF(Q27=".",".",IF(Q27="T-HW","",IF(Q27="Work","",IF(Q27="","","-")))) | R28: =IF(R27=".",".",IF(R27="T-HW","",IF(R27="Work","",IF(R27="","","-")))) | S28: =IF(S27=".",".",IF(S27="T-HW","",IF(S27="Work","",IF(S27="","","-")))) | T28: =IF(T27=".",".",IF(T27="T-HW","",IF(T27="Work","",IF(T27="","","-")))) | U28: =IF(U27=".",".",IF(U27="T-HW","",IF(U27="Work","",IF(U27="","","-")))) | V28: =IF(V27=".",".","") | W28: =IF(W27=".",".","") | X28: =IF(X27=".",".",IF(X27="T-HW","",IF(X27="Work","",IF(X27="","","-")))) | Y28: =IF(Y27=".",".",IF(Y27="T-HW","",IF(Y27="Work","",IF(Y27="","","-")))) | Z28: =IF(Z27=".",".",IF(Z27="T-HW","",IF(Z27="Work","",IF(Z27="","","-")))) | AA28: =IF(AA27=".",".",IF(AA27="T-HW","",IF(AA27="Work","",IF(AA27="","","-")))) | AB28: =IF(AB27=".",".",IF(AB27="T-HW","",IF(AB27="Work","",IF(AB27="","","-")))) | AC28: =IF(AC27=".",".","") | AD28: =IF(AD27=".",".","") | AE28: =IF(AE27=".",".",IF(AE27="T-HW","",IF(AE27="Work","",IF(AE27="","","-")))) | AF28: =IF(AF27=".",".",IF(AF27="T-HW","",IF(AF27="Work","",IF(AF27="","","-")))) | AG28: =IF(AG27=".",".",IF(AG27="T-HW","",IF(AG27="Work","",IF(AG27="","","-")))) | AH28: =IF(AH27=".",".",IF(AH27="T-HW","",IF(AH27="Work","",IF(AH27="","","-")))) | AI28: =IF(AI27=".",".",IF(AI27="T-HW","",IF(AI27="Work","",IF(AI27="","","-")))) | AJ28: =IF(AJ27=".",".","") | AK28: =IF(AK27=".",".","") | AL28: =IF(AL27=".",".",IF(AL27="T-HW","",IF(AL27="Work","",IF(AL27="","","-")))) -> . | AM28: =IF(AM27=".",".",IF(AM27="T-HW","",IF(AM27="Work","",IF(AM27="","","-")))) -> .
B29: OUT | C29: =IF(C28=".",".",IF(C28="-","-","")) -> . | D29: =IF(D28=".",".",IF(D28="-","-","")) -> . | E29: =IF(E28=".",".",IF(E28="-","-","")) -> . | F29: =IF(F28=".",".",IF(F28="-","-","")) -> . | G29: =IF(G28=".",".",IF(G28="-","-","")) | H29: =IF(H28=".",".","") | I29: =IF(I28=".",".","") | J29: =IF(J28=".",".",IF(J28="-","-","")) | K29: =IF(K28=".",".",IF(K28="-","-","")) | L29: =IF(L28=".",".",IF(L28="-","-","")) | M29: =IF(M28=".",".",IF(M28="-","-","")) | N29: =IF(N28=".",".",IF(N28="-","-","")) | O29: =IF(O28=".",".","") | P29: =IF(P28=".",".","") | Q29: =IF(Q28=".",".",IF(Q28="-","-","")) | R29: =IF(R28=".",".",IF(R28="-","-","")) | S29: =IF(S28=".",".",IF(S28="-","-","")) | T29: =IF(T28=".",".",IF(T28="-","-","")) | U29: =IF(U28=".",".",IF(U28="-","-","")) | V29: =IF(V28=".",".","") | W29: =IF(W28=".",".","") | X29: =IF(X28=".",".",IF(X28="-","-","")) | Y29: =IF(Y28=".",".",IF(Y28="-","-","")) | Z29: =IF(Z28=".",".",IF(Z28="-","-","")) | AA29: =IF(AA28=".",".",IF(AA28="-","-","")) | AB29: =IF(AB28=".",".",IF(AB28="-","-","")) | AC29: =IF(AC28=".",".","") | AD29: =IF(AD28=".",".","") | AE29: =IF(AE28=".",".",IF(AE28="-","-","")) | AF29: =IF(AF28=".",".",IF(AF28="-","-","")) | AG29: =IF(AG28=".",".",IF(AG28="-","-","")) | AH29: =IF(AH28=".",".",IF(AH28="-","-","")) | AI29: =IF(AI28=".",".",IF(AI28="-","-","")) | AJ29: =IF(AJ28=".",".","") | AK29: =IF(AK28=".",".","") | AL29: =IF(AL28=".",".",IF(AL28="-","-","")) -> . | AM29: =IF(AM28=".",".",IF(AM28="-","-","")) -> .
A30: /jour/mois | B30: Pause | C30: =IF(C29=".",".",IF(C29="-","-",0)) -> . | D30: =IF(D29=".",".",IF(D29="-","-",0)) -> . | E30: =IF(E29=".",".",IF(E29="-","-",0)) -> . | F30: =IF(F29=".",".",IF(F29="-","-",0)) -> . | G30: =IF(G29=".",".",IF(G29="-","-",0)) -> 0 | H30: =IF(H29=".",".","All") -> All | I30: =IF(I29=".",".","/ jour") -> / jour | J30: =IF(J29=".",".",IF(J29="-","-",0)) -> 0 | K30: =IF(K29=".",".",IF(K29="-","-",0)) -> 0 | L30: =IF(L29=".",".",IF(L29="-","-",0)) -> 0 | M30: =IF(M29=".",".",IF(M29="-","-",0)) -> 0 | N30: =IF(N29=".",".",IF(N29="-","-",0)) -> 0 | O30: =IF(O29=".",".","All") -> All | P30: =IF(P29=".",".","/ jour") -> / jour | Q30: =IF(Q29=".",".",IF(Q29="-","-",0)) -> 0 | R30: =IF(R29=".",".",IF(R29="-","-",0)) -> 0 | S30: =IF(S29=".",".",IF(S29="-","-",0)) -> 0 | T30: =IF(T29=".",".",IF(T29="-","-",0)) -> 0 | U30: =IF(U29=".",".",IF(U29="-","-",0)) -> 0 | V30: =IF(V29=".",".","All") -> All | W30: =IF(W29=".",".","/ jour") -> / jour | X30: =IF(X29=".",".",IF(X29="-","-",0)) -> 0 | Y30: =IF(Y29=".",".",IF(Y29="-","-",0)) -> 0 | Z30: =IF(Z29=".",".",IF(Z29="-","-",0)) -> 0 | AA30: =IF(AA29=".",".",IF(AA29="-","-",0)) -> 0 | AB30: =IF(AB29=".",".",IF(AB29="-","-",0)) -> 0 | AC30: =IF(AC29=".",".","All") -> All | AD30: =IF(AD29=".",".","/ jour") -> / jour | AE30: =IF(AE29=".",".",IF(AE29="-","-",0)) -> 0 | AF30: =IF(AF29=".",".",IF(AF29="-","-",0)) -> 0 | AG30: =IF(AG29=".",".",IF(AG29="-","-",0)) -> 0 | AH30: =IF(AH29=".",".",IF(AH29="-","-",0)) -> 0 | AI30: =IF(AI29=".",".",IF(AI29="-","-",0)) -> 0 | AJ30: =IF(AJ29=".",".","All") -> All | AK30: =IF(AK29=".",".","/ jour") -> / jour | AL30: =IF(AL29=".",".",IF(AL29="-","-",0)) -> . | AM30: =IF(AM29=".",".",IF(AM29="-","-",0)) -> .
A31: =IFERROR(AVERAGE(C31:G31,J31:N31,Q31:U31,X31:AB31,AE31:AI31,AL31:AM31),"-") -> - | B31: Total | C31: =IF(C29=".",".",IF(C29="-","-",IFERROR(C29-C28-C30,""))) -> . | D31: =IF(D29=".",".",IF(D29="-","-",IFERROR(D29-D28-D30,""))) -> . | E31: =IF(E29=".",".",IF(E29="-","",IFERROR(E29-E28-E30,""))) -> . | F31: =IF(F29=".",".",IF(F29="-","-",IFERROR(F29-F28-F30,""))) -> . | G31: =IF(G29=".",".",IF(G29="-","-",IFERROR(G29-G28-G30,""))) | H31: =IF(H29=".",".",SUM(C31:G31)+SUM(AL19:AM19)) -> 0 | I31: =IF(I29=".",".",IFERROR(AVERAGE(AL25:AM25,C31:G31),"")) | J31: =IF(J29=".",".",IF(J29="-","-",IFERROR(J29-J28-J30,""))) | K31: =IF(K29=".",".",IF(K29="-","-",IFERROR(K29-K28-K30,""))) | L31: =IF(L29=".",".",IF(L29="-","",IFERROR(L29-L28-L30,""))) | M31: =IF(M29=".",".",IF(M29="-","-",IFERROR(M29-M28-M30,""))) | N31: =IF(N29=".",".",IF(N29="-","-",IFERROR(N29-N28-N30,""))) | O31: =IF(O29=".",".",SUM(J31:N31)) -> 0 | P31: =IF(P29=".",".",IFERROR(AVERAGE(J31:N31),"")) | Q31: =IF(Q29=".",".",IF(Q29="-","-",IFERROR(Q29-Q28-Q30,""))) | R31: =IF(R29=".",".",IF(R29="-","-",IFERROR(R29-R28-R30,""))) | S31: =IF(S29=".",".",IF(S29="-","",IFERROR(S29-S28-S30,""))) | T31: =IF(T29=".",".",IF(T29="-","-",IFERROR(T29-T28-T30,""))) | U31: =IF(U29=".",".",IF(U29="-","-",IFERROR(U29-U28-U30,""))) | V31: =IF(V29=".",".",SUM(Q31:U31)) -> 0 | W31: =IF(W29=".",".",IFERROR(AVERAGE(Q31:U31),"")) | X31: =IF(X29=".",".",IF(X29="-","-",IFERROR(X29-X28-X30,""))) | Y31: =IF(Y29=".",".",IF(Y29="-","-",IFERROR(Y29-Y28-Y30,""))) | Z31: =IF(Z29=".",".",IF(Z29="-","",IFERROR(Z29-Z28-Z30,""))) | AA31: =IF(AA29=".",".",IF(AA29="-","-",IFERROR(AA29-AA28-AA30,""))) | AB31: =IF(AB29=".",".",IF(AB29="-","-",IFERROR(AB29-AB28-AB30,""))) | AC31: =IF(AC29=".",".",SUM(X31:AB31)) -> 0 | AD31: =IF(AD29=".",".",IFERROR(AVERAGE(X31:AB31),"")) | AE31: =IF(AE29=".",".",IF(AE29="-","-",IFERROR(AE29-AE28-AE30,""))) | AF31: =IF(AF29=".",".",IF(AF29="-","-",IFERROR(AF29-AF28-AF30,""))) | AG31: =IF(AG29=".",".",IF(AG29="-","",IFERROR(AG29-AG28-AG30,""))) | AH31: =IF(AH29=".",".",IF(AH29="-","-",IFERROR(AH29-AH28-AH30,""))) | AI31: =IF(AI29=".",".",IF(AI29="-","-",IFERROR(AI29-AI28-AI30,""))) | AJ31: =IF(AJ29=".",".",SUM(AE31:AI31)) -> 0 | AK31: =IF(AK29=".",".",IFERROR(AVERAGE(AE31:AI31),"")) | AL31: =IF(AL29=".",".",IF(AL29="-","-",IFERROR(AL29-AL28-AL30,""))) -> . | AM31: =IF(AM29=".",".",IF(AM29="-","-",IFERROR(AM29-AM28-AM30,""))) -> . | AW31: heures/semaines | AY31: 1.5833333
A32: Novembre | B32: Date | C32: =Enfants!AU13 -> 1 | D32: =Enfants!AV13 -> 2 | E32: =Enfants!AW13 -> 3 | F32: =Enfants!AX13 -> 4* | G32: =Enfants!AY13 -> 5* | H32: =Enfants!AZ13 -> 6* | I32: =Enfants!BA13 -> 7* | J32: =Enfants!BB13 -> 8 | ... AM32: =Enfants!CE13 -> . | AN32: =COUNTIF(C33:AM33,"Férier") -> 0 | AO32: =(COUNTIF(C33:AM33,"8h_CL")+(COUNTIF(C33:AM33,"4h_CL")*0.5)) -> 0 | AP32: =(COUNTIF(C33:AM33,"8h_RC")+(COUNTIF(C33:AM33,"2h_RC")*0.5)+(COUNTIF(C33:AM33,"2h_RC")*0.25)+(COUNTIF(C33:AM33,"6h_RC")*0.75)) -> 0 | AQ32: =COUNTIF(C33:AM33,"SaSo") -> 0 | AR32: =COUNTIF(C33:AM33,"Malad") -> 0 | AS32: =COUNTIF(C33:AM33,"T-HW") -> 0 | AT32: =(COUNTIF(C33:AM33,"8h_CEL")+(COUNTIF(C32:AM32,"2h_CEL")*0.5)) -> 0 | AV32: Work | AW32: Jour normal de travail | AX32: 1 | AY32: =AY31/5 -> 0.31666667
B33: y/n | C33: =IF(C32=".",".","") | D33: =IF(D32=".",".","") | E33: =IF(E32=".",".","") | H33: =IF(H32=".",".","tot jour") -> tot jour | I33: =IF(I32=".",".",IFERROR(SUM(VLOOKUP(AL27,$AV$32:$AX$45,3,0),VLOOKUP(AM27,$AV$32:$AX$45,3,0),VLOOKUP(C33,$AV$32:$AX$45,3,0),VLOOKUP(D33,$AV$32:$AX$45,3,0),VLOOKUP(E33,$AV$32:$AX$45,3,0),VLOOKUP(F33,$AV$32:$AX$45,3,0),VLOOKUP(G33,$AV$32:$AX$45,3,0)),"")) | J33: =IF(J32=".",".","") | K33: =IF(K32=".",".","") | L33: =IF(L32=".",".","") | M33: =IF(M32=".",".","") | N33: =IF(N32=".",".","") | O33: =IF(O32=".",".","tot jour") -> tot jour | P33: =IF(P32=".",".",IFERROR(SUM(VLOOKUP(J33,$AV$32:$AX$45,3,0),VLOOKUP(K33,$AV$32:$AX$45,3,0),VLOOKUP(L33,$AV$32:$AX$45,3,0),VLOOKUP(M33,$AV$32:$AX$45,3,0),VLOOKUP(N33,$AV$32:$AX$45,3,0)),"")) | Q33: =IF(Q32=".",".","") | R33: =IF(R32=".",".","") | S33: =IF(S32=".",".","") | T33: =IF(T32=".",".","") | U33: =IF(U32=".",".","") | V33: =IF(V32=".",".","tot jour") -> tot jour | W33: =IF(W32=".",".",IFERROR(SUM(VLOOKUP(Q33,$AV$32:$AX$45,3,0),VLOOKUP(R33,$AV$32:$AX$45,3,0),VLOOKUP(S33,$AV$32:$AX$45,3,0),VLOOKUP(T33,$AV$32:$AX$45,3,0),VLOOKUP(U33,$AV$32:$AX$45,3,0)),"")) | X33: =IF(X32=".",".","") | Y33: =IF(Y32=".",".","") | Z33: =IF(Z32=".",".","") | AA33: =IF(AA32=".",".","") | AB33: =IF(AB32=".",".","") | AC33: =IF(AC32=".",".","tot jour") -> tot jour | AD33: =IF(AD32=".",".",IFERROR(SUM(VLOOKUP(X33,$AV$32:$AX$45,3,0),VLOOKUP(Y33,$AV$32:$AX$45,3,0),VLOOKUP(Z33,$AV$32:$AX$45,3,0),VLOOKUP(AA33,$AV$32:$AX$45,3,0),VLOOKUP(AB33,$AV$32:$AX$45,3,0)),"")) | AE33: =IF(AE32=".",".","") | AF33: =IF(AF32=".",".","") | AG33: =IF(AG32=".",".","") -> . | AH33: =IF(AH32=".",".","") -> . | AI33: =IF(AI32=".",".","") -> . | AJ33: =IF(AJ32=".",".","tot jour") -> . | AK33: =IF(AK32=".",".",IFERROR(SUM(VLOOKUP(AE33,$AV$32:$AX$45,3,0),VLOOKUP(AF33,$AV$32:$AX$45,3,0),VLOOKUP(AG33,$AV$32:$AX$45,3,0),VLOOKUP(AH33,$AV$32:$AX$45,3,0),VLOOKUP(AI33,$AV$32:$AX$45,3,0)),"")) -> . | AL33: =IF(AL32=".",".","") -> . | AM33: =IF(AM32=".",".","") -> . | AV33: Férier | AW33: Jour férier | AX33: 0 | AY33: 0
B34: IN | C34: =IF(C33=".",".",IF(C33="T-HW","",IF(C33="Work","",IF(C33="","","-")))) | D34: =IF(D33=".",".",IF(D33="T-HW","",IF(D33="Work","",IF(D33="","","-")))) | E34: =IF(E33=".",".",IF(E33="T-HW","",IF(E33="Work","",IF(E33="","","-")))) | F34: =IF(F33=".",".",IF(F33="T-HW","",IF(F33="Work","",IF(F33="","","-")))) | G34: =IF(G33=".",".",IF(G33="T-HW","",IF(G33="Work","",IF(G33="","","-")))) | H34: =IF(H33=".",".","") | I34: =IF(I33=".",".","") | J34: =IF(J33=".",".",IF(J33="T-HW","",IF(J33="Work","",IF(J33="","","-")))) | K34: =IF(K33=".",".",IF(K33="T-HW","",IF(K33="Work","",IF(K33="","","-")))) | L34: =IF(L33=".",".",IF(L33="T-HW","",IF(L33="Work","",IF(L33="","","-")))) | M34: =IF(M33=".",".",IF(M33="T-HW","",IF(M33="Work","",IF(M33="","","-")))) | N34: =IF(N33=".",".",IF(N33="T-HW","",IF(N33="Work","",IF(N33="","","-")))) | O34: =IF(O33=".",".","") | P34: =IF(P33=".",".","") | Q34: =IF(Q33=".",".",IF(Q33="T-HW","",IF(Q33="Work","",IF(Q33="","","-")))) | R34: =IF(R33=".",".",IF(R33="T-HW","",IF(R33="Work","",IF(R33="","","-")))) | S34: =IF(S33=".",".",IF(S33="T-HW","",IF(S33="Work","",IF(S33="","","-")))) | T34: =IF(T33=".",".",IF(T33="T-HW","",IF(T33="Work","",IF(T33="","","-")))) | U34: =IF(U33=".",".",IF(U33="T-HW","",IF(U33="Work","",IF(U33="","","-")))) | V34: =IF(V33=".",".","") | W34: =IF(W33=".",".","") | X34: =IF(X33=".",".",IF(X33="T-HW","",IF(X33="Work","",IF(X33="","","-")))) | Y34: =IF(Y33=".",".",IF(Y33="T-HW","",IF(Y33="Work","",IF(Y33="","","-")))) | Z34: =IF(Z33=".",".",IF(Z33="T-HW","",IF(Z33="Work","",IF(Z33="","","-")))) | AA34: =IF(AA33=".",".",IF(AA33="T-HW","",IF(AA33="Work","",IF(AA33="","","-")))) | AB34: =IF(AB33=".",".",IF(AB33="T-HW","",IF(AB33="Work","",IF(AB33="","","-")))) | AC34: =IF(AC33=".",".","") | AD34: =IF(AD33=".",".","") | AE34: =IF(AE33=".",".",IF(AE33="T-HW","",IF(AE33="Work","",IF(AE33="","","-")))) | AF34: =IF(AF33=".",".",IF(AF33="T-HW","",IF(AF33="Work","",IF(AF33="","","-")))) | AG34: =IF(AG33=".",".",IF(AG33="T-HW","",IF(AG33="Work","",IF(AG33="","","-")))) -> . | AH34: =IF(AH33=".",".",IF(AH33="T-HW","",IF(AH33="Work","",IF(AH33="","","-")))) -> . | AI34: =IF(AI33=".",".",IF(AI33="T-HW","",IF(AI33="Work","",IF(AI33="","","-")))) -> . | AJ34: =IF(AJ33=".",".","") -> . | AK34: =IF(AK33=".",".","") -> . | AL34: =IF(AL33=".",".",IF(AL33="T-HW","",IF(AL33="Work","",IF(AL33="","","-")))) -> . | AM34: =IF(AM33=".",".",IF(AM33="T-HW","",IF(AM33="Work","",IF(AM33="","","-")))) -> . | AV34: 4h_CL | AW34: 0,5 jour congé légal | AX34: 0.5 | AY34: =AY32/2 -> 0.15833333
B35: OUT | C35: =IF(C34=".",".",IF(C34="-","-","")) | D35: =IF(D34=".",".",IF(D34="-","-","")) | E35: =IF(E34=".",".",IF(E34="-","-","")) | F35: =IF(F34=".",".",IF(F34="-","-","")) | G35: =IF(G34=".",".",IF(G34="-","-","")) | H35: =IF(H34=".",".","") | I35: =IF(I34=".",".","") | J35: =IF(J34=".",".",IF(J34="-","-","")) | K35: =IF(K34=".",".",IF(K34="-","-","")) | L35: =IF(L34=".",".",IF(L34="-","-","")) | M35: =IF(M34=".",".",IF(M34="-","-","")) | N35: =IF(N34=".",".",IF(N34="-","-","")) | O35: =IF(O34=".",".","") | P35: =IF(P34=".",".","") | Q35: =IF(Q34=".",".",IF(Q34="-","-","")) | R35: =IF(R34=".",".",IF(R34="-","-","")) | S35: =IF(S34=".",".",IF(S34="-","-","")) | T35: =IF(T34=".",".",IF(T34="-","-","")) | U35: =IF(U34=".",".",IF(U34="-","-","")) | V35: =IF(V34=".",".","") | W35: =IF(W34=".",".","") | X35: =IF(X34=".",".",IF(X34="-","-","")) | Y35: =IF(Y34=".",".",IF(Y34="-","-","")) | Z35: =IF(Z34=".",".",IF(Z34="-","-","")) | AA35: =IF(AA34=".",".",IF(AA34="-","-","")) | AB35: =IF(AB34=".",".",IF(AB34="-","-","")) | AC35: =IF(AC34=".",".","") | AD35: =IF(AD34=".",".","") | AE35: =IF(AE34=".",".",IF(AE34="-","-","")) | AF35: =IF(AF34=".",".",IF(AF34="-","-","")) | AG35: =IF(AG34=".",".",IF(AG34="-","-","")) -> . | AH35: =IF(AH34=".",".",IF(AH34="-","-","")) -> . | AI35: =IF(AI34=".",".",IF(AI34="-","-","")) -> . | AJ35: =IF(AJ34=".",".","") -> . | AK35: =IF(AK34=".",".","") -> . | AL35: =IF(AL34=".",".",IF(AL34="-","-","")) -> . | AM35: =IF(AM34=".",".",IF(AM34="-","-","")) -> . | AV35: 8h_CL | AW35: 1 Jour congé légal | AX35: 0 | AY35: 0
A36: /jour/mois | B36: Pause | C36: =IF(C35=".",".",IF(C35="-","-",0)) -> 0 | D36: =IF(D35=".",".",IF(D35="-","-",0)) -> 0 | E36: =IF(E35=".",".",IF(E35="-","-",0)) -> 0 | F36: =IF(F35=".",".",IF(F35="-","-",0)) -> 0 | G36: =IF(G35=".",".",IF(G35="-","-",0)) -> 0 | H36: =IF(H35=".",".","All") -> All | I36: =IF(I35=".",".","/ jour") -> / jour | J36: =IF(J35=".",".",IF(J35="-","-",0)) -> 0 | K36: =IF(K35=".",".",IF(K35="-","-",0)) -> 0 | L36: =IF(L35=".",".",IF(L35="-","-",0)) -> 0 | M36: =IF(M35=".",".",IF(M35="-","-",0)) -> 0 | N36: =IF(N35=".",".",IF(N35="-","-",0)) -> 0 | O36: =IF(O35=".",".","All") -> All | P36: =IF(P35=".",".","/ jour") -> / jour | Q36: =IF(Q35=".",".",IF(Q35="-","-",0)) -> 0 | R36: =IF(R35=".",".",IF(R35="-","-",0)) -> 0 | S36: =IF(S35=".",".",IF(S35="-","-",0)) -> 0 | T36: =IF(T35=".",".",IF(T35="-","-",0)) -> 0 | U36: =IF(U35=".",".",IF(U35="-","-",0)) -> 0 | V36: =IF(V35=".",".","All") -> All | W36: =IF(W35=".",".","/ jour") -> / jour | X36: =IF(X35=".",".",IF(X35="-","-",0)) -> 0 | Y36: =IF(Y35=".",".",IF(Y35="-","-",0)) -> 0 | Z36: =IF(Z35=".",".",IF(Z35="-","-",0)) -> 0 | AA36: =IF(AA35=".",".",IF(AA35="-","-",0)) -> 0 | AB36: =IF(AB35=".",".",IF(AB35="-","-",0)) -> 0 | AC36: =IF(AC35=".",".","All") -> All | AD36: =IF(AD35=".",".","/ jour") -> / jour | AE36: =IF(AE35=".",".",IF(AE35="-","-",0)) -> 0 | AF36: =IF(AF35=".",".",IF(AF35="-","-",0)) -> 0 | AG36: =IF(AG35=".",".",IF(AG35="-","-",0)) -> . | AH36: =IF(AH35=".",".",IF(AH35="-","-",0)) -> . | AI36: =IF(AI35=".",".",IF(AI35="-","-",0)) -> . | AJ36: =IF(AJ35=".",".","All") -> . | AK36: =IF(AK35=".",".","/ jour") -> . | AL36: =IF(AL35=".",".",IF(AL35="-","-",0)) -> . | AM36: =IF(AM35=".",".",IF(AM35="-","-",0)) -> . | AV36: 4h_CEL | AW36: 0,5 jour congé extra-légal | AX36: 0.5 | AY36: =AY34 -> 0.15833333
A37: =IFERROR(AVERAGE(C37:G37,J37:N37,Q37:U37,X37:AB37,AE37:AI37,AL37:AM37),"-") -> - | B37: Total | C37: =IF(C35=".",".",IF(C35="-","-",IFERROR(C35-C34-C36,""))) | D37: =IF(D35=".",".",IF(D35="-","-",IFERROR(D35-D34-D36,""))) | E37: =IF(E35=".",".",IF(E35="-","",IFERROR(E35-E34-E36,""))) | F37: =IF(F35=".",".",IF(F35="-","-",IFERROR(F35-F34-F36,""))) | G37: =IF(G35=".",".",IF(G35="-","-",IFERROR(G35-G34-G36,""))) | H37: =IF(H35=".",".",SUM(C37:G37)+SUM(AL25:AM25)) -> 0 | I37: =IF(I35=".",".",IFERROR(AVERAGE(AL31:AM31,C37:G37),"")) | J37: =IF(J35=".",".",IF(J35="-","-",IFERROR(J35-J34-J36,""))) | K37: =IF(K35=".",".",IF(K35="-","-",IFERROR(K35-K34-K36,""))) | L37: =IF(L35=".",".",IF(L35="-","",IFERROR(L35-L34-L36,""))) | M37: =IF(M35=".",".",IF(M35="-","-",IFERROR(M35-M34-M36,""))) | N37: =IF(N35=".",".",IF(N35="-","-",IFERROR(N35-N34-N36,""))) | O37: =IF(O35=".",".",SUM(J37:N37)) -> 0 | P37: =IF(P35=".",".",IFERROR(AVERAGE(J37:N37),"")) | Q37: =IF(Q35=".",".",IF(Q35="-","-",IFERROR(Q35-Q34-Q36,""))) | R37: =IF(R35=".",".",IF(R35="-","-",IFERROR(R35-R34-R36,""))) | S37: =IF(S35=".",".",IF(S35="-","",IFERROR(S35-S34-S36,""))) | T37: =IF(T35=".",".",IF(T35="-","-",IFERROR(T35-T34-T36,""))) | U37: =IF(U35=".",".",IF(U35="-","-",IFERROR(U35-U34-U36,""))) | V37: =IF(V35=".",".",SUM(Q37:U37)) -> 0 | W37: =IF(W35=".",".",IFERROR(AVERAGE(Q37:U37),"")) | X37: =IF(X35=".",".",IF(X35="-","-",IFERROR(X35-X34-X36,""))) | Y37: =IF(Y35=".",".",IF(Y35="-","-",IFERROR(Y35-Y34-Y36,""))) | Z37: =IF(Z35=".",".",IF(Z35="-","",IFERROR(Z35-Z34-Z36,""))) | AA37: =IF(AA35=".",".",IF(AA35="-","-",IFERROR(AA35-AA34-AA36,""))) | AB37: =IF(AB35=".",".",IF(AB35="-","-",IFERROR(AB35-AB34-AB36,""))) | AC37: =IF(AC35=".",".",SUM(X37:AB37)) -> 0 | AD37: =IF(AD35=".",".",IFERROR(AVERAGE(X37:AB37),"")) | AE37: =IF(AE35=".",".",IF(AE35="-","-",IFERROR(AE35-AE34-AE36,""))) | AF37: =IF(AF35=".",".",IF(AF35="-","-",IFERROR(AF35-AF34-AF36,""))) | AG37: =IF(AG35=".",".",IF(AG35="-","",IFERROR(AG35-AG34-AG36,""))) -> . | AH37: =IF(AH35=".",".",IF(AH35="-","-",IFERROR(AH35-AH34-AH36,""))) -> . | AI37: =IF(AI35=".",".",IF(AI35="-","-",IFERROR(AI35-AI34-AI36,""))) -> . | AJ37: =IF(AJ35=".",".",SUM(AE37:AI37)) -> . | AK37: =IF(AK35=".",".",IFERROR(AVERAGE(AE37:AI37),"")) -> . | AL37: =IF(AL35=".",".",IF(AL35="-","-",IFERROR(AL35-AL34-AL36,""))) -> . | AM37: =IF(AM35=".",".",IF(AM35="-","-",IFERROR(AM35-AM34-AM36,""))) -> . | AV37: 8h_CEL | AW37: 1 Jour congé extra-légal | AX37: 0 | AY37: 0
A38: Décembre | B38: Date | C38: =Enfants!AU14 -> . | D38: =Enfants!AV14 -> . | E38: =Enfants!AW14 -> 1 | F38: =Enfants!AX14 -> 2 | G38: =Enfants!AY14 -> 3 | H38: =Enfants!AZ14 -> 4* | I38: =Enfants!BA14 -> 5* | J38: =Enfants!BB14 -> 6 | ... AM38: =Enfants!CE14 -> . | AN38: =COUNTIF(C39:AM39,"Férier") -> 0 | AO38: =(COUNTIF(C39:AM39,"8h_CL")+(COUNTIF(C39:AM39,"4h_CL")*0.5)) -> 2 | AP38: =(COUNTIF(C39:AM39,"8h_RC")+(COUNTIF(C39:AM39,"2h_RC")*0.5)+(COUNTIF(C39:AM39,"2h_RC")*0.25)+(COUNTIF(C39:AM39,"6h_RC")*0.75)) -> 0 | AQ38: =COUNTIF(C39:AM39,"SaSo") -> 0 | AR38: =COUNTIF(C39:AM39,"Malad") -> 0 | AS38: =COUNTIF(C39:AM39,"T-HW") -> 0 | AT38: =(COUNTIF(C39:AM39,"8h_CEL")+(COUNTIF(C38:AM38,"2h_CEL")*0.5)) -> 0 | AV38: SaSo | AW38: Sans solde | AX38: 0 | AY38: 0
B39: y/n | C39: =IF(C38=".",".","") -> . | D39: =IF(D38=".",".","") -> . | E39: =IF(E38=".",".","") | F39: =IF(F38=".",".","") | G39: =IF(G38=".",".","") | H39: =IF(H38=".",".","tot jour") -> tot jour | I39: =IF(I38=".",".",IFERROR(SUM(VLOOKUP(AL33,$AV$32:$AX$45,3,0),VLOOKUP(AM33,$AV$32:$AX$45,3,0),VLOOKUP(C39,$AV$32:$AX$45,3,0),VLOOKUP(D39,$AV$32:$AX$45,3,0),VLOOKUP(E39,$AV$32:$AX$45,3,0),VLOOKUP(F39,$AV$32:$AX$45,3,0),VLOOKUP(G39,$AV$32:$AX$45,3,0)),"")) | J39: =IF(J38=".",".","") | K39: =IF(K38=".",".","") | L39: =IF(L38=".",".","") | M39: =IF(M38=".",".","") | N39: =IF(N38=".",".","") | O39: =IF(O38=".",".","tot jour") -> tot jour | P39: =IF(P38=".",".",IFERROR(SUM(VLOOKUP(J39,$AV$32:$AX$45,3,0),VLOOKUP(K39,$AV$32:$AX$45,3,0),VLOOKUP(L39,$AV$32:$AX$45,3,0),VLOOKUP(M39,$AV$32:$AX$45,3,0),VLOOKUP(N39,$AV$32:$AX$45,3,0)),"")) | Q39: =IF(Q38=".",".","") | R39: =IF(R38=".",".","") | S39: =IF(S38=".",".","") | T39: =IF(T38=".",".","") | U39: =IF(U38=".",".","") | V39: =IF(V38=".",".","tot jour") -> tot jour | W39: =IF(W38=".",".",IFERROR(SUM(VLOOKUP(Q39,$AV$32:$AX$45,3,0),VLOOKUP(R39,$AV$32:$AX$45,3,0),VLOOKUP(S39,$AV$32:$AX$45,3,0),VLOOKUP(T39,$AV$32:$AX$45,3,0),VLOOKUP(U39,$AV$32:$AX$45,3,0)),"")) | X39: =IF(X38=".",".","") | Y39: =IF(Y38=".",".","") | Z39: =IF(Z38=".",".","") | AA39: =IF(AA38=".",".","") | AB39: =IF(AB38=".",".","") | AC39: =IF(AC38=".",".","tot jour") -> tot jour | AD39: =IF(AD38=".",".",IFERROR(SUM(VLOOKUP(X39,$AV$32:$AX$45,3,0),VLOOKUP(Y39,$AV$32:$AX$45,3,0),VLOOKUP(Z39,$AV$32:$AX$45,3,0),VLOOKUP(AA39,$AV$32:$AX$45,3,0),VLOOKUP(AB39,$AV$32:$AX$45,3,0)),"")) | AE39: =IF(AE38=".",".","") | AF39: =IF(AF38=".",".","") | AG39: =IF(AG38=".",".","") | AH39: 8h_CL | AI39: 8h_CL | AJ39: =IF(AJ38=".",".","tot jour") -> . | AK39: =IF(AK38=".",".",IFERROR(SUM(VLOOKUP(AE39,$AV$32:$AX$45,3,0),VLOOKUP(AF39,$AV$32:$AX$45,3,0),VLOOKUP(AG39,$AV$32:$AX$45,3,0),VLOOKUP(AH39,$AV$32:$AX$45,3,0),VLOOKUP(AI39,$AV$32:$AX$45,3,0)),"")) -> . | AL39: =IF(AL38=".",".","") -> . | AM39: =IF(AM38=".",".","") -> . | AV39: Malad | AW39: Malade | AX39: 0 | AY39: 0
B40: IN | C40: =IF(C39=".",".",IF(C39="T-HW","",IF(C39="Work","",IF(C39="","","-")))) -> . | D40: =IF(D39=".",".",IF(D39="T-HW","",IF(D39="Work","",IF(D39="","","-")))) -> . | E40: =IF(E39=".",".",IF(E39="T-HW","",IF(E39="Work","",IF(E39="","","-")))) | F40: =IF(F39=".",".",IF(F39="T-HW","",IF(F39="Work","",IF(F39="","","-")))) | G40: =IF(G39=".",".",IF(G39="T-HW","",IF(G39="Work","",IF(G39="","","-")))) | H40: =IF(H39=".",".","") | I40: =IF(I39=".",".","") | J40: =IF(J39=".",".",IF(J39="T-HW","",IF(J39="Work","",IF(J39="","","-")))) | K40: =IF(K39=".",".",IF(K39="T-HW","",IF(K39="Work","",IF(K39="","","-")))) | L40: =IF(L39=".",".",IF(L39="T-HW","",IF(L39="Work","",IF(L39="","","-")))) | M40: =IF(M39=".",".",IF(M39="T-HW","",IF(M39="Work","",IF(M39="","","-")))) | N40: =IF(N39=".",".",IF(N39="T-HW","",IF(N39="Work","",IF(N39="","","-")))) | O40: =IF(O39=".",".","") | P40: =IF(P39=".",".","") | Q40: =IF(Q39=".",".",IF(Q39="T-HW","",IF(Q39="Work","",IF(Q39="","","-")))) | R40: =IF(R39=".",".",IF(R39="T-HW","",IF(R39="Work","",IF(R39="","","-")))) | S40: =IF(S39=".",".",IF(S39="T-HW","",IF(S39="Work","",IF(S39="","","-")))) | T40: =IF(T39=".",".",IF(T39="T-HW","",IF(T39="Work","",IF(T39="","","-")))) | U40: =IF(U39=".",".",IF(U39="T-HW","",IF(U39="Work","",IF(U39="","","-")))) | V40: =IF(V39=".",".","") | W40: =IF(W39=".",".","") | X40: =IF(X39=".",".",IF(X39="T-HW","",IF(X39="Work","",IF(X39="","","-")))) | Y40: =IF(Y39=".",".",IF(Y39="T-HW","",IF(Y39="Work","",IF(Y39="","","-")))) | Z40: =IF(Z39=".",".",IF(Z39="T-HW","",IF(Z39="Work","",IF(Z39="","","-")))) | AA40: =IF(AA39=".",".",IF(AA39="T-HW","",IF(AA39="Work","",IF(AA39="","","-")))) | AB40: =IF(AB39=".",".",IF(AB39="T-HW","",IF(AB39="Work","",IF(AB39="","","-")))) | AC40: =IF(AC39=".",".","") | AD40: =IF(AD39=".",".","") | AE40: =IF(AE39=".",".",IF(AE39="T-HW","",IF(AE39="Work","",IF(AE39="","","-")))) | AF40: =IF(AF39=".",".",IF(AF39="T-HW","",IF(AF39="Work","",IF(AF39="","","-")))) | AG40: =IF(AG39=".",".",IF(AG39="T-HW","",IF(AG39="Work","",IF(AG39="","","-")))) | AH40: =IF(AH39=".",".",IF(AH39="T-HW","",IF(AH39="Work","",IF(AH39="","","-")))) -> - | AI40: =IF(AI39=".",".",IF(AI39="T-HW","",IF(AI39="Work","",IF(AI39="","","-")))) -> - | AJ40: =IF(AJ39=".",".","") -> . | AK40: =IF(AK39=".",".","") -> . | AL40: =IF(AL39=".",".",IF(AL39="T-HW","",IF(AL39="Work","",IF(AL39="","","-")))) -> . | AM40: =IF(AM39=".",".",IF(AM39="T-HW","",IF(AM39="Work","",IF(AM39="","","-")))) -> . | AV40: T-HW | AW40: TW - HW | AX40: 1 | AY40: =AY32 -> 0.31666667
B41: OUT | C41: =IF(C40=".",".",IF(C40="-","-","")) -> . | D41: =IF(D40=".",".",IF(D40="-","-","")) -> . | E41: =IF(E40=".",".",IF(E40="-","-","")) | F41: =IF(F40=".",".",IF(F40="-","-","")) | G41: =IF(G40=".",".",IF(G40="-","-","")) | H41: =IF(H40=".",".","") | I41: =IF(I40=".",".","") | J41: =IF(J40=".",".",IF(J40="-","-","")) | K41: =IF(K40=".",".",IF(K40="-","-","")) | L41: =IF(L40=".",".",IF(L40="-","-","")) | M41: =IF(M40=".",".",IF(M40="-","-","")) | N41: =IF(N40=".",".",IF(N40="-","-","")) | O41: =IF(O40=".",".","") | P41: =IF(P40=".",".","") | Q41: =IF(Q40=".",".",IF(Q40="-","-","")) | R41: =IF(R40=".",".",IF(R40="-","-","")) | S41: =IF(S40=".",".",IF(S40="-","-","")) | T41: =IF(T40=".",".",IF(T40="-","-","")) | U41: =IF(U40=".",".",IF(U40="-","-","")) | V41: =IF(V40=".",".","") | W41: =IF(W40=".",".","") | X41: =IF(X40=".",".",IF(X40="-","-","")) | Y41: =IF(Y40=".",".",IF(Y40="-","-","")) | Z41: =IF(Z40=".",".",IF(Z40="-","-","")) | AA41: =IF(AA40=".",".",IF(AA40="-","-","")) | AB41: =IF(AB40=".",".",IF(AB40="-","-","")) | AC41: =IF(AC40=".",".","") | AD41: =IF(AD40=".",".","") | AE41: =IF(AE40=".",".",IF(AE40="-","-","")) | AF41: =IF(AF40=".",".",IF(AF40="-","-","")) | AG41: =IF(AG40=".",".",IF(AG40="-","-","")) | AH41: =IF(AH40=".",".",IF(AH40="-","-","")) -> - | AI41: =IF(AI40=".",".",IF(AI40="-","-","")) -> - | AJ41: =IF(AJ40=".",".","") -> . | AK41: =IF(AK40=".",".","") -> . | AL41: =IF(AL40=".",".",IF(AL40="-","-","")) -> . | AM41: =IF(AM40=".",".",IF(AM40="-","-","")) -> . | AV41: Grev | AW41: Grève | AX41: 0 | AY41: 0
A42: /jour/mois | B42: Pause | C42: =IF(C41=".",".",IF(C41="-","-",0)) -> . | D42: =IF(D41=".",".",IF(D41="-","-",0)) -> . | E42: =IF(E41=".",".",IF(E41="-","-",0)) -> 0 | F42: =IF(F41=".",".",IF(F41="-","-",0)) -> 0 | G42: =IF(G41=".",".",IF(G41="-","-",0)) -> 0 | H42: =IF(H41=".",".","All") -> All | I42: =IF(I41=".",".","/ jour") -> / jour | J42: =IF(J41=".",".",IF(J41="-","-",0)) -> 0 | K42: =IF(K41=".",".",IF(K41="-","-",0)) -> 0 | L42: =IF(L41=".",".",IF(L41="-","-",0)) -> 0 | M42: =IF(M41=".",".",IF(M41="-","-",0)) -> 0 | N42: =IF(N41=".",".",IF(N41="-","-",0)) -> 0 | O42: =IF(O41=".",".","All") -> All | P42: =IF(P41=".",".","/ jour") -> / jour | Q42: =IF(Q41=".",".",IF(Q41="-","-",0)) -> 0 | R42: =IF(R41=".",".",IF(R41="-","-",0)) -> 0 | S42: =IF(S41=".",".",IF(S41="-","-",0)) -> 0 | T42: =IF(T41=".",".",IF(T41="-","-",0)) -> 0 | U42: =IF(U41=".",".",IF(U41="-","-",0)) -> 0 | V42: =IF(V41=".",".","All") -> All | W42: =IF(W41=".",".","/ jour") -> / jour | X42: =IF(X41=".",".",IF(X41="-","-",0)) -> 0 | Y42: =IF(Y41=".",".",IF(Y41="-","-",0)) -> 0 | Z42: =IF(Z41=".",".",IF(Z41="-","-",0)) -> 0 | AA42: =IF(AA41=".",".",IF(AA41="-","-",0)) -> 0 | AB42: =IF(AB41=".",".",IF(AB41="-","-",0)) -> 0 | AC42: =IF(AC41=".",".","All") -> All | AD42: =IF(AD41=".",".","/ jour") -> / jour | AE42: =IF(AE41=".",".",IF(AE41="-","-",0)) -> 0 | AF42: =IF(AF41=".",".",IF(AF41="-","-",0)) -> 0 | AG42: =IF(AG41=".",".",IF(AG41="-","-",0)) -> 0 | AH42: =IF(AH41=".",".",IF(AH41="-","-",0)) -> - | AI42: =IF(AI41=".",".",IF(AI41="-","-",0)) -> - | AJ42: =IF(AJ41=".",".","Total") -> . | AK42: =IF(AK41=".",".","/ jour") -> . | AL42: =IF(AL41=".",".",IF(AL41="-","-",0)) -> . | AM42: =IF(AM41=".",".",IF(AM41="-","-",0)) -> . | AV42: 2h_RC | AW42: 2h CR | AX42: 0.75 | AY42: =AY32-AY44 -> 0.2375
A43: =IFERROR(AVERAGE(C43:G43,J43:N43,Q43:U43,X43:AB43,AE43:AI43,AL43:AM43),"-") -> - | B43: Total | C43: =IF(C41=".",".",IF(C41="-","-",IFERROR(C41-C40-C42,""))) -> . | D43: =IF(D41=".",".",IF(D41="-","-",IFERROR(D41-D40-D42,""))) -> . | E43: =IF(E41=".",".",IF(E41="-","",IFERROR(E41-E40-E42,""))) | F43: =IF(F41=".",".",IF(F41="-","-",IFERROR(F41-F40-F42,""))) | G43: =IF(G41=".",".",IF(G41="-","-",IFERROR(G41-G40-G42,""))) | H43: =IF(H41=".",".",SUM(C43:G43)+SUM(AL31:AM31)) -> 0 | I43: =IF(I41=".",".",IFERROR(AVERAGE(AL37:AM37,C43:G43),"")) | J43: =IF(J41=".",".",IF(J41="-","-",IFERROR(J41-J40-J42,""))) | K43: =IF(K41=".",".",IF(K41="-","-",IFERROR(K41-K40-K42,""))) | L43: =IF(L41=".",".",IF(L41="-","",IFERROR(L41-L40-L42,""))) | M43: =IF(M41=".",".",IF(M41="-","-",IFERROR(M41-M40-M42,""))) | N43: =IF(N41=".",".",IF(N41="-","-",IFERROR(N41-N40-N42,""))) | O43: =IF(O41=".",".",SUM(J43:N43)) -> 0 | P43: =IF(P41=".",".",IFERROR(AVERAGE(J43:N43),"")) | Q43: =IF(Q41=".",".",IF(Q41="-","-",IFERROR(Q41-Q40-Q42,""))) | R43: =IF(R41=".",".",IF(R41="-","-",IFERROR(R41-R40-R42,""))) | S43: =IF(S41=".",".",IF(S41="-","",IFERROR(S41-S40-S42,""))) | T43: =IF(T41=".",".",IF(T41="-","-",IFERROR(T41-T40-T42,""))) | U43: =IF(U41=".",".",IF(U41="-","-",IFERROR(U41-U40-U42,""))) | V43: =IF(V41=".",".",SUM(Q43:U43)) -> 0 | W43: =IF(W41=".",".",IFERROR(AVERAGE(Q43:U43),"")) | X43: =IF(X41=".",".",IF(X41="-","-",IFERROR(X41-X40-X42,""))) | Y43: =IF(Y41=".",".",IF(Y41="-","-",IFERROR(Y41-Y40-Y42,""))) | Z43: =IF(Z41=".",".",IF(Z41="-","",IFERROR(Z41-Z40-Z42,""))) | AA43: =IF(AA41=".",".",IF(AA41="-","-",IFERROR(AA41-AA40-AA42,""))) | AB43: =IF(AB41=".",".",IF(AB41="-","-",IFERROR(AB41-AB40-AB42,""))) | AC43: =IF(AC41=".",".",SUM(X43:AB43)) -> 0 | AD43: =IF(AD41=".",".",IFERROR(AVERAGE(X43:AB43),"")) | AE43: =IF(AE41=".",".",IF(AE41="-","-",IFERROR(AE41-AE40-AE42,""))) | AF43: =IF(AF41=".",".",IF(AF41="-","-",IFERROR(AF41-AF40-AF42,""))) | AG43: =IF(AG41=".",".",IF(AG41="-","",IFERROR(AG41-AG40-AG42,""))) | AH43: =IF(AH41=".",".",IF(AH41="-","-",IFERROR(AH41-AH40-AH42,""))) -> - | AI43: =IF(AI41=".",".",IF(AI41="-","-",IFERROR(AI41-AI40-AI42,""))) -> - | AJ43: =IF(AJ41=".",".",SUM(AE43:AI43)) -> . | AK43: =IF(AK41=".",".",IFERROR(AVERAGE(AE43:AI43),"")) -> . | AL43: =IF(AL41=".",".",IF(AL41="-","-",IFERROR(AL41-AL40-AL42,""))) -> . | AM43: =IF(AM41=".",".",IF(AM41="-","-",IFERROR(AM41-AM40-AM42,""))) -> . | AV43: 4h_RC | AW43: 0,5 jour CR | AX43: 0.5 | AY43: =AY36 -> 0.15833333
A44: =IFERROR(AVERAGE(A20:A43),0) -> 0 | B44: /jour/mois/an | AM44: Pris | AN44: 8 | AO44: =SUM(AO3:AO43) -> 13.5 | AP44: =SUM(AP3:AP43) -> 9 | AQ44: =SUM(AQ3:AQ43) -> 0 | AR44: =SUM(AR3:AR43) -> 1 | AS44: =SUM(AS3:AS43) -> 142 | AT44: =SUM(AT3:AT43) -> 0 | AV44: 6h_RC | AW44: 6h CR | AX44: 0.25 | AY44: =AY32/4 -> 0.079166667
AM45: Sur | AN45: 8 | AO45: 36 | AP45: 9 | AQ45: 45 | AR45: 21 | AS45: =52*3 -> 156 | AT45: 0 | AV45: 8h_RC | AW45: 1 jour CR | AX45: 0 | AY45: 0
AM46: ,Reste | AN46: =AN45-AN44 -> 0 | AO46: =AO45-AO44 -> 22.5 | AP46: =AP45-AP44 -> 0 | AQ46: =AQ45-AQ44 -> 45 | AR46: =AR45-AR44 -> 20 | AS46: =AS45-AS44 -> 14 | AT46: =AT45-AT44 -> 0
AV47: T-HW | AW47: HW suite corona
A48: =Enfants!AT43 -> 2022
C49: Lundi | D49: Mardi | E49: Mercredi | F49: Jeudi | G49: Vendredi | H49: Samedi | I49: Dimanche | J49: Lundi | K49: Mardi | L49: Mercredi | M49: Jeudi | N49: Vendredi | O49: Samedi | P49: Dimanche | Q49: Lundi | R49: Mardi | S49: Mercredi | T49: Jeudi | U49: Vendredi | V49: Samedi | W49: Dimanche | X49: Lundi | Y49: Mardi | Z49: Mercredi | AA49: Jeudi | AB49: Vendredi | AC49: Samedi | AD49: Dimanche | AE49: Lundi | AF49: Mardi | AG49: Mercredi | AH49: Jeudi | AI49: Vendredi | AJ49: Samedi | AK49: Dimanche | AL49: Lundi | AM49: Mardi | AN49: Férier | AO49: Congé | AP49: Récup | AQ49: Sans solde | AR49: Maladie | AS49: Téléworking | AT49: Congé Extra-légal
A50: Janvier | B50: Date | C50: =Enfants!AU45 -> . | D50: =Enfants!AV45 -> . | E50: =Enfants!AW45 -> . | F50: =Enfants!AX45 -> . | G50: =Enfants!AY45 -> . | H50: =Enfants!AZ45 -> 1* | I50: =Enfants!BA45 -> 2* | J50: =Enfants!BB45 -> 3* | ... AM50: =Enfants!CE45 -> . | AN50: =COUNTIF(C51:AM51,"Férier") -> 0 | AO50: =(COUNTIF(C51:AM51,"8h_CL")+(COUNTIF(C51:AM51,"4h_CL")*0.5)) -> 0 | AP50: =(COUNTIF(C51:AM51,"8h_RC")+(COUNTIF(C51:AM51,"2h_RC")*0.5)+(COUNTIF(C51:AM51,"2h_RC")*0.25)+(COUNTIF(C51:AM51,"6h_RC")*0.75)) -> 0 | AQ50: =COUNTIF(C51:AM51,"SaSo") -> 0 | AR50: =COUNTIF(C51:AM51,"Malad") -> 0 | AS50: =COUNTIF(C51:AM51,"T-HW") -> 0 | AT50: =(COUNTIF(C51:AM51,"8h_CEL")+(COUNTIF(C50:AM50,"2h_CEL")*0.5)) -> 0
B51: y/n | C51: =IF(C50=".",".","") -> . | D51: =IF(D50=".",".","") -> . | E51: =IF(E50=".",".","") -> . | F51: =IF(F50=".",".","") -> . | G51: =IF(G50=".",".","") -> . | H51: =IF(H50=".",".","") | I51: =IF(I50=".",".","") | J51: =IF(J50=".",".","") | ... AM51: =IF(AM50=".",".","") -> .
B52: IN | C52: =IF(C51=".",".",IF(C51="T-HW","",IF(C51="Work","",IF(C51="","","-")))) -> . | D52: =IF(D51=".",".",IF(D51="T-HW","",IF(D51="Work","",IF(D51="","","-")))) -> . | E52: =IF(E51=".",".",IF(E51="T-HW","",IF(E51="Work","",IF(E51="","","-")))) -> . | F52: =IF(F51=".",".",IF(F51="T-HW","",IF(F51="Work","",IF(F51="","","-")))) -> . | G52: =IF(G51=".",".",IF(G51="T-HW","",IF(G51="Work","",IF(G51="","","-")))) -> . | H52: =IF(H51=".",".","") | I52: =IF(I51=".",".","") | J52: =IF(J51=".",".",IF(J51="T-HW","",IF(J51="Work","",IF(J51="","","-")))) | K52: =IF(K51=".",".",IF(K51="T-HW","",IF(K51="Work","",IF(K51="","","-")))) | L52: =IF(L51=".",".",IF(L51="T-HW","",IF(L51="Work","",IF(L51="","","-")))) | M52: =IF(M51=".",".",IF(M51="T-HW","",IF(M51="Work","",IF(M51="","","-")))) | N52: =IF(N51=".",".",IF(N51="T-HW","",IF(N51="Work","",IF(N51="","","-")))) | O52: =IF(O51=".",".","") | P52: =IF(P51=".",".","") | Q52: =IF(Q51=".",".",IF(Q51="T-HW","",IF(Q51="Work","",IF(Q51="","","-")))) | R52: =IF(R51=".",".",IF(R51="T-HW","",IF(R51="Work","",IF(R51="","","-")))) | S52: =IF(S51=".",".",IF(S51="T-HW","",IF(S51="Work","",IF(S51="","","-")))) | T52: =IF(T51=".",".",IF(T51="T-HW","",IF(T51="Work","",IF(T51="","","-")))) | U52: =IF(U51=".",".",IF(U51="T-HW","",IF(U51="Work","",IF(U51="","","-")))) | V52: =IF(V51=".",".","") | W52: =IF(W51=".",".","") | X52: =IF(X51=".",".",IF(X51="T-HW","",IF(X51="Work","",IF(X51="","","-")))) | Y52: =IF(Y51=".",".",IF(Y51="T-HW","",IF(Y51="Work","",IF(Y51="","","-")))) | Z52: =IF(Z51=".",".",IF(Z51="T-HW","",IF(Z51="Work","",IF(Z51="","","-")))) | AA52: =IF(AA51=".",".",IF(AA51="T-HW","",IF(AA51="Work","",IF(AA51="","","-")))) | AB52: =IF(AB51=".",".",IF(AB51="T-HW","",IF(AB51="Work","",IF(AB51="","","-")))) | AC52: =IF(AC51=".",".","") | AD52: =IF(AD51=".",".","") | AE52: =IF(AE51=".",".",IF(AE51="T-HW","",IF(AE51="Work","",IF(AE51="","","-")))) | AF52: =IF(AF51=".",".",IF(AF51="T-HW","",IF(AF51="Work","",IF(AF51="","","-")))) | AG52: =IF(AG51=".",".",IF(AG51="T-HW","",IF(AG51="Work","",IF(AG51="","","-")))) | AH52: =IF(AH51=".",".",IF(AH51="T-HW","",IF(AH51="Work","",IF(AH51="","","-")))) | AI52: =IF(AI51=".",".",IF(AI51="T-HW","",IF(AI51="Work","",IF(AI51="","","-")))) | AJ52: =IF(AJ51=".",".","") | AK52: =IF(AK51=".",".","") | AL52: =IF(AL51=".",".",IF(AL51="T-HW","",IF(AL51="Work","",IF(AL51="","","-")))) | AM52: =IF(AM51=".",".",IF(AM51="T-HW","",IF(AM51="Work","",IF(AM51="","","-")))) -> .
B53: OUT | C53: =IF(C52=".",".",IF(C52="-","-","")) -> . | D53: =IF(D52=".",".",IF(D52="-","-","")) -> . | E53: =IF(E52=".",".",IF(E52="-","-","")) -> . | F53: =IF(F52=".",".",IF(F52="-","-","")) -> . | G53: =IF(G52=".",".",IF(G52="-","-","")) -> . | H53: =IF(H52=".",".","") | I53: =IF(I52=".",".","") | J53: =IF(J52=".",".",IF(J52="-","-","")) | K53: =IF(K52=".",".",IF(K52="-","-","")) | L53: =IF(L52=".",".",IF(L52="-","-","")) | M53: =IF(M52=".",".",IF(M52="-","-","")) | N53: =IF(N52=".",".",IF(N52="-","-","")) | O53: =IF(O52=".",".","") | P53: =IF(P52=".",".","") | Q53: =IF(Q52=".",".",IF(Q52="-","-","")) | R53: =IF(R52=".",".",IF(R52="-","-","")) | S53: =IF(S52=".",".",IF(S52="-","-","")) | T53: =IF(T52=".",".",IF(T52="-","-","")) | U53: =IF(U52=".",".",IF(U52="-","-","")) | V53: =IF(V52=".",".","") | W53: =IF(W52=".",".","") | X53: =IF(X52=".",".",IF(X52="-","-","")) | Y53: =IF(Y52=".",".",IF(Y52="-","-","")) | Z53: =IF(Z52=".",".",IF(Z52="-","-","")) | AA53: =IF(AA52=".",".",IF(AA52="-","-","")) | AB53: =IF(AB52=".",".",IF(AB52="-","-","")) | AC53: =IF(AC52=".",".","") | AD53: =IF(AD52=".",".","") | AE53: =IF(AE52=".",".",IF(AE52="-","-","")) | AF53: =IF(AF52=".",".",IF(AF52="-","-","")) | AG53: =IF(AG52=".",".",IF(AG52="-","-","")) | AH53: =IF(AH52=".",".",IF(AH52="-","-","")) | AI53: =IF(AI52=".",".",IF(AI52="-","-","")) | AJ53: =IF(AJ52=".",".","") | AK53: =IF(AK52=".",".","") | AL53: =IF(AL52=".",".",IF(AL52="-","-","")) | AM53: =IF(AM52=".",".",IF(AM52="-","-","")) -> .
A54: /jour/mois | B54: Pause | C54: =IF(C53=".",".",IF(C53="-","-",0)) -> . | D54: =IF(D53=".",".",IF(D53="-","-",0)) -> . | E54: =IF(E53=".",".",IF(E53="-","-",0)) -> . | F54: =IF(F53=".",".",IF(F53="-","-",0)) -> . | G54: =IF(G53=".",".",IF(G53="-","-",0)) -> . | H54: =IF(H53=".",".","All") -> All | I54: =IF(I53=".",".","/ jour") -> / jour | J54: =IF(J53=".",".",IF(J53="-","-",0)) -> 0 | K54: =IF(K53=".",".",IF(K53="-","-",0)) -> 0 | L54: =IF(L53=".",".",IF(L53="-","-",0)) -> 0 | M54: =IF(M53=".",".",IF(M53="-","-",0)) -> 0 | N54: =IF(N53=".",".",IF(N53="-","-",0)) -> 0 | O54: =IF(O53=".",".","All") -> All | P54: =IF(P53=".",".","/ jour") -> / jour | Q54: =IF(Q53=".",".",IF(Q53="-","-",0)) -> 0 | R54: =IF(R53=".",".",IF(R53="-","-",0)) -> 0 | S54: =IF(S53=".",".",IF(S53="-","-",0)) -> 0 | T54: =IF(T53=".",".",IF(T53="-","-",0)) -> 0 | U54: =IF(U53=".",".",IF(U53="-","-",0)) -> 0 | V54: =IF(V53=".",".","All") -> All | W54: =IF(W53=".",".","/ jour") -> / jour | X54: =IF(X53=".",".",IF(X53="-","-",0)) -> 0 | Y54: =IF(Y53=".",".",IF(Y53="-","-",0)) -> 0 | Z54: =IF(Z53=".",".",IF(Z53="-","-",0)) -> 0 | AA54: =IF(AA53=".",".",IF(AA53="-","-",0)) -> 0 | AB54: =IF(AB53=".",".",IF(AB53="-","-",0)) -> 0 | AC54: =IF(AC53=".",".","All") -> All | AD54: =IF(AD53=".",".","/ jour") -> / jour | AE54: =IF(AE53=".",".",IF(AE53="-","-",0)) -> 0 | AF54: =IF(AF53=".",".",IF(AF53="-","-",0)) -> 0 | AG54: =IF(AG53=".",".",IF(AG53="-","-",0)) -> 0 | AH54: =IF(AH53=".",".",IF(AH53="-","-",0)) -> 0 | AI54: =IF(AI53=".",".",IF(AI53="-","-",0)) -> 0 | AJ54: =IF(AJ53=".",".","All") -> All | AK54: =IF(AK53=".",".","/ jour") -> / jour | AL54: =IF(AL53=".",".",IF(AL53="-","-",0)) -> 0 | AM54: =IF(AM53=".",".",IF(AM53="-","-",0)) -> .
A55: =IFERROR(AVERAGE(C55:G55,J55:N55,Q55:U55,X55:AB55,AE55:AI55,AL55:AM55),"-") -> - | B55: Total | C55: =IF(C53=".",".",IF(C53="-","-",IFERROR(C53-C52-C54,""))) -> . | D55: =IF(D53=".",".",IF(D53="-","-",IFERROR(D53-D52-D54,""))) -> . | E55: =IF(E53=".",".",IF(E53="-","",IFERROR(E53-E52-E54,""))) -> . | F55: =IF(F53=".",".",IF(F53="-","-",IFERROR(F53-F52-F54,""))) -> . | G55: =IF(G53=".",".",IF(G53="-","-",IFERROR(G53-G52-G54,""))) -> . | H55: =IF(H53=".",".",SUM(C55:G55)+SUM(AL43:AM43)) -> 0 | I55: =IF(I53=".",".",IFERROR(AVERAGE(AL43:AM43,C55:G55),"")) | J55: =IF(J53=".",".",IF(J53="-","-",IFERROR(J53-J52-J54,""))) | K55: =IF(K53=".",".",IF(K53="-","-",IFERROR(K53-K52-K54,""))) | L55: =IF(L53=".",".",IF(L53="-","",IFERROR(L53-L52-L54,""))) | M55: =IF(M53=".",".",IF(M53="-","-",IFERROR(M53-M52-M54,""))) | N55: =IF(N53=".",".",IF(N53="-","-",IFERROR(N53-N52-N54,""))) | O55: =IF(O53=".",".",SUM(J55:N55)) -> 0 | P55: =IF(P53=".",".",IFERROR(AVERAGE(J55:N55),"")) | Q55: =IF(Q53=".",".",IF(Q53="-","-",IFERROR(Q53-Q52-Q54,""))) | R55: =IF(R53=".",".",IF(R53="-","-",IFERROR(R53-R52-R54,""))) | S55: =IF(S53=".",".",IF(S53="-","",IFERROR(S53-S52-S54,""))) | T55: =IF(T53=".",".",IF(T53="-","-",IFERROR(T53-T52-T54,""))) | U55: =IF(U53=".",".",IF(U53="-","-",IFERROR(U53-U52-U54,""))) | V55: =IF(V53=".",".",SUM(Q55:U55)) -> 0 | W55: =IF(W53=".",".",IFERROR(AVERAGE(Q55:U55),"")) | X55: =IF(X53=".",".",IF(X53="-","-",IFERROR(X53-X52-X54,""))) | Y55: =IF(Y53=".",".",IF(Y53="-","-",IFERROR(Y53-Y52-Y54,""))) | Z55: =IF(Z53=".",".",IF(Z53="-","",IFERROR(Z53-Z52-Z54,""))) | AA55: =IF(AA53=".",".",IF(AA53="-","-",IFERROR(AA53-AA52-AA54,""))) | AB55: =IF(AB53=".",".",IF(AB53="-","-",IFERROR(AB53-AB52-AB54,""))) | AC55: =IF(AC53=".",".",SUM(X55:AB55)) -> 0 | AD55: =IF(AD53=".",".",IFERROR(AVERAGE(X55:AB55),"")) | AE55: =IF(AE53=".",".",IF(AE53="-","-",IFERROR(AE53-AE52-AE54,""))) | AF55: =IF(AF53=".",".",IF(AF53="-","-",IFERROR(AF53-AF52-AF54,""))) | AG55: =IF(AG53=".",".",IF(AG53="-","",IFERROR(AG53-AG52-AG54,""))) | AH55: =IF(AH53=".",".",IF(AH53="-","-",IFERROR(AH53-AH52-AH54,""))) | AI55: =IF(AI53=".",".",IF(AI53="-","-",IFERROR(AI53-AI52-AI54,""))) | AJ55: =IF(AJ53=".",".",SUM(AE55:AI55)) -> 0 | AK55: =IF(AK53=".",".",IFERROR(AVERAGE(AE55:AI55),"")) | AL55: =IF(AL53=".",".",IF(AL53="-","-",IFERROR(AL53-AL52-AL54,""))) | AM55: =IF(AM53=".",".",IF(AM53="-","-",IFERROR(AM53-AM52-AM54,""))) -> .
A56: Février | B56: Date | C56: =Enfants!AU46 -> . | D56: =Enfants!AV46 -> 1 | E56: =Enfants!AW46 -> 2 | F56: =Enfants!AX46 -> 3 | G56: =Enfants!AY46 -> 4 | H56: =Enfants!AZ46 -> 5 | I56: =Enfants!BA46 -> 6 | J56: =Enfants!BB46 -> 7 | ... AM56: =Enfants!CE46 -> . | AN56: =COUNTIF(C57:AM57,"Férier") -> 0 | AO56: =(COUNTIF(C57:AM57,"8h_CL")+(COUNTIF(C57:AM57,"4h_CL")*0.5)) -> 0 | AP56: =(COUNTIF(C57:AM57,"8h_RC")+(COUNTIF(C57:AM57,"2h_RC")*0.5)+(COUNTIF(C57:AM57,"2h_RC")*0.25)+(COUNTIF(C57:AM57,"6h_RC")*0.75)) -> 0 | AQ56: =COUNTIF(C57:AM57,"SaSo") -> 0 | AR56: =COUNTIF(C57:AM57,"Malad") -> 0 | AS56: =COUNTIF(C57:AM57,"T-HW") -> 0 | AT56: =(COUNTIF(C57:AM57,"8h_CEL")+(COUNTIF(C56:AM56,"2h_CEL")*0.5)) -> 0
B57: y/n | C57: =IF(C56=".",".","") -> . | D57: =IF(D56=".",".","") | E57: =IF(E56=".",".","") | F57: =IF(F56=".",".","") | G57: =IF(G56=".",".","") | H57: =IF(H56=".",".","") | I57: =IF(I56=".",".","") | J57: =IF(J56=".",".","") | ... AM57: =IF(AM56=".",".","") -> .
B58: IN | C58: =IF(C57=".",".",IF(C57="T-HW","",IF(C57="Work","",IF(C57="","","-")))) -> . | D58: =IF(D57=".",".",IF(D57="T-HW","",IF(D57="Work","",IF(D57="","","-")))) | E58: =IF(E57=".",".",IF(E57="T-HW","",IF(E57="Work","",IF(E57="","","-")))) | F58: =IF(F57=".",".",IF(F57="T-HW","",IF(F57="Work","",IF(F57="","","-")))) | G58: =IF(G57=".",".",IF(G57="T-HW","",IF(G57="Work","",IF(G57="","","-")))) | H58: =IF(H57=".",".","") | I58: =IF(I57=".",".","") | J58: =IF(J57=".",".",IF(J57="T-HW","",IF(J57="Work","",IF(J57="","","-")))) | K58: =IF(K57=".",".",IF(K57="T-HW","",IF(K57="Work","",IF(K57="","","-")))) | L58: =IF(L57=".",".",IF(L57="T-HW","",IF(L57="Work","",IF(L57="","","-")))) | M58: =IF(M57=".",".",IF(M57="T-HW","",IF(M57="Work","",IF(M57="","","-")))) | N58: =IF(N57=".",".",IF(N57="T-HW","",IF(N57="Work","",IF(N57="","","-")))) | O58: =IF(O57=".",".","") | P58: =IF(P57=".",".","") | Q58: =IF(Q57=".",".",IF(Q57="T-HW","",IF(Q57="Work","",IF(Q57="","","-")))) | R58: =IF(R57=".",".",IF(R57="T-HW","",IF(R57="Work","",IF(R57="","","-")))) | S58: =IF(S57=".",".",IF(S57="T-HW","",IF(S57="Work","",IF(S57="","","-")))) | T58: =IF(T57=".",".",IF(T57="T-HW","",IF(T57="Work","",IF(T57="","","-")))) | U58: =IF(U57=".",".",IF(U57="T-HW","",IF(U57="Work","",IF(U57="","","-")))) | V58: =IF(V57=".",".","") | W58: =IF(W57=".",".","") | X58: =IF(X57=".",".",IF(X57="T-HW","",IF(X57="Work","",IF(X57="","","-")))) | Y58: =IF(Y57=".",".",IF(Y57="T-HW","",IF(Y57="Work","",IF(Y57="","","-")))) | Z58: =IF(Z57=".",".",IF(Z57="T-HW","",IF(Z57="Work","",IF(Z57="","","-")))) | AA58: =IF(AA57=".",".",IF(AA57="T-HW","",IF(AA57="Work","",IF(AA57="","","-")))) | AB58: =IF(AB57=".",".",IF(AB57="T-HW","",IF(AB57="Work","",IF(AB57="","","-")))) | AC58: =IF(AC57=".",".","") | AD58: =IF(AD57=".",".","") | AE58: =IF(AE57=".",".",IF(AE57="T-HW","",IF(AE57="Work","",IF(AE57="","","-")))) | AF58: =IF(AF57=".",".",IF(AF57="T-HW","",IF(AF57="Work","",IF(AF57="","","-")))) -> . | AG58: =IF(AG57=".",".",IF(AG57="T-HW","",IF(AG57="Work","",IF(AG57="","","-")))) -> . | AH58: =IF(AH57=".",".",IF(AH57="T-HW","",IF(AH57="Work","",IF(AH57="","","-")))) -> . | AI58: =IF(AI57=".",".",IF(AI57="T-HW","",IF(AI57="Work","",IF(AI57="","","-")))) -> . | AJ58: =IF(AJ57=".",".","") -> . | AK58: =IF(AK57=".",".","") -> . | AL58: =IF(AL57=".",".",IF(AL57="T-HW","",IF(AL57="Work","",IF(AL57="","","-")))) -> . | AM58: =IF(AM57=".",".",IF(AM57="T-HW","",IF(AM57="Work","",IF(AM57="","","-")))) -> .
B59: OUT | C59: =IF(C58=".",".",IF(C58="-","-","")) -> . | D59: =IF(D58=".",".",IF(D58="-","-","")) | E59: =IF(E58=".",".",IF(E58="-","-","")) | F59: =IF(F58=".",".",IF(F58="-","-","")) | G59: =IF(G58=".",".",IF(G58="-","-","")) | H59: =IF(H58=".",".","") | I59: =IF(I58=".",".","") | J59: =IF(J58=".",".",IF(J58="-","-","")) | K59: =IF(K58=".",".",IF(K58="-","-","")) | L59: =IF(L58=".",".",IF(L58="-","-","")) | M59: =IF(M58=".",".",IF(M58="-","-","")) | N59: =IF(N58=".",".",IF(N58="-","-","")) | O59: =IF(O58=".",".","") | P59: =IF(P58=".",".","") | Q59: =IF(Q58=".",".",IF(Q58="-","-","")) | R59: =IF(R58=".",".",IF(R58="-","-","")) | S59: =IF(S58=".",".",IF(S58="-","-","")) | T59: =IF(T58=".",".",IF(T58="-","-","")) | U59: =IF(U58=".",".",IF(U58="-","-","")) | V59: =IF(V58=".",".","") | W59: =IF(W58=".",".","") | X59: =IF(X58=".",".",IF(X58="-","-","")) | Y59: =IF(Y58=".",".",IF(Y58="-","-","")) | Z59: =IF(Z58=".",".",IF(Z58="-","-","")) | AA59: =IF(AA58=".",".",IF(AA58="-","-","")) | AB59: =IF(AB58=".",".",IF(AB58="-","-","")) | AC59: =IF(AC58=".",".","") | AD59: =IF(AD58=".",".","") | AE59: =IF(AE58=".",".",IF(AE58="-","-","")) | AF59: =IF(AF58=".",".",IF(AF58="-","-","")) -> . | AG59: =IF(AG58=".",".",IF(AG58="-","-","")) -> . | AH59: =IF(AH58=".",".",IF(AH58="-","-","")) -> . | AI59: =IF(AI58=".",".",IF(AI58="-","-","")) -> . | AJ59: =IF(AJ58=".",".","") -> . | AK59: =IF(AK58=".",".","") -> . | AL59: =IF(AL58=".",".",IF(AL58="-","-","")) -> . | AM59: =IF(AM58=".",".",IF(AM58="-","-","")) -> .
A60: /jour/mois | B60: Pause | C60: =IF(C59=".",".",IF(C59="-","-",0)) -> . | D60: =IF(D59=".",".",IF(D59="-","-",0)) -> 0 | E60: =IF(E59=".",".",IF(E59="-","-",0)) -> 0 | F60: =IF(F59=".",".",IF(F59="-","-",0)) -> 0 | G60: =IF(G59=".",".",IF(G59="-","-",0)) -> 0 | H60: =IF(H59=".",".","All") -> All | I60: =IF(I59=".",".","/ jour") -> / jour | J60: =IF(J59=".",".",IF(J59="-","-",0)) -> 0 | K60: =IF(K59=".",".",IF(K59="-","-",0)) -> 0 | L60: =IF(L59=".",".",IF(L59="-","-",0)) -> 0 | M60: =IF(M59=".",".",IF(M59="-","-",0)) -> 0 | N60: =IF(N59=".",".",IF(N59="-","-",0)) -> 0 | O60: =IF(O59=".",".","All") -> All | P60: =IF(P59=".",".","/ jour") -> / jour | Q60: =IF(Q59=".",".",IF(Q59="-","-",0)) -> 0 | R60: =IF(R59=".",".",IF(R59="-","-",0)) -> 0 | S60: =IF(S59=".",".",IF(S59="-","-",0)) -> 0 | T60: =IF(T59=".",".",IF(T59="-","-",0)) -> 0 | U60: =IF(U59=".",".",IF(U59="-","-",0)) -> 0 | V60: =IF(V59=".",".","All") -> All | W60: =IF(W59=".",".","/ jour") -> / jour | X60: =IF(X59=".",".",IF(X59="-","-",0)) -> 0 | Y60: =IF(Y59=".",".",IF(Y59="-","-",0)) -> 0 | Z60: =IF(Z59=".",".",IF(Z59="-","-",0)) -> 0 | AA60: =IF(AA59=".",".",IF(AA59="-","-",0)) -> 0 | AB60: =IF(AB59=".",".",IF(AB59="-","-",0)) -> 0 | AC60: =IF(AC59=".",".","All") -> All | AD60: =IF(AD59=".",".","/ jour") -> / jour | AE60: =IF(AE59=".",".",IF(AE59="-","-",0)) -> 0 | AF60: =IF(AF59=".",".",IF(AF59="-","-",0)) -> . | AG60: =IF(AG59=".",".",IF(AG59="-","-",0)) -> . | AH60: =IF(AH59=".",".",IF(AH59="-","-",0)) -> . | AI60: =IF(AI59=".",".",IF(AI59="-","-",0)) -> . | AJ60: =IF(AJ59=".",".","All") -> . | AK60: =IF(AK59=".",".","/ jour") -> . | AL60: =IF(AL59=".",".",IF(AL59="-","-",0)) -> . | AM60: =IF(AM59=".",".",IF(AM59="-","-",0)) -> .
A61: =IFERROR(AVERAGE(C61:G61,J61:N61,Q61:U61,X61:AB61,AE61:AI61,AL61:AM61),"-") -> - | B61: Total | C61: =IF(C59=".",".",IF(C59="-","-",IFERROR(C59-C58-C60,""))) -> . | D61: =IF(D59=".",".",IF(D59="-","-",IFERROR(D59-D58-D60,""))) | E61: =IF(E59=".",".",IF(E59="-","",IFERROR(E59-E58-E60,""))) | F61: =IF(F59=".",".",IF(F59="-","-",IFERROR(F59-F58-F60,""))) | G61: =IF(G59=".",".",IF(G59="-","-",IFERROR(G59-G58-G60,""))) | H61: =IF(H59=".",".",SUM(C61:G61)+SUM(AL49:AM49)) -> 0 | I61: =IF(I59=".",".",IFERROR(AVERAGE(AL55:AM55,C61:G61),"")) | J61: =IF(J59=".",".",IF(J59="-","-",IFERROR(J59-J58-J60,""))) | K61: =IF(K59=".",".",IF(K59="-","-",IFERROR(K59-K58-K60,""))) | L61: =IF(L59=".",".",IF(L59="-","",IFERROR(L59-L58-L60,""))) | M61: =IF(M59=".",".",IF(M59="-","-",IFERROR(M59-M58-M60,""))) | N61: =IF(N59=".",".",IF(N59="-","-",IFERROR(N59-N58-N60,""))) | O61: =IF(O59=".",".",SUM(J61:N61)) -> 0 | P61: =IF(P59=".",".",IFERROR(AVERAGE(J61:N61),"")) | Q61: =IF(Q59=".",".",IF(Q59="-","-",IFERROR(Q59-Q58-Q60,""))) | R61: =IF(R59=".",".",IF(R59="-","-",IFERROR(R59-R58-R60,""))) | S61: =IF(S59=".",".",IF(S59="-","",IFERROR(S59-S58-S60,""))) | T61: =IF(T59=".",".",IF(T59="-","-",IFERROR(T59-T58-T60,""))) | U61: =IF(U59=".",".",IF(U59="-","-",IFERROR(U59-U58-U60,""))) | V61: =IF(V59=".",".",SUM(Q61:U61)) -> 0 | W61: =IF(W59=".",".",IFERROR(AVERAGE(Q61:U61),"")) | X61: =IF(X59=".",".",IF(X59="-","-",IFERROR(X59-X58-X60,""))) | Y61: =IF(Y59=".",".",IF(Y59="-","-",IFERROR(Y59-Y58-Y60,""))) | Z61: =IF(Z59=".",".",IF(Z59="-","",IFERROR(Z59-Z58-Z60,""))) | AA61: =IF(AA59=".",".",IF(AA59="-","-",IFERROR(AA59-AA58-AA60,""))) | AB61: =IF(AB59=".",".",IF(AB59="-","-",IFERROR(AB59-AB58-AB60,""))) | AC61: =IF(AC59=".",".",SUM(X61:AB61)) -> 0 | AD61: =IF(AD59=".",".",IFERROR(AVERAGE(X61:AB61),"")) | AE61: =IF(AE59=".",".",IF(AE59="-","-",IFERROR(AE59-AE58-AE60,""))) | AF61: =IF(AF59=".",".",IF(AF59="-","-",IFERROR(AF59-AF58-AF60,""))) -> . | AG61: =IF(AG59=".",".",IF(AG59="-","",IFERROR(AG59-AG58-AG60,""))) -> . | AH61: =IF(AH59=".",".",IF(AH59="-","-",IFERROR(AH59-AH58-AH60,""))) -> . | AI61: =IF(AI59=".",".",IF(AI59="-","-",IFERROR(AI59-AI58-AI60,""))) -> . | AJ61: =IF(AJ59=".",".",SUM(AE61:AI61)) -> . | AK61: =IF(AK59=".",".",IFERROR(AVERAGE(AE61:AI61),"")) -> . | AL61: =IF(AL59=".",".",IF(AL59="-","-",IFERROR(AL59-AL58-AL60,""))) -> . | AM61: =IF(AM59=".",".",IF(AM59="-","-",IFERROR(AM59-AM58-AM60,""))) -> .
A62: Mars | B62: Date | C62: =Enfants!AU47 -> . | D62: =Enfants!AV47 -> 1 | E62: =Enfants!AW47 -> 2 | F62: =Enfants!AX47 -> 3 | G62: =Enfants!AY47 -> 4 | H62: =Enfants!AZ47 -> 5 | I62: =Enfants!BA47 -> 6 | J62: =Enfants!BB47 -> 7 | ... AM62: =Enfants!CE47 -> . | AN62: =COUNTIF(C63:AM63,"Férier") -> 0 | AO62: =(COUNTIF(C63:AM63,"8h_CL")+(COUNTIF(C63:AM63,"4h_CL")*0.5)) -> 0 | AP62: =(COUNTIF(C63:AM63,"8h_RC")+(COUNTIF(C63:AM63,"2h_RC")*0.5)+(COUNTIF(C63:AM63,"2h_RC")*0.25)+(COUNTIF(C63:AM63,"6h_RC")*0.75)) -> 0 | AQ62: =COUNTIF(C63:AM63,"SaSo") -> 0 | AR62: =COUNTIF(C63:AM63,"Malad") -> 0 | AS62: =COUNTIF(C63:AM63,"T-HW") -> 0 | AT62: =(COUNTIF(C63:AM63,"8h_CEL")+(COUNTIF(C62:AM62,"2h_CEL")*0.5)) -> 0
B63: y/n | C63: =IF(C62=".",".","") -> . | D63: =IF(D62=".",".","") | E63: =IF(E62=".",".","") | F63: =IF(F62=".",".","") | G63: =IF(G62=".",".","") | H63: =IF(H62=".",".","") | I63: =IF(I62=".",".","") | J63: =IF(J62=".",".","") | ... AM63: =IF(AM62=".",".","") -> .
B64: IN | C64: =IF(C63=".",".",IF(C63="T-HW","",IF(C63="Work","",IF(C63="","","-")))) -> . | D64: =IF(D63=".",".",IF(D63="T-HW","",IF(D63="Work","",IF(D63="","","-")))) | E64: =IF(E63=".",".",IF(E63="T-HW","",IF(E63="Work","",IF(E63="","","-")))) | F64: =IF(F63=".",".",IF(F63="T-HW","",IF(F63="Work","",IF(F63="","","-")))) | G64: =IF(G63=".",".",IF(G63="T-HW","",IF(G63="Work","",IF(G63="","","-")))) | H64: =IF(H63=".",".","") | I64: =IF(I63=".",".","") | J64: =IF(J63=".",".",IF(J63="T-HW","",IF(J63="Work","",IF(J63="","","-")))) | K64: =IF(K63=".",".",IF(K63="T-HW","",IF(K63="Work","",IF(K63="","","-")))) | L64: =IF(L63=".",".",IF(L63="T-HW","",IF(L63="Work","",IF(L63="","","-")))) | M64: =IF(M63=".",".",IF(M63="T-HW","",IF(M63="Work","",IF(M63="","","-")))) | N64: =IF(N63=".",".",IF(N63="T-HW","",IF(N63="Work","",IF(N63="","","-")))) | O64: =IF(O63=".",".","") | P64: =IF(P63=".",".","") | Q64: =IF(Q63=".",".",IF(Q63="T-HW","",IF(Q63="Work","",IF(Q63="","","-")))) | R64: =IF(R63=".",".",IF(R63="T-HW","",IF(R63="Work","",IF(R63="","","-")))) | S64: =IF(S63=".",".",IF(S63="T-HW","",IF(S63="Work","",IF(S63="","","-")))) | T64: =IF(T63=".",".",IF(T63="T-HW","",IF(T63="Work","",IF(T63="","","-")))) | U64: =IF(U63=".",".",IF(U63="T-HW","",IF(U63="Work","",IF(U63="","","-")))) | V64: =IF(V63=".",".","") | W64: =IF(W63=".",".","") | X64: =IF(X63=".",".",IF(X63="T-HW","",IF(X63="Work","",IF(X63="","","-")))) | Y64: =IF(Y63=".",".",IF(Y63="T-HW","",IF(Y63="Work","",IF(Y63="","","-")))) | Z64: =IF(Z63=".",".",IF(Z63="T-HW","",IF(Z63="Work","",IF(Z63="","","-")))) | AA64: =IF(AA63=".",".",IF(AA63="T-HW","",IF(AA63="Work","",IF(AA63="","","-")))) | AB64: =IF(AB63=".",".",IF(AB63="T-HW","",IF(AB63="Work","",IF(AB63="","","-")))) | AC64: =IF(AC63=".",".","") | AD64: =IF(AD63=".",".","") | AE64: =IF(AE63=".",".",IF(AE63="T-HW","",IF(AE63="Work","",IF(AE63="","","-")))) | AF64: =IF(AF63=".",".",IF(AF63="T-HW","",IF(AF63="Work","",IF(AF63="","","-")))) | AG64: =IF(AG63=".",".",IF(AG63="T-HW","",IF(AG63="Work","",IF(AG63="","","-")))) | AH64: =IF(AH63=".",".",IF(AH63="T-HW","",IF(AH63="Work","",IF(AH63="","","-")))) | AI64: =IF(AI63=".",".",IF(AI63="T-HW","",IF(AI63="Work","",IF(AI63="","","-")))) -> . | AJ64: =IF(AJ63=".",".","") -> . | AK64: =IF(AK63=".",".","") -> . | AL64: =IF(AL63=".",".",IF(AL63="T-HW","",IF(AL63="Work","",IF(AL63="","","-")))) -> . | AM64: =IF(AM63=".",".",IF(AM63="T-HW","",IF(AM63="Work","",IF(AM63="","","-")))) -> .
B65: OUT | C65: =IF(C64=".",".",IF(C64="-","-","")) -> . | D65: =IF(D64=".",".",IF(D64="-","-","")) | E65: =IF(E64=".",".",IF(E64="-","-","")) | F65: =IF(F64=".",".",IF(F64="-","-","")) | G65: =IF(G64=".",".",IF(G64="-","-","")) | H65: =IF(H64=".",".","") | I65: =IF(I64=".",".","") | J65: =IF(J64=".",".",IF(J64="-","-","")) | K65: =IF(K64=".",".",IF(K64="-","-","")) | L65: =IF(L64=".",".",IF(L64="-","-","")) | M65: =IF(M64=".",".",IF(M64="-","-","")) | N65: =IF(N64=".",".",IF(N64="-","-","")) | O65: =IF(O64=".",".","") | P65: =IF(P64=".",".","") | Q65: =IF(Q64=".",".",IF(Q64="-","-","")) | R65: =IF(R64=".",".",IF(R64="-","-","")) | S65: =IF(S64=".",".",IF(S64="-","-","")) | T65: =IF(T64=".",".",IF(T64="-","-","")) | U65: =IF(U64=".",".",IF(U64="-","-","")) | V65: =IF(V64=".",".","") | W65: =IF(W64=".",".","") | X65: =IF(X64=".",".",IF(X64="-","-","")) | Y65: =IF(Y64=".",".",IF(Y64="-","-","")) | Z65: =IF(Z64=".",".",IF(Z64="-","-","")) | AA65: =IF(AA64=".",".",IF(AA64="-","-","")) | AB65: =IF(AB64=".",".",IF(AB64="-","-","")) | AC65: =IF(AC64=".",".","") | AD65: =IF(AD64=".",".","") | AE65: =IF(AE64=".",".",IF(AE64="-","-","")) | AF65: =IF(AF64=".",".",IF(AF64="-","-","")) | AG65: =IF(AG64=".",".",IF(AG64="-","-","")) | AH65: =IF(AH64=".",".",IF(AH64="-","-","")) | AI65: =IF(AI64=".",".",IF(AI64="-","-","")) -> . | AJ65: =IF(AJ64=".",".","") -> . | AK65: =IF(AK64=".",".","") -> . | AL65: =IF(AL64=".",".",IF(AL64="-","-","")) -> . | AM65: =IF(AM64=".",".",IF(AM64="-","-","")) -> .
A66: /jour/mois | B66: Pause | C66: =IF(C65=".",".",IF(C65="-","-",0)) -> . | D66: =IF(D65=".",".",IF(D65="-","-",0)) -> 0 | E66: =IF(E65=".",".",IF(E65="-","-",0)) -> 0 | F66: =IF(F65=".",".",IF(F65="-","-",0)) -> 0 | G66: =IF(G65=".",".",IF(G65="-","-",0)) -> 0 | H66: =IF(H65=".",".","All") -> All | I66: =IF(I65=".",".","/ jour") -> / jour | J66: =IF(J65=".",".",IF(J65="-","-",0)) -> 0 | K66: =IF(K65=".",".",IF(K65="-","-",0)) -> 0 | L66: =IF(L65=".",".",IF(L65="-","-",0)) -> 0 | M66: =IF(M65=".",".",IF(M65="-","-",0)) -> 0 | N66: =IF(N65=".",".",IF(N65="-","-",0)) -> 0 | O66: =IF(O65=".",".","All") -> All | P66: =IF(P65=".",".","/ jour") -> / jour | Q66: =IF(Q65=".",".",IF(Q65="-","-",0)) -> 0 | R66: =IF(R65=".",".",IF(R65="-","-",0)) -> 0 | S66: =IF(S65=".",".",IF(S65="-","-",0)) -> 0 | T66: =IF(T65=".",".",IF(T65="-","-",0)) -> 0 | U66: =IF(U65=".",".",IF(U65="-","-",0)) -> 0 | V66: =IF(V65=".",".","All") -> All | W66: =IF(W65=".",".","/ jour") -> / jour | X66: =IF(X65=".",".",IF(X65="-","-",0)) -> 0 | Y66: =IF(Y65=".",".",IF(Y65="-","-",0)) -> 0 | Z66: =IF(Z65=".",".",IF(Z65="-","-",0)) -> 0 | AA66: =IF(AA65=".",".",IF(AA65="-","-",0)) -> 0 | AB66: =IF(AB65=".",".",IF(AB65="-","-",0)) -> 0 | AC66: =IF(AC65=".",".","All") -> All | AD66: =IF(AD65=".",".","/ jour") -> / jour | AE66: =IF(AE65=".",".",IF(AE65="-","-",0)) -> 0 | AF66: =IF(AF65=".",".",IF(AF65="-","-",0)) -> 0 | AG66: =IF(AG65=".",".",IF(AG65="-","-",0)) -> 0 | AH66: =IF(AH65=".",".",IF(AH65="-","-",0)) -> 0 | AI66: =IF(AI65=".",".",IF(AI65="-","-",0)) -> . | AJ66: =IF(AJ65=".",".","All") -> . | AK66: =IF(AK65=".",".","/ jour") -> . | AL66: =IF(AL65=".",".",IF(AL65="-","-",0)) -> . | AM66: =IF(AM65=".",".",IF(AM65="-","-",0)) -> .
A67: =IFERROR(AVERAGE(C67:G67,J67:N67,Q67:U67,X67:AB67,AE67:AI67,AL67:AM67),"-") -> - | B67: Total | C67: =IF(C65=".",".",IF(C65="-","-",IFERROR(C65-C64-C66,""))) -> . | D67: =IF(D65=".",".",IF(D65="-","-",IFERROR(D65-D64-D66,""))) | E67: =IF(E65=".",".",IF(E65="-","",IFERROR(E65-E64-E66,""))) | F67: =IF(F65=".",".",IF(F65="-","-",IFERROR(F65-F64-F66,""))) | G67: =IF(G65=".",".",IF(G65="-","-",IFERROR(G65-G64-G66,""))) | H67: =IF(H65=".",".",SUM(C67:G67)+SUM(AL55:AM55)) -> 0 | I67: =IF(I65=".",".",IFERROR(AVERAGE(AL61:AM61,C67:G67),"")) | J67: =IF(J65=".",".",IF(J65="-","-",IFERROR(J65-J64-J66,""))) | K67: =IF(K65=".",".",IF(K65="-","-",IFERROR(K65-K64-K66,""))) | L67: =IF(L65=".",".",IF(L65="-","",IFERROR(L65-L64-L66,""))) | M67: =IF(M65=".",".",IF(M65="-","-",IFERROR(M65-M64-M66,""))) | N67: =IF(N65=".",".",IF(N65="-","-",IFERROR(N65-N64-N66,""))) | O67: =IF(O65=".",".",SUM(J67:N67)) -> 0 | P67: =IF(P65=".",".",IFERROR(AVERAGE(J67:N67),"")) | Q67: =IF(Q65=".",".",IF(Q65="-","-",IFERROR(Q65-Q64-Q66,""))) | R67: =IF(R65=".",".",IF(R65="-","-",IFERROR(R65-R64-R66,""))) | S67: =IF(S65=".",".",IF(S65="-","",IFERROR(S65-S64-S66,""))) | T67: =IF(T65=".",".",IF(T65="-","-",IFERROR(T65-T64-T66,""))) | U67: =IF(U65=".",".",IF(U65="-","-",IFERROR(U65-U64-U66,""))) | V67: =IF(V65=".",".",SUM(Q67:U67)) -> 0 | W67: =IF(W65=".",".",IFERROR(AVERAGE(Q67:U67),"")) | X67: =IF(X65=".",".",IF(X65="-","-",IFERROR(X65-X64-X66,""))) | Y67: =IF(Y65=".",".",IF(Y65="-","-",IFERROR(Y65-Y64-Y66,""))) | Z67: =IF(Z65=".",".",IF(Z65="-","",IFERROR(Z65-Z64-Z66,""))) | AA67: =IF(AA65=".",".",IF(AA65="-","-",IFERROR(AA65-AA64-AA66,""))) | AB67: =IF(AB65=".",".",IF(AB65="-","-",IFERROR(AB65-AB64-AB66,""))) | AC67: =IF(AC65=".",".",SUM(X67:AB67)) -> 0 | AD67: =IF(AD65=".",".",IFERROR(AVERAGE(X67:AB67),"")) | AE67: =IF(AE65=".",".",IF(AE65="-","-",IFERROR(AE65-AE64-AE66,""))) | AF67: =IF(AF65=".",".",IF(AF65="-","-",IFERROR(AF65-AF64-AF66,""))) | AG67: =IF(AG65=".",".",IF(AG65="-","",IFERROR(AG65-AG64-AG66,""))) | AH67: =IF(AH65=".",".",IF(AH65="-","-",IFERROR(AH65-AH64-AH66,""))) | AI67: =IF(AI65=".",".",IF(AI65="-","-",IFERROR(AI65-AI64-AI66,""))) -> . | AJ67: =IF(AJ65=".",".",SUM(AE67:AI67)) -> . | AK67: =IF(AK65=".",".",IFERROR(AVERAGE(AE67:AI67),"")) -> . | AL67: =IF(AL65=".",".",IF(AL65="-","-",IFERROR(AL65-AL64-AL66,""))) -> . | AM67: =IF(AM65=".",".",IF(AM65="-","-",IFERROR(AM65-AM64-AM66,""))) -> .
A68: Avril | B68: Date | C68: =Enfants!AU48 -> . | D68: =Enfants!AV48 -> . | E68: =Enfants!AW48 -> . | F68: =Enfants!AX48 -> . | G68: =Enfants!AY48 -> 1 | H68: =Enfants!AZ48 -> 2 | I68: =Enfants!BA48 -> 3 | J68: =Enfants!BB48 -> 4 | ... AM68: =Enfants!CE48 -> . | AN68: =COUNTIF(C69:AM69,"Férier") -> 0 | AO68: =(COUNTIF(C69:AM69,"8h_CL")+(COUNTIF(C69:AM69,"4h_CL")*0.5)) -> 0 | AP68: =(COUNTIF(C69:AM69,"8h_RC")+(COUNTIF(C69:AM69,"2h_RC")*0.5)+(COUNTIF(C69:AM69,"2h_RC")*0.25)+(COUNTIF(C69:AM69,"6h_RC")*0.75)) -> 0 | AQ68: =COUNTIF(C69:AM69,"SaSo") -> 0 | AR68: =COUNTIF(C69:AM69,"Malad") -> 0 | AS68: =COUNTIF(C69:AM69,"T-HW") -> 0 | AT68: =(COUNTIF(C69:AM69,"8h_CEL")+(COUNTIF(C68:AM68,"2h_CEL")*0.5)) -> 0
B69: y/n | C69: =IF(C68=".",".","") -> . | D69: =IF(D68=".",".","") -> . | E69: =IF(E68=".",".","") -> . | F69: =IF(F68=".",".","") -> . | G69: =IF(G68=".",".","") | H69: =IF(H68=".",".","") | I69: =IF(I68=".",".","") | J69: =IF(J68=".",".","") | ... AM69: =IF(AM68=".",".","") -> .
B70: IN | C70: =IF(C69=".",".",IF(C69="T-HW","",IF(C69="Work","",IF(C69="","","-")))) -> . | D70: =IF(D69=".",".",IF(D69="T-HW","",IF(D69="Work","",IF(D69="","","-")))) -> . | E70: =IF(E69=".",".",IF(E69="T-HW","",IF(E69="Work","",IF(E69="","","-")))) -> . | F70: =IF(F69=".",".",IF(F69="T-HW","",IF(F69="Work","",IF(F69="","","-")))) -> . | G70: =IF(G69=".",".",IF(G69="T-HW","",IF(G69="Work","",IF(G69="","","-")))) | H70: =IF(H69=".",".","") | I70: =IF(I69=".",".","") | J70: =IF(J69=".",".",IF(J69="T-HW","",IF(J69="Work","",IF(J69="","","-")))) | K70: =IF(K69=".",".",IF(K69="T-HW","",IF(K69="Work","",IF(K69="","","-")))) | L70: =IF(L69=".",".",IF(L69="T-HW","",IF(L69="Work","",IF(L69="","","-")))) | M70: =IF(M69=".",".",IF(M69="T-HW","",IF(M69="Work","",IF(M69="","","-")))) | N70: =IF(N69=".",".",IF(N69="T-HW","",IF(N69="Work","",IF(N69="","","-")))) | O70: =IF(O69=".",".","") | P70: =IF(P69=".",".","") | Q70: =IF(Q69=".",".",IF(Q69="T-HW","",IF(Q69="Work","",IF(Q69="","","-")))) | R70: =IF(R69=".",".",IF(R69="T-HW","",IF(R69="Work","",IF(R69="","","-")))) | S70: =IF(S69=".",".",IF(S69="T-HW","",IF(S69="Work","",IF(S69="","","-")))) | T70: =IF(T69=".",".",IF(T69="T-HW","",IF(T69="Work","",IF(T69="","","-")))) | U70: =IF(U69=".",".",IF(U69="T-HW","",IF(U69="Work","",IF(U69="","","-")))) | V70: =IF(V69=".",".","") | W70: =IF(W69=".",".","") | X70: =IF(X69=".",".",IF(X69="T-HW","",IF(X69="Work","",IF(X69="","","-")))) | Y70: =IF(Y69=".",".",IF(Y69="T-HW","",IF(Y69="Work","",IF(Y69="","","-")))) | Z70: =IF(Z69=".",".",IF(Z69="T-HW","",IF(Z69="Work","",IF(Z69="","","-")))) | AA70: =IF(AA69=".",".",IF(AA69="T-HW","",IF(AA69="Work","",IF(AA69="","","-")))) | AB70: =IF(AB69=".",".",IF(AB69="T-HW","",IF(AB69="Work","",IF(AB69="","","-")))) | AC70: =IF(AC69=".",".","") | AD70: =IF(AD69=".",".","") | AE70: =IF(AE69=".",".",IF(AE69="T-HW","",IF(AE69="Work","",IF(AE69="","","-")))) | AF70: =IF(AF69=".",".",IF(AF69="T-HW","",IF(AF69="Work","",IF(AF69="","","-")))) | AG70: =IF(AG69=".",".",IF(AG69="T-HW","",IF(AG69="Work","",IF(AG69="","","-")))) | AH70: =IF(AH69=".",".",IF(AH69="T-HW","",IF(AH69="Work","",IF(AH69="","","-")))) | AI70: =IF(AI69=".",".",IF(AI69="T-HW","",IF(AI69="Work","",IF(AI69="","","-")))) | AJ70: =IF(AJ69=".",".","") | AK70: =IF(AK69=".",".","") -> . | AL70: =IF(AL69=".",".",IF(AL69="T-HW","",IF(AL69="Work","",IF(AL69="","","-")))) -> . | AM70: =IF(AM69=".",".",IF(AM69="T-HW","",IF(AM69="Work","",IF(AM69="","","-")))) -> .
B71: OUT | C71: =IF(C70=".",".",IF(C70="-","-","")) -> . | D71: =IF(D70=".",".",IF(D70="-","-","")) -> . | E71: =IF(E70=".",".",IF(E70="-","-","")) -> . | F71: =IF(F70=".",".",IF(F70="-","-","")) -> . | G71: =IF(G70=".",".",IF(G70="-","-","")) | H71: =IF(H70=".",".","") | I71: =IF(I70=".",".","") | J71: =IF(J70=".",".",IF(J70="-","-","")) | K71: =IF(K70=".",".",IF(K70="-","-","")) | L71: =IF(L70=".",".",IF(L70="-","-","")) | M71: =IF(M70=".",".",IF(M70="-","-","")) | N71: =IF(N70=".",".",IF(N70="-","-","")) | O71: =IF(O70=".",".","") | P71: =IF(P70=".",".","") | Q71: =IF(Q70=".",".",IF(Q70="-","-","")) | R71: =IF(R70=".",".",IF(R70="-","-","")) | S71: =IF(S70=".",".",IF(S70="-","-","")) | T71: =IF(T70=".",".",IF(T70="-","-","")) | U71: =IF(U70=".",".",IF(U70="-","-","")) | V71: =IF(V70=".",".","") | W71: =IF(W70=".",".","") | X71: =IF(X70=".",".",IF(X70="-","-","")) | Y71: =IF(Y70=".",".",IF(Y70="-","-","")) | Z71: =IF(Z70=".",".",IF(Z70="-","-","")) | AA71: =IF(AA70=".",".",IF(AA70="-","-","")) | AB71: =IF(AB70=".",".",IF(AB70="-","-","")) | AC71: =IF(AC70=".",".","") | AD71: =IF(AD70=".",".","") | AE71: =IF(AE70=".",".",IF(AE70="-","-","")) | AF71: =IF(AF70=".",".",IF(AF70="-","-","")) | AG71: =IF(AG70=".",".",IF(AG70="-","-","")) | AH71: =IF(AH70=".",".",IF(AH70="-","-","")) | AI71: =IF(AI70=".",".",IF(AI70="-","-","")) | AJ71: =IF(AJ70=".",".","") | AK71: =IF(AK70=".",".","") -> . | AL71: =IF(AL70=".",".",IF(AL70="-","-","")) -> . | AM71: =IF(AM70=".",".",IF(AM70="-","-","")) -> .
A72: /jour/mois | B72: Pause | C72: =IF(C71=".",".",IF(C71="-","-",0)) -> . | D72: =IF(D71=".",".",IF(D71="-","-",0)) -> . | E72: =IF(E71=".",".",IF(E71="-","-",0)) -> . | F72: =IF(F71=".",".",IF(F71="-","-",0)) -> . | G72: =IF(G71=".",".",IF(G71="-","-",0)) -> 0 | H72: =IF(H71=".",".","All") -> All | I72: =IF(I71=".",".","/ jour") -> / jour | J72: =IF(J71=".",".",IF(J71="-","-",0)) -> 0 | K72: =IF(K71=".",".",IF(K71="-","-",0)) -> 0 | L72: =IF(L71=".",".",IF(L71="-","-",0)) -> 0 | M72: =IF(M71=".",".",IF(M71="-","-",0)) -> 0 | N72: =IF(N71=".",".",IF(N71="-","-",0)) -> 0 | O72: =IF(O71=".",".","All") -> All | P72: =IF(P71=".",".","/ jour") -> / jour | Q72: =IF(Q71=".",".",IF(Q71="-","-",0)) -> 0 | R72: =IF(R71=".",".",IF(R71="-","-",0)) -> 0 | S72: =IF(S71=".",".",IF(S71="-","-",0)) -> 0 | T72: =IF(T71=".",".",IF(T71="-","-",0)) -> 0 | U72: =IF(U71=".",".",IF(U71="-","-",0)) -> 0 | V72: =IF(V71=".",".","All") -> All | W72: =IF(W71=".",".","/ jour") -> / jour | X72: =IF(X71=".",".",IF(X71="-","-",0)) -> 0 | Y72: =IF(Y71=".",".",IF(Y71="-","-",0)) -> 0 | Z72: =IF(Z71=".",".",IF(Z71="-","-",0)) -> 0 | AA72: =IF(AA71=".",".",IF(AA71="-","-",0)) -> 0 | AB72: =IF(AB71=".",".",IF(AB71="-","-",0)) -> 0 | AC72: =IF(AC71=".",".","All") -> All | AD72: =IF(AD71=".",".","/ jour") -> / jour | AE72: =IF(AE71=".",".",IF(AE71="-","-",0)) -> 0 | AF72: =IF(AF71=".",".",IF(AF71="-","-",0)) -> 0 | AG72: =IF(AG71=".",".",IF(AG71="-","-",0)) -> 0 | AH72: =IF(AH71=".",".",IF(AH71="-","-",0)) -> 0 | AI72: =IF(AI71=".",".",IF(AI71="-","-",0)) -> 0 | AJ72: =IF(AJ71=".",".","All") -> All | AK72: =IF(AK71=".",".","/ jour") -> . | AL72: =IF(AL71=".",".",IF(AL71="-","-",0)) -> . | AM72: =IF(AM71=".",".",IF(AM71="-","-",0)) -> .
A73: =IFERROR(AVERAGE(C73:G73,J73:N73,Q73:U73,X73:AB73,AE73:AI73,AL73:AM73),"-") -> - | B73: Total | C73: =IF(C71=".",".",IF(C71="-","-",IFERROR(C71-C70-C72,""))) -> . | D73: =IF(D71=".",".",IF(D71="-","-",IFERROR(D71-D70-D72,""))) -> . | E73: =IF(E71=".",".",IF(E71="-","",IFERROR(E71-E70-E72,""))) -> . | F73: =IF(F71=".",".",IF(F71="-","-",IFERROR(F71-F70-F72,""))) -> . | G73: =IF(G71=".",".",IF(G71="-","-",IFERROR(G71-G70-G72,""))) | H73: =IF(H71=".",".",SUM(C73:G73)+SUM(AL61:AM61)) -> 0 | I73: =IF(I71=".",".",IFERROR(AVERAGE(AL67:AM67,C73:G73),"")) | J73: =IF(J71=".",".",IF(J71="-","-",IFERROR(J71-J70-J72,""))) | K73: =IF(K71=".",".",IF(K71="-","-",IFERROR(K71-K70-K72,""))) | L73: =IF(L71=".",".",IF(L71="-","",IFERROR(L71-L70-L72,""))) | M73: =IF(M71=".",".",IF(M71="-","-",IFERROR(M71-M70-M72,""))) | N73: =IF(N71=".",".",IF(N71="-","-",IFERROR(N71-N70-N72,""))) | O73: =IF(O71=".",".",SUM(J73:N73)) -> 0 | P73: =IF(P71=".",".",IFERROR(AVERAGE(J73:N73),"")) | Q73: =IF(Q71=".",".",IF(Q71="-","-",IFERROR(Q71-Q70-Q72,""))) | R73: =IF(R71=".",".",IF(R71="-","-",IFERROR(R71-R70-R72,""))) | S73: =IF(S71=".",".",IF(S71="-","",IFERROR(S71-S70-S72,""))) | T73: =IF(T71=".",".",IF(T71="-","-",IFERROR(T71-T70-T72,""))) | U73: =IF(U71=".",".",IF(U71="-","-",IFERROR(U71-U70-U72,""))) | V73: =IF(V71=".",".",SUM(Q73:U73)) -> 0 | W73: =IF(W71=".",".",IFERROR(AVERAGE(Q73:U73),"")) | X73: =IF(X71=".",".",IF(X71="-","-",IFERROR(X71-X70-X72,""))) | Y73: =IF(Y71=".",".",IF(Y71="-","-",IFERROR(Y71-Y70-Y72,""))) | Z73: =IF(Z71=".",".",IF(Z71="-","",IFERROR(Z71-Z70-Z72,""))) | AA73: =IF(AA71=".",".",IF(AA71="-","-",IFERROR(AA71-AA70-AA72,""))) | AB73: =IF(AB71=".",".",IF(AB71="-","-",IFERROR(AB71-AB70-AB72,""))) | AC73: =IF(AC71=".",".",SUM(X73:AB73)) -> 0 | AD73: =IF(AD71=".",".",IFERROR(AVERAGE(X73:AB73),"")) | AE73: =IF(AE71=".",".",IF(AE71="-","-",IFERROR(AE71-AE70-AE72,""))) | AF73: =IF(AF71=".",".",IF(AF71="-","-",IFERROR(AF71-AF70-AF72,""))) | AG73: =IF(AG71=".",".",IF(AG71="-","",IFERROR(AG71-AG70-AG72,""))) | AH73: =IF(AH71=".",".",IF(AH71="-","-",IFERROR(AH71-AH70-AH72,""))) | AI73: =IF(AI71=".",".",IF(AI71="-","-",IFERROR(AI71-AI70-AI72,""))) | AJ73: =IF(AJ71=".",".",SUM(AE73:AI73)) -> 0 | AK73: =IF(AK71=".",".",IFERROR(AVERAGE(AE73:AI73),"")) -> . | AL73: =IF(AL71=".",".",IF(AL71="-","-",IFERROR(AL71-AL70-AL72,""))) -> . | AM73: =IF(AM71=".",".",IF(AM71="-","-",IFERROR(AM71-AM70-AM72,""))) -> .
A74: Mai | B74: Date | C74: =Enfants!AU49 -> . | D74: =Enfants!AV49 -> . | E74: =Enfants!AW49 -> . | F74: =Enfants!AX49 -> . | G74: =Enfants!AY49 -> . | H74: =Enfants!AZ49 -> . | I74: =Enfants!BA49 -> 1 | J74: =Enfants!BB49 -> 2 | ... AM74: =Enfants!CE49 -> 31 | AN74: =COUNTIF(C75:AM75,"Férier") -> 0 | AO74: =(COUNTIF(C75:AM75,"8h_CL")+(COUNTIF(C75:AM75,"4h_CL")*0.5)) -> 0 | AP74: =(COUNTIF(C75:AM75,"8h_RC")+(COUNTIF(C75:AM75,"2h_RC")*0.5)+(COUNTIF(C75:AM75,"2h_RC")*0.25)+(COUNTIF(C75:AM75,"6h_RC")*0.75)) -> 0 | AQ74: =COUNTIF(C75:AM75,"SaSo") -> 0 | AR74: =COUNTIF(C75:AM75,"Malad") -> 0 | AS74: =COUNTIF(C75:AM75,"T-HW") -> 0 | AT74: =(COUNTIF(C75:AM75,"8h_CEL")+(COUNTIF(C74:AM74,"2h_CEL")*0.5)) -> 0
B75: y/n | C75: =IF(C74=".",".","") -> . | D75: =IF(D74=".",".","") -> . | E75: =IF(E74=".",".","") -> . | F75: =IF(F74=".",".","") -> . | G75: =IF(G74=".",".","") -> . | H75: =IF(H74=".",".","") -> . | I75: =IF(I74=".",".","") | J75: =IF(J74=".",".","") | ... AM75: =IF(AM74=".",".","")
B76: IN | C76: =IF(C75=".",".",IF(C75="T-HW","",IF(C75="Work","",IF(C75="","","-")))) -> . | D76: =IF(D75=".",".",IF(D75="T-HW","",IF(D75="Work","",IF(D75="","","-")))) -> . | E76: =IF(E75=".",".",IF(E75="T-HW","",IF(E75="Work","",IF(E75="","","-")))) -> . | F76: =IF(F75=".",".",IF(F75="T-HW","",IF(F75="Work","",IF(F75="","","-")))) -> . | G76: =IF(G75=".",".",IF(G75="T-HW","",IF(G75="Work","",IF(G75="","","-")))) -> . | H76: =IF(H75=".",".","") -> . | I76: =IF(I75=".",".","") | J76: =IF(J75=".",".",IF(J75="T-HW","",IF(J75="Work","",IF(J75="","","-")))) | K76: =IF(K75=".",".",IF(K75="T-HW","",IF(K75="Work","",IF(K75="","","-")))) | L76: =IF(L75=".",".",IF(L75="T-HW","",IF(L75="Work","",IF(L75="","","-")))) | M76: =IF(M75=".",".",IF(M75="T-HW","",IF(M75="Work","",IF(M75="","","-")))) | N76: =IF(N75=".",".",IF(N75="T-HW","",IF(N75="Work","",IF(N75="","","-")))) | O76: =IF(O75=".",".","") | P76: =IF(P75=".",".","") | Q76: =IF(Q75=".",".",IF(Q75="T-HW","",IF(Q75="Work","",IF(Q75="","","-")))) | R76: =IF(R75=".",".",IF(R75="T-HW","",IF(R75="Work","",IF(R75="","","-")))) | S76: =IF(S75=".",".",IF(S75="T-HW","",IF(S75="Work","",IF(S75="","","-")))) | T76: =IF(T75=".",".",IF(T75="T-HW","",IF(T75="Work","",IF(T75="","","-")))) | U76: =IF(U75=".",".",IF(U75="T-HW","",IF(U75="Work","",IF(U75="","","-")))) | V76: =IF(V75=".",".","") | W76: =IF(W75=".",".","") | X76: =IF(X75=".",".",IF(X75="T-HW","",IF(X75="Work","",IF(X75="","","-")))) | Y76: =IF(Y75=".",".",IF(Y75="T-HW","",IF(Y75="Work","",IF(Y75="","","-")))) | Z76: =IF(Z75=".",".",IF(Z75="T-HW","",IF(Z75="Work","",IF(Z75="","","-")))) | AA76: =IF(AA75=".",".",IF(AA75="T-HW","",IF(AA75="Work","",IF(AA75="","","-")))) | AB76: =IF(AB75=".",".",IF(AB75="T-HW","",IF(AB75="Work","",IF(AB75="","","-")))) | AC76: =IF(AC75=".",".","") | AD76: =IF(AD75=".",".","") | AE76: =IF(AE75=".",".",IF(AE75="T-HW","",IF(AE75="Work","",IF(AE75="","","-")))) | AF76: =IF(AF75=".",".",IF(AF75="T-HW","",IF(AF75="Work","",IF(AF75="","","-")))) | AG76: =IF(AG75=".",".",IF(AG75="T-HW","",IF(AG75="Work","",IF(AG75="","","-")))) | AH76: =IF(AH75=".",".",IF(AH75="T-HW","",IF(AH75="Work","",IF(AH75="","","-")))) | AI76: =IF(AI75=".",".",IF(AI75="T-HW","",IF(AI75="Work","",IF(AI75="","","-")))) | AJ76: =IF(AJ75=".",".","") | AK76: =IF(AK75=".",".","") | AL76: =IF(AL75=".",".",IF(AL75="T-HW","",IF(AL75="Work","",IF(AL75="","","-")))) | AM76: =IF(AM75=".",".",IF(AM75="T-HW","",IF(AM75="Work","",IF(AM75="","","-"))))
B77: OUT | C77: =IF(C76=".",".",IF(C76="-","-","")) -> . | D77: =IF(D76=".",".",IF(D76="-","-","")) -> . | E77: =IF(E76=".",".",IF(E76="-","-","")) -> . | F77: =IF(F76=".",".",IF(F76="-","-","")) -> . | G77: =IF(G76=".",".",IF(G76="-","-","")) -> . | H77: =IF(H76=".",".","") -> . | I77: =IF(I76=".",".","") | J77: =IF(J76=".",".",IF(J76="-","-","")) | K77: =IF(K76=".",".",IF(K76="-","-","")) | L77: =IF(L76=".",".",IF(L76="-","-","")) | M77: =IF(M76=".",".",IF(M76="-","-","")) | N77: =IF(N76=".",".",IF(N76="-","-","")) | O77: =IF(O76=".",".","") | P77: =IF(P76=".",".","") | Q77: =IF(Q76=".",".",IF(Q76="-","-","")) | R77: =IF(R76=".",".",IF(R76="-","-","")) | S77: =IF(S76=".",".",IF(S76="-","-","")) | T77: =IF(T76=".",".",IF(T76="-","-","")) | U77: =IF(U76=".",".",IF(U76="-","-","")) | V77: =IF(V76=".",".","") | W77: =IF(W76=".",".","") | X77: =IF(X76=".",".",IF(X76="-","-","")) | Y77: =IF(Y76=".",".",IF(Y76="-","-","")) | Z77: =IF(Z76=".",".",IF(Z76="-","-","")) | AA77: =IF(AA76=".",".",IF(AA76="-","-","")) | AB77: =IF(AB76=".",".",IF(AB76="-","-","")) | AC77: =IF(AC76=".",".","") | AD77: =IF(AD76=".",".","") | AE77: =IF(AE76=".",".",IF(AE76="-","-","")) | AF77: =IF(AF76=".",".",IF(AF76="-","-","")) | AG77: =IF(AG76=".",".",IF(AG76="-","-","")) | AH77: =IF(AH76=".",".",IF(AH76="-","-","")) | AI77: =IF(AI76=".",".",IF(AI76="-","-","")) | AJ77: =IF(AJ76=".",".","") | AK77: =IF(AK76=".",".","") | AL77: =IF(AL76=".",".",IF(AL76="-","-","")) | AM77: =IF(AM76=".",".",IF(AM76="-","-",""))
A78: /jour/mois | B78: Pause | C78: =IF(C77=".",".",IF(C77="-","-",0)) -> . | D78: =IF(D77=".",".",IF(D77="-","-",0)) -> . | E78: =IF(E77=".",".",IF(E77="-","-",0)) -> . | F78: =IF(F77=".",".",IF(F77="-","-",0)) -> . | G78: =IF(G77=".",".",IF(G77="-","-",0)) -> . | H78: =IF(H77=".",".","All") -> . | I78: =IF(I77=".",".","/ jour") -> / jour | J78: =IF(J77=".",".",IF(J77="-","-",0)) -> 0 | K78: =IF(K77=".",".",IF(K77="-","-",0)) -> 0 | L78: =IF(L77=".",".",IF(L77="-","-",0)) -> 0 | M78: =IF(M77=".",".",IF(M77="-","-",0)) -> 0 | N78: =IF(N77=".",".",IF(N77="-","-",0)) -> 0 | O78: =IF(O77=".",".","All") -> All | P78: =IF(P77=".",".","/ jour") -> / jour | Q78: =IF(Q77=".",".",IF(Q77="-","-",0)) -> 0 | R78: =IF(R77=".",".",IF(R77="-","-",0)) -> 0 | S78: =IF(S77=".",".",IF(S77="-","-",0)) -> 0 | T78: =IF(T77=".",".",IF(T77="-","-",0)) -> 0 | U78: =IF(U77=".",".",IF(U77="-","-",0)) -> 0 | V78: =IF(V77=".",".","All") -> All | W78: =IF(W77=".",".","/ jour") -> / jour | X78: =IF(X77=".",".",IF(X77="-","-",0)) -> 0 | Y78: =IF(Y77=".",".",IF(Y77="-","-",0)) -> 0 | Z78: =IF(Z77=".",".",IF(Z77="-","-",0)) -> 0 | AA78: =IF(AA77=".",".",IF(AA77="-","-",0)) -> 0 | AB78: =IF(AB77=".",".",IF(AB77="-","-",0)) -> 0 | AC78: =IF(AC77=".",".","All") -> All | AD78: =IF(AD77=".",".","/ jour") -> / jour | AE78: =IF(AE77=".",".",IF(AE77="-","-",0)) -> 0 | AF78: =IF(AF77=".",".",IF(AF77="-","-",0)) -> 0 | AG78: =IF(AG77=".",".",IF(AG77="-","-",0)) -> 0 | AH78: =IF(AH77=".",".",IF(AH77="-","-",0)) -> 0 | AI78: =IF(AI77=".",".",IF(AI77="-","-",0)) -> 0 | AJ78: =IF(AJ77=".",".","All") -> All | AK78: =IF(AK77=".",".","/ jour") -> / jour | AL78: =IF(AL77=".",".",IF(AL77="-","-",0)) -> 0 | AM78: =IF(AM77=".",".",IF(AM77="-","-",0)) -> 0
A79: =IFERROR(AVERAGE(C79:G79,J79:N79,Q79:U79,X79:AB79,AE79:AI79,AL79:AM79),"-") -> - | B79: Total | C79: =IF(C77=".",".",IF(C77="-","-",IFERROR(C77-C76-C78,""))) -> . | D79: =IF(D77=".",".",IF(D77="-","-",IFERROR(D77-D76-D78,""))) -> . | E79: =IF(E77=".",".",IF(E77="-","",IFERROR(E77-E76-E78,""))) -> . | F79: =IF(F77=".",".",IF(F77="-","-",IFERROR(F77-F76-F78,""))) -> . | G79: =IF(G77=".",".",IF(G77="-","-",IFERROR(G77-G76-G78,""))) -> . | H79: =IF(H77=".",".",SUM(C79:G79)+SUM(AL67:AM67)) -> . | I79: =IF(I77=".",".",IFERROR(AVERAGE(AL73:AM73,C79:G79),"")) | J79: =IF(J77=".",".",IF(J77="-","-",IFERROR(J77-J76-J78,""))) | K79: =IF(K77=".",".",IF(K77="-","-",IFERROR(K77-K76-K78,""))) | L79: =IF(L77=".",".",IF(L77="-","",IFERROR(L77-L76-L78,""))) | M79: =IF(M77=".",".",IF(M77="-","-",IFERROR(M77-M76-M78,""))) | N79: =IF(N77=".",".",IF(N77="-","-",IFERROR(N77-N76-N78,""))) | O79: =IF(O77=".",".",SUM(J79:N79)) -> 0 | P79: =IF(P77=".",".",IFERROR(AVERAGE(J79:N79),"")) | Q79: =IF(Q77=".",".",IF(Q77="-","-",IFERROR(Q77-Q76-Q78,""))) | R79: =IF(R77=".",".",IF(R77="-","-",IFERROR(R77-R76-R78,""))) | S79: =IF(S77=".",".",IF(S77="-","",IFERROR(S77-S76-S78,""))) | T79: =IF(T77=".",".",IF(T77="-","-",IFERROR(T77-T76-T78,""))) | U79: =IF(U77=".",".",IF(U77="-","-",IFERROR(U77-U76-U78,""))) | V79: =IF(V77=".",".",SUM(Q79:U79)) -> 0 | W79: =IF(W77=".",".",IFERROR(AVERAGE(Q79:U79),"")) | X79: =IF(X77=".",".",IF(X77="-","-",IFERROR(X77-X76-X78,""))) | Y79: =IF(Y77=".",".",IF(Y77="-","-",IFERROR(Y77-Y76-Y78,""))) | Z79: =IF(Z77=".",".",IF(Z77="-","",IFERROR(Z77-Z76-Z78,""))) | AA79: =IF(AA77=".",".",IF(AA77="-","-",IFERROR(AA77-AA76-AA78,""))) | AB79: =IF(AB77=".",".",IF(AB77="-","-",IFERROR(AB77-AB76-AB78,""))) | AC79: =IF(AC77=".",".",SUM(X79:AB79)) -> 0 | AD79: =IF(AD77=".",".",IFERROR(AVERAGE(X79:AB79),"")) | AE79: =IF(AE77=".",".",IF(AE77="-","-",IFERROR(AE77-AE76-AE78,""))) | AF79: =IF(AF77=".",".",IF(AF77="-","-",IFERROR(AF77-AF76-AF78,""))) | AG79: =IF(AG77=".",".",IF(AG77="-","",IFERROR(AG77-AG76-AG78,""))) | AH79: =IF(AH77=".",".",IF(AH77="-","-",IFERROR(AH77-AH76-AH78,""))) | AI79: =IF(AI77=".",".",IF(AI77="-","-",IFERROR(AI77-AI76-AI78,""))) | AJ79: =IF(AJ77=".",".",SUM(AE79:AI79)) -> 0 | AK79: =IF(AK77=".",".",IFERROR(AVERAGE(AE79:AI79),"")) | AL79: =IF(AL77=".",".",IF(AL77="-","-",IFERROR(AL77-AL76-AL78,""))) | AM79: =IF(AM77=".",".",IF(AM77="-","-",IFERROR(AM77-AM76-AM78,"")))
A80: Juin | B80: Date | C80: =Enfants!AU50 -> . | D80: =Enfants!AV50 -> . | E80: =Enfants!AW50 -> 1 | F80: =Enfants!AX50 -> 2 | G80: =Enfants!AY50 -> 3 | H80: =Enfants!AZ50 -> 4 | I80: =Enfants!BA50 -> 5 | J80: =Enfants!BB50 -> 6 | ... AM80: =Enfants!CE50 -> . | AN80: =COUNTIF(C81:AM81,"Férier") -> 0 | AO80: =(COUNTIF(C81:AM81,"8h_CL")+(COUNTIF(C81:AM81,"4h_CL")*0.5)) -> 0 | AP80: =(COUNTIF(C81:AM81,"8h_RC")+(COUNTIF(C81:AM81,"2h_RC")*0.5)+(COUNTIF(C81:AM81,"2h_RC")*0.25)+(COUNTIF(C81:AM81,"6h_RC")*0.75)) -> 0 | AQ80: =COUNTIF(C81:AM81,"SaSo") -> 0 | AR80: =COUNTIF(C81:AM81,"Malad") -> 0 | AS80: =COUNTIF(C81:AM81,"T-HW") -> 0 | AT80: =(COUNTIF(C81:AM81,"8h_CEL")+(COUNTIF(C80:AM80,"2h_CEL")*0.5)) -> 0
B81: y/n | C81: =IF(C80=".",".","") -> . | D81: =IF(D80=".",".","") -> . | E81: =IF(E80=".",".","") | F81: =IF(F80=".",".","") | G81: =IF(G80=".",".","") | H81: =IF(H80=".",".","") | I81: =IF(I80=".",".","") | J81: =IF(J80=".",".","") | ... AM81: =IF(AM80=".",".","") -> .
B82: IN | C82: =IF(C81=".",".",IF(C81="T-HW","",IF(C81="Work","",IF(C81="","","-")))) -> . | D82: =IF(D81=".",".",IF(D81="T-HW","",IF(D81="Work","",IF(D81="","","-")))) -> . | E82: =IF(E81=".",".",IF(E81="T-HW","",IF(E81="Work","",IF(E81="","","-")))) | F82: =IF(F81=".",".",IF(F81="T-HW","",IF(F81="Work","",IF(F81="","","-")))) | G82: =IF(G81=".",".",IF(G81="T-HW","",IF(G81="Work","",IF(G81="","","-")))) | H82: =IF(H81=".",".","") | I82: =IF(I81=".",".","") | J82: =IF(J81=".",".",IF(J81="T-HW","",IF(J81="Work","",IF(J81="","","-")))) | K82: =IF(K81=".",".",IF(K81="T-HW","",IF(K81="Work","",IF(K81="","","-")))) | L82: =IF(L81=".",".",IF(L81="T-HW","",IF(L81="Work","",IF(L81="","","-")))) | M82: =IF(M81=".",".",IF(M81="T-HW","",IF(M81="Work","",IF(M81="","","-")))) | N82: =IF(N81=".",".",IF(N81="T-HW","",IF(N81="Work","",IF(N81="","","-")))) | O82: =IF(O81=".",".","") | P82: =IF(P81=".",".","") | Q82: =IF(Q81=".",".",IF(Q81="T-HW","",IF(Q81="Work","",IF(Q81="","","-")))) | R82: =IF(R81=".",".",IF(R81="T-HW","",IF(R81="Work","",IF(R81="","","-")))) | S82: =IF(S81=".",".",IF(S81="T-HW","",IF(S81="Work","",IF(S81="","","-")))) | T82: =IF(T81=".",".",IF(T81="T-HW","",IF(T81="Work","",IF(T81="","","-")))) | U82: =IF(U81=".",".",IF(U81="T-HW","",IF(U81="Work","",IF(U81="","","-")))) | V82: =IF(V81=".",".","") | W82: =IF(W81=".",".","") | X82: =IF(X81=".",".",IF(X81="T-HW","",IF(X81="Work","",IF(X81="","","-")))) | Y82: =IF(Y81=".",".",IF(Y81="T-HW","",IF(Y81="Work","",IF(Y81="","","-")))) | Z82: =IF(Z81=".",".",IF(Z81="T-HW","",IF(Z81="Work","",IF(Z81="","","-")))) | AA82: =IF(AA81=".",".",IF(AA81="T-HW","",IF(AA81="Work","",IF(AA81="","","-")))) | AB82: =IF(AB81=".",".",IF(AB81="T-HW","",IF(AB81="Work","",IF(AB81="","","-")))) | AC82: =IF(AC81=".",".","") | AD82: =IF(AD81=".",".","") | AE82: =IF(AE81=".",".",IF(AE81="T-HW","",IF(AE81="Work","",IF(AE81="","","-")))) | AF82: =IF(AF81=".",".",IF(AF81="T-HW","",IF(AF81="Work","",IF(AF81="","","-")))) | AG82: =IF(AG81=".",".",IF(AG81="T-HW","",IF(AG81="Work","",IF(AG81="","","-")))) | AH82: =IF(AH81=".",".",IF(AH81="T-HW","",IF(AH81="Work","",IF(AH81="","","-")))) | AI82: =IF(AI81=".",".",IF(AI81="T-HW","",IF(AI81="Work","",IF(AI81="","","-")))) -> . | AJ82: =IF(AJ81=".",".","") -> . | AK82: =IF(AK81=".",".","") -> . | AL82: =IF(AL81=".",".",IF(AL81="T-HW","",IF(AL81="Work","",IF(AL81="","","-")))) -> . | AM82: =IF(AM81=".",".",IF(AM81="T-HW","",IF(AM81="Work","",IF(AM81="","","-")))) -> .
B83: OUT | C83: =IF(C82=".",".",IF(C82="-","-","")) -> . | D83: =IF(D82=".",".",IF(D82="-","-","")) -> . | E83: =IF(E82=".",".",IF(E82="-","-","")) | F83: =IF(F82=".",".",IF(F82="-","-","")) | G83: =IF(G82=".",".",IF(G82="-","-","")) | H83: =IF(H82=".",".","") | I83: =IF(I82=".",".","") | J83: =IF(J82=".",".",IF(J82="-","-","")) | K83: =IF(K82=".",".",IF(K82="-","-","")) | L83: =IF(L82=".",".",IF(L82="-","-","")) | M83: =IF(M82=".",".",IF(M82="-","-","")) | N83: =IF(N82=".",".",IF(N82="-","-","")) | O83: =IF(O82=".",".","") | P83: =IF(P82=".",".","") | Q83: =IF(Q82=".",".",IF(Q82="-","-","")) | R83: =IF(R82=".",".",IF(R82="-","-","")) | S83: =IF(S82=".",".",IF(S82="-","-","")) | T83: =IF(T82=".",".",IF(T82="-","-","")) | U83: =IF(U82=".",".",IF(U82="-","-","")) | V83: =IF(V82=".",".","") | W83: =IF(W82=".",".","") | X83: =IF(X82=".",".",IF(X82="-","-","")) | Y83: =IF(Y82=".",".",IF(Y82="-","-","")) | Z83: =IF(Z82=".",".",IF(Z82="-","-","")) | AA83: =IF(AA82=".",".",IF(AA82="-","-","")) | AB83: =IF(AB82=".",".",IF(AB82="-","-","")) | AC83: =IF(AC82=".",".","") | AD83: =IF(AD82=".",".","") | AE83: =IF(AE82=".",".",IF(AE82="-","-","")) | AF83: =IF(AF82=".",".",IF(AF82="-","-","")) | AG83: =IF(AG82=".",".",IF(AG82="-","-","")) | AH83: =IF(AH82=".",".",IF(AH82="-","-","")) | AI83: =IF(AI82=".",".",IF(AI82="-","-","")) -> . | AJ83: =IF(AJ82=".",".","") -> . | AK83: =IF(AK82=".",".","") -> . | AL83: =IF(AL82=".",".",IF(AL82="-","-","")) -> . | AM83: =IF(AM82=".",".",IF(AM82="-","-","")) -> .
A84: /jour/mois | B84: Pause | C84: =IF(C83=".",".",IF(C83="-","-",0)) -> . | D84: =IF(D83=".",".",IF(D83="-","-",0)) -> . | E84: =IF(E83=".",".",IF(E83="-","-",0)) -> 0 | F84: =IF(F83=".",".",IF(F83="-","-",0)) -> 0 | G84: =IF(G83=".",".",IF(G83="-","-",0)) -> 0 | H84: =IF(H83=".",".","All") -> All | I84: =IF(I83=".",".","/ jour") -> / jour | J84: =IF(J83=".",".",IF(J83="-","-",0)) -> 0 | K84: =IF(K83=".",".",IF(K83="-","-",0)) -> 0 | L84: =IF(L83=".",".",IF(L83="-","-",0)) -> 0 | M84: =IF(M83=".",".",IF(M83="-","-",0)) -> 0 | N84: =IF(N83=".",".",IF(N83="-","-",0)) -> 0 | O84: =IF(O83=".",".","All") -> All | P84: =IF(P83=".",".","/ jour") -> / jour | Q84: =IF(Q83=".",".",IF(Q83="-","-",0)) -> 0 | R84: =IF(R83=".",".",IF(R83="-","-",0)) -> 0 | S84: =IF(S83=".",".",IF(S83="-","-",0)) -> 0 | T84: =IF(T83=".",".",IF(T83="-","-",0)) -> 0 | U84: =IF(U83=".",".",IF(U83="-","-",0)) -> 0 | V84: =IF(V83=".",".","All") -> All | W84: =IF(W83=".",".","/ jour") -> / jour | X84: =IF(X83=".",".",IF(X83="-","-",0)) -> 0 | Y84: =IF(Y83=".",".",IF(Y83="-","-",0)) -> 0 | Z84: =IF(Z83=".",".",IF(Z83="-","-",0)) -> 0 | AA84: =IF(AA83=".",".",IF(AA83="-","-",0)) -> 0 | AB84: =IF(AB83=".",".",IF(AB83="-","-",0)) -> 0 | AC84: =IF(AC83=".",".","All") -> All | AD84: =IF(AD83=".",".","/ jour") -> / jour | AE84: =IF(AE83=".",".",IF(AE83="-","-",0)) -> 0 | AF84: =IF(AF83=".",".",IF(AF83="-","-",0)) -> 0 | AG84: =IF(AG83=".",".",IF(AG83="-","-",0)) -> 0 | AH84: =IF(AH83=".",".",IF(AH83="-","-",0)) -> 0 | AI84: =IF(AI83=".",".",IF(AI83="-","-",0)) -> . | AJ84: =IF(AJ83=".",".","All") -> . | AK84: =IF(AK83=".",".","/ jour") -> . | AL84: =IF(AL83=".",".",IF(AL83="-","-",0)) -> . | AM84: =IF(AM83=".",".",IF(AM83="-","-",0)) -> .
A85: =IFERROR(AVERAGE(C85:G85,J85:N85,Q85:U85,X85:AB85,AE85:AI85,AL85:AM85),"-") -> - | B85: Total | C85: =IF(C83=".",".",IF(C83="-","-",IFERROR(C83-C82-C84,""))) -> . | D85: =IF(D83=".",".",IF(D83="-","-",IFERROR(D83-D82-D84,""))) -> . | E85: =IF(E83=".",".",IF(E83="-","",IFERROR(E83-E82-E84,""))) | F85: =IF(F83=".",".",IF(F83="-","-",IFERROR(F83-F82-F84,""))) | G85: =IF(G83=".",".",IF(G83="-","-",IFERROR(G83-G82-G84,""))) | H85: =IF(H83=".",".",SUM(C85:G85)+SUM(AL73:AM73)) -> 0 | I85: =IF(I83=".",".",IFERROR(AVERAGE(AL79:AM79,C85:G85),"")) | J85: =IF(J83=".",".",IF(J83="-","-",IFERROR(J83-J82-J84,""))) | K85: =IF(K83=".",".",IF(K83="-","-",IFERROR(K83-K82-K84,""))) | L85: =IF(L83=".",".",IF(L83="-","",IFERROR(L83-L82-L84,""))) | M85: =IF(M83=".",".",IF(M83="-","-",IFERROR(M83-M82-M84,""))) | N85: =IF(N83=".",".",IF(N83="-","-",IFERROR(N83-N82-N84,""))) | O85: =IF(O83=".",".",SUM(J85:N85)) -> 0 | P85: =IF(P83=".",".",IFERROR(AVERAGE(J85:N85),"")) | Q85: =IF(Q83=".",".",IF(Q83="-","-",IFERROR(Q83-Q82-Q84,""))) | R85: =IF(R83=".",".",IF(R83="-","-",IFERROR(R83-R82-R84,""))) | S85: =IF(S83=".",".",IF(S83="-","",IFERROR(S83-S82-S84,""))) | T85: =IF(T83=".",".",IF(T83="-","-",IFERROR(T83-T82-T84,""))) | U85: =IF(U83=".",".",IF(U83="-","-",IFERROR(U83-U82-U84,""))) | V85: =IF(V83=".",".",SUM(Q85:U85)) -> 0 | W85: =IF(W83=".",".",IFERROR(AVERAGE(Q85:U85),"")) | X85: =IF(X83=".",".",IF(X83="-","-",IFERROR(X83-X82-X84,""))) | Y85: =IF(Y83=".",".",IF(Y83="-","-",IFERROR(Y83-Y82-Y84,""))) | Z85: =IF(Z83=".",".",IF(Z83="-","",IFERROR(Z83-Z82-Z84,""))) | AA85: =IF(AA83=".",".",IF(AA83="-","-",IFERROR(AA83-AA82-AA84,""))) | AB85: =IF(AB83=".",".",IF(AB83="-","-",IFERROR(AB83-AB82-AB84,""))) | AC85: =IF(AC83=".",".",SUM(X85:AB85)) -> 0 | AD85: =IF(AD83=".",".",IFERROR(AVERAGE(X85:AB85),"")) | AE85: =IF(AE83=".",".",IF(AE83="-","-",IFERROR(AE83-AE82-AE84,""))) | AF85: =IF(AF83=".",".",IF(AF83="-","-",IFERROR(AF83-AF82-AF84,""))) | AG85: =IF(AG83=".",".",IF(AG83="-","",IFERROR(AG83-AG82-AG84,""))) | AH85: =IF(AH83=".",".",IF(AH83="-","-",IFERROR(AH83-AH82-AH84,""))) | AI85: =IF(AI83=".",".",IF(AI83="-","-",IFERROR(AI83-AI82-AI84,""))) -> . | AJ85: =IF(AJ83=".",".",SUM(AE85:AI85)) -> . | AK85: =IF(AK83=".",".",IFERROR(AVERAGE(AE85:AI85),"")) -> . | AL85: =IF(AL83=".",".",IF(AL83="-","-",IFERROR(AL83-AL82-AL84,""))) -> . | AM85: =IF(AM83=".",".",IF(AM83="-","-",IFERROR(AM83-AM82-AM84,""))) -> .
A86: Juillet | B86: Date | C86: =Enfants!AU51 -> . | D86: =Enfants!AV51 -> . | E86: =Enfants!AW51 -> . | F86: =Enfants!AX51 -> . | G86: =Enfants!AY51 -> 1 | H86: =Enfants!AZ51 -> 2 | I86: =Enfants!BA51 -> 3 | J86: =Enfants!BB51 -> 4 | ... AM86: =Enfants!CE51 -> . | AN86: =COUNTIF(C87:AM87,"Férier") -> 0 | AO86: =(COUNTIF(C87:AM87,"8h_CL")+(COUNTIF(C87:AM87,"4h_CL")*0.5)) -> 0 | AP86: =(COUNTIF(C87:AM87,"8h_RC")+(COUNTIF(C87:AM87,"2h_RC")*0.5)+(COUNTIF(C87:AM87,"2h_RC")*0.25)+(COUNTIF(C87:AM87,"6h_RC")*0.75)) -> 0 | AQ86: =COUNTIF(C87:AM87,"SaSo") -> 0 | AR86: =COUNTIF(C87:AM87,"Malad") -> 0 | AS86: =COUNTIF(C87:AM87,"T-HW") -> 0 | AT86: =(COUNTIF(C87:AM87,"8h_CEL")+(COUNTIF(C86:AM86,"2h_CEL")*0.5)) -> 0
B87: y/n | C87: =IF(C86=".",".","") -> . | D87: =IF(D86=".",".","") -> . | E87: =IF(E86=".",".","") -> . | F87: =IF(F86=".",".","") -> . | G87: =IF(G86=".",".","") | H87: =IF(H86=".",".","") | I87: =IF(I86=".",".","") | J87: =IF(J86=".",".","") | ... AM87: =IF(AM86=".",".","") -> .
B88: IN | C88: =IF(C87=".",".",IF(C87="T-HW","",IF(C87="Work","",IF(C87="","","-")))) -> . | D88: =IF(D87=".",".",IF(D87="T-HW","",IF(D87="Work","",IF(D87="","","-")))) -> . | E88: =IF(E87=".",".",IF(E87="T-HW","",IF(E87="Work","",IF(E87="","","-")))) -> . | F88: =IF(F87=".",".",IF(F87="T-HW","",IF(F87="Work","",IF(F87="","","-")))) -> . | G88: =IF(G87=".",".",IF(G87="T-HW","",IF(G87="Work","",IF(G87="","","-")))) | H88: =IF(H87=".",".","") | I88: =IF(I87=".",".","") | J88: =IF(J87=".",".",IF(J87="T-HW","",IF(J87="Work","",IF(J87="","","-")))) | K88: =IF(K87=".",".",IF(K87="T-HW","",IF(K87="Work","",IF(K87="","","-")))) | L88: =IF(L87=".",".",IF(L87="T-HW","",IF(L87="Work","",IF(L87="","","-")))) | M88: =IF(M87=".",".",IF(M87="T-HW","",IF(M87="Work","",IF(M87="","","-")))) | N88: =IF(N87=".",".",IF(N87="T-HW","",IF(N87="Work","",IF(N87="","","-")))) | O88: =IF(O87=".",".","") | P88: =IF(P87=".",".","") | Q88: =IF(Q87=".",".",IF(Q87="T-HW","",IF(Q87="Work","",IF(Q87="","","-")))) | R88: =IF(R87=".",".",IF(R87="T-HW","",IF(R87="Work","",IF(R87="","","-")))) | S88: =IF(S87=".",".",IF(S87="T-HW","",IF(S87="Work","",IF(S87="","","-")))) | T88: =IF(T87=".",".",IF(T87="T-HW","",IF(T87="Work","",IF(T87="","","-")))) | U88: =IF(U87=".",".",IF(U87="T-HW","",IF(U87="Work","",IF(U87="","","-")))) | V88: =IF(V87=".",".","") | W88: =IF(W87=".",".","") | X88: =IF(X87=".",".",IF(X87="T-HW","",IF(X87="Work","",IF(X87="","","-")))) | Y88: =IF(Y87=".",".",IF(Y87="T-HW","",IF(Y87="Work","",IF(Y87="","","-")))) | Z88: =IF(Z87=".",".",IF(Z87="T-HW","",IF(Z87="Work","",IF(Z87="","","-")))) | AA88: =IF(AA87=".",".",IF(AA87="T-HW","",IF(AA87="Work","",IF(AA87="","","-")))) | AB88: =IF(AB87=".",".",IF(AB87="T-HW","",IF(AB87="Work","",IF(AB87="","","-")))) | AC88: =IF(AC87=".",".","") | AD88: =IF(AD87=".",".","") | AE88: =IF(AE87=".",".",IF(AE87="T-HW","",IF(AE87="Work","",IF(AE87="","","-")))) | AF88: =IF(AF87=".",".",IF(AF87="T-HW","",IF(AF87="Work","",IF(AF87="","","-")))) | AG88: =IF(AG87=".",".",IF(AG87="T-HW","",IF(AG87="Work","",IF(AG87="","","-")))) | AH88: =IF(AH87=".",".",IF(AH87="T-HW","",IF(AH87="Work","",IF(AH87="","","-")))) | AI88: =IF(AI87=".",".",IF(AI87="T-HW","",IF(AI87="Work","",IF(AI87="","","-")))) | AJ88: =IF(AJ87=".",".","") | AK88: =IF(AK87=".",".","") | AL88: =IF(AL87=".",".",IF(AL87="T-HW","",IF(AL87="Work","",IF(AL87="","","-")))) -> . | AM88: =IF(AM87=".",".",IF(AM87="T-HW","",IF(AM87="Work","",IF(AM87="","","-")))) -> .
B89: OUT | C89: =IF(C88=".",".",IF(C88="-","-","")) -> . | D89: =IF(D88=".",".",IF(D88="-","-","")) -> . | E89: =IF(E88=".",".",IF(E88="-","-","")) -> . | F89: =IF(F88=".",".",IF(F88="-","-","")) -> . | G89: =IF(G88=".",".",IF(G88="-","-","")) | H89: =IF(H88=".",".","") | I89: =IF(I88=".",".","") | J89: =IF(J88=".",".",IF(J88="-","-","")) | K89: =IF(K88=".",".",IF(K88="-","-","")) | L89: =IF(L88=".",".",IF(L88="-","-","")) | M89: =IF(M88=".",".",IF(M88="-","-","")) | N89: =IF(N88=".",".",IF(N88="-","-","")) | O89: =IF(O88=".",".","") | P89: =IF(P88=".",".","") | Q89: =IF(Q88=".",".",IF(Q88="-","-","")) | R89: =IF(R88=".",".",IF(R88="-","-","")) | S89: =IF(S88=".",".",IF(S88="-","-","")) | T89: =IF(T88=".",".",IF(T88="-","-","")) | U89: =IF(U88=".",".",IF(U88="-","-","")) | V89: =IF(V88=".",".","") | W89: =IF(W88=".",".","") | X89: =IF(X88=".",".",IF(X88="-","-","")) | Y89: =IF(Y88=".",".",IF(Y88="-","-","")) | Z89: =IF(Z88=".",".",IF(Z88="-","-","")) | AA89: =IF(AA88=".",".",IF(AA88="-","-","")) | AB89: =IF(AB88=".",".",IF(AB88="-","-","")) | AC89: =IF(AC88=".",".","") | AD89: =IF(AD88=".",".","") | AE89: =IF(AE88=".",".",IF(AE88="-","-","")) | AF89: =IF(AF88=".",".",IF(AF88="-","-","")) | AG89: =IF(AG88=".",".",IF(AG88="-","-","")) | AH89: =IF(AH88=".",".",IF(AH88="-","-","")) | AI89: =IF(AI88=".",".",IF(AI88="-","-","")) | AJ89: =IF(AJ88=".",".","") | AK89: =IF(AK88=".",".","") | AL89: =IF(AL88=".",".",IF(AL88="-","-","")) -> . | AM89: =IF(AM88=".",".",IF(AM88="-","-","")) -> .
A90: /jour/mois | B90: Pause | C90: =IF(C89=".",".",IF(C89="-","-",0)) -> . | D90: =IF(D89=".",".",IF(D89="-","-",0)) -> . | E90: =IF(E89=".",".",IF(E89="-","-",0)) -> . | F90: =IF(F89=".",".",IF(F89="-","-",0)) -> . | G90: =IF(G89=".",".",IF(G89="-","-",0)) -> 0 | H90: =IF(H89=".",".","All") -> All | I90: =IF(I89=".",".","/ jour") -> / jour | J90: =IF(J89=".",".",IF(J89="-","-",0)) -> 0 | K90: =IF(K89=".",".",IF(K89="-","-",0)) -> 0 | L90: =IF(L89=".",".",IF(L89="-","-",0)) -> 0 | M90: =IF(M89=".",".",IF(M89="-","-",0)) -> 0 | N90: =IF(N89=".",".",IF(N89="-","-",0)) -> 0 | O90: =IF(O89=".",".","All") -> All | P90: =IF(P89=".",".","/ jour") -> / jour | Q90: =IF(Q89=".",".",IF(Q89="-","-",0)) -> 0 | R90: =IF(R89=".",".",IF(R89="-","-",0)) -> 0 | S90: =IF(S89=".",".",IF(S89="-","-",0)) -> 0 | T90: =IF(T89=".",".",IF(T89="-","-",0)) -> 0 | U90: =IF(U89=".",".",IF(U89="-","-",0)) -> 0 | V90: =IF(V89=".",".","All") -> All | W90: =IF(W89=".",".","/ jour") -> / jour | X90: =IF(X89=".",".",IF(X89="-","-",0)) -> 0 | Y90: =IF(Y89=".",".",IF(Y89="-","-",0)) -> 0 | Z90: =IF(Z89=".",".",IF(Z89="-","-",0)) -> 0 | AA90: =IF(AA89=".",".",IF(AA89="-","-",0)) -> 0 | AB90: =IF(AB89=".",".",IF(AB89="-","-",0)) -> 0 | AC90: =IF(AC89=".",".","All") -> All | AD90: =IF(AD89=".",".","/ jour") -> / jour | AE90: =IF(AE89=".",".",IF(AE89="-","-",0)) -> 0 | AF90: =IF(AF89=".",".",IF(AF89="-","-",0)) -> 0 | AG90: =IF(AG89=".",".",IF(AG89="-","-",0)) -> 0 | AH90: =IF(AH89=".",".",IF(AH89="-","-",0)) -> 0 | AI90: =IF(AI89=".",".",IF(AI89="-","-",0)) -> 0 | AJ90: =IF(AJ89=".",".","All") -> All | AK90: =IF(AK89=".",".","/ jour") -> / jour | AL90: =IF(AL89=".",".",IF(AL89="-","-",0)) -> . | AM90: =IF(AM89=".",".",IF(AM89="-","-",0)) -> .
A91: =IFERROR(AVERAGE(C91:G91,J91:N91,Q91:U91,X91:AB91,AE91:AI91,AL91:AM91),"-") -> - | B91: Total | C91: =IF(C89=".",".",IF(C89="-","-",IFERROR(C89-C88-C90,""))) -> . | D91: =IF(D89=".",".",IF(D89="-","-",IFERROR(D89-D88-D90,""))) -> . | E91: =IF(E89=".",".",IF(E89="-","",IFERROR(E89-E88-E90,""))) -> . | F91: =IF(F89=".",".",IF(F89="-","-",IFERROR(F89-F88-F90,""))) -> . | G91: =IF(G89=".",".",IF(G89="-","-",IFERROR(G89-G88-G90,""))) | H91: =IF(H89=".",".",SUM(C91:G91)+SUM(AL79:AM79)) -> 0 | I91: =IF(I89=".",".",IFERROR(AVERAGE(AL85:AM85,C91:G91),"")) | J91: =IF(J89=".",".",IF(J89="-","-",IFERROR(J89-J88-J90,""))) | K91: =IF(K89=".",".",IF(K89="-","-",IFERROR(K89-K88-K90,""))) | L91: =IF(L89=".",".",IF(L89="-","",IFERROR(L89-L88-L90,""))) | M91: =IF(M89=".",".",IF(M89="-","-",IFERROR(M89-M88-M90,""))) | N91: =IF(N89=".",".",IF(N89="-","-",IFERROR(N89-N88-N90,""))) | O91: =IF(O89=".",".",SUM(J91:N91)) -> 0 | P91: =IF(P89=".",".",IFERROR(AVERAGE(J91:N91),"")) | Q91: =IF(Q89=".",".",IF(Q89="-","-",IFERROR(Q89-Q88-Q90,""))) | R91: =IF(R89=".",".",IF(R89="-","-",IFERROR(R89-R88-R90,""))) | S91: =IF(S89=".",".",IF(S89="-","",IFERROR(S89-S88-S90,""))) | T91: =IF(T89=".",".",IF(T89="-","-",IFERROR(T89-T88-T90,""))) | U91: =IF(U89=".",".",IF(U89="-","-",IFERROR(U89-U88-U90,""))) | V91: =IF(V89=".",".",SUM(Q91:U91)) -> 0 | W91: =IF(W89=".",".",IFERROR(AVERAGE(Q91:U91),"")) | X91: =IF(X89=".",".",IF(X89="-","-",IFERROR(X89-X88-X90,""))) | Y91: =IF(Y89=".",".",IF(Y89="-","-",IFERROR(Y89-Y88-Y90,""))) | Z91: =IF(Z89=".",".",IF(Z89="-","",IFERROR(Z89-Z88-Z90,""))) | AA91: =IF(AA89=".",".",IF(AA89="-","-",IFERROR(AA89-AA88-AA90,""))) | AB91: =IF(AB89=".",".",IF(AB89="-","-",IFERROR(AB89-AB88-AB90,""))) | AC91: =IF(AC89=".",".",SUM(X91:AB91)) -> 0 | AD91: =IF(AD89=".",".",IFERROR(AVERAGE(X91:AB91),"")) | AE91: =IF(AE89=".",".",IF(AE89="-","-",IFERROR(AE89-AE88-AE90,""))) | AF91: =IF(AF89=".",".",IF(AF89="-","-",IFERROR(AF89-AF88-AF90,""))) | AG91: =IF(AG89=".",".",IF(AG89="-","",IFERROR(AG89-AG88-AG90,""))) | AH91: =IF(AH89=".",".",IF(AH89="-","-",IFERROR(AH89-AH88-AH90,""))) | AI91: =IF(AI89=".",".",IF(AI89="-","-",IFERROR(AI89-AI88-AI90,""))) | AJ91: =IF(AJ89=".",".",SUM(AE91:AI91)) -> 0 | AK91: =IF(AK89=".",".",IFERROR(AVERAGE(AE91:AI91),"")) | AL91: =IF(AL89=".",".",IF(AL89="-","-",IFERROR(AL89-AL88-AL90,""))) -> . | AM91: =IF(AM89=".",".",IF(AM89="-","-",IFERROR(AM89-AM88-AM90,""))) -> .
A92: Aout | B92: Date | C92: =Enfants!AU52 -> 1 | D92: =Enfants!AV52 -> 2 | E92: =Enfants!AW52 -> 3 | F92: =Enfants!AX52 -> 4 | G92: =Enfants!AY52 -> 5 | H92: =Enfants!AZ52 -> 6 | I92: =Enfants!BA52 -> 7 | J92: =Enfants!BB52 -> 8 | ... AM92: =Enfants!CE52 -> . | AN92: =COUNTIF(C93:AM93,"Férier") -> 0 | AO92: =(COUNTIF(C93:AM93,"8h_CL")+(COUNTIF(C93:AM93,"4h_CL")*0.5)) -> 0 | AP92: =(COUNTIF(C93:AM93,"8h_RC")+(COUNTIF(C93:AM93,"2h_RC")*0.5)+(COUNTIF(C93:AM93,"2h_RC")*0.25)+(COUNTIF(C93:AM93,"6h_RC")*0.75)) -> 0 | AQ92: =COUNTIF(C93:AM93,"SaSo") -> 0 | AR92: =COUNTIF(C93:AM93,"Malad") -> 0 | AS92: =COUNTIF(C93:AM93,"T-HW") -> 0 | AT92: =(COUNTIF(C93:AM93,"8h_CEL")+(COUNTIF(C92:AM92,"2h_CEL")*0.5)) -> 0
B93: y/n | C93: =IF(C92=".",".","") | D93: =IF(D92=".",".","") | E93: =IF(E92=".",".","") | F93: =IF(F92=".",".","") | G93: =IF(G92=".",".","") | H93: =IF(H92=".",".","") | I93: =IF(I92=".",".","") | J93: =IF(J92=".",".","") | ... AM93: =IF(AM92=".",".","") -> .
B94: IN | C94: =IF(C93=".",".",IF(C93="T-HW","",IF(C93="Work","",IF(C93="","","-")))) | D94: =IF(D93=".",".",IF(D93="T-HW","",IF(D93="Work","",IF(D93="","","-")))) | E94: =IF(E93=".",".",IF(E93="T-HW","",IF(E93="Work","",IF(E93="","","-")))) | F94: =IF(F93=".",".",IF(F93="T-HW","",IF(F93="Work","",IF(F93="","","-")))) | G94: =IF(G93=".",".",IF(G93="T-HW","",IF(G93="Work","",IF(G93="","","-")))) | H94: =IF(H93=".",".","") | I94: =IF(I93=".",".","") | J94: =IF(J93=".",".",IF(J93="T-HW","",IF(J93="Work","",IF(J93="","","-")))) | K94: =IF(K93=".",".",IF(K93="T-HW","",IF(K93="Work","",IF(K93="","","-")))) | L94: =IF(L93=".",".",IF(L93="T-HW","",IF(L93="Work","",IF(L93="","","-")))) | M94: =IF(M93=".",".",IF(M93="T-HW","",IF(M93="Work","",IF(M93="","","-")))) | N94: =IF(N93=".",".",IF(N93="T-HW","",IF(N93="Work","",IF(N93="","","-")))) | O94: =IF(O93=".",".","") | P94: =IF(P93=".",".","") | Q94: =IF(Q93=".",".",IF(Q93="T-HW","",IF(Q93="Work","",IF(Q93="","","-")))) | R94: =IF(R93=".",".",IF(R93="T-HW","",IF(R93="Work","",IF(R93="","","-")))) | S94: =IF(S93=".",".",IF(S93="T-HW","",IF(S93="Work","",IF(S93="","","-")))) | T94: =IF(T93=".",".",IF(T93="T-HW","",IF(T93="Work","",IF(T93="","","-")))) | U94: =IF(U93=".",".",IF(U93="T-HW","",IF(U93="Work","",IF(U93="","","-")))) | V94: =IF(V93=".",".","") | W94: =IF(W93=".",".","") | X94: =IF(X93=".",".",IF(X93="T-HW","",IF(X93="Work","",IF(X93="","","-")))) | Y94: =IF(Y93=".",".",IF(Y93="T-HW","",IF(Y93="Work","",IF(Y93="","","-")))) | Z94: =IF(Z93=".",".",IF(Z93="T-HW","",IF(Z93="Work","",IF(Z93="","","-")))) | AA94: =IF(AA93=".",".",IF(AA93="T-HW","",IF(AA93="Work","",IF(AA93="","","-")))) | AB94: =IF(AB93=".",".",IF(AB93="T-HW","",IF(AB93="Work","",IF(AB93="","","-")))) | AC94: =IF(AC93=".",".","") | AD94: =IF(AD93=".",".","") | AE94: =IF(AE93=".",".",IF(AE93="T-HW","",IF(AE93="Work","",IF(AE93="","","-")))) | AF94: =IF(AF93=".",".",IF(AF93="T-HW","",IF(AF93="Work","",IF(AF93="","","-")))) | AG94: =IF(AG93=".",".",IF(AG93="T-HW","",IF(AG93="Work","",IF(AG93="","","-")))) | AH94: =IF(AH93=".",".",IF(AH93="T-HW","",IF(AH93="Work","",IF(AH93="","","-")))) -> . | AI94: =IF(AI93=".",".",IF(AI93="T-HW","",IF(AI93="Work","",IF(AI93="","","-")))) -> . | AJ94: =IF(AJ93=".",".","") -> . | AK94: =IF(AK93=".",".","") -> . | AL94: =IF(AL93=".",".",IF(AL93="T-HW","",IF(AL93="Work","",IF(AL93="","","-")))) -> . | AM94: =IF(AM93=".",".",IF(AM93="T-HW","",IF(AM93="Work","",IF(AM93="","","-")))) -> .
B95: OUT | C95: =IF(C94=".",".",IF(C94="-","-","")) | D95: =IF(D94=".",".",IF(D94="-","-","")) | E95: =IF(E94=".",".",IF(E94="-","-","")) | F95: =IF(F94=".",".",IF(F94="-","-","")) | G95: =IF(G94=".",".",IF(G94="-","-","")) | H95: =IF(H94=".",".","") | I95: =IF(I94=".",".","") | J95: =IF(J94=".",".",IF(J94="-","-","")) | K95: =IF(K94=".",".",IF(K94="-","-","")) | L95: =IF(L94=".",".",IF(L94="-","-","")) | M95: =IF(M94=".",".",IF(M94="-","-","")) | N95: =IF(N94=".",".",IF(N94="-","-","")) | O95: =IF(O94=".",".","") | P95: =IF(P94=".",".","") | Q95: =IF(Q94=".",".",IF(Q94="-","-","")) | R95: =IF(R94=".",".",IF(R94="-","-","")) | S95: =IF(S94=".",".",IF(S94="-","-","")) | T95: =IF(T94=".",".",IF(T94="-","-","")) | U95: =IF(U94=".",".",IF(U94="-","-","")) | V95: =IF(V94=".",".","") | W95: =IF(W94=".",".","") | X95: =IF(X94=".",".",IF(X94="-","-","")) | Y95: =IF(Y94=".",".",IF(Y94="-","-","")) | Z95: =IF(Z94=".",".",IF(Z94="-","-","")) | AA95: =IF(AA94=".",".",IF(AA94="-","-","")) | AB95: =IF(AB94=".",".",IF(AB94="-","-","")) | AC95: =IF(AC94=".",".","") | AD95: =IF(AD94=".",".","") | AE95: =IF(AE94=".",".",IF(AE94="-","-","")) | AF95: =IF(AF94=".",".",IF(AF94="-","-","")) | AG95: =IF(AG94=".",".",IF(AG94="-","-","")) | AH95: =IF(AH94=".",".",IF(AH94="-","-","")) -> . | AI95: =IF(AI94=".",".",IF(AI94="-","-","")) -> . | AJ95: =IF(AJ94=".",".","") -> . | AK95: =IF(AK94=".",".","") -> . | AL95: =IF(AL94=".",".",IF(AL94="-","-","")) -> . | AM95: =IF(AM94=".",".",IF(AM94="-","-","")) -> .
A96: /jour/mois | B96: Pause | C96: =IF(C95=".",".",IF(C95="-","-",0)) -> 0 | D96: =IF(D95=".",".",IF(D95="-","-",0)) -> 0 | E96: =IF(E95=".",".",IF(E95="-","-",0)) -> 0 | F96: =IF(F95=".",".",IF(F95="-","-",0)) -> 0 | G96: =IF(G95=".",".",IF(G95="-","-",0)) -> 0 | H96: =IF(H95=".",".","All") -> All | I96: =IF(I95=".",".","/ jour") -> / jour | J96: =IF(J95=".",".",IF(J95="-","-",0)) -> 0 | K96: =IF(K95=".",".",IF(K95="-","-",0)) -> 0 | L96: =IF(L95=".",".",IF(L95="-","-",0)) -> 0 | M96: =IF(M95=".",".",IF(M95="-","-",0)) -> 0 | N96: =IF(N95=".",".",IF(N95="-","-",0)) -> 0 | O96: =IF(O95=".",".","All") -> All | P96: =IF(P95=".",".","/ jour") -> / jour | Q96: =IF(Q95=".",".",IF(Q95="-","-",0)) -> 0 | R96: =IF(R95=".",".",IF(R95="-","-",0)) -> 0 | S96: =IF(S95=".",".",IF(S95="-","-",0)) -> 0 | T96: =IF(T95=".",".",IF(T95="-","-",0)) -> 0 | U96: =IF(U95=".",".",IF(U95="-","-",0)) -> 0 | V96: =IF(V95=".",".","All") -> All | W96: =IF(W95=".",".","/ jour") -> / jour | X96: =IF(X95=".",".",IF(X95="-","-",0)) -> 0 | Y96: =IF(Y95=".",".",IF(Y95="-","-",0)) -> 0 | Z96: =IF(Z95=".",".",IF(Z95="-","-",0)) -> 0 | AA96: =IF(AA95=".",".",IF(AA95="-","-",0)) -> 0 | AB96: =IF(AB95=".",".",IF(AB95="-","-",0)) -> 0 | AC96: =IF(AC95=".",".","All") -> All | AD96: =IF(AD95=".",".","/ jour") -> / jour | AE96: =IF(AE95=".",".",IF(AE95="-","-",0)) -> 0 | AF96: =IF(AF95=".",".",IF(AF95="-","-",0)) -> 0 | AG96: =IF(AG95=".",".",IF(AG95="-","-",0)) -> 0 | AH96: =IF(AH95=".",".",IF(AH95="-","-",0)) -> . | AI96: =IF(AI95=".",".",IF(AI95="-","-",0)) -> . | AJ96: =IF(AJ95=".",".","Total") -> . | AK96: =IF(AK95=".",".","/ jour") -> . | AL96: =IF(AL95=".",".",IF(AL95="-","-",0)) -> . | AM96: =IF(AM95=".",".",IF(AM95="-","-",0)) -> .
A97: =IFERROR(AVERAGE(C97:G97,J97:N97,Q97:U97,X97:AB97,AE97:AI97,AL97:AM97),"-") -> - | B97: Total | C97: =IF(C95=".",".",IF(C95="-","-",IFERROR(C95-C94-C96,""))) | D97: =IF(D95=".",".",IF(D95="-","-",IFERROR(D95-D94-D96,""))) | E97: =IF(E95=".",".",IF(E95="-","",IFERROR(E95-E94-E96,""))) | F97: =IF(F95=".",".",IF(F95="-","-",IFERROR(F95-F94-F96,""))) | G97: =IF(G95=".",".",IF(G95="-","-",IFERROR(G95-G94-G96,""))) | H97: =IF(H95=".",".",SUM(C97:G97)+SUM(AL85:AM85)) -> 0 | I97: =IF(I95=".",".",IFERROR(AVERAGE(AL91:AM91,C97:G97),"")) | J97: =IF(J95=".",".",IF(J95="-","-",IFERROR(J95-J94-J96,""))) | K97: =IF(K95=".",".",IF(K95="-","-",IFERROR(K95-K94-K96,""))) | L97: =IF(L95=".",".",IF(L95="-","",IFERROR(L95-L94-L96,""))) | M97: =IF(M95=".",".",IF(M95="-","-",IFERROR(M95-M94-M96,""))) | N97: =IF(N95=".",".",IF(N95="-","-",IFERROR(N95-N94-N96,""))) | O97: =IF(O95=".",".",SUM(J97:N97)) -> 0 | P97: =IF(P95=".",".",IFERROR(AVERAGE(J97:N97),"")) | Q97: =IF(Q95=".",".",IF(Q95="-","-",IFERROR(Q95-Q94-Q96,""))) | R97: =IF(R95=".",".",IF(R95="-","-",IFERROR(R95-R94-R96,""))) | S97: =IF(S95=".",".",IF(S95="-","",IFERROR(S95-S94-S96,""))) | T97: =IF(T95=".",".",IF(T95="-","-",IFERROR(T95-T94-T96,""))) | U97: =IF(U95=".",".",IF(U95="-","-",IFERROR(U95-U94-U96,""))) | V97: =IF(V95=".",".",SUM(Q97:U97)) -> 0 | W97: =IF(W95=".",".",IFERROR(AVERAGE(Q97:U97),"")) | X97: =IF(X95=".",".",IF(X95="-","-",IFERROR(X95-X94-X96,""))) | Y97: =IF(Y95=".",".",IF(Y95="-","-",IFERROR(Y95-Y94-Y96,""))) | Z97: =IF(Z95=".",".",IF(Z95="-","",IFERROR(Z95-Z94-Z96,""))) | AA97: =IF(AA95=".",".",IF(AA95="-","-",IFERROR(AA95-AA94-AA96,""))) | AB97: =IF(AB95=".",".",IF(AB95="-","-",IFERROR(AB95-AB94-AB96,""))) | AC97: =IF(AC95=".",".",SUM(X97:AB97)) -> 0 | AD97: =IF(AD95=".",".",IFERROR(AVERAGE(X97:AB97),"")) | AE97: =IF(AE95=".",".",IF(AE95="-","-",IFERROR(AE95-AE94-AE96,""))) | AF97: =IF(AF95=".",".",IF(AF95="-","-",IFERROR(AF95-AF94-AF96,""))) | AG97: =IF(AG95=".",".",IF(AG95="-","",IFERROR(AG95-AG94-AG96,""))) | AH97: =IF(AH95=".",".",IF(AH95="-","-",IFERROR(AH95-AH94-AH96,""))) -> . | AI97: =IF(AI95=".",".",IF(AI95="-","-",IFERROR(AI95-AI94-AI96,""))) -> . | AJ97: =IF(AJ95=".",".",SUM(AE97:AI97)) -> . | AK97: =IF(AK95=".",".",IFERROR(AVERAGE(AE97:AI97),"")) -> . | AL97: =IF(AL95=".",".",IF(AL95="-","-",IFERROR(AL95-AL94-AL96,""))) -> . | AM97: =IF(AM95=".",".",IF(AM95="-","-",IFERROR(AM95-AM94-AM96,""))) -> .
A98: Septembre | B98: Date | C98: =Enfants!AU53 -> . | D98: =Enfants!AV53 -> . | E98: =Enfants!AW53 -> . | F98: =Enfants!AX53 -> 1 | G98: =Enfants!AY53 -> 2 | H98: =Enfants!AZ53 -> 3 | I98: =Enfants!BA53 -> 4 | J98: =Enfants!BB53 -> 5 | ... AM98: =Enfants!CE53 -> . | AN98: =COUNTIF(C99:AM99,"Férier") -> 0 | AO98: =(COUNTIF(C99:AM99,"8h_CL")+(COUNTIF(C99:AM99,"4h_CL")*0.5)) -> 0 | AP98: =(COUNTIF(C99:AM99,"8h_RC")+(COUNTIF(C99:AM99,"2h_RC")*0.5)+(COUNTIF(C99:AM99,"2h_RC")*0.25)+(COUNTIF(C99:AM99,"6h_RC")*0.75)) -> 0 | AQ98: =COUNTIF(C99:AM99,"SaSo") -> 0 | AR98: =COUNTIF(C99:AM99,"Malad") -> 0 | AS98: =COUNTIF(C99:AM99,"T-HW") -> 0 | AT98: =(COUNTIF(C99:AM99,"8h_CEL")+(COUNTIF(C98:AM98,"2h_CEL")*0.5)) -> 0
B99: y/n | C99: =IF(C98=".",".","") -> . | D99: =IF(D98=".",".","") -> . | E99: =IF(E98=".",".","") -> . | F99: =IF(F98=".",".","") | G99: =IF(G98=".",".","") | H99: =IF(H98=".",".","") | I99: =IF(I98=".",".","") | J99: =IF(J98=".",".","") | ... AM99: =IF(AM98=".",".","") -> .
B100: IN | C100: =IF(C99=".",".",IF(C99="T-HW","",IF(C99="Work","",IF(C99="","","-")))) -> . | D100: =IF(D99=".",".",IF(D99="T-HW","",IF(D99="Work","",IF(D99="","","-")))) -> . | E100: =IF(E99=".",".",IF(E99="T-HW","",IF(E99="Work","",IF(E99="","","-")))) -> . | F100: =IF(F99=".",".",IF(F99="T-HW","",IF(F99="Work","",IF(F99="","","-")))) | G100: =IF(G99=".",".",IF(G99="T-HW","",IF(G99="Work","",IF(G99="","","-")))) | H100: =IF(H99=".",".","") | I100: =IF(I99=".",".","") | J100: =IF(J99=".",".",IF(J99="T-HW","",IF(J99="Work","",IF(J99="","","-")))) | K100: =IF(K99=".",".",IF(K99="T-HW","",IF(K99="Work","",IF(K99="","","-")))) | L100: =IF(L99=".",".",IF(L99="T-HW","",IF(L99="Work","",IF(L99="","","-")))) | M100: =IF(M99=".",".",IF(M99="T-HW","",IF(M99="Work","",IF(M99="","","-")))) | N100: =IF(N99=".",".",IF(N99="T-HW","",IF(N99="Work","",IF(N99="","","-")))) | O100: =IF(O99=".",".","") | P100: =IF(P99=".",".","") | Q100: =IF(Q99=".",".",IF(Q99="T-HW","",IF(Q99="Work","",IF(Q99="","","-")))) | R100: =IF(R99=".",".",IF(R99="T-HW","",IF(R99="Work","",IF(R99="","","-")))) | S100: =IF(S99=".",".",IF(S99="T-HW","",IF(S99="Work","",IF(S99="","","-")))) | T100: =IF(T99=".",".",IF(T99="T-HW","",IF(T99="Work","",IF(T99="","","-")))) | U100: =IF(U99=".",".",IF(U99="T-HW","",IF(U99="Work","",IF(U99="","","-")))) | V100: =IF(V99=".",".","") | W100: =IF(W99=".",".","") | X100: =IF(X99=".",".",IF(X99="T-HW","",IF(X99="Work","",IF(X99="","","-")))) | Y100: =IF(Y99=".",".",IF(Y99="T-HW","",IF(Y99="Work","",IF(Y99="","","-")))) | Z100: =IF(Z99=".",".",IF(Z99="T-HW","",IF(Z99="Work","",IF(Z99="","","-")))) | AA100: =IF(AA99=".",".",IF(AA99="T-HW","",IF(AA99="Work","",IF(AA99="","","-")))) | AB100: =IF(AB99=".",".",IF(AB99="T-HW","",IF(AB99="Work","",IF(AB99="","","-")))) | AC100: =IF(AC99=".",".","") | AD100: =IF(AD99=".",".","") | AE100: =IF(AE99=".",".",IF(AE99="T-HW","",IF(AE99="Work","",IF(AE99="","","-")))) | AF100: =IF(AF99=".",".",IF(AF99="T-HW","",IF(AF99="Work","",IF(AF99="","","-")))) | AG100: =IF(AG99=".",".",IF(AG99="T-HW","",IF(AG99="Work","",IF(AG99="","","-")))) | AH100: =IF(AH99=".",".",IF(AH99="T-HW","",IF(AH99="Work","",IF(AH99="","","-")))) | AI100: =IF(AI99=".",".",IF(AI99="T-HW","",IF(AI99="Work","",IF(AI99="","","-")))) | AJ100: =IF(AJ99=".",".","") -> . | AK100: =IF(AK99=".",".","") -> . | AL100: =IF(AL99=".",".",IF(AL99="T-HW","",IF(AL99="Work","",IF(AL99="","","-")))) -> . | AM100: =IF(AM99=".",".",IF(AM99="T-HW","",IF(AM99="Work","",IF(AM99="","","-")))) -> .
B101: OUT | C101: =IF(C100=".",".",IF(C100="-","-","")) -> . | D101: =IF(D100=".",".",IF(D100="-","-","")) -> . | E101: =IF(E100=".",".",IF(E100="-","-","")) -> . | F101: =IF(F100=".",".",IF(F100="-","-","")) | G101: =IF(G100=".",".",IF(G100="-","-","")) | H101: =IF(H100=".",".","") | I101: =IF(I100=".",".","") | J101: =IF(J100=".",".",IF(J100="-","-","")) | K101: =IF(K100=".",".",IF(K100="-","-","")) | L101: =IF(L100=".",".",IF(L100="-","-","")) | M101: =IF(M100=".",".",IF(M100="-","-","")) | N101: =IF(N100=".",".",IF(N100="-","-","")) | O101: =IF(O100=".",".","") | P101: =IF(P100=".",".","") | Q101: =IF(Q100=".",".",IF(Q100="-","-","")) | R101: =IF(R100=".",".",IF(R100="-","-","")) | S101: =IF(S100=".",".",IF(S100="-","-","")) | T101: =IF(T100=".",".",IF(T100="-","-","")) | U101: =IF(U100=".",".",IF(U100="-","-","")) | V101: =IF(V100=".",".","") | W101: =IF(W100=".",".","") | X101: =IF(X100=".",".",IF(X100="-","-","")) | Y101: =IF(Y100=".",".",IF(Y100="-","-","")) | Z101: =IF(Z100=".",".",IF(Z100="-","-","")) | AA101: =IF(AA100=".",".",IF(AA100="-","-","")) | AB101: =IF(AB100=".",".",IF(AB100="-","-","")) | AC101: =IF(AC100=".",".","") | AD101: =IF(AD100=".",".","") | AE101: =IF(AE100=".",".",IF(AE100="-","-","")) | AF101: =IF(AF100=".",".",IF(AF100="-","-","")) | AG101: =IF(AG100=".",".",IF(AG100="-","-","")) | AH101: =IF(AH100=".",".",IF(AH100="-","-","")) | AI101: =IF(AI100=".",".",IF(AI100="-","-","")) | AJ101: =IF(AJ100=".",".","") -> . | AK101: =IF(AK100=".",".","") -> . | AL101: =IF(AL100=".",".",IF(AL100="-","-","")) -> . | AM101: =IF(AM100=".",".",IF(AM100="-","-","")) -> .
...

Sheet Enfants
B1: 2021 | AT1: =B1 -> 2021
C2: Lundi | D2: Mardi | E2: Mercredi | F2: Jeudi | G2: Vendredi | H2: Samedi | I2: Dimanche | J2: Lundi | K2: Mardi | L2: Mercredi | M2: Jeudi | N2: Vendredi | O2: Samedi | P2: Dimanche | Q2: Lundi | R2: Mardi | S2: Mercredi | T2: Jeudi | U2: Vendredi | V2: Samedi | W2: Dimanche | X2: Lundi | Y2: Mardi | Z2: Mercredi | AA2: Jeudi | AB2: Vendredi | AC2: Samedi | AD2: Dimanche | AE2: Lundi | AF2: Mardi | AG2: Mercredi | AH2: Jeudi | AI2: Vendredi | AJ2: Samedi | AK2: Dimanche | AL2: Lundi | AM2: Mardi | AN2: Congé scolaire | AO2: Week-end | AP2: Enfants CS | AQ2: Enfant WE | AU2: =LEFT(C2,2) -> Lu | AV2: =LEFT(D2,2) -> Ma | AW2: =LEFT(E2,2) -> Me | AX2: =LEFT(F2,2) -> Je | AY2: =LEFT(G2,2) -> Ve | AZ2: =LEFT(H2,2) -> Sa | BA2: =LEFT(I2,2) -> Di | BB2: =LEFT(J2,2) -> Lu | ... CE2: =LEFT(AM2,2) -> Ma
B3: Janvier | C3: 0 | D3: 0 | E3: 0 | F3: 0 | G3: =F3+1 -> 1 | H3: =G3+1 -> 2 | I3: =H3+1 -> 3 | J3: =I3+1 -> 4 | K3: =J3+1 -> 5 | L3: =K3+1 -> 6 | M3: =L3+1 -> 7 | N3: =M3+1 -> 8 | ... AK3: =AJ3+1 -> 31 | AL3: 0 | AM3: 0 | AN3: =COUNTIF(C4:AM4,"CS") -> 1 | AO3: =COUNTIF(C4:AM4,"WE")/2 -> 5 | AP3: =COUNTIFS(C4:AM4,"CS",C5:AM5,"Did") -> 0 | AQ3: =COUNTIFS(C4:AM4,"WE",C5:AM5,"Did")/2 -> 2 | AT3: =B3 -> Janvier | AU3: =IF(C3="0",".",IF(C5="",C3,CONCATENATE(C3,"*"))) -> . | AV3: =IF(D3="0",".",IF(D5="",D3,CONCATENATE(D3,"*"))) -> . | AW3: =IF(E3="0",".",IF(E5="",E3,CONCATENATE(E3,"*"))) -> . | AX3: =IF(F3="0",".",IF(F5="",F3,CONCATENATE(F3,"*"))) -> . | AY3: =IF(G3="0",".",IF(G5="",G3,CONCATENATE(G3,"*"))) -> 1 | AZ3: =IF(H3="0",".",IF(H5="",H3,CONCATENATE(H3,"*"))) -> 2 | BA3: =IF(I3="0",".",IF(I5="",I3,CONCATENATE(I3,"*"))) -> 3 | BB3: =IF(J3="0",".",IF(J5="",J3,CONCATENATE(J3,"*"))) -> 4 | ... CE3: =IF(AM3="0",".",IF(AM5="",AM3,CONCATENATE(AM3,"*"))) -> .
C4: =IF(C3="0",C3,"") -> 0 | D4: =IF(D3="0",D3,"") -> 0 | E4: =IF(E3="0",E3,"") -> 0 | F4: =IF(F3="0",F3,"") -> 0 | G4: CS | H4: WE | I4: WE | J4: =IF(J3="0",J3,"") | K4: =IF(K3="0",K3,"") | L4: =IF(L3="0",L3,"") | M4: =IF(M3="0",M3,"") | N4: =IF(N3="0",N3,"") | O4: WE | P4: WE | Q4: =IF(Q3="0",Q3,"") | R4: =IF(R3="0",R3,"") | S4: =IF(S3="0",S3,"") | T4: =IF(T3="0",T3,"") | U4: =IF(U3="0",U3,"") | V4: WE | W4: WE | X4: =IF(X3="0",X3,"") | Y4: =IF(Y3="0",Y3,"") | Z4: =IF(Z3="0",Z3,"") | AA4: =IF(AA3="0",AA3,"") | AB4: =IF(AB3="0",AB3,"") | AC4: WE | AD4: WE | AE4: =IF(AE3="0",AE3,"") | AF4: =IF(AF3="0",AF3,"") | AG4: =IF(AG3="0",AG3,"") | AH4: =IF(AH3="0",AH3,"") | AI4: =IF(AI3="0",AI3,"") | AJ4: WE | AK4: WE | AL4: =IF(AL3="0",AL3,"") -> 0 | AM4: =IF(AM3="0",AM3,"") -> 0 | AT4: =B6 -> Février | AU4: =IF(C6="0",".",IF(C8="",C6,CONCATENATE(C6,"*"))) -> 1 | AV4: =IF(D6="0",".",IF(D8="",D6,CONCATENATE(D6,"*"))) -> 2 | AW4: =IF(E6="0",".",IF(E8="",E6,CONCATENATE(E6,"*"))) -> 3 | AX4: =IF(F6="0",".",IF(F8="",F6,CONCATENATE(F6,"*"))) -> 4 | AY4: =IF(G6="0",".",IF(G8="",G6,CONCATENATE(G6,"*"))) -> 5 | AZ4: =IF(H6="0",".",IF(H8="",H6,CONCATENATE(H6,"*"))) -> 6* | BA4: =IF(I6="0",".",IF(I8="",I6,CONCATENATE(I6,"*"))) -> 7* | BB4: =IF(J6="0",".",IF(J8="",J6,CONCATENATE(J6,"*"))) -> 8 | ... CE4: =IF(AM6="0",".",IF(AM8="",AM6,CONCATENATE(AM6,"*"))) -> .
C5: =IF(C3="0",C3,"") -> 0 | D5: =IF(D3="0",D3,"") -> 0 | E5: =IF(E3="0",E3,"") -> 0 | F5: =IF(F3="0",F3,"") -> 0 | G5: =IF(G3="0",G3,"") | H5: =IF(H3="0",H3,"") | I5: =IF(I3="0",I3,"") | J5: =IF(J3="0",J3,"") | ... N5: =IF(N3="0",N3,"") | O5: Did | P5: Did | Q5: =IF(Q3="0",Q3,"") | R5: =IF(R3="0",R3,"") | S5: =IF(S3="0",S3,"") | T5: =IF(T3="0",T3,"") | U5: =IF(U3="0",U3,"") | V5: =IF(V3="0",V3,"") | W5: =IF(W3="0",W3,"") | X5: =IF(X3="0",X3,"") | ... AB5: =IF(AB3="0",AB3,"") | AC5: Did | AD5: Did | AE5: =IF(AE3="0",AE3,"") | AF5: =IF(AF3="0",AF3,"") | AG5: =IF(AG3="0",AG3,"") | AH5: =IF(AH3="0",AH3,"") | AI5: =IF(AI3="0",AI3,"") | AJ5: =IF(AJ3="0",AJ3,"") | AK5: =IF(AK3="0",AK3,"") | AL5: =IF(AL3="0",AL3,"") -> 0 | AM5: =IF(AM3="0",AM3,"") -> 0 | AT5: =B9 -> Mars | AU5: =IF(C9="0",".",IF(C11="",C9,CONCATENATE(C9,"*"))) -> 1 | AV5: =IF(D9="0",".",IF(D11="",D9,CONCATENATE(D9,"*"))) -> 2 | AW5: =IF(E9="0",".",IF(E11="",E9,CONCATENATE(E9,"*"))) -> 3 | AX5: =IF(F9="0",".",IF(F11="",F9,CONCATENATE(F9,"*"))) -> 4 | AY5: =IF(G9="0",".",IF(G11="",G9,CONCATENATE(G9,"*"))) -> 5 | AZ5: =IF(H9="0",".",IF(H11="",H9,CONCATENATE(H9,"*"))) -> 6* | BA5: =IF(I9="0",".",IF(I11="",I9,CONCATENATE(I9,"*"))) -> 7* | BB5: =IF(J9="0",".",IF(J11="",J9,CONCATENATE(J9,"*"))) -> 8 | ... CE5: =IF(AM9="0",".",IF(AM11="",AM9,CONCATENATE(AM9,"*"))) -> .
B6: Février | C6: 1 | D6: =C6+1 -> 2 | E6: =D6+1 -> 3 | F6: =E6+1 -> 4 | G6: =F6+1 -> 5 | H6: =G6+1 -> 6 | I6: =H6+1 -> 7 | J6: =I6+1 -> 8 | K6: =J6+1 -> 9 | ... AD6: =AC6+1 -> 28 | AE6: 0 | AF6: 0 | AG6: 0 | AH6: 0 | AI6: 0 | AJ6: 0 | AK6: 0 | AL6: 0 | AM6: 0 | AN6: =COUNTIF(C7:AM7,"CS") -> 5 | AO6: =COUNTIF(C7:AM7,"WE")/2 -> 4 | AP6: =COUNTIFS(C7:AM7,"CS",C8:AM8,"Did") -> 3 | AQ6: =COUNTIFS(C7:AM7,"WE",C8:AM8,"Did")/2 -> 2 | AT6: =B12 -> Avril | AU6: =IF(C12="0",".",IF(C14="",C12,CONCATENATE(C12,"*"))) -> . | AV6: =IF(D12="0",".",IF(D14="",D12,CONCATENATE(D12,"*"))) -> . | AW6: =IF(E12="0",".",IF(E14="",E12,CONCATENATE(E12,"*"))) -> . | AX6: =IF(F12="0",".",IF(F14="",F12,CONCATENATE(F12,"*"))) -> 1 | AY6: =IF(G12="0",".",IF(G14="",G12,CONCATENATE(G12,"*"))) -> 2 | AZ6: =IF(H12="0",".",IF(H14="",H12,CONCATENATE(H12,"*"))) -> 3* | BA6: =IF(I12="0",".",IF(I14="",I12,CONCATENATE(I12,"*"))) -> 4* | BB6: =IF(J12="0",".",IF(J14="",J12,CONCATENATE(J12,"*"))) -> 5 | ... CE6: =IF(AM12="0",".",IF(AM14="",AM12,CONCATENATE(AM12,"*"))) -> .
C7: =IF(C6="0",C6,"") | D7: =IF(D6="0",D6,"") | E7: =IF(E6="0",E6,"") | F7: =IF(F6="0",F6,"") | G7: =IF(G6="0",G6,"") | H7: WE | I7: WE | J7: =IF(J6="0",J6,"") | K7: =IF(K6="0",K6,"") | L7: =IF(L6="0",L6,"") | M7: =IF(M6="0",M6,"") | N7: =IF(N6="0",N6,"") | O7: WE | P7: WE | Q7: CS | R7: CS | S7: CS | T7: CS | U7: CS | V7: WE | W7: WE | X7: =IF(X6="0",X6,"") | Y7: =IF(Y6="0",Y6,"") | Z7: =IF(Z6="0",Z6,"") | AA7: =IF(AA6="0",AA6,"") | AB7: =IF(AB6="0",AB6,"") | AC7: WE | AD7: WE | AE7: =IF(AE6="0",AE6,"") -> 0 | AF7: =IF(AF6="0",AF6,"") -> 0 | AG7: =IF(AG6="0",AG6,"") -> 0 | AH7: =IF(AH6="0",AH6,"") -> 0 | AI7: =IF(AI6="0",AI6,"") -> 0 | AJ7: =IF(AJ6="0",AJ6,"") -> 0 | AK7: =IF(AK6="0",AK6,"") -> 0 | AL7: =IF(AL6="0",AL6,"") -> 0 | AM7: =IF(AM6="0",AM6,"") -> 0 | AT7: =B15 -> Mai | AU7: =IF(C15="0",".",IF(C17="",C15,CONCATENATE(C15,"*"))) -> . | AV7: =IF(D15="0",".",IF(D17="",D15,CONCATENATE(D15,"*"))) -> . | AW7: =IF(E15="0",".",IF(E17="",E15,CONCATENATE(E15,"*"))) -> . | AX7: =IF(F15="0",".",IF(F17="",F15,CONCATENATE(F15,"*"))) -> . | AY7: =IF(G15="0",".",IF(G17="",G15,CONCATENATE(G15,"*"))) -> . | AZ7: =IF(H15="0",".",IF(H17="",H15,CONCATENATE(H15,"*"))) -> 1* | BA7: =IF(I15="0",".",IF(I17="",I15,CONCATENATE(I15,"*"))) -> 2* | BB7: =IF(J15="0",".",IF(J17="",J15,CONCATENATE(J15,"*"))) -> 3 | ... CE7: =IF(AM15="0",".",IF(AM17="",AM15,CONCATENATE(AM15,"*"))) -> .
C8: =IF(C6="0",C6,"") | D8: =IF(D6="0",D6,"") | E8: =IF(E6="0",E6,"") | F8: =IF(F6="0",F6,"") | G8: =IF(G6="0",G6,"") | H8: Did | I8: Did | J8: =IF(J6="0",J6,"") | K8: =IF(K6="0",K6,"") | L8: =IF(L6="0",L6,"") | M8: =IF(M6="0",M6,"") | N8: =IF(N6="0",N6,"") | O8: =IF(O6="0",O6,"") | P8: =IF(P6="0",P6,"") | Q8: =IF(Q6="0",Q6,"") | R8: =IF(R6="0",R6,"") | S8: Did | T8: Did | U8: Did | V8: Did | W8: Did | X8: =IF(X6="0",X6,"") | Y8: =IF(Y6="0",Y6,"") | Z8: =IF(Z6="0",Z6,"") | AA8: =IF(AA6="0",AA6,"") | AB8: =IF(AB6="0",AB6,"") | AC8: =IF(AC6="0",AC6,"") | AD8: =IF(AD6="0",AD6,"") | AE8: =IF(AE6="0",AE6,"") -> 0 | ... AM8: =IF(AM6="0",AM6,"") -> 0 | AT8: =B18 -> Juin | AU8: =IF(C18="0",".",IF(C20="",C18,CONCATENATE(C18,"*"))) -> . | AV8: =IF(D18="0",".",IF(D20="",D18,CONCATENATE(D18,"*"))) -> 1 | AW8: =IF(E18="0",".",IF(E20="",E18,CONCATENATE(E18,"*"))) -> 2 | AX8: =IF(F18="0",".",IF(F20="",F18,CONCATENATE(F18,"*"))) -> 3 | AY8: =IF(G18="0",".",IF(G20="",G18,CONCATENATE(G18,"*"))) -> 4 | AZ8: =IF(H18="0",".",IF(H20="",H18,CONCATENATE(H18,"*"))) -> 5 | BA8: =IF(I18="0",".",IF(I20="",I18,CONCATENATE(I18,"*"))) -> 6 | BB8: =IF(J18="0",".",IF(J20="",J18,CONCATENATE(J18,"*"))) -> 7 | ... CE8: =IF(AM18="0",".",IF(AM20="",AM18,CONCATENATE(AM18,"*"))) -> .
B9: Mars | C9: 1 | D9: =C9+1 -> 2 | E9: =D9+1 -> 3 | F9: =E9+1 -> 4 | G9: =F9+1 -> 5 | H9: =G9+1 -> 6 | I9: =H9+1 -> 7 | J9: =I9+1 -> 8 | K9: =J9+1 -> 9 | ... AG9: =AF9+1 -> 31 | AH9: 0 | AI9: 0 | AJ9: 0 | AK9: 0 | AL9: 0 | AM9: 0 | AN9: =COUNTIF(C10:AM10,"CS") -> 0 | AO9: =COUNTIF(C10:AM10,"WE")/2 -> 4 | AP9: =COUNTIFS(C10:AM10,"CS",C11:AM11,"Did") -> 0 | AQ9: =COUNTIFS(C10:AM10,"WE",C11:AM11,"Did")/2 -> 2 | AT9: =B21 -> Juillet | AU9: =IF(C21="0",".",IF(C23="",C21,CONCATENATE(C21,"*"))) -> . | AV9: =IF(D21="0",".",IF(D23="",D21,CONCATENATE(D21,"*"))) -> . | AW9: =IF(E21="0",".",IF(E23="",E21,CONCATENATE(E21,"*"))) -> . | AX9: =IF(F21="0",".",IF(F23="",F21,CONCATENATE(F21,"*"))) -> 1 | AY9: =IF(G21="0",".",IF(G23="",G21,CONCATENATE(G21,"*"))) -> 2 | AZ9: =IF(H21="0",".",IF(H23="",H21,CONCATENATE(H21,"*"))) -> 3 | BA9: =IF(I21="0",".",IF(I23="",I21,CONCATENATE(I21,"*"))) -> 4 | BB9: =IF(J21="0",".",IF(J23="",J21,CONCATENATE(J21,"*"))) -> 5 | ... CE9: =IF(AM21="0",".",IF(AM23="",AM21,CONCATENATE(AM21,"*"))) -> .
C10: =IF(C9="0",C9,"") | D10: =IF(D9="0",D9,"") | E10: =IF(E9="0",E9,"") | F10: =IF(F9="0",F9,"") | G10: =IF(G9="0",G9,"") | H10: WE | I10: WE | J10: =IF(J9="0",J9,"") | K10: =IF(K9="0",K9,"") | L10: =IF(L9="0",L9,"") | M10: =IF(M9="0",M9,"") | N10: =IF(N9="0",N9,"") | O10: WE | P10: WE | Q10: =IF(Q9="0",Q9,"") | R10: =IF(R9="0",R9,"") | S10: =IF(S9="0",S9,"") | T10: =IF(T9="0",T9,"") | U10: =IF(U9="0",U9,"") | V10: WE | W10: WE | X10: =IF(X9="0",X9,"") | Y10: =IF(Y9="0",Y9,"") | Z10: =IF(Z9="0",Z9,"") | AA10: =IF(AA9="0",AA9,"") | AB10: =IF(AB9="0",AB9,"") | AC10: WE | AD10: WE | AE10: =IF(AE9="0",AE9,"") | AF10: =IF(AF9="0",AF9,"") | AG10: =IF(AG9="0",AG9,"") | AH10: =IF(AH9="0",AH9,"") -> 0 | AI10: =IF(AI9="0",AI9,"") -> 0 | AJ10: =IF(AJ9="0",AJ9,"") -> 0 | AK10: =IF(AK9="0",AK9,"") -> 0 | AL10: =IF(AL9="0",AL9,"") -> 0 | AM10: =IF(AM9="0",AM9,"") -> 0 | AT10: =B24 -> Aout | AU10: =IF(C24="0",".",IF(C26="",C24,CONCATENATE(C24,"*"))) -> . | AV10: =IF(D24="0",".",IF(D26="",D24,CONCATENATE(D24,"*"))) -> . | AW10: =IF(E24="0",".",IF(E26="",E24,CONCATENATE(E24,"*"))) -> . | AX10: =IF(F24="0",".",IF(F26="",F24,CONCATENATE(F24,"*"))) -> . | AY10: =IF(G24="0",".",IF(G26="",G24,CONCATENATE(G24,"*"))) -> . | AZ10: =IF(H24="0",".",IF(H26="",H24,CONCATENATE(H24,"*"))) -> . | BA10: =IF(I24="0",".",IF(I26="",I24,CONCATENATE(I24,"*"))) -> 1 | BB10: =IF(J24="0",".",IF(J26="",J24,CONCATENATE(J24,"*"))) -> 2 | ... CE10: =IF(AM24="0",".",IF(AM26="",AM24,CONCATENATE(AM24,"*"))) -> 31
C11: =IF(C9="0",C9,"") | D11: =IF(D9="0",D9,"") | E11: =IF(E9="0",E9,"") | F11: =IF(F9="0",F9,"") | G11: =IF(G9="0",G9,"") | H11: Did | I11: Did | J11: =IF(J9="0",J9,"") | K11: =IF(K9="0",K9,"") | L11: =IF(L9="0",L9,"") | M11: =IF(M9="0",M9,"") | N11: =IF(N9="0",N9,"") | O11: =IF(O9="0",O9,"") | P11: =IF(P9="0",P9,"") | Q11: =IF(Q9="0",Q9,"") | ... U11: =IF(U9="0",U9,"") | V11: Did | W11: Did | X11: =IF(X9="0",X9,"") | Y11: =IF(Y9="0",Y9,"") | Z11: =IF(Z9="0",Z9,"") | AA11: =IF(AA9="0",AA9,"") | AB11: =IF(AB9="0",AB9,"") | AC11: =IF(AC9="0",AC9,"") | AD11: =IF(AD9="0",AD9,"") | AE11: =IF(AE9="0",AE9,"") | ... AM11: =IF(AM9="0",AM9,"") -> 0 | AT11: =B27 -> Septembre | AU11: =IF(C27="0",".",IF(C29="",C27,CONCATENATE(C27,"*"))) -> . | AV11: =IF(D27="0",".",IF(D29="",D27,CONCATENATE(D27,"*"))) -> . | AW11: =IF(E27="0",".",IF(E29="",E27,CONCATENATE(E27,"*"))) -> 1 | AX11: =IF(F27="0",".",IF(F29="",F27,CONCATENATE(F27,"*"))) -> 2 | AY11: =IF(G27="0",".",IF(G29="",G27,CONCATENATE(G27,"*"))) -> 3 | AZ11: =IF(H27="0",".",IF(H29="",H27,CONCATENATE(H27,"*"))) -> 4 | BA11: =IF(I27="0",".",IF(I29="",I27,CONCATENATE(I27,"*"))) -> 5 | BB11: =IF(J27="0",".",IF(J29="",J27,CONCATENATE(J27,"*"))) -> 6 | ... CE11: =IF(AM27="0",".",IF(AM29="",AM27,CONCATENATE(AM27,"*"))) -> .
B12: Avril | C12: 0 | D12: 0 | E12: 0 | F12: =E12+1 -> 1 | G12: =F12+1 -> 2 | H12: =G12+1 -> 3 | I12: =H12+1 -> 4 | J12: =I12+1 -> 5 | K12: =J12+1 -> 6 | L12: =K12+1 -> 7 | M12: =L12+1 -> 8 | ... AI12: =AH12+1 -> 30 | AJ12: 0 | AK12: 0 | AL12: 0 | AM12: 0 | AN12: =COUNTIF(C13:AM13,"CS") -> 11 | AO12: =COUNTIF(C13:AM13,"WE")/2 -> 4 | AP12: =COUNTIFS(C13:AM13,"CS",C14:AM14,"Did") -> 6 | AQ12: =COUNTIFS(C13:AM13,"WE",C14:AM14,"Did")/2 -> 2 | AT12: =B30 -> Octobre | AU12: =IF(C30="0",".",IF(C32="",C30,CONCATENATE(C30,"*"))) -> . | AV12: =IF(D30="0",".",IF(D32="",D30,CONCATENATE(D30,"*"))) -> . | AW12: =IF(E30="0",".",IF(E32="",E30,CONCATENATE(E30,"*"))) -> . | AX12: =IF(F30="0",".",IF(F32="",F30,CONCATENATE(F30,"*"))) -> . | AY12: =IF(G30="0",".",IF(G32="",G30,CONCATENATE(G30,"*"))) -> 1 | AZ12: =IF(H30="0",".",IF(H32="",H30,CONCATENATE(H30,"*"))) -> 2 | BA12: =IF(I30="0",".",IF(I32="",I30,CONCATENATE(I30,"*"))) -> 3 | BB12: =IF(J30="0",".",IF(J32="",J30,CONCATENATE(J30,"*"))) -> 4 | ... CE12: =IF(AM30="0",".",IF(AM32="",AM30,CONCATENATE(AM30,"*"))) -> .
C13: =IF(C12="0",C12,"") -> 0 | D13: =IF(D12="0",D12,"") -> 0 | E13: =IF(E12="0",E12,"") -> 0 | F13: =IF(F12="0",F12,"") | G13: =IF(G12="0",G12,"") | H13: WE | I13: WE | J13: CS | K13: CS | L13: CS | M13: CS | N13: CS | O13: WE | P13: WE | Q13: CS | R13: CS | S13: CS | T13: CS | U13: CS | V13: WE | W13: WE | X13: =IF(X12="0",X12,"") | Y13: =IF(Y12="0",Y12,"") | Z13: =IF(Z12="0",Z12,"") | AA13: =IF(AA12="0",AA12,"") | AB13: =IF(AB12="0",AB12,"") | AC13: WE | AD13: WE | AE13: =IF(AE12="0",AE12,"") | AF13: =IF(AF12="0",AF12,"") | AG13: =IF(AG12="0",AG12,"") | AH13: =IF(AH12="0",AH12,"") | AI13: CS | AJ13: =IF(AJ12="0",AJ12,"") -> 0 | AK13: =IF(AK12="0",AK12,"") -> 0 | AL13: =IF(AL12="0",AL12,"") -> 0 | AM13: =IF(AM12="0",AM12,"") -> 0 | AT13: =B33 -> Novembre | AU13: =IF(C33="0",".",IF(C35="",C33,CONCATENATE(C33,"*"))) -> 1 | AV13: =IF(D33="0",".",IF(D35="",D33,CONCATENATE(D33,"*"))) -> 2 | AW13: =IF(E33="0",".",IF(E35="",E33,CONCATENATE(E33,"*"))) -> 3 | AX13: =IF(F33="0",".",IF(F35="",F33,CONCATENATE(F33,"*"))) -> 4* | AY13: =IF(G33="0",".",IF(G35="",G33,CONCATENATE(G33,"*"))) -> 5* | AZ13: =IF(H33="0",".",IF(H35="",H33,CONCATENATE(H33,"*"))) -> 6* | BA13: =IF(I33="0",".",IF(I35="",I33,CONCATENATE(I33,"*"))) -> 7* | BB13: =IF(J33="0",".",IF(J35="",J33,CONCATENATE(J33,"*"))) -> 8 | ... CE13: =IF(AM33="0",".",IF(AM35="",AM33,CONCATENATE(AM33,"*"))) -> .
C14: =IF(C12="0",C12,"") -> 0 | D14: =IF(D12="0",D12,"") -> 0 | E14: =IF(E12="0",E12,"") -> 0 | F14: =IF(F12="0",F12,"") | G14: =IF(G12="0",G12,"") | H14: Did | I14: Did | J14: =IF(J12="0",J12,"") | K14: =IF(K12="0",K12,"") | L14: =IF(L12="0",L12,"") | M14: =IF(M12="0",M12,"") | N14: =IF(N12="0",N12,"") | O14: =IF(O12="0",O12,"") | P14: =IF(P12="0",P12,"") | Q14: Did | R14: Did | S14: Did | T14: Did | U14: Did | V14: Did | W14: Did | X14: =IF(X12="0",X12,"") | Y14: =IF(Y12="0",Y12,"") | Z14: =IF(Z12="0",Z12,"") | AA14: =IF(AA12="0",AA12,"") | AB14: =IF(AB12="0",AB12,"") | AC14: =IF(AC12="0",AC12,"") | AD14: =IF(AD12="0",AD12,"") | AE14: =IF(AE12="0",AE12,"") | ... AH14: =IF(AH12="0",AH12,"") | AI14: Did | AJ14: =IF(AJ12="0",AJ12,"") -> 0 | AK14: =IF(AK12="0",AK12,"") -> 0 | AL14: =IF(AL12="0",AL12,"") -> 0 | AM14: =IF(AM12="0",AM12,"") -> 0 | AT14: =B36 -> Décembre | AU14: =IF(C36="0",".",IF(C38="",C36,CONCATENATE(C36,"*"))) -> . | AV14: =IF(D36="0",".",IF(D38="",D36,CONCATENATE(D36,"*"))) -> . | AW14: =IF(E36="0",".",IF(E38="",E36,CONCATENATE(E36,"*"))) -> 1 | AX14: =IF(F36="0",".",IF(F38="",F36,CONCATENATE(F36,"*"))) -> 2 | AY14: =IF(G36="0",".",IF(G38="",G36,CONCATENATE(G36,"*"))) -> 3 | AZ14: =IF(H36="0",".",IF(H38="",H36,CONCATENATE(H36,"*"))) -> 4* | BA14: =IF(I36="0",".",IF(I38="",I36,CONCATENATE(I36,"*"))) -> 5* | BB14: =IF(J36="0",".",IF(J38="",J36,CONCATENATE(J36,"*"))) -> 6 | ... CE14: =IF(AM36="0",".",IF(AM38="",AM36,CONCATENATE(AM36,"*"))) -> .
B15: Mai | C15: 0 | D15: 0 | E15: 0 | F15: 0 | G15: 0 | H15: =G15+1 -> 1 | I15: =H15+1 -> 2 | J15: =I15+1 -> 3 | K15: =J15+1 -> 4 | L15: =K15+1 -> 5 | M15: =L15+1 -> 6 | N15: =M15+1 -> 7 | O15: =N15+1 -> 8 | ... AL15: =AK15+1 -> 31 | AM15: 0 | AN15: =COUNTIF(C16:AM16,"CS") -> 3 | AO15: =COUNTIF(C16:AM16,"WE")/2 -> 5 | AP15: =COUNTIFS(C16:AM16,"CS",C17:AM17,"Did") -> 2 | AQ15: =COUNTIFS(C16:AM16,"WE",C17:AM17,"Did")/2 -> 3
C16: =IF(C15="0",C15,"") -> 0 | D16: =IF(D15="0",D15,"") -> 0 | E16: =IF(E15="0",E15,"") -> 0 | F16: =IF(F15="0",F15,"") -> 0 | G16: =IF(G15="0",G15,"") -> 0 | H16: WE | I16: WE | J16: =IF(J15="0",J15,"") | K16: =IF(K15="0",K15,"") | L16: =IF(L15="0",L15,"") | M16: =IF(M15="0",M15,"") | N16: =IF(N15="0",N15,"") | O16: WE | P16: WE | Q16: =IF(Q15="0",Q15,"") | R16: =IF(R15="0",R15,"") | S16: =IF(S15="0",S15,"") | T16: CS | U16: CS | V16: WE | W16: WE | X16: =IF(X15="0",X15,"") | Y16: =IF(Y15="0",Y15,"") | Z16: =IF(Z15="0",Z15,"") | AA16: =IF(AA15="0",AA15,"") | AB16: =IF(AB15="0",AB15,"") | AC16: WE | AD16: WE | AE16: CS | AF16: =IF(AF15="0",AF15,"") | AG16: =IF(AG15="0",AG15,"") | AH16: =IF(AH15="0",AH15,"") | AI16: =IF(AI15="0",AI15,"") | AJ16: WE | AK16: WE | AL16: =IF(AL15="0",AL15,"") | AM16: =IF(AM15="0",AM15,"") -> 0
C17: =IF(C15="0",C15,"") -> 0 | D17: =IF(D15="0",D15,"") -> 0 | E17: =IF(E15="0",E15,"") -> 0 | F17: =IF(F15="0",F15,"") -> 0 | G17: =IF(G15="0",G15,"") -> 0 | H17: Did | I17: Did | J17: =IF(J15="0",J15,"") | K17: =IF(K15="0",K15,"") | L17: =IF(L15="0",L15,"") | M17: =IF(M15="0",M15,"") | N17: =IF(N15="0",N15,"") | O17: =IF(O15="0",O15,"") | P17: =IF(P15="0",P15,"") | Q17: =IF(Q15="0",Q15,"") | ... S17: =IF(S15="0",S15,"") | T17: Did | U17: Did | V17: Did | W17: Did | X17: =IF(X15="0",X15,"") | Y17: =IF(Y15="0",Y15,"") | Z17: =IF(Z15="0",Z15,"") | AA17: =IF(AA15="0",AA15,"") | AB17: =IF(AB15="0",AB15,"") | AC17: =IF(AC15="0",AC15,"") | AD17: =IF(AD15="0",AD15,"") | AE17: =IF(AE15="0",AE15,"") | ... AI17: =IF(AI15="0",AI15,"") | AJ17: Did | AK17: Did | AL17: =IF(AL15="0",AL15,"") | AM17: =IF(AM15="0",AM15,"") -> 0
B18: Juin | C18: 0 | D18: =C18+1 -> 1 | E18: =D18+1 -> 2 | F18: =E18+1 -> 3 | G18: =F18+1 -> 4 | H18: =G18+1 -> 5 | I18: =H18+1 -> 6 | J18: =I18+1 -> 7 | K18: =J18+1 -> 8 | ... AG18: =AF18+1 -> 30 | AH18: 0 | AI18: 0 | AJ18: 0 | AK18: 0 | AL18: 0 | AM18: 0 | AN18: =COUNTIF(C19:AM19,"CS") -> 0 | AO18: =COUNTIF(C19:AM19,"WE")/2 -> 3 | AP18: =COUNTIFS(C19:AM19,"CS",C20:AM20,"Did") -> 0 | AQ18: =COUNTIFS(C19:AM19,"WE",C20:AM20,"Did")/2 -> 2
C19: =IF(C18="0",C18,"") -> 0 | D19: =IF(D18="0",D18,"") | E19: =IF(E18="0",E18,"") | F19: =IF(F18="0",F18,"") | G19: =IF(G18="0",G18,"") | H19: =IF(H18="0",H18,"") | I19: =IF(I18="0",I18,"") | J19: =IF(J18="0",J18,"") | ... N19: =IF(N18="0",N18,"") | O19: WE | P19: WE | Q19: =IF(Q18="0",Q18,"") | R19: =IF(R18="0",R18,"") | S19: =IF(S18="0",S18,"") | T19: =IF(T18="0",T18,"") | U19: =IF(U18="0",U18,"") | V19: WE | W19: WE | X19: =IF(X18="0",X18,"") | Y19: =IF(Y18="0",Y18,"") | Z19: =IF(Z18="0",Z18,"") | AA19: =IF(AA18="0",AA18,"") | AB19: =IF(AB18="0",AB18,"") | AC19: WE | AD19: WE | AE19: =IF(AE18="0",AE18,"") | AF19: =IF(AF18="0",AF18,"") | AG19: =IF(AG18="0",AG18,"") | AH19: =IF(AH18="0",AH18,"") -> 0 | AI19: =IF(AI18="0",AI18,"") -> 0 | AJ19: =IF(AJ18="0",AJ18,"") -> 0 | AK19: =IF(AK18="0",AK18,"") -> 0 | AL19: =IF(AL18="0",AL18,"") -> 0 | AM19: =IF(AM18="0",AM18,"") -> 0
C20: =IF(C18="0",C18,"") -> 0 | D20: =IF(D18="0",D18,"") | E20: =IF(E18="0",E18,"") | F20: =IF(F18="0",F18,"") | G20: =IF(G18="0",G18,"") | H20: =IF(H18="0",H18,"") | I20: =IF(I18="0",I18,"") | J20: =IF(J18="0",J18,"") | ... N20: =IF(N18="0",N18,"") | O20: Did | P20: Did | Q20: =IF(Q18="0",Q18,"") | R20: =IF(R18="0",R18,"") | S20: =IF(S18="0",S18,"") | T20: =IF(T18="0",T18,"") | U20: =IF(U18="0",U18,"") | V20: =IF(V18="0",V18,"") | W20: =IF(W18="0",W18,"") | X20: =IF(X18="0",X18,"") | ... AB20: =IF(AB18="0",AB18,"") | AC20: Did | AD20: Did | AE20: =IF(AE18="0",AE18,"") | AF20: =IF(AF18="0",AF18,"") | AG20: =IF(AG18="0",AG18,"") | AH20: =IF(AH18="0",AH18,"") -> 0 | AI20: =IF(AI18="0",AI18,"") -> 0 | AJ20: =IF(AJ18="0",AJ18,"") -> 0 | AK20: =IF(AK18="0",AK18,"") -> 0 | AL20: =IF(AL18="0",AL18,"") -> 0 | AM20: =IF(AM18="0",AM18,"") -> 0
B21: Juillet | C21: 0 | D21: 0 | E21: 0 | F21: =E21+1 -> 1 | G21: =F21+1 -> 2 | H21: =G21+1 -> 3 | I21: =H21+1 -> 4 | J21: =I21+1 -> 5 | K21: =J21+1 -> 6 | L21: =K21+1 -> 7 | M21: =L21+1 -> 8 | ... AJ21: =AI21+1 -> 31 | AK21: 0 | AL21: 0 | AM21: 0 | AN21: =COUNTIF(C22:AM22,"CS") -> 22 | AO21: =COUNTIF(C22:AM22,"WE")/2 -> 4.5 | AP21: =COUNTIFS(C22:AM22,"CS",C23:AM23,"Did") -> 11 | AQ21: =COUNTIFS(C22:AM22,"WE",C23:AM23,"Did")/2 -> 2
C22: =IF(C21="0",C21,"") -> 0 | D22: =IF(D21="0",D21,"") -> 0 | E22: =IF(E21="0",E21,"") -> 0 | F22: CS | G22: CS | H22: WE | I22: WE | J22: CS | K22: CS | L22: CS | M22: CS | N22: CS | O22: WE | P22: WE | Q22: CS | R22: CS | S22: CS | T22: CS | U22: CS | V22: WE | W22: WE | X22: CS | Y22: CS | Z22: CS | AA22: CS | AB22: CS | AC22: WE | AD22: WE | AE22: CS | AF22: CS | AG22: CS | AH22: CS | AI22: CS | AJ22: WE | AK22: =IF(AK21="0",AK21,"") -> 0 | AL22: =IF(AL21="0",AL21,"") -> 0 | AM22: =IF(AM21="0",AM21,"") -> 0
C23: =IF(C21="0",C21,"") -> 0 | D23: =IF(D21="0",D21,"") -> 0 | E23: =IF(E21="0",E21,"") -> 0 | F23: =IF(F21="0",F21,"") | G23: =IF(G21="0",G21,"") | H23: =IF(H21="0",H21,"") | I23: =IF(I21="0",I21,"") | J23: =IF(J21="0",J21,"") | ... N23: =IF(N21="0",N21,"") | Q23: =IF(Q21="0",Q21,"") | R23: =IF(R21="0",R21,"") | S23: =IF(S21="0",S21,"") | T23: =IF(T21="0",T21,"") | U23: Did | V23: Did | W23: D | X23: Did | Y23: Did | Z23: Did | AA23: Did | AB23: Did | AC23: Did | AD23: Did | AE23: Did | AF23: Did | AG23: Did | AH23: Did | AI23: Did | AJ23: Did | AK23: =IF(AK21="0",AK21,"") -> 0 | AL23: =IF(AL21="0",AL21,"") -> 0 | AM23: =IF(AM21="0",AM21,"") -> 0
B24: Aout | C24: 0 | D24: 0 | E24: 0 | F24: 0 | G24: 0 | H24: 0 | I24: =H24+1 -> 1 | J24: =I24+1 -> 2 | K24: =J24+1 -> 3 | L24: =K24+1 -> 4 | M24: =L24+1 -> 5 | N24: =M24+1 -> 6 | O24: =N24+1 -> 7 | P24: =O24+1 -> 8 | ... AM24: =AL24+1 -> 31 | AN24: =COUNTIF(C25:AM25,"CS") -> 22 | AO24: =COUNTIF(C25:AM25,"WE")/2 -> 4.5 | AP24: =COUNTIFS(C25:AM25,"CS",C26:AM26,"Did") -> 10 | AQ24: =COUNTIFS(C25:AM25,"WE",C26:AM26,"Did")/2 -> 2
C25: =IF(C24="0",C24,"") -> 0 | D25: =IF(D24="0",D24,"") -> 0 | E25: =IF(E24="0",E24,"") -> 0 | F25: =IF(F24="0",F24,"") -> 0 | G25: =IF(G24="0",G24,"") -> 0 | H25: =IF(H24="0",H24,"") -> 0 | I25: WE | J25: CS | K25: CS | L25: CS | M25: CS | N25: CS | O25: WE | P25: WE | Q25: CS | R25: CS | S25: CS | T25: CS | U25: CS | V25: WE | W25: WE | X25: CS | Y25: CS | Z25: CS | AA25: CS | AB25: CS | AC25: WE | AD25: WE | AE25: CS | AF25: CS | AG25: CS | AH25: CS | AI25: CS | AJ25: WE | AK25: WE | AL25: CS | AM25: CS
C26: =IF(C24="0",C24,"") -> 0 | D26: =IF(D24="0",D24,"") -> 0 | E26: =IF(E24="0",E24,"") -> 0 | F26: =IF(F24="0",F24,"") -> 0 | G26: =IF(G24="0",G24,"") -> 0 | H26: =IF(H24="0",H24,"") -> 0 | I26: =IF(I24="0",I24,"") | J26: =IF(J24="0",J24,"") | ... N26: =IF(N24="0",N24,"") | Q26: =IF(Q24="0",Q24,"") | R26: =IF(R24="0",R24,"") | S26: =IF(S24="0",S24,"") | T26: =IF(T24="0",T24,"") | U26: =IF(U24="0",U24,"") | V26: =IF(V24="0",V24,"") | W26: =IF(W24="0",W24,"") | X26: Did | Y26: Did | Z26: Did | AA26: Did | AB26: Did | AC26: Did | AD26: Did | AE26: Did | AF26: Did | AG26: Did | AH26: Did | AI26: Did | AJ26: Did | AK26: Did
B27: Septembre | C27: 0 | D27: 0 | E27: =D27+1 -> 1 | F27: =E27+1 -> 2 | G27: =F27+1 -> 3 | H27: =G27+1 -> 4 | I27: =H27+1 -> 5 | J27: =I27+1 -> 6 | K27: =J27+1 -> 7 | L27: =K27+1 -> 8 | ... AH27: =AG27+1 -> 30 | AI27: 0 | AJ27: 0 | AK27: 0 | AL27: 0 | AM27: 0 | AN27: =COUNTIF(C28:AM28,"CS") -> 0 | AO27: =COUNTIF(C28:AM28,"WE")/2 -> 4 | AP27: =COUNTIFS(C28:AM28,"CS",C29:AM29,"Did") -> 0 | AQ27: =COUNTIFS(C28:AM28,"WE",C29:AM29,"Did")/2 -> 2
C28: =IF(C27="0",C27,"") -> 0 | D28: =IF(D27="0",D27,"") -> 0 | E28: =IF(E27="0",E27,"") | F28: =IF(F27="0",F27,"") | G28: =IF(G27="0",G27,"") | H28: WE | I28: WE | J28: =IF(J27="0",J27,"") | K28: =IF(K27="0",K27,"") | L28: =IF(L27="0",L27,"") | M28: =IF(M27="0",M27,"") | N28: =IF(N27="0",N27,"") | O28: WE | P28: WE | Q28: =IF(Q27="0",Q27,"") | R28: =IF(R27="0",R27,"") | S28: =IF(S27="0",S27,"") | T28: =IF(T27="0",T27,"") | U28: =IF(U27="0",U27,"") | V28: WE | W28: WE | X28: =IF(X27="0",X27,"") | Y28: =IF(Y27="0",Y27,"") | Z28: =IF(Z27="0",Z27,"") | AA28: =IF(AA27="0",AA27,"") | AB28: =IF(AB27="0",AB27,"") | AC28: WE | AD28: WE | AE28: =IF(AE27="0",AE27,"") | AF28: =IF(AF27="0",AF27,"") | AG28: =IF(AG27="0",AG27,"") | AH28: =IF(AH27="0",AH27,"") | AI28: =IF(AI27="0",AI27,"") -> 0 | AJ28: =IF(AJ27="0",AJ27,"") -> 0 | AK28: =IF(AK27="0",AK27,"") -> 0 | AL28: =IF(AL27="0",AL27,"") -> 0 | AM28: =IF(AM27="0",AM27,"") -> 0
C29: =IF(C27="0",C27,"") -> 0 | D29: =IF(D27="0",D27,"") -> 0 | E29: =IF(E27="0",E27,"") | F29: =IF(F27="0",F27,"") | G29: =IF(G27="0",G27,"") | J29: =IF(J27="0",J27,"") | K29: =IF(K27="0",K27,"") | L29: =IF(L27="0",L27,"") | M29: =IF(M27="0",M27,"") | N29: =IF(N27="0",N27,"") | O29: Did | P29: Did | Q29: =IF(Q27="0",Q27,"") | R29: =IF(R27="0",R27,"") | S29: =IF(S27="0",S27,"") | T29: =IF(T27="0",T27,"") | U29: =IF(U27="0",U27,"") | X29: =IF(X27="0",X27,"") | Y29: =IF(Y27="0",Y27,"") | Z29: =IF(Z27="0",Z27,"") | AA29: =IF(AA27="0",AA27,"") | AB29: =IF(AB27="0",AB27,"") | AC29: Did | AD29: Did | AE29: =IF(AE27="0",AE27,"") | AF29: =IF(AF27="0",AF27,"") | AG29: =IF(AG27="0",AG27,"") | AH29: =IF(AH27="0",AH27,"") | AI29: =IF(AI27="0",AI27,"") -> 0 | AJ29: =IF(AJ27="0",AJ27,"") -> 0 | AK29: =IF(AK27="0",AK27,"") -> 0 | AL29: =IF(AL27="0",AL27,"") -> 0 | AM29: =IF(AM27="0",AM27,"") -> 0
B30: Octobre | C30: 0 | D30: 0 | E30: 0 | F30: 0 | G30: =F30+1 -> 1 | H30: =G30+1 -> 2 | I30: =H30+1 -> 3 | J30: =I30+1 -> 4 | K30: =J30+1 -> 5 | L30: =K30+1 -> 6 | M30: =L30+1 -> 7 | N30: =M30+1 -> 8 | ... AK30: =AJ30+1 -> 31 | AL30: 0 | AM30: 0 | AN30: =COUNTIF(C31:AM31,"CS") -> 0 | AO30: =COUNTIF(C31:AM31,"WE")/2 -> 5 | AP30: =COUNTIFS(C31:AM31,"CS",C32:AM32,"Did") -> 0 | AQ30: =COUNTIFS(C31:AM31,"WE",C32:AM32,"Did")/2 -> 2
C31: =IF(C30="0",C30,"") -> 0 | D31: =IF(D30="0",D30,"") -> 0 | E31: =IF(E30="0",E30,"") -> 0 | F31: =IF(F30="0",F30,"") -> 0 | G31: =IF(G30="0",G30,"") | H31: WE | I31: WE | J31: =IF(J30="0",J30,"") | K31: =IF(K30="0",K30,"") | L31: =IF(L30="0",L30,"") | M31: =IF(M30="0",M30,"") | N31: =IF(N30="0",N30,"") | O31: WE | P31: WE | Q31: =IF(Q30="0",Q30,"") | R31: =IF(R30="0",R30,"") | S31: =IF(S30="0",S30,"") | T31: =IF(T30="0",T30,"") | U31: =IF(U30="0",U30,"") | V31: WE | W31: WE | X31: =IF(X30="0",X30,"") | Y31: =IF(Y30="0",Y30,"") | Z31: =IF(Z30="0",Z30,"") | AA31: =IF(AA30="0",AA30,"") | AB31: =IF(AB30="0",AB30,"") | AC31: WE | AD31: WE | AE31: =IF(AE30="0",AE30,"") | AF31: =IF(AF30="0",AF30,"") | AG31: =IF(AG30="0",AG30,"") | AH31: =IF(AH30="0",AH30,"") | AI31: =IF(AI30="0",AI30,"") | AJ31: WE | AK31: WE | AL31: =IF(AL30="0",AL30,"") -> 0 | AM31: =IF(AM30="0",AM30,"") -> 0
C32: =IF(C30="0",C30,"") -> 0 | D32: =IF(D30="0",D30,"") -> 0 | E32: =IF(E30="0",E30,"") -> 0 | F32: =IF(F30="0",F30,"") -> 0 | G32: =IF(G30="0",G30,"") | J32: =IF(J30="0",J30,"") | K32: =IF(K30="0",K30,"") | L32: =IF(L30="0",L30,"") | M32: =IF(M30="0",M30,"") | N32: =IF(N30="0",N30,"") | O32: Did | P32: Did | Q32: =IF(Q30="0",Q30,"") | R32: =IF(R30="0",R30,"") | S32: =IF(S30="0",S30,"") | T32: =IF(T30="0",T30,"") | U32: =IF(U30="0",U30,"") | X32: =IF(X30="0",X30,"") | Y32: =IF(Y30="0",Y30,"") | Z32: =IF(Z30="0",Z30,"") | AA32: =IF(AA30="0",AA30,"") | AB32: =IF(AB30="0",AB30,"") | AC32: Did | AD32: Did | AE32: =IF(AE30="0",AE30,"") | AF32: =IF(AF30="0",AF30,"") | AG32: =IF(AG30="0",AG30,"") | AH32: =IF(AH30="0",AH30,"") | AI32: =IF(AI30="0",AI30,"") | AL32: =IF(AL30="0",AL30,"") -> 0 | AM32: =IF(AM30="0",AM30,"") -> 0
B33: Novembre | C33: 1 | D33: =C33+1 -> 2 | E33: =D33+1 -> 3 | F33: =E33+1 -> 4 | G33: =F33+1 -> 5 | H33: =G33+1 -> 6 | I33: =H33+1 -> 7 | J33: =I33+1 -> 8 | K33: =J33+1 -> 9 | ... AF33: =AE33+1 -> 30 | AG33: 0 | AH33: 0 | AI33: 0 | AJ33: 0 | AK33: 0 | AL33: 0 | AM33: 0 | AN33: =COUNTIF(C34:AM34,"CS") -> 5 | AO33: =COUNTIF(C34:AM34,"WE")/2 -> 4 | AP33: =COUNTIFS(C34:AM34,"CS",C35:AM35,"Did") -> 2 | AQ33: =COUNTIFS(C34:AM34,"WE",C35:AM35,"Did")/2 -> 2
C34: CS | D34: CS | E34: CS | F34: CS | G34: CS | H34: WE | I34: WE | J34: =IF(J33="0",J33,"") | K34: =IF(K33="0",K33,"") | L34: =IF(L33="0",L33,"") | M34: =IF(M33="0",M33,"") | N34: =IF(N33="0",N33,"") | O34: WE | P34: WE | Q34: =IF(Q33="0",Q33,"") | R34: =IF(R33="0",R33,"") | S34: =IF(S33="0",S33,"") | T34: =IF(T33="0",T33,"") | U34: =IF(U33="0",U33,"") | V34: WE | W34: WE | X34: =IF(X33="0",X33,"") | Y34: =IF(Y33="0",Y33,"") | Z34: =IF(Z33="0",Z33,"") | AA34: =IF(AA33="0",AA33,"") | AB34: =IF(AB33="0",AB33,"") | AC34: WE | AD34: WE | AE34: =IF(AE33="0",AE33,"") | AF34: =IF(AF33="0",AF33,"") | AG34: =IF(AG33="0",AG33,"") -> 0 | AH34: =IF(AH33="0",AH33,"") -> 0 | AI34: =IF(AI33="0",AI33,"") -> 0 | AJ34: =IF(AJ33="0",AJ33,"") -> 0 | AK34: =IF(AK33="0",AK33,"") -> 0 | AL34: =IF(AL33="0",AL33,"") -> 0 | AM34: =IF(AM33="0",AM33,"") -> 0
C35: =IF(C33="0",C33,"") | F35: Did | G35: Did | H35: Did | I35: Did | J35: =IF(J33="0",J33,"") | K35: =IF(K33="0",K33,"") | L35: =IF(L33="0",L33,"") | M35: =IF(M33="0",M33,"") | N35: =IF(N33="0",N33,"") | Q35: =IF(Q33="0",Q33,"") | R35: =IF(R33="0",R33,"") | S35: =IF(S33="0",S33,"") | T35: =IF(T33="0",T33,"") | U35: =IF(U33="0",U33,"") | V35: Did | W35: Did | X35: =IF(X33="0",X33,"") | Y35: =IF(Y33="0",Y33,"") | Z35: =IF(Z33="0",Z33,"") | AA35: =IF(AA33="0",AA33,"") | AB35: =IF(AB33="0",AB33,"") | AE35: =IF(AE33="0",AE33,"") | AF35: =IF(AF33="0",AF33,"") | AG35: =IF(AG33="0",AG33,"") -> 0 | AH35: =IF(AH33="0",AH33,"") -> 0 | AI35: =IF(AI33="0",AI33,"") -> 0 | AJ35: =IF(AJ33="0",AJ33,"") -> 0 | AK35: =IF(AK33="0",AK33,"") -> 0 | AL35: =IF(AL33="0",AL33,"") -> 0 | AM35: =IF(AM33="0",AM33,"") -> 0
B36: Décembre | C36: 0 | D36: 0 | E36: =D36+1 -> 1 | F36: =E36+1 -> 2 | G36: =F36+1 -> 3 | H36: =G36+1 -> 4 | I36: =H36+1 -> 5 | J36: =I36+1 -> 6 | K36: =J36+1 -> 7 | L36: =K36+1 -> 8 | ... AI36: =AH36+1 -> 31 | AJ36: 0 | AK36: 0 | AL36: 0 | AM36: 0 | AN36: =COUNTIF(C37:AM37,"CS") -> 5 | AO36: =COUNTIF(C37:AM37,"WE")/2 -> 4 | AP36: =COUNTIFS(C37:AM37,"CS",C38:AM38,"Did") -> 2 | AQ36: =COUNTIFS(C37:AM37,"WE",C38:AM38,"Did")/2 -> 2
C37: =IF(C36="0",C36,"") -> 0 | D37: =IF(D36="0",D36,"") -> 0 | E37: =IF(E36="0",E36,"") | F37: =IF(F36="0",F36,"") | G37: =IF(G36="0",G36,"") | H37: WE | I37: WE | J37: =IF(J36="0",J36,"") | K37: =IF(K36="0",K36,"") | L37: =IF(L36="0",L36,"") | M37: =IF(M36="0",M36,"") | N37: =IF(N36="0",N36,"") | O37: WE | P37: WE | Q37: =IF(Q36="0",Q36,"") | R37: =IF(R36="0",R36,"") | S37: =IF(S36="0",S36,"") | T37: =IF(T36="0",T36,"") | U37: =IF(U36="0",U36,"") | V37: WE | W37: WE | X37: =IF(X36="0",X36,"") | Y37: =IF(Y36="0",Y36,"") | Z37: =IF(Z36="0",Z36,"") | AA37: =IF(AA36="0",AA36,"") | AB37: =IF(AB36="0",AB36,"") | AC37: WE | AD37: WE | AE37: CS | AF37: CS | AG37: CS | AH37: CS | AI37: CS | AJ37: =IF(AJ36="0",AJ36,"") -> 0 | AK37: =IF(AK36="0",AK36,"") -> 0 | AL37: =IF(AL36="0",AL36,"") -> 0 | AM37: =IF(AM36="0",AM36,"") -> 0
C38: =IF(C36="0",C36,"") -> 0 | D38: =IF(D36="0",D36,"") -> 0 | E38: =IF(E36="0",E36,"") | F38: =IF(F36="0",F36,"") | G38: =IF(G36="0",G36,"") | H38: Did | I38: Did | J38: =IF(J36="0",J36,"") | K38: =IF(K36="0",K36,"") | L38: =IF(L36="0",L36,"") | M38: =IF(M36="0",M36,"") | N38: =IF(N36="0",N36,"") | Q38: =IF(Q36="0",Q36,"") | R38: =IF(R36="0",R36,"") | S38: =IF(S36="0",S36,"") | T38: =IF(T36="0",T36,"") | U38: =IF(U36="0",U36,"") | V38: Did | W38: Did | X38: =IF(X36="0",X36,"") | Y38: =IF(Y36="0",Y36,"") | Z38: =IF(Z36="0",Z36,"") | AA38: =IF(AA36="0",AA36,"") | AB38: =IF(AB36="0",AB36,"") | AE38: =IF(AE36="0",AE36,"") | AF38: =IF(AF36="0",AF36,"") | AG38: =IF(AG36="0",AG36,"") | AH38: Did | AI38: Did | AJ38: =IF(AJ36="0",AJ36,"") -> 0 | AK38: =IF(AK36="0",AK36,"") -> 0 | AL38: =IF(AL36="0",AL36,"") -> 0 | AM38: =IF(AM36="0",AM36,"") -> 0
AE39: 27/12-09/01 | AK39: Total | AN39: =SUM(AN3:AN38) -> 74 | AO39: =SUM(AO3:AO38) -> 51 | AP39: =SUM(AP3:AP38) -> 36 | AQ39: =SUM(AQ3:AQ38) -> 25
AP40: =AP39/AN39 -> 0.48648649 | AQ40: =AQ39/AO39 -> 0.49019608 | AS40: =AP40+AQ40 -> 0.97668256
B43: 2022 | AT43: =B43 -> 2022
C44: Lundi | D44: Mardi | E44: Mercredi | F44: Jeudi | G44: Vendredi | H44: Samedi | I44: Dimanche | J44: Lundi | K44: Mardi | L44: Mercredi | M44: Jeudi | N44: Vendredi | O44: Samedi | P44: Dimanche | Q44: Lundi | R44: Mardi | S44: Mercredi | T44: Jeudi | U44: Vendredi | V44: Samedi | W44: Dimanche | X44: Lundi | Y44: Mardi | Z44: Mercredi | AA44: Jeudi | AB44: Vendredi | AC44: Samedi | AD44: Dimanche | AE44: Lundi | AF44: Mardi | AG44: Mercredi | AH44: Jeudi | AI44: Vendredi | AJ44: Samedi | AK44: Dimanche | AL44: Lundi | AM44: Mardi | AN44: Congé scolaire | AO44: Week-end | AP44: Enfants CS | AQ44: Enfant WE | AU44: =LEFT(C44,2) -> Lu | AV44: =LEFT(D44,2) -> Ma | AW44: =LEFT(E44,2) -> Me | AX44: =LEFT(F44,2) -> Je | AY44: =LEFT(G44,2) -> Ve | AZ44: =LEFT(H44,2) -> Sa | BA44: =LEFT(I44,2) -> Di | BB44: =LEFT(J44,2) -> Lu | ... CE44: =LEFT(AM44,2) -> Ma
B45: Janvier | C45: 0 | D45: 0 | E45: 0 | F45: 0 | G45: 0 | H45: 1 | I45: =H45+1 -> 2 | J45: =I45+1 -> 3 | K45: =J45+1 -> 4 | L45: =K45+1 -> 5 | M45: =L45+1 -> 6 | N45: =M45+1 -> 7 | O45: =N45+1 -> 8 | P45: =O45+1 -> 9 | ... AL45: =AK45+1 -> 31 | AM45: 0 | AN45: =COUNTIF(C46:AM46,"CS") -> 5 | AO45: =COUNTIF(C46:AM46,"WE")/2 -> 5 | AP45: =COUNTIFS(C46:AM46,"CS",C47:AM47,"Did") -> 5 | AQ45: =COUNTIFS(C46:AM46,"WE",C47:AM47,"Did")/2 -> 1 | AT45: =B45 -> Janvier | AU45: =IF(C45="0",".",IF(C47="",C45,CONCATENATE(C45,"*"))) -> . | AV45: =IF(D45="0",".",IF(D47="",D45,CONCATENATE(D45,"*"))) -> . | AW45: =IF(E45="0",".",IF(E47="",E45,CONCATENATE(E45,"*"))) -> . | AX45: =IF(F45="0",".",IF(F47="",F45,CONCATENATE(F45,"*"))) -> . | AY45: =IF(G45="0",".",IF(G47="",G45,CONCATENATE(G45,"*"))) -> . | AZ45: =IF(H45="0",".",IF(H47="",H45,CONCATENATE(H45,"*"))) -> 1* | BA45: =IF(I45="0",".",IF(I47="",I45,CONCATENATE(I45,"*"))) -> 2* | BB45: =IF(J45="0",".",IF(J47="",J45,CONCATENATE(J45,"*"))) -> 3* | ... CE45: =IF(AM45="0",".",IF(AM47="",AM45,CONCATENATE(AM45,"*"))) -> .
C46: =IF(C45="0",C45,"") -> 0 | D46: =IF(D45="0",D45,"") -> 0 | E46: =IF(E45="0",E45,"") -> 0 | F46: =IF(F45="0",F45,"") -> 0 | G46: =IF(G45="0",G45,"") -> 0 | H46: =IF(H45="0",H45,"WE") -> WE | I46: =IF(I45="0",I45,"WE") -> WE | J46: CS | K46: CS | L46: CS | M46: CS | N46: CS | O46: =IF(O45="0",O45,"WE") -> WE | P46: =IF(P45="0",P45,"WE") -> WE | Q46: =IF(Q45="0",Q45,"") | R46: =IF(R45="0",R45,"") | S46: =IF(S45="0",S45,"") | T46: =IF(T45="0",T45,"") | U46: =IF(U45="0",U45,"") | V46: =IF(V45="0",V45,"WE") -> WE | W46: =IF(W45="0",W45,"WE") -> WE | X46: =IF(X45="0",X45,"") | Y46: =IF(Y45="0",Y45,"") | Z46: =IF(Z45="0",Z45,"") | AA46: =IF(AA45="0",AA45,"") | AB46: =IF(AB45="0",AB45,"") | AC46: =IF(AC45="0",AC45,"WE") -> WE | AD46: =IF(AD45="0",AD45,"WE") -> WE | AE46: =IF(AE45="0",AE45,"") | AF46: =IF(AF45="0",AF45,"") | AG46: =IF(AG45="0",AG45,"") | AH46: =IF(AH45="0",AH45,"") | AI46: =IF(AI45="0",AI45,"") | AJ46: =IF(AJ45="0",AJ45,"WE") -> WE | AK46: =IF(AK45="0",AK45,"WE") -> WE | AL46: =IF(AL45="0",AL45,"") | AM46: =IF(AM45="0",AM45,"") -> 0 | AT46: =B48 -> Février | AU46: =IF(C48="0",".",IF(C50="",C48,CONCATENATE(C48,"*"))) -> . | AV46: =IF(D48="0",".",IF(D50="",D48,CONCATENATE(D48,"*"))) -> 1 | AW46: =IF(E48="0",".",IF(E50="",E48,CONCATENATE(E48,"*"))) -> 2 | AX46: =IF(F48="0",".",IF(F50="",F48,CONCATENATE(F48,"*"))) -> 3 | AY46: =IF(G48="0",".",IF(G50="",G48,CONCATENATE(G48,"*"))) -> 4 | AZ46: =IF(H48="0",".",IF(H50="",H48,CONCATENATE(H48,"*"))) -> 5 | BA46: =IF(I48="0",".",IF(I50="",I48,CONCATENATE(I48,"*"))) -> 6 | BB46: =IF(J48="0",".",IF(J50="",J48,CONCATENATE(J48,"*"))) -> 7 | ... CE46: =IF(AM48="0",".",IF(AM50="",AM48,CONCATENATE(AM48,"*"))) -> .
C47: =IF(C45="0",C45,"") -> 0 | D47: =IF(D45="0",D45,"") -> 0 | E47: =IF(E45="0",E45,"") -> 0 | F47: =IF(F45="0",F45,"") -> 0 | G47: =IF(G45="0",G45,"") -> 0 | H47: Did | I47: Did | J47: Did | K47: Did | L47: Did | M47: Did | N47: Did | O47: =IF(O45="0",O45,"") | P47: =IF(P45="0",P45,"") | Q47: =IF(Q45="0",Q45,"") | R47: =IF(R45="0",R45,"") | S47: =IF(S45="0",S45,"") | T47: =IF(T45="0",T45,"") | U47: =IF(U45="0",U45,"") | V47: =IF(V45="0",V45,"") | ... AM47: =IF(AM45="0",AM45,"") -> 0 | AT47: =B51 -> Mars | AU47: =IF(C51="0",".",IF(C53="",C51,CONCATENATE(C51,"*"))) -> . | AV47: =IF(D51="0",".",IF(D53="",D51,CONCATENATE(D51,"*"))) -> 1 | AW47: =IF(E51="0",".",IF(E53="",E51,CONCATENATE(E51,"*"))) -> 2 | AX47: =IF(F51="0",".",IF(F53="",F51,CONCATENATE(F51,"*"))) -> 3 | AY47: =IF(G51="0",".",IF(G53="",G51,CONCATENATE(G51,"*"))) -> 4 | AZ47: =IF(H51="0",".",IF(H53="",H51,CONCATENATE(H51,"*"))) -> 5 | BA47: =IF(I51="0",".",IF(I53="",I51,CONCATENATE(I51,"*"))) -> 6 | BB47: =IF(J51="0",".",IF(J53="",J51,CONCATENATE(J51,"*"))) -> 7 | ... CE47: =IF(AM51="0",".",IF(AM53="",AM51,CONCATENATE(AM51,"*"))) -> .
B48: Février | C48: 0 | D48: 1 | E48: =D48+1 -> 2 | F48: =E48+1 -> 3 | G48: =F48+1 -> 4 | H48: =G48+1 -> 5 | I48: =H48+1 -> 6 | J48: =I48+1 -> 7 | K48: =J48+1 -> 8 | L48: =K48+1 -> 9 | ... AE48: =AD48+1 -> 28 | AF48: 0 | AG48: 0 | AH48: 0 | AI48: 0 | AJ48: 0 | AK48: 0 | AL48: 0 | AM48: 0 | AN48: =COUNTIF(C49:AM49,"CS") -> 0 | AO48: =COUNTIF(C49:AM49,"WE")/2 -> 4 | AP48: =COUNTIFS(C49:AM49,"CS",C50:AM50,"Did") -> 0 | AQ48: =COUNTIFS(C49:AM49,"WE",C50:AM50,"Did")/2 -> 0 | AT48: =B54 -> Avril | AU48: =IF(C54="0",".",IF(C56="",C54,CONCATENATE(C54,"*"))) -> . | AV48: =IF(D54="0",".",IF(D56="",D54,CONCATENATE(D54,"*"))) -> . | AW48: =IF(E54="0",".",IF(E56="",E54,CONCATENATE(E54,"*"))) -> . | AX48: =IF(F54="0",".",IF(F56="",F54,CONCATENATE(F54,"*"))) -> . | AY48: =IF(G54="0",".",IF(G56="",G54,CONCATENATE(G54,"*"))) -> 1 | AZ48: =IF(H54="0",".",IF(H56="",H54,CONCATENATE(H54,"*"))) -> 2 | BA48: =IF(I54="0",".",IF(I56="",I54,CONCATENATE(I54,"*"))) -> 3 | BB48: =IF(J54="0",".",IF(J56="",J54,CONCATENATE(J54,"*"))) -> 4 | ... CE48: =IF(AM54="0",".",IF(AM56="",AM54,CONCATENATE(AM54,"*"))) -> .
C49: =IF(C48="0",C48,"") -> 0 | D49: =IF(D48="0",D48,"") | E49: =IF(E48="0",E48,"") | F49: =IF(F48="0",F48,"") | G49: =IF(G48="0",G48,"") | H49: =IF(H48="0",H48,"WE") -> WE | I49: =IF(I48="0",I48,"WE") -> WE | J49: =IF(J48="0",J48,"") | K49: =IF(K48="0",K48,"") | L49: =IF(L48="0",L48,"") | M49: =IF(M48="0",M48,"") | N49: =IF(N48="0",N48,"") | O49: =IF(O48="0",O48,"WE") -> WE | P49: =IF(P48="0",P48,"WE") -> WE | Q49: =IF(Q48="0",Q48,"") | R49: =IF(R48="0",R48,"") | S49: =IF(S48="0",S48,"") | T49: =IF(T48="0",T48,"") | U49: =IF(U48="0",U48,"") | V49: =IF(V48="0",V48,"WE") -> WE | W49: =IF(W48="0",W48,"WE") -> WE | X49: =IF(X48="0",X48,"") | Y49: =IF(Y48="0",Y48,"") | Z49: =IF(Z48="0",Z48,"") | AA49: =IF(AA48="0",AA48,"") | AB49: =IF(AB48="0",AB48,"") | AC49: =IF(AC48="0",AC48,"WE") -> WE | AD49: =IF(AD48="0",AD48,"WE") -> WE | AE49: =IF(AE48="0",AE48,"") | AF49: =IF(AF48="0",AF48,"") -> 0 | AG49: =IF(AG48="0",AG48,"") -> 0 | AH49: =IF(AH48="0",AH48,"") -> 0 | AI49: =IF(AI48="0",AI48,"") -> 0 | AJ49: =IF(AJ48="0",AJ48,"WE") -> 0 | AK49: =IF(AK48="0",AK48,"WE") -> 0 | AL49: =IF(AL48="0",AL48,"") -> 0 | AM49: =IF(AM48="0",AM48,"") -> 0 | AT49: =B57 -> Mai | AU49: =IF(C57="0",".",IF(C59="",C57,CONCATENATE(C57,"*"))) -> . | AV49: =IF(D57="0",".",IF(D59="",D57,CONCATENATE(D57,"*"))) -> . | AW49: =IF(E57="0",".",IF(E59="",E57,CONCATENATE(E57,"*"))) -> . | AX49: =IF(F57="0",".",IF(F59="",F57,CONCATENATE(F57,"*"))) -> . | AY49: =IF(G57="0",".",IF(G59="",G57,CONCATENATE(G57,"*"))) -> . | AZ49: =IF(H57="0",".",IF(H59="",H57,CONCATENATE(H57,"*"))) -> . | BA49: =IF(I57="0",".",IF(I59="",I57,CONCATENATE(I57,"*"))) -> 1 | BB49: =IF(J57="0",".",IF(J59="",J57,CONCATENATE(J57,"*"))) -> 2 | ... CE49: =IF(AM57="0",".",IF(AM59="",AM57,CONCATENATE(AM57,"*"))) -> 31
C50: =IF(C48="0",C48,"") -> 0 | D50: =IF(D48="0",D48,"") | E50: =IF(E48="0",E48,"") | F50: =IF(F48="0",F48,"") | G50: =IF(G48="0",G48,"") | H50: =IF(H48="0",H48,"") | I50: =IF(I48="0",I48,"") | J50: =IF(J48="0",J48,"") | ... AM50: =IF(AM48="0",AM48,"") -> 0 | AT50: =B60 -> Juin | AU50: =IF(C60="0",".",IF(C62="",C60,CONCATENATE(C60,"*"))) -> . | AV50: =IF(D60="0",".",IF(D62="",D60,CONCATENATE(D60,"*"))) -> . | AW50: =IF(E60="0",".",IF(E62="",E60,CONCATENATE(E60,"*"))) -> 1 | AX50: =IF(F60="0",".",IF(F62="",F60,CONCATENATE(F60,"*"))) -> 2 | AY50: =IF(G60="0",".",IF(G62="",G60,CONCATENATE(G60,"*"))) -> 3 | AZ50: =IF(H60="0",".",IF(H62="",H60,CONCATENATE(H60,"*"))) -> 4 | BA50: =IF(I60="0",".",IF(I62="",I60,CONCATENATE(I60,"*"))) -> 5 | BB50: =IF(J60="0",".",IF(J62="",J60,CONCATENATE(J60,"*"))) -> 6 | ... CE50: =IF(AM60="0",".",IF(AM62="",AM60,CONCATENATE(AM60,"*"))) -> .
B51: Mars | C51: 0 | D51: =C51+1 -> 1 | E51: =D51+1 -> 2 | F51: =E51+1 -> 3 | G51: =F51+1 -> 4 | H51: =G51+1 -> 5 | I51: =H51+1 -> 6 | J51: =I51+1 -> 7 | K51: =J51+1 -> 8 | ... AH51: =AG51+1 -> 31 | AI51: 0 | AJ51: 0 | AK51: 0 | AL51: 0 | AM51: 0 | AN51: =COUNTIF(C52:AM52,"CS") -> 0 | AO51: =COUNTIF(C52:AM52,"WE")/2 -> 4 | AP51: =COUNTIFS(C52:AM52,"CS",C53:AM53,"Did") -> 0 | AQ51: =COUNTIFS(C52:AM52,"WE",C53:AM53,"Did")/2 -> 0 | AT51: =B63 -> Juillet | AU51: =IF(C63="0",".",IF(C65="",C63,CONCATENATE(C63,"*"))) -> . | AV51: =IF(D63="0",".",IF(D65="",D63,CONCATENATE(D63,"*"))) -> . | AW51: =IF(E63="0",".",IF(E65="",E63,CONCATENATE(E63,"*"))) -> . | AX51: =IF(F63="0",".",IF(F65="",F63,CONCATENATE(F63,"*"))) -> . | AY51: =IF(G63="0",".",IF(G65="",G63,CONCATENATE(G63,"*"))) -> 1 | AZ51: =IF(H63="0",".",IF(H65="",H63,CONCATENATE(H63,"*"))) -> 2 | BA51: =IF(I63="0",".",IF(I65="",I63,CONCATENATE(I63,"*"))) -> 3 | BB51: =IF(J63="0",".",IF(J65="",J63,CONCATENATE(J63,"*"))) -> 4 | ... CE51: =IF(AM63="0",".",IF(AM65="",AM63,CONCATENATE(AM63,"*"))) -> .
C52: =IF(C51="0",C51,"") -> 0 | D52: =IF(D51="0",D51,"") | E52: =IF(E51="0",E51,"") | F52: =IF(F51="0",F51,"") | G52: =IF(G51="0",G51,"") | H52: =IF(H51="0",H51,"WE") -> WE | I52: =IF(I51="0",I51,"WE") -> WE | J52: =IF(J51="0",J51,"") | K52: =IF(K51="0",K51,"") | L52: =IF(L51="0",L51,"") | M52: =IF(M51="0",M51,"") | N52: =IF(N51="0",N51,"") | O52: =IF(O51="0",O51,"WE") -> WE | P52: =IF(P51="0",P51,"WE") -> WE | Q52: =IF(Q51="0",Q51,"") | R52: =IF(R51="0",R51,"") | S52: =IF(S51="0",S51,"") | T52: =IF(T51="0",T51,"") | U52: =IF(U51="0",U51,"") | V52: =IF(V51="0",V51,"WE") -> WE | W52: =IF(W51="0",W51,"WE") -> WE | X52: =IF(X51="0",X51,"") | Y52: =IF(Y51="0",Y51,"") | Z52: =IF(Z51="0",Z51,"") | AA52: =IF(AA51="0",AA51,"") | AB52: =IF(AB51="0",AB51,"") | AC52: =IF(AC51="0",AC51,"WE") -> WE | AD52: =IF(AD51="0",AD51,"WE") -> WE | AE52: =IF(AE51="0",AE51,"") | AF52: =IF(AF51="0",AF51,"") | AG52: =IF(AG51="0",AG51,"") | AH52: =IF(AH51="0",AH51,"") | AI52: =IF(AI51="0",AI51,"") -> 0 | AJ52: =IF(AJ51="0",AJ51,"WE") -> 0 | AK52: =IF(AK51="0",AK51,"WE") -> 0 | AL52: =IF(AL51="0",AL51,"") -> 0 | AM52: =IF(AM51="0",AM51,"") -> 0 | AT52: =B66 -> Aout | AU52: =IF(C66="0",".",IF(C68="",C66,CONCATENATE(C66,"*"))) -> 1 | AV52: =IF(D66="0",".",IF(D68="",D66,CONCATENATE(D66,"*"))) -> 2 | AW52: =IF(E66="0",".",IF(E68="",E66,CONCATENATE(E66,"*"))) -> 3 | AX52: =IF(F66="0",".",IF(F68="",F66,CONCATENATE(F66,"*"))) -> 4 | AY52: =IF(G66="0",".",IF(G68="",G66,CONCATENATE(G66,"*"))) -> 5 | AZ52: =IF(H66="0",".",IF(H68="",H66,CONCATENATE(H66,"*"))) -> 6 | BA52: =IF(I66="0",".",IF(I68="",I66,CONCATENATE(I66,"*"))) -> 7 | BB52: =IF(J66="0",".",IF(J68="",J66,CONCATENATE(J66,"*"))) -> 8 | ... CE52: =IF(AM66="0",".",IF(AM68="",AM66,CONCATENATE(AM66,"*"))) -> .
C53: =IF(C51="0",C51,"") -> 0 | D53: =IF(D51="0",D51,"") | E53: =IF(E51="0",E51,"") | F53: =IF(F51="0",F51,"") | G53: =IF(G51="0",G51,"") | H53: =IF(H51="0",H51,"") | I53: =IF(I51="0",I51,"") | J53: =IF(J51="0",J51,"") | ... AM53: =IF(AM51="0",AM51,"") -> 0 | AT53: =B69 -> Septembre | AU53: =IF(C69="0",".",IF(C71="",C69,CONCATENATE(C69,"*"))) -> . | AV53: =IF(D69="0",".",IF(D71="",D69,CONCATENATE(D69,"*"))) -> . | AW53: =IF(E69="0",".",IF(E71="",E69,CONCATENATE(E69,"*"))) -> . | AX53: =IF(F69="0",".",IF(F71="",F69,CONCATENATE(F69,"*"))) -> 1 | AY53: =IF(G69="0",".",IF(G71="",G69,CONCATENATE(G69,"*"))) -> 2 | AZ53: =IF(H69="0",".",IF(H71="",H69,CONCATENATE(H69,"*"))) -> 3 | BA53: =IF(I69="0",".",IF(I71="",I69,CONCATENATE(I69,"*"))) -> 4 | BB53: =IF(J69="0",".",IF(J71="",J69,CONCATENATE(J69,"*"))) -> 5 | ... CE53: =IF(AM69="0",".",IF(AM71="",AM69,CONCATENATE(AM69,"*"))) -> .
B54: Avril | C54: 0 | D54: 0 | E54: 0 | F54: 0 | G54: =F54+1 -> 1 | H54: =G54+1 -> 2 | I54: =H54+1 -> 3 | J54: =I54+1 -> 4 | K54: =J54+1 -> 5 | L54: =K54+1 -> 6 | M54: =L54+1 -> 7 | N54: =M54+1 -> 8 | ... AJ54: =AI54+1 -> 30 | AK54: 0 | AL54: 0 | AM54: 0 | AN54: =COUNTIF(C55:AM55,"CS") -> 0 | AO54: =COUNTIF(C55:AM55,"WE")/2 -> 4.5 | AP54: =COUNTIFS(C55:AM55,"CS",C56:AM56,"Did") -> 0 | AQ54: =COUNTIFS(C55:AM55,"WE",C56:AM56,"Did")/2 -> 0 | AT54: =B72 -> Octobre | AU54: =IF(C72="0",".",IF(C74="",C72,CONCATENATE(C72,"*"))) -> . | AV54: =IF(D72="0",".",IF(D74="",D72,CONCATENATE(D72,"*"))) -> . | AW54: =IF(E72="0",".",IF(E74="",E72,CONCATENATE(E72,"*"))) -> . | AX54: =IF(F72="0",".",IF(F74="",F72,CONCATENATE(F72,"*"))) -> . | AY54: =IF(G72="0",".",IF(G74="",G72,CONCATENATE(G72,"*"))) -> . | AZ54: =IF(H72="0",".",IF(H74="",H72,CONCATENATE(H72,"*"))) -> 1 | BA54: =IF(I72="0",".",IF(I74="",I72,CONCATENATE(I72,"*"))) -> 2 | BB54: =IF(J72="0",".",IF(J74="",J72,CONCATENATE(J72,"*"))) -> 3 | ... CE54: =IF(AM72="0",".",IF(AM74="",AM72,CONCATENATE(AM72,"*"))) -> .
C55: =IF(C54="0",C54,"") -> 0 | D55: =IF(D54="0",D54,"") -> 0 | E55: =IF(E54="0",E54,"") -> 0 | F55: =IF(F54="0",F54,"") -> 0 | G55: =IF(G54="0",G54,"") | H55: =IF(H54="0",H54,"WE") -> WE | I55: =IF(I54="0",I54,"WE") -> WE | J55: =IF(J54="0",J54,"") | K55: =IF(K54="0",K54,"") | L55: =IF(L54="0",L54,"") | M55: =IF(M54="0",M54,"") | N55: =IF(N54="0",N54,"") | O55: =IF(O54="0",O54,"WE") -> WE | P55: =IF(P54="0",P54,"WE") -> WE | Q55: =IF(Q54="0",Q54,"") | R55: =IF(R54="0",R54,"") | S55: =IF(S54="0",S54,"") | T55: =IF(T54="0",T54,"") | U55: =IF(U54="0",U54,"") | V55: =IF(V54="0",V54,"WE") -> WE | W55: =IF(W54="0",W54,"WE") -> WE | X55: =IF(X54="0",X54,"") | Y55: =IF(Y54="0",Y54,"") | Z55: =IF(Z54="0",Z54,"") | AA55: =IF(AA54="0",AA54,"") | AB55: =IF(AB54="0",AB54,"") | AC55: =IF(AC54="0",AC54,"WE") -> WE | AD55: =IF(AD54="0",AD54,"WE") -> WE | AE55: =IF(AE54="0",AE54,"") | AF55: =IF(AF54="0",AF54,"") | AG55: =IF(AG54="0",AG54,"") | AH55: =IF(AH54="0",AH54,"") | AI55: =IF(AI54="0",AI54,"") | AJ55: =IF(AJ54="0",AJ54,"WE") -> WE | AK55: =IF(AK54="0",AK54,"WE") -> 0 | AL55: =IF(AL54="0",AL54,"") -> 0 | AM55: =IF(AM54="0",AM54,"") -> 0 | AT55: =B75 -> Novembre | AU55: =IF(C75="0",".",IF(C77="",C75,CONCATENATE(C75,"*"))) -> . | AV55: =IF(D75="0",".",IF(D77="",D75,CONCATENATE(D75,"*"))) -> 1 | AW55: =IF(E75="0",".",IF(E77="",E75,CONCATENATE(E75,"*"))) -> 2 | AX55: =IF(F75="0",".",IF(F77="",F75,CONCATENATE(F75,"*"))) -> 3 | AY55: =IF(G75="0",".",IF(G77="",G75,CONCATENATE(G75,"*"))) -> 4 | AZ55: =IF(H75="0",".",IF(H77="",H75,CONCATENATE(H75,"*"))) -> 5 | BA55: =IF(I75="0",".",IF(I77="",I75,CONCATENATE(I75,"*"))) -> 6 | BB55: =IF(J75="0",".",IF(J77="",J75,CONCATENATE(J75,"*"))) -> 7 | ... CE55: =IF(AM75="0",".",IF(AM77="",AM75,CONCATENATE(AM75,"*"))) -> .
C56: =IF(C54="0",C54,"") -> 0 | D56: =IF(D54="0",D54,"") -> 0 | E56: =IF(E54="0",E54,"") -> 0 | F56: =IF(F54="0",F54,"") -> 0 | G56: =IF(G54="0",G54,"") | H56: =IF(H54="0",H54,"") | I56: =IF(I54="0",I54,"") | J56: =IF(J54="0",J54,"") | ... AM56: =IF(AM54="0",AM54,"") -> 0 | AT56: =B78 -> Décembre | AU56: =IF(C78="0",".",IF(C80="",C78,CONCATENATE(C78,"*"))) -> . | AV56: =IF(D78="0",".",IF(D80="",D78,CONCATENATE(D78,"*"))) -> . | AW56: =IF(E78="0",".",IF(E80="",E78,CONCATENATE(E78,"*"))) -> . | AX56: =IF(F78="0",".",IF(F80="",F78,CONCATENATE(F78,"*"))) -> 1 | AY56: =IF(G78="0",".",IF(G80="",G78,CONCATENATE(G78,"*"))) -> 2 | AZ56: =IF(H78="0",".",IF(H80="",H78,CONCATENATE(H78,"*"))) -> 3 | BA56: =IF(I78="0",".",IF(I80="",I78,CONCATENATE(I78,"*"))) -> 4 | BB56: =IF(J78="0",".",IF(J80="",J78,CONCATENATE(J78,"*"))) -> 5 | ... CE56: =IF(AM78="0",".",IF(AM80="",AM78,CONCATENATE(AM78,"*"))) -> .
B57: Mai | C57: 0 | D57: 0 | E57: 0 | F57: 0 | G57: 0 | H57: 0 | I57: =H57+1 -> 1 | J57: =I57+1 -> 2 | K57: =J57+1 -> 3 | L57: =K57+1 -> 4 | M57: =L57+1 -> 5 | N57: =M57+1 -> 6 | O57: =N57+1 -> 7 | P57: =O57+1 -> 8 | ... AM57: =AL57+1 -> 31 | AN57: =COUNTIF(C58:AM58,"CS") -> 0 | AO57: =COUNTIF(C58:AM58,"WE")/2 -> 4.5 | AP57: =COUNTIFS(C58:AM58,"CS",C59:AM59,"Did") -> 0 | AQ57: =COUNTIFS(C58:AM58,"WE",C59:AM59,"Did")/2 -> 0
C58: =IF(C57="0",C57,"") -> 0 | D58: =IF(D57="0",D57,"") -> 0 | E58: =IF(E57="0",E57,"") -> 0 | F58: =IF(F57="0",F57,"") -> 0 | G58: =IF(G57="0",G57,"") -> 0 | H58: =IF(H57="0",H57,"WE") -> 0 | I58: =IF(I57="0",I57,"WE") -> WE | J58: =IF(J57="0",J57,"") | K58: =IF(K57="0",K57,"") | L58: =IF(L57="0",L57,"") | M58: =IF(M57="0",M57,"") | N58: =IF(N57="0",N57,"") | O58: =IF(O57="0",O57,"WE") -> WE | P58: =IF(P57="0",P57,"WE") -> WE | Q58: =IF(Q57="0",Q57,"") | R58: =IF(R57="0",R57,"") | S58: =IF(S57="0",S57,"") | T58: =IF(T57="0",T57,"") | U58: =IF(U57="0",U57,"") | V58: =IF(V57="0",V57,"WE") -> WE | W58: =IF(W57="0",W57,"WE") -> WE | X58: =IF(X57="0",X57,"") | Y58: =IF(Y57="0",Y57,"") | Z58: =IF(Z57="0",Z57,"") | AA58: =IF(AA57="0",AA57,"") | AB58: =IF(AB57="0",AB57,"") | AC58: =IF(AC57="0",AC57,"WE") -> WE | AD58: =IF(AD57="0",AD57,"WE") -> WE | AE58: =IF(AE57="0",AE57,"") | AF58: =IF(AF57="0",AF57,"") | AG58: =IF(AG57="0",AG57,"") | AH58: =IF(AH57="0",AH57,"") | AI58: =IF(AI57="0",AI57,"") | AJ58: =IF(AJ57="0",AJ57,"WE") -> WE | AK58: =IF(AK57="0",AK57,"WE") -> WE | AL58: =IF(AL57="0",AL57,"") | AM58: =IF(AM57="0",AM57,"") | AT58: Attention, mettre '0 dans les jours non utilisé du calendrier de gauche et copier/coller(juste le contenu) le calendrier de droite dans le principal,
C59: =IF(C57="0",C57,"") -> 0 | D59: =IF(D57="0",D57,"") -> 0 | E59: =IF(E57="0",E57,"") -> 0 | F59: =IF(F57="0",F57,"") -> 0 | G59: =IF(G57="0",G57,"") -> 0 | H59: =IF(H57="0",H57,"") -> 0 | I59: =IF(I57="0",I57,"") | J59: =IF(J57="0",J57,"") | ... AM59: =IF(AM57="0",AM57,"")
B60: Juin | C60: 0 | D60: 0 | E60: =D60+1 -> 1 | F60: =E60+1 -> 2 | G60: =F60+1 -> 3 | H60: =G60+1 -> 4 | I60: =H60+1 -> 5 | J60: =I60+1 -> 6 | K60: =J60+1 -> 7 | L60: =K60+1 -> 8 | ... AH60: =AG60+1 -> 30 | AI60: 0 | AJ60: 0 | AK60: 0 | AL60: 0 | AM60: 0 | AN60: =COUNTIF(C61:AM61,"CS") -> 0 | AO60: =COUNTIF(C61:AM61,"WE")/2 -> 4 | AP60: =COUNTIFS(C61:AM61,"CS",C62:AM62,"Did") -> 0 | AQ60: =COUNTIFS(C61:AM61,"WE",C62:AM62,"Did")/2 -> 0
C61: =IF(C60="0",C60,"") -> 0 | D61: =IF(D60="0",D60,"") -> 0 | E61: =IF(E60="0",E60,"") | F61: =IF(F60="0",F60,"") | G61: =IF(G60="0",G60,"") | H61: =IF(H60="0",H60,"WE") -> WE | I61: =IF(I60="0",I60,"WE") -> WE | J61: =IF(J60="0",J60,"") | K61: =IF(K60="0",K60,"") | L61: =IF(L60="0",L60,"") | M61: =IF(M60="0",M60,"") | N61: =IF(N60="0",N60,"") | O61: =IF(O60="0",O60,"WE") -> WE | P61: =IF(P60="0",P60,"WE") -> WE | Q61: =IF(Q60="0",Q60,"") | R61: =IF(R60="0",R60,"") | S61: =IF(S60="0",S60,"") | T61: =IF(T60="0",T60,"") | U61: =IF(U60="0",U60,"") | V61: =IF(V60="0",V60,"WE") -> WE | W61: =IF(W60="0",W60,"WE") -> WE | X61: =IF(X60="0",X60,"") | Y61: =IF(Y60="0",Y60,"") | Z61: =IF(Z60="0",Z60,"") | AA61: =IF(AA60="0",AA60,"") | AB61: =IF(AB60="0",AB60,"") | AC61: =IF(AC60="0",AC60,"WE") -> WE | AD61: =IF(AD60="0",AD60,"WE") -> WE | AE61: =IF(AE60="0",AE60,"") | AF61: =IF(AF60="0",AF60,"") | AG61: =IF(AG60="0",AG60,"") | AH61: =IF(AH60="0",AH60,"") | AI61: =IF(AI60="0",AI60,"") -> 0 | AJ61: =IF(AJ60="0",AJ60,"WE") -> 0 | AK61: =IF(AK60="0",AK60,"WE") -> 0 | AL61: =IF(AL60="0",AL60,"") -> 0 | AM61: =IF(AM60="0",AM60,"") -> 0
C62: =IF(C60="0",C60,"") -> 0 | D62: =IF(D60="0",D60,"") -> 0 | E62: =IF(E60="0",E60,"") | F62: =IF(F60="0",F60,"") | G62: =IF(G60="0",G60,"") | H62: =IF(H60="0",H60,"") | I62: =IF(I60="0",I60,"") | J62: =IF(J60="0",J60,"") | ... AM62: =IF(AM60="0",AM60,"") -> 0
B63: Juillet | C63: 0 | D63: 0 | E63: 0 | F63: 0 | G63: =F63+1 -> 1 | H63: =G63+1 -> 2 | I63: =H63+1 -> 3 | J63: =I63+1 -> 4 | K63: =J63+1 -> 5 | L63: =K63+1 -> 6 | M63: =L63+1 -> 7 | N63: =M63+1 -> 8 | ... AK63: =AJ63+1 -> 31 | AL63: 0 | AM63: 0 | AN63: =COUNTIF(C64:AM64,"CS") -> 0 | AO63: =COUNTIF(C64:AM64,"WE")/2 -> 5 | AP63: =COUNTIFS(C64:AM64,"CS",C65:AM65,"Did") -> 0 | AQ63: =COUNTIFS(C64:AM64,"WE",C65:AM65,"Did")/2 -> 0
C64: =IF(C63="0",C63,"") -> 0 | D64: =IF(D63="0",D63,"") -> 0 | E64: =IF(E63="0",E63,"") -> 0 | F64: =IF(F63="0",F63,"") -> 0 | G64: =IF(G63="0",G63,"") | H64: =IF(H63="0",H63,"WE") -> WE | I64: =IF(I63="0",I63,"WE") -> WE | J64: =IF(J63="0",J63,"") | K64: =IF(K63="0",K63,"") | L64: =IF(L63="0",L63,"") | M64: =IF(M63="0",M63,"") | N64: =IF(N63="0",N63,"") | O64: =IF(O63="0",O63,"WE") -> WE | P64: =IF(P63="0",P63,"WE") -> WE | Q64: =IF(Q63="0",Q63,"") | R64: =IF(R63="0",R63,"") | S64: =IF(S63="0",S63,"") | T64: =IF(T63="0",T63,"") | U64: =IF(U63="0",U63,"") | V64: =IF(V63="0",V63,"WE") -> WE | W64: =IF(W63="0",W63,"WE") -> WE | X64: =IF(X63="0",X63,"") | Y64: =IF(Y63="0",Y63,"") | Z64: =IF(Z63="0",Z63,"") | AA64: =IF(AA63="0",AA63,"") | AB64: =IF(AB63="0",AB63,"") | AC64: =IF(AC63="0",AC63,"WE") -> WE | AD64: =IF(AD63="0",AD63,"WE") -> WE | AE64: =IF(AE63="0",AE63,"") | AF64: =IF(AF63="0",AF63,"") | AG64: =IF(AG63="0",AG63,"") | AH64: =IF(AH63="0",AH63,"") | AI64: =IF(AI63="0",AI63,"") | AJ64: =IF(AJ63="0",AJ63,"WE") -> WE | AK64: =IF(AK63="0",AK63,"WE") -> WE | AL64: =IF(AL63="0",AL63,"") -> 0 | AM64: =IF(AM63="0",AM63,"") -> 0
C65: =IF(C63="0",C63,"") -> 0 | D65: =IF(D63="0",D63,"") -> 0 | E65: =IF(E63="0",E63,"") -> 0 | F65: =IF(F63="0",F63,"") -> 0 | G65: =IF(G63="0",G63,"") | H65: =IF(H63="0",H63,"") | I65: =IF(I63="0",I63,"") | J65: =IF(J63="0",J63,"") | ... AM65: =IF(AM63="0",AM63,"") -> 0
B66: Aout | C66: 1 | D66: =C66+1 -> 2 | E66: =D66+1 -> 3 | F66: =E66+1 -> 4 | G66: =F66+1 -> 5 | H66: =G66+1 -> 6 | I66: =H66+1 -> 7 | J66: =I66+1 -> 8 | K66: =J66+1 -> 9 | ... AG66: =AF66+1 -> 31 | AH66: 0 | AI66: 0 | AJ66: 0 | AK66: 0 | AL66: 0 | AM66: 0 | AN66: =COUNTIF(C67:AM67,"CS") -> 0 | AO66: =COUNTIF(C67:AM67,"WE")/2 -> 4 | AP66: =COUNTIFS(C67:AM67,"CS",C68:AM68,"Did") -> 0 | AQ66: =COUNTIFS(C67:AM67,"WE",C68:AM68,"Did")/2 -> 0
C67: =IF(C66="0",C66,"") | D67: =IF(D66="0",D66,"") | E67: =IF(E66="0",E66,"") | F67: =IF(F66="0",F66,"") | G67: =IF(G66="0",G66,"") | H67: =IF(H66="0",H66,"WE") -> WE | I67: =IF(I66="0",I66,"WE") -> WE | J67: =IF(J66="0",J66,"") | K67: =IF(K66="0",K66,"") | L67: =IF(L66="0",L66,"") | M67: =IF(M66="0",M66,"") | N67: =IF(N66="0",N66,"") | O67: =IF(O66="0",O66,"WE") -> WE | P67: =IF(P66="0",P66,"WE") -> WE | Q67: =IF(Q66="0",Q66,"") | R67: =IF(R66="0",R66,"") | S67: =IF(S66="0",S66,"") | T67: =IF(T66="0",T66,"") | U67: =IF(U66="0",U66,"") | V67: =IF(V66="0",V66,"WE") -> WE | W67: =IF(W66="0",W66,"WE") -> WE | X67: =IF(X66="0",X66,"") | Y67: =IF(Y66="0",Y66,"") | Z67: =IF(Z66="0",Z66,"") | AA67: =IF(AA66="0",AA66,"") | AB67: =IF(AB66="0",AB66,"") | AC67: =IF(AC66="0",AC66,"WE") -> WE | AD67: =IF(AD66="0",AD66,"WE") -> WE | AE67: =IF(AE66="0",AE66,"") | AF67: =IF(AF66="0",AF66,"") | AG67: =IF(AG66="0",AG66,"") | AH67: =IF(AH66="0",AH66,"") -> 0 | AI67: =IF(AI66="0",AI66,"") -> 0 | AJ67: =IF(AJ66="0",AJ66,"WE") -> 0 | AK67: =IF(AK66="0",AK66,"WE") -> 0 | AL67: =IF(AL66="0",AL66,"") -> 0 | AM67: =IF(AM66="0",AM66,"") -> 0
C68: =IF(C66="0",C66,"") | D68: =IF(D66="0",D66,"") | E68: =IF(E66="0",E66,"") | F68: =IF(F66="0",F66,"") | G68: =IF(G66="0",G66,"") | H68: =IF(H66="0",H66,"") | I68: =IF(I66="0",I66,"") | J68: =IF(J66="0",J66,"") | ... AM68: =IF(AM66="0",AM66,"") -> 0
B69: Septembre | C69: 0 | D69: 0 | E69: 0 | F69: =E69+1 -> 1 | G69: =F69+1 -> 2 | H69: =G69+1 -> 3 | I69: =H69+1 -> 4 | J69: =I69+1 -> 5 | K69: =J69+1 -> 6 | L69: =K69+1 -> 7 | M69: =L69+1 -> 8 | ... AI69: =AH69+1 -> 30 | AJ69: 0 | AK69: 0 | AL69: 0 | AM69: 0 | AN69: =COUNTIF(C70:AM70,"CS") -> 0 | AO69: =COUNTIF(C70:AM70,"WE")/2 -> 4 | AP69: =COUNTIFS(C70:AM70,"CS",C71:AM71,"Did") -> 0 | AQ69: =COUNTIFS(C70:AM70,"WE",C71:AM71,"Did")/2 -> 0
C70: =IF(C69="0",C69,"") -> 0 | D70: =IF(D69="0",D69,"") -> 0 | E70: =IF(E69="0",E69,"") -> 0 | F70: =IF(F69="0",F69,"") | G70: =IF(G69="0",G69,"") | H70: =IF(H69="0",H69,"WE") -> WE | I70: =IF(I69="0",I69,"WE") -> WE | J70: =IF(J69="0",J69,"") | K70: =IF(K69="0",K69,"") | L70: =IF(L69="0",L69,"") | M70: =IF(M69="0",M69,"") | N70: =IF(N69="0",N69,"") | O70: =IF(O69="0",O69,"WE") -> WE | P70: =IF(P69="0",P69,"WE") -> WE | Q70: =IF(Q69="0",Q69,"") | R70: =IF(R69="0",R69,"") | S70: =IF(S69="0",S69,"") | T70: =IF(T69="0",T69,"") | U70: =IF(U69="0",U69,"") | V70: =IF(V69="0",V69,"WE") -> WE | W70: =IF(W69="0",W69,"WE") -> WE | X70: =IF(X69="0",X69,"") | Y70: =IF(Y69="0",Y69,"") | Z70: =IF(Z69="0",Z69,"") | AA70: =IF(AA69="0",AA69,"") | AB70: =IF(AB69="0",AB69,"") | AC70: =IF(AC69="0",AC69,"WE") -> WE | AD70: =IF(AD69="0",AD69,"WE") -> WE | AE70: =IF(AE69="0",AE69,"") | AF70: =IF(AF69="0",AF69,"") | AG70: =IF(AG69="0",AG69,"") | AH70: =IF(AH69="0",AH69,"") | AI70: =IF(AI69="0",AI69,"") | AJ70: =IF(AJ69="0",AJ69,"WE") -> 0 | AK70: =IF(AK69="0",AK69,"WE") -> 0 | AL70: =IF(AL69="0",AL69,"") -> 0 | AM70: =IF(AM69="0",AM69,"") -> 0
C71: =IF(C69="0",C69,"") -> 0 | D71: =IF(D69="0",D69,"") -> 0 | E71: =IF(E69="0",E69,"") -> 0 | F71: =IF(F69="0",F69,"") | G71: =IF(G69="0",G69,"") | H71: =IF(H69="0",H69,"") | I71: =IF(I69="0",I69,"") | J71: =IF(J69="0",J69,"") | ... AM71: =IF(AM69="0",AM69,"") -> 0
B72: Octobre | C72: 0 | D72: 0 | E72: 0 | F72: 0 | G72: 0 | H72: =G72+1 -> 1 | I72: =H72+1 -> 2 | J72: =I72+1 -> 3 | K72: =J72+1 -> 4 | L72: =K72+1 -> 5 | M72: =L72+1 -> 6 | N72: =M72+1 -> 7 | O72: =N72+1 -> 8 | ... AL72: =AK72+1 -> 31 | AM72: 0 | AN72: =COUNTIF(C73:AM73,"CS") -> 0 | AO72: =COUNTIF(C73:AM73,"WE")/2 -> 5 | AP72: =COUNTIFS(C73:AM73,"CS",C74:AM74,"Did") -> 0 | AQ72: =COUNTIFS(C73:AM73,"WE",C74:AM74,"Did")/2 -> 0
C73: =IF(C72="0",C72,"") -> 0 | D73: =IF(D72="0",D72,"") -> 0 | E73: =IF(E72="0",E72,"") -> 0 | F73: =IF(F72="0",F72,"") -> 0 | G73: =IF(G72="0",G72,"") -> 0 | H73: =IF(H72="0",H72,"WE") -> WE | I73: =IF(I72="0",I72,"WE") -> WE | J73: =IF(J72="0",J72,"") | K73: =IF(K72="0",K72,"") | L73: =IF(L72="0",L72,"") | M73: =IF(M72="0",M72,"") | N73: =IF(N72="0",N72,"") | O73: =IF(O72="0",O72,"WE") -> WE | P73: =IF(P72="0",P72,"WE") -> WE | Q73: =IF(Q72="0",Q72,"") | R73: =IF(R72="0",R72,"") | S73: =IF(S72="0",S72,"") | T73: =IF(T72="0",T72,"") | U73: =IF(U72="0",U72,"") | V73: =IF(V72="0",V72,"WE") -> WE | W73: =IF(W72="0",W72,"WE") -> WE | X73: =IF(X72="0",X72,"") | Y73: =IF(Y72="0",Y72,"") | Z73: =IF(Z72="0",Z72,"") | AA73: =IF(AA72="0",AA72,"") | AB73: =IF(AB72="0",AB72,"") | AC73: =IF(AC72="0",AC72,"WE") -> WE | AD73: =IF(AD72="0",AD72,"WE") -> WE | AE73: =IF(AE72="0",AE72,"") | AF73: =IF(AF72="0",AF72,"") | AG73: =IF(AG72="0",AG72,"") | AH73: =IF(AH72="0",AH72,"") | AI73: =IF(AI72="0",AI72,"") | AJ73: =IF(AJ72="0",AJ72,"WE") -> WE | AK73: =IF(AK72="0",AK72,"WE") -> WE | AL73: =IF(AL72="0",AL72,"") | AM73: =IF(AM72="0",AM72,"") -> 0
C74: =IF(C72="0",C72,"") -> 0 | D74: =IF(D72="0",D72,"") -> 0 | E74: =IF(E72="0",E72,"") -> 0 | F74: =IF(F72="0",F72,"") -> 0 | G74: =IF(G72="0",G72,"") -> 0 | H74: =IF(H72="0",H72,"") | I74: =IF(I72="0",I72,"") | J74: =IF(J72="0",J72,"") | ... AM74: =IF(AM72="0",AM72,"") -> 0
B75: Novembre | C75: 0 | D75: =C75+1 -> 1 | E75: =D75+1 -> 2 | F75: =E75+1 -> 3 | G75: =F75+1 -> 4 | H75: =G75+1 -> 5 | I75: =H75+1 -> 6 | J75: =I75+1 -> 7 | K75: =J75+1 -> 8 | ... AG75: =AF75+1 -> 30 | AH75: 0 | AI75: 0 | AJ75: 0 | AK75: 0 | AL75: 0 | AM75: 0 | AN75: =COUNTIF(C76:AM76,"CS") -> 0 | AO75: =COUNTIF(C76:AM76,"WE")/2 -> 4 | AP75: =COUNTIFS(C76:AM76,"CS",C77:AM77,"Did") -> 0 | AQ75: =COUNTIFS(C76:AM76,"WE",C77:AM77,"Did")/2 -> 0
C76: =IF(C75="0",C75,"") -> 0 | D76: =IF(D75="0",D75,"") | E76: =IF(E75="0",E75,"") | F76: =IF(F75="0",F75,"") | G76: =IF(G75="0",G75,"") | H76: =IF(H75="0",H75,"WE") -> WE | I76: =IF(I75="0",I75,"WE") -> WE | J76: =IF(J75="0",J75,"") | K76: =IF(K75="0",K75,"") | L76: =IF(L75="0",L75,"") | M76: =IF(M75="0",M75,"") | N76: =IF(N75="0",N75,"") | O76: =IF(O75="0",O75,"WE") -> WE | P76: =IF(P75="0",P75,"WE") -> WE | Q76: =IF(Q75="0",Q75,"") | R76: =IF(R75="0",R75,"") | S76: =IF(S75="0",S75,"") | T76: =IF(T75="0",T75,"") | U76: =IF(U75="0",U75,"") | V76: =IF(V75="0",V75,"WE") -> WE | W76: =IF(W75="0",W75,"WE") -> WE | X76: =IF(X75="0",X75,"") | Y76: =IF(Y75="0",Y75,"") | Z76: =IF(Z75="0",Z75,"") | AA76: =IF(AA75="0",AA75,"") | AB76: =IF(AB75="0",AB75,"") | AC76: =IF(AC75="0",AC75,"WE") -> WE | AD76: =IF(AD75="0",AD75,"WE") -> WE | AE76: =IF(AE75="0",AE75,"") | AF76: =IF(AF75="0",AF75,"") | AG76: =IF(AG75="0",AG75,"") | AH76: =IF(AH75="0",AH75,"") -> 0 | AI76: =IF(AI75="0",AI75,"") -> 0 | AJ76: =IF(AJ75="0",AJ75,"WE") -> 0 | AK76: =IF(AK75="0",AK75,"WE") -> 0 | AL76: =IF(AL75="0",AL75,"") -> 0 | AM76: =IF(AM75="0",AM75,"") -> 0
C77: =IF(C75="0",C75,"") -> 0 | D77: =IF(D75="0",D75,"") | E77: =IF(E75="0",E75,"") | F77: =IF(F75="0",F75,"") | G77: =IF(G75="0",G75,"") | H77: =IF(H75="0",H75,"") | I77: =IF(I75="0",I75,"") | J77: =IF(J75="0",J75,"") | ... AM77: =IF(AM75="0",AM75,"") -> 0
B78: Décembre | C78: 0 | D78: 0 | E78: 0 | F78: =E78+1 -> 1 | G78: =F78+1 -> 2 | H78: =G78+1 -> 3 | I78: =H78+1 -> 4 | J78: =I78+1 -> 5 | K78: =J78+1 -> 6 | L78: =K78+1 -> 7 | M78: =L78+1 -> 8 | ... AJ78: =AI78+1 -> 31 | AK78: 0 | AL78: 0 | AM78: 0 | AN78: =COUNTIF(C79:AM79,"CS") -> 0 | AO78: =COUNTIF(C79:AM79,"WE")/2 -> 4.5 | AP78: =COUNTIFS(C79:AM79,"CS",C80:AM80,"Did") -> 0 | AQ78: =COUNTIFS(C79:AM79,"WE",C80:AM80,"Did")/2 -> 0
C79: =IF(C78="0",C78,"") -> 0 | D79: =IF(D78="0",D78,"") -> 0 | E79: =IF(E78="0",E78,"") -> 0 | F79: =IF(F78="0",F78,"") | G79: =IF(G78="0",G78,"") | H79: =IF(H78="0",H78,"WE") -> WE | I79: =IF(I78="0",I78,"WE") -> WE | J79: =IF(J78="0",J78,"") | K79: =IF(K78="0",K78,"") | L79: =IF(L78="0",L78,"") | M79: =IF(M78="0",M78,"") | N79: =IF(N78="0",N78,"") | O79: =IF(O78="0",O78,"WE") -> WE | P79: =IF(P78="0",P78,"WE") -> WE | Q79: =IF(Q78="0",Q78,"") | R79: =IF(R78="0",R78,"") | S79: =IF(S78="0",S78,"") | T79: =IF(T78="0",T78,"") | U79: =IF(U78="0",U78,"") | V79: =IF(V78="0",V78,"WE") -> WE | W79: =IF(W78="0",W78,"WE") -> WE | X79: =IF(X78="0",X78,"") | Y79: =IF(Y78="0",Y78,"") | Z79: =IF(Z78="0",Z78,"") | AA79: =IF(AA78="0",AA78,"") | AB79: =IF(AB78="0",AB78,"") | AC79: =IF(AC78="0",AC78,"WE") -> WE | AD79: =IF(AD78="0",AD78,"WE") -> WE | AE79: =IF(AE78="0",AE78,"") | AF79: =IF(AF78="0",AF78,"") | AG79: =IF(AG78="0",AG78,"") | AH79: =IF(AH78="0",AH78,"") | AI79: =IF(AI78="0",AI78,"") | AJ79: =IF(AJ78="0",AJ78,"WE") -> WE | AK79: =IF(AK78="0",AK78,"WE") -> 0 | AL79: =IF(AL78="0",AL78,"") -> 0 | AM79: =IF(AM78="0",AM78,"") -> 0
C80: =IF(C78="0",C78,"") -> 0 | D80: =IF(D78="0",D78,"") -> 0 | E80: =IF(E78="0",E78,"") -> 0 | F80: =IF(F78="0",F78,"") | G80: =IF(G78="0",G78,"") | H80: =IF(H78="0",H78,"") | I80: =IF(I78="0",I78,"") | J80: =IF(J78="0",J78,"") | ... AM80: =IF(AM78="0",AM78,"") -> 0
AK81: Total | AN81: =SUM(AN45:AN80) -> 5 | AO81: =SUM(AO45:AO80) -> 52.5 | AP81: =SUM(AP45:AP80) -> 5 | AQ81: =SUM(AQ45:AQ80) -> 1
AP82: =AP81/AN81 -> 1 | AQ82: =AQ81/AO81 -> 0.019047619
B85: Blanco | AT85: =B85 -> Blanco
C86: Lundi | D86: Mardi | E86: Mercredi | F86: Jeudi | G86: Vendredi | H86: Samedi | I86: Dimanche | J86: Lundi | K86: Mardi | L86: Mercredi | M86: Jeudi | N86: Vendredi | O86: Samedi | P86: Dimanche | Q86: Lundi | R86: Mardi | S86: Mercredi | T86: Jeudi | U86: Vendredi | V86: Samedi | W86: Dimanche | X86: Lundi | Y86: Mardi | Z86: Mercredi | AA86: Jeudi | AB86: Vendredi | AC86: Samedi | AD86: Dimanche | AE86: Lundi | AF86: Mardi | AG86: Mercredi | AH86: Jeudi | AI86: Vendredi | AJ86: Samedi | AK86: Dimanche | AL86: Lundi | AM86: Mardi | AN86: Congé scolaire | AO86: Week-end | AP86: Enfants CS | AQ86: Enfant WE | AU86: =LEFT(C86,2) -> Lu | AV86: =LEFT(D86,2) -> Ma | AW86: =LEFT(E86,2) -> Me | AX86: =LEFT(F86,2) -> Je | AY86: =LEFT(G86,2) -> Ve | AZ86: =LEFT(H86,2) -> Sa | BA86: =LEFT(I86,2) -> Di | BB86: =LEFT(J86,2) -> Lu | ... CE86: =LEFT(AM86,2) -> Ma
B87: Janvier | C87: 1 | D87: =C87+1 -> 2 | E87: =D87+1 -> 3 | F87: =E87+1 -> 4 | G87: =F87+1 -> 5 | H87: =G87+1 -> 6 | I87: =H87+1 -> 7 | J87: =I87+1 -> 8 | K87: =J87+1 -> 9 | ... AM87: =AL87+1 -> 37 | AN87: =COUNTIF(C88:AM88,"CS") -> 0 | AO87: =COUNTIF(C88:AM88,"WE")/2 -> 5 | AP87: =COUNTIFS(C88:AM88,"CS",C89:AM89,"Did") -> 0 | AQ87: =COUNTIFS(C88:AM88,"WE",C89:AM89,"Did")/2 -> 0 | AT87: =B87 -> Janvier | AU87: =IF(C87="0",".",IF(C89="",C87,CONCATENATE(C87,"*"))) -> 1 | AV87: =IF(D87="0",".",IF(D89="",D87,CONCATENATE(D87,"*"))) -> 2 | AW87: =IF(E87="0",".",IF(E89="",E87,CONCATENATE(E87,"*"))) -> 3 | AX87: =IF(F87="0",".",IF(F89="",F87,CONCATENATE(F87,"*"))) -> 4 | AY87: =IF(G87="0",".",IF(G89="",G87,CONCATENATE(G87,"*"))) -> 5 | AZ87: =IF(H87="0",".",IF(H89="",H87,CONCATENATE(H87,"*"))) -> 6 | BA87: =IF(I87="0",".",IF(I89="",I87,CONCATENATE(I87,"*"))) -> 7 | BB87: =IF(J87="0",".",IF(J89="",J87,CONCATENATE(J87,"*"))) -> 8 | ... CE87: =IF(AM87="0",".",IF(AM89="",AM87,CONCATENATE(AM87,"*"))) -> 37
