Workbook
Name d.comptes: t_Comptes[CODES]
Name d.comptes: t_Comptes[CODES]
Name d.comptes: t_Comptes[CODES]
Name d.comptes: t_Comptes[CODES]
Name d.comptes: t_Comptes[CODES]
Name d.comptes: t_Comptes[CODES]
Name d.comptes: t_Comptes[CODES]
Name d.comptes: t_Comptes[CODES]
Name d.comptes: t_Comptes[CODES]
Name d.comptes: t_Comptes[CODES]
Name d.comptes: t_Comptes[CODES]
Name d.comptes: t_Comptes[CODES]
Name d.comptes: t_Comptes[CODES]
Name d.comptes: t_Comptes[CODES]

Sheet Novembre 2021
B2: Mois de : | C2: =MID(CELL("filename",A1),FIND("]",CELL("filename",A1))+1,32) -> Novembre 2021
A4: DATES | B4: CODES | C4: LIBELLES | D4: Désignations | E4: T R E S O R E R I E | J4: PRODUITS | M4: CHARGES
E5: BANQUE | G5: CAISSE | I5: cotisations | J5: subventions | K5: dons | L5: Divers | M5: Fourn. admin. | N5: Frais postaux | O5: Déplacements | P5: Assurances | Q5: Achats matériels | R5: Locations | S5: Frais divers
E6: 753.59 | G6: 40
A7: 44529 | B7: =IFERROR(INDEX(t_Comptes[LIBELLES],MATCH(C7,t_Comptes[CODES],0)),"") -> 7443 | C7: Subvention Mairie | D7: Subvention Mairie | E7: 450 | J7: 450
A8: 44529 | B8: =IFERROR(INDEX(t_Comptes[LIBELLES],MATCH(C8,t_Comptes[CODES],0)),"") -> 7443 | C8: Subvention Mairie | D8: Subvention 2020 | E8: 170 | J8: 170
A9: 44530 | B9: =IFERROR(INDEX(t_Comptes[LIBELLES],MATCH(C9,t_Comptes[CODES],0)),"") -> 6064 | C9: Fournitures administratives | D9: CARREFOUR | H9: 11 | M9: 11
B10: =IFERROR(INDEX(t_Comptes[LIBELLES],MATCH(C10,t_Comptes[CODES],0)),"")
B11: =IFERROR(INDEX(t_Comptes[LIBELLES],MATCH(C11,t_Comptes[CODES],0)),"")
B12: =IFERROR(INDEX(t_Comptes[LIBELLES],MATCH(C12,t_Comptes[CODES],0)),"")
B13: =IFERROR(INDEX(t_Comptes[LIBELLES],MATCH(C13,t_Comptes[CODES],0)),"")
B14: =IFERROR(INDEX(t_Comptes[LIBELLES],MATCH(C14,t_Comptes[CODES],0)),"")
B15: =IFERROR(INDEX(t_Comptes[LIBELLES],MATCH(C15,t_Comptes[CODES],0)),"")
B16: =IFERROR(INDEX(t_Comptes[LIBELLES],MATCH(C16,t_Comptes[CODES],0)),"")
B17: =IFERROR(INDEX(t_Comptes[LIBELLES],MATCH(C17,t_Comptes[CODES],0)),"")
B18: =IFERROR(INDEX(t_Comptes[LIBELLES],MATCH(C18,t_Comptes[CODES],0)),"")
B19: =IFERROR(INDEX(t_Comptes[LIBELLES],MATCH(C19,t_Comptes[CODES],0)),"")
B20: =IFERROR(INDEX(t_Comptes[LIBELLES],MATCH(C20,t_Comptes[CODES],0)),"")
B21: =IFERROR(INDEX(t_Comptes[LIBELLES],MATCH(C21,t_Comptes[CODES],0)),"")
... B31: =IFERROR(INDEX(t_Comptes[LIBELLES],MATCH(C31,t_Comptes[CODES],0)),"")
D32: SOLDE FIN DE PERIODE | E32: =SUM(E7:E31) -> 620 | F32: =SUM(F7:F31) -> 0 | G32: =SUM(G7:G31) -> 0 | H32: =SUM(H7:H31) -> 11
D33: TOTAUX | E33: =E6+E32-F32 -> 1373.59 | G33: =G6+G32-H32 -> 29 | I33: =SUM(I7:I31) -> 0 | J33: =SUM(J7:J31) -> 620 | K33: =SUM(K7:K31) -> 0 | L33: =SUM(L7:L31) -> 0 | M33: =SUM(M7:M31) -> 11 | N33: =SUM(N7:N31) -> 0 | O33: =SUM(O7:O31) -> 0 | P33: =SUM(P7:P31) -> 0 | ... W33: =SUM(W7:W31) -> 0

Sheet Décembre 2021
B2: Mois de : | C2: =MID(CELL("filename",A1),FIND("]",CELL("filename",A1))+1,32) -> Décembre 2021
A4: DATES | B4: CODES | C4: LIBELLES | D4: Désignations | E4: T R E S O R E R I E | J4: PRODUITS | M4: CHARGES
E5: BANQUE | G5: CAISSE | I5: Cotisations | J5: Subventions | K5: Dons | L5: Divers | M5: Fourn. admin. | N5: Frais postaux | O5: Déplacements | P5: Assurances | Q5: Achats matériels | R5: Locations | S5: Frais divers
E6: ='Novembre 2021'!E33:F33 -> 1373.59 | G6: ='Novembre 2021'!G33:H33 -> 29
A7: 44532 | B7: =IFERROR(INDEX(t_Comptes[LIBELLES],MATCH(C7,t_Comptes[CODES],0)),"") -> 6270 | C7: Frais bancaires | D7: Mise en opposition | S7: 11
A8: 44532 | B8: =IFERROR(INDEX(t_Comptes[LIBELLES],MATCH(C8,t_Comptes[CODES],0)),"") -> 7510 | C8: Dons | D8: Publicité | E8: 300 | K8: 300
A9: 44535 | B9: =IFERROR(INDEX(t_Comptes[LIBELLES],MATCH(C9,t_Comptes[CODES],0)),"") -> 6050 | C9: Achats matériels Club | D9: Achat | Q9: 528.36
A10: 44531 | B10: =IFERROR(INDEX(t_Comptes[LIBELLES],MATCH(C10,t_Comptes[CODES],0)),"") -> 7560 | C10: Licences - Cartes | D10: Licences adhérents club | E10: 660 | G10: 40 | I10: 740
B11: =IFERROR(INDEX(t_Comptes[LIBELLES],MATCH(C11,t_Comptes[CODES],0)),"")
B12: =IFERROR(INDEX(t_Comptes[LIBELLES],MATCH(C12,t_Comptes[CODES],0)),"")
B13: =IFERROR(INDEX(t_Comptes[LIBELLES],MATCH(C13,t_Comptes[CODES],0)),"")
B14: =IFERROR(INDEX(t_Comptes[LIBELLES],MATCH(C14,t_Comptes[CODES],0)),"")
B15: =IFERROR(INDEX(t_Comptes[LIBELLES],MATCH(C15,t_Comptes[CODES],0)),"")
B16: =IFERROR(INDEX(t_Comptes[LIBELLES],MATCH(C16,t_Comptes[CODES],0)),"")
B17: =IFERROR(INDEX(t_Comptes[LIBELLES],MATCH(C17,t_Comptes[CODES],0)),"")
B18: =IFERROR(INDEX(t_Comptes[LIBELLES],MATCH(C18,t_Comptes[CODES],0)),"")
B19: =IFERROR(INDEX(t_Comptes[LIBELLES],MATCH(C19,t_Comptes[CODES],0)),"")
B20: =IFERROR(INDEX(t_Comptes[LIBELLES],MATCH(C20,t_Comptes[CODES],0)),"")
B21: =IFERROR(INDEX(t_Comptes[LIBELLES],MATCH(C21,t_Comptes[CODES],0)),"")
B22: =IFERROR(INDEX(t_Comptes[LIBELLES],MATCH(C22,t_Comptes[CODES],0)),"")
... B37: =IFERROR(INDEX(t_Comptes[LIBELLES],MATCH(C37,t_Comptes[CODES],0)),"")
D38: SOLDE FIN DE PERIODE | E38: =SUM(E7:E37) -> 960 | F38: =SUM(F7:F37) -> 0 | G38: =SUM(G7:G37) -> 40 | H38: =SUM(H7:H37) -> 0
D39: TOTAUX | E39: =E6+E38+G38-H38-F38 -> 2373.59 | G39: =G6+G38-H38 -> 69 | I39: =SUM(I7:I37) -> 740 | J39: =SUM(J7:J37) -> 0 | K39: =SUM(K7:K37) -> 300 | L39: =SUM(L7:L37) -> 0 | M39: =SUM(M7:M37) -> 0 | N39: =SUM(N7:N37) -> 0 | O39: =SUM(O7:O37) -> 0 | P39: =SUM(P7:P37) -> 0 | ... W39: =SUM(W7:W37) -> 0

Sheet Janvier 2022
B2: Mois de : | C2: =MID(CELL("filename",A1),FIND("]",CELL("filename",A1))+1,32) -> Janvier 2022
A4: DATES | B4: CODES | C4: LIBELLES | D4: Désignations | E4: T R E S O R E R I E | J4: PRODUITS | M4: CHARGES
E5: BANQUE | G5: CAISSE | I5: Cotisations | J5: Subventions | K5: Dons | L5: Divers | M5: Fourn. admin. | N5: Frais postaux | O5: Déplacements | P5: Assurances | Q5: Achats matériels | R5: Locations | S5: Frais divers
E6: ='Décembre 2021'!E39:F39 -> 2373.59
B7: =IFERROR(INDEX(t_Comptes[LIBELLES],MATCH(C7,t_Comptes[CODES],0)),"")
B8: =IFERROR(INDEX(t_Comptes[LIBELLES],MATCH(C8,t_Comptes[CODES],0)),"")
B9: =IFERROR(INDEX(t_Comptes[LIBELLES],MATCH(C9,t_Comptes[CODES],0)),"")
B10: =IFERROR(INDEX(t_Comptes[LIBELLES],MATCH(C10,t_Comptes[CODES],0)),"")
B11: =IFERROR(INDEX(t_Comptes[LIBELLES],MATCH(C11,t_Comptes[CODES],0)),"")
B12: =IFERROR(INDEX(t_Comptes[LIBELLES],MATCH(C12,t_Comptes[CODES],0)),"")
B13: =IFERROR(INDEX(t_Comptes[LIBELLES],MATCH(C13,t_Comptes[CODES],0)),"")
B14: =IFERROR(INDEX(t_Comptes[LIBELLES],MATCH(C14,t_Comptes[CODES],0)),"")
B15: =IFERROR(INDEX(t_Comptes[LIBELLES],MATCH(C15,t_Comptes[CODES],0)),"")
B16: =IFERROR(INDEX(t_Comptes[LIBELLES],MATCH(C16,t_Comptes[CODES],0)),"")
B17: =IFERROR(INDEX(t_Comptes[LIBELLES],MATCH(C17,t_Comptes[CODES],0)),"")
B18: =IFERROR(INDEX(t_Comptes[LIBELLES],MATCH(C18,t_Comptes[CODES],0)),"")
... B37: =IFERROR(INDEX(t_Comptes[LIBELLES],MATCH(C37,t_Comptes[CODES],0)),"")
D38: SOLDE FIN DE PERIODE | E38: =SUM(E7:E37) -> 0 | F38: =SUM(F7:F37) -> 0 | G38: =SUM(G7:G37) -> 0 | H38: =SUM(H7:H37) -> 0
D39: TOTAUX | E39: =E6+E38-F38 -> 2373.59 | G39: =G6+G38-H38 -> 0 | I39: =SUM(I7:I37) -> 0 | J39: =SUM(J7:J37) -> 0 | K39: =SUM(K7:K37) -> 0 | L39: =SUM(L7:L37) -> 0 | M39: =SUM(M7:M37) -> 0 | N39: =SUM(N7:N37) -> 0 | O39: =SUM(O7:O37) -> 0 | P39: =SUM(P7:P37) -> 0 | ... W39: =SUM(W7:W37) -> 0

Sheet Février 2022
B2: Mois de : | C2: =MID(CELL("filename",A1),FIND("]",CELL("filename",A1))+1,32) -> Février 2022
A4: DATES | B4: CODES | C4: LIBELLES | D4: Désignations | E4: T R E S O R E R I E | J4: PRODUITS | M4: CHARGES
E5: BANQUE | G5: CAISSE | I5: Cotisations | J5: Subventions | K5: Dons | L5: Divers | M5: Fourn. admin. | N5: Frais postaux | O5: Déplacements | P5: Assurances | Q5: Achats matériels | R5: Locations | S5: Frais divers
E6: ='Janvier 2022'!E39:F39 -> 2373.59
B7: =IFERROR(INDEX(t_Comptes[LIBELLES],MATCH(C7,t_Comptes[CODES],0)),"")
B8: =IFERROR(INDEX(t_Comptes[LIBELLES],MATCH(C8,t_Comptes[CODES],0)),"")
B9: =IFERROR(INDEX(t_Comptes[LIBELLES],MATCH(C9,t_Comptes[CODES],0)),"")
B10: =IFERROR(INDEX(t_Comptes[LIBELLES],MATCH(C10,t_Comptes[CODES],0)),"")
B11: =IFERROR(INDEX(t_Comptes[LIBELLES],MATCH(C11,t_Comptes[CODES],0)),"")
B12: =IFERROR(INDEX(t_Comptes[LIBELLES],MATCH(C12,t_Comptes[CODES],0)),"")
B13: =IFERROR(INDEX(t_Comptes[LIBELLES],MATCH(C13,t_Comptes[CODES],0)),"")
B14: =IFERROR(INDEX(t_Comptes[LIBELLES],MATCH(C14,t_Comptes[CODES],0)),"")
B15: =IFERROR(INDEX(t_Comptes[LIBELLES],MATCH(C15,t_Comptes[CODES],0)),"")
B16: =IFERROR(INDEX(t_Comptes[LIBELLES],MATCH(C16,t_Comptes[CODES],0)),"")
B17: =IFERROR(INDEX(t_Comptes[LIBELLES],MATCH(C17,t_Comptes[CODES],0)),"")
B18: =IFERROR(INDEX(t_Comptes[LIBELLES],MATCH(C18,t_Comptes[CODES],0)),"")
... B37: =IFERROR(INDEX(t_Comptes[LIBELLES],MATCH(C37,t_Comptes[CODES],0)),"")
D38: SOLDE FIN DE PERIODE | E38: =SUM(E7:E37) -> 0 | F38: =SUM(F7:F37) -> 0 | G38: =SUM(G7:G37) -> 0 | H38: =SUM(H7:H37) -> 0
D39: TOTAUX | E39: =E6+E38-F38 -> 2373.59 | G39: =G6+G38-H38 -> 0 | I39: =SUM(I7:I37) -> 0 | J39: =SUM(J7:J37) -> 0 | K39: =SUM(K7:K37) -> 0 | L39: =SUM(L7:L37) -> 0 | M39: =SUM(M7:M37) -> 0 | N39: =SUM(N7:N37) -> 0 | O39: =SUM(O7:O37) -> 0 | P39: =SUM(P7:P37) -> 0 | ... W39: =SUM(W7:W37) -> 0
C40: TOTAUX | F40: =SUM(F7:F38) -> 0 | G40: =SUM(G7:G38) -> 0 | H40: =SUM(H7:H38) -> 0 | I40: =SUM(I7:I38) -> 0 | J40: =SUM(J7:J38) -> 0 | K40: =SUM(K7:K38) -> 0 | L40: =SUM(L7:L38) -> 0 | M40: =SUM(M7:M38) -> 0 | ... P40: =SUM(P7:P38) -> 0

Sheet Mars 2022
B2: Mois de : | C2: =MID(CELL("filename",A1),FIND("]",CELL("filename",A1))+1,32) -> Mars 2022
A4: DATES | B4: CODES | C4: LIBELLES | D4: Désignations | E4: T R E S O R E R I E | J4: PRODUITS | M4: CHARGES
E5: BANQUE | G5: CAISSE | I5: Cotisations | J5: Subventions | K5: Dons | L5: Divers | M5: Fourn. admin. | N5: Frais postaux | O5: Déplacements | P5: Assurances | Q5: Achats matériels | R5: Locations | S5: Frais divers
E6: ='Janvier 2022'!E39:F39 -> 2373.59
B7: =IFERROR(INDEX(t_Comptes[LIBELLES],MATCH(C7,t_Comptes[CODES],0)),"")
B8: =IFERROR(INDEX(t_Comptes[LIBELLES],MATCH(C8,t_Comptes[CODES],0)),"")
B9: =IFERROR(INDEX(t_Comptes[LIBELLES],MATCH(C9,t_Comptes[CODES],0)),"")
B10: =IFERROR(INDEX(t_Comptes[LIBELLES],MATCH(C10,t_Comptes[CODES],0)),"")
B11: =IFERROR(INDEX(t_Comptes[LIBELLES],MATCH(C11,t_Comptes[CODES],0)),"")
B12: =IFERROR(INDEX(t_Comptes[LIBELLES],MATCH(C12,t_Comptes[CODES],0)),"")
B13: =IFERROR(INDEX(t_Comptes[LIBELLES],MATCH(C13,t_Comptes[CODES],0)),"")
B14: =IFERROR(INDEX(t_Comptes[LIBELLES],MATCH(C14,t_Comptes[CODES],0)),"")
B15: =IFERROR(INDEX(t_Comptes[LIBELLES],MATCH(C15,t_Comptes[CODES],0)),"")
B16: =IFERROR(INDEX(t_Comptes[LIBELLES],MATCH(C16,t_Comptes[CODES],0)),"")
B17: =IFERROR(INDEX(t_Comptes[LIBELLES],MATCH(C17,t_Comptes[CODES],0)),"")
B18: =IFERROR(INDEX(t_Comptes[LIBELLES],MATCH(C18,t_Comptes[CODES],0)),"")
... B37: =IFERROR(INDEX(t_Comptes[LIBELLES],MATCH(C37,t_Comptes[CODES],0)),"")
D38: SOLDE FIN DE PERIODE | E38: =SUM(E7:E37) -> 0 | F38: =SUM(F7:F37) -> 0 | G38: =SUM(G7:G37) -> 0 | H38: =SUM(H7:H37) -> 0
D39: TOTAUX | E39: =E6+E38-F38 -> 2373.59 | G39: =G6+G38-H38 -> 0 | I39: =SUM(I7:I37) -> 0 | J39: =SUM(J7:J37) -> 0 | K39: =SUM(K7:K37) -> 0 | L39: =SUM(L7:L37) -> 0 | M39: =SUM(M7:M37) -> 0 | N39: =SUM(N7:N37) -> 0 | O39: =SUM(O7:O37) -> 0 | P39: =SUM(P7:P37) -> 0 | ... W39: =SUM(W7:W37) -> 0

Sheet Avril 2022
B2: Mois de : | C2: =MID(CELL("filename",A1),FIND("]",CELL("filename",A1))+1,32) -> Avril 2022
A4: DATES | B4: CODES | C4: LIBELLES | D4: Désignations | E4: T R E S O R E R I E | J4: PRODUITS | M4: CHARGES
E5: BANQUE | G5: CAISSE | I5: Cotisations | J5: Subventions | K5: Dons | L5: Divers | M5: Fourn. admin. | N5: Frais postaux | O5: Déplacements | P5: Assurances | Q5: Achats matériels | R5: Locations | S5: Frais divers
E6: ='Mars 2022'!E39:F39 -> 2373.59
B7: =IFERROR(INDEX(t_Comptes[LIBELLES],MATCH(C7,t_Comptes[CODES],0)),"")
B8: =IFERROR(INDEX(t_Comptes[LIBELLES],MATCH(C8,t_Comptes[CODES],0)),"")
B9: =IFERROR(INDEX(t_Comptes[LIBELLES],MATCH(C9,t_Comptes[CODES],0)),"")
B10: =IFERROR(INDEX(t_Comptes[LIBELLES],MATCH(C10,t_Comptes[CODES],0)),"")
B11: =IFERROR(INDEX(t_Comptes[LIBELLES],MATCH(C11,t_Comptes[CODES],0)),"")
B12: =IFERROR(INDEX(t_Comptes[LIBELLES],MATCH(C12,t_Comptes[CODES],0)),"")
B13: =IFERROR(INDEX(t_Comptes[LIBELLES],MATCH(C13,t_Comptes[CODES],0)),"")
B14: =IFERROR(INDEX(t_Comptes[LIBELLES],MATCH(C14,t_Comptes[CODES],0)),"")
B15: =IFERROR(INDEX(t_Comptes[LIBELLES],MATCH(C15,t_Comptes[CODES],0)),"")
B16: =IFERROR(INDEX(t_Comptes[LIBELLES],MATCH(C16,t_Comptes[CODES],0)),"")
B17: =IFERROR(INDEX(t_Comptes[LIBELLES],MATCH(C17,t_Comptes[CODES],0)),"")
B18: =IFERROR(INDEX(t_Comptes[LIBELLES],MATCH(C18,t_Comptes[CODES],0)),"")
... B37: =IFERROR(INDEX(t_Comptes[LIBELLES],MATCH(C37,t_Comptes[CODES],0)),"")
D38: SOLDE FIN DE PERIODE | E38: =SUM(E7:E37) -> 0 | F38: =SUM(F7:F37) -> 0 | G38: =SUM(G7:G37) -> 0 | H38: =SUM(H7:H37) -> 0
D39: TOTAUX | E39: =E6+E38-F38 -> 2373.59 | G39: =G6+G38-H38 -> 0 | I39: =SUM(I7:I37) -> 0 | J39: =SUM(J7:J37) -> 0 | K39: =SUM(K7:K37) -> 0 | L39: =SUM(L7:L37) -> 0 | M39: =SUM(M7:M37) -> 0 | N39: =SUM(N7:N37) -> 0 | O39: =SUM(O7:O37) -> 0 | P39: =SUM(P7:P37) -> 0 | ... W39: =SUM(W7:W37) -> 0

Sheet Mai 2022
B2: Mois de : | C2: =MID(CELL("filename",A1),FIND("]",CELL("filename",A1))+1,32) -> Mai 2022
A4: DATES | B4: CODES | C4: LIBELLES | D4: Désignations | E4: T R E S O R E R I E | J4: PRODUITS | M4: CHARGES
E5: BANQUE | G5: CAISSE | I5: Cotisations | J5: Subventions | K5: Dons | L5: Divers | M5: Fourn. admin. | N5: Frais postaux | O5: Déplacements | P5: Assurances | Q5: Achats matériels | R5: Locations | S5: Frais divers
E6: ='Avril 2022'!E39:F39 -> 2373.59
B7: =IFERROR(INDEX(t_Comptes[LIBELLES],MATCH(C7,t_Comptes[CODES],0)),"")
B8: =IFERROR(INDEX(t_Comptes[LIBELLES],MATCH(C8,t_Comptes[CODES],0)),"")
B9: =IFERROR(INDEX(t_Comptes[LIBELLES],MATCH(C9,t_Comptes[CODES],0)),"")
B10: =IFERROR(INDEX(t_Comptes[LIBELLES],MATCH(C10,t_Comptes[CODES],0)),"")
B11: =IFERROR(INDEX(t_Comptes[LIBELLES],MATCH(C11,t_Comptes[CODES],0)),"")
B12: =IFERROR(INDEX(t_Comptes[LIBELLES],MATCH(C12,t_Comptes[CODES],0)),"")
B13: =IFERROR(INDEX(t_Comptes[LIBELLES],MATCH(C13,t_Comptes[CODES],0)),"")
B14: =IFERROR(INDEX(t_Comptes[LIBELLES],MATCH(C14,t_Comptes[CODES],0)),"")
B15: =IFERROR(INDEX(t_Comptes[LIBELLES],MATCH(C15,t_Comptes[CODES],0)),"")
B16: =IFERROR(INDEX(t_Comptes[LIBELLES],MATCH(C16,t_Comptes[CODES],0)),"")
B17: =IFERROR(INDEX(t_Comptes[LIBELLES],MATCH(C17,t_Comptes[CODES],0)),"")
B18: =IFERROR(INDEX(t_Comptes[LIBELLES],MATCH(C18,t_Comptes[CODES],0)),"")
... B37: =IFERROR(INDEX(t_Comptes[LIBELLES],MATCH(C37,t_Comptes[CODES],0)),"")
D38: SOLDE FIN DE PERIODE | E38: =SUM(E7:E37) -> 0 | F38: =SUM(F7:F37) -> 0 | G38: =SUM(G7:G37) -> 0 | H38: =SUM(H7:H37) -> 0
D39: TOTAUX | E39: =E6+E38-F38 -> 2373.59 | G39: =G6+G38-H38 -> 0 | I39: =SUM(I7:I37) -> 0 | J39: =SUM(J7:J37) -> 0 | K39: =SUM(K7:K37) -> 0 | L39: =SUM(L7:L37) -> 0 | M39: =SUM(M7:M37) -> 0 | N39: =SUM(N7:N37) -> 0 | O39: =SUM(O7:O37) -> 0 | P39: =SUM(P7:P37) -> 0 | ... W39: =SUM(W7:W37) -> 0

Sheet Juin 2022
B2: Mois de : | C2: =MID(CELL("filename",A1),FIND("]",CELL("filename",A1))+1,32) -> Juin 2022
A4: DATES | B4: CODES | C4: LIBELLES | D4: Désignations | E4: T R E S O R E R I E | J4: PRODUITS | M4: CHARGES
E5: BANQUE | G5: CAISSE | I5: Cotisations | J5: Subventions | K5: Dons | L5: Divers | M5: Fourn. admin. | N5: Frais postaux | O5: Déplacements | P5: Assurances | Q5: Achats matériels | R5: Locations | S5: Frais divers
E6: ='Mai 2022'!E39:F39 -> 2373.59
B7: =IFERROR(INDEX(t_Comptes[LIBELLES],MATCH(C7,t_Comptes[CODES],0)),"")
B8: =IFERROR(INDEX(t_Comptes[LIBELLES],MATCH(C8,t_Comptes[CODES],0)),"")
B9: =IFERROR(INDEX(t_Comptes[LIBELLES],MATCH(C9,t_Comptes[CODES],0)),"")
B10: =IFERROR(INDEX(t_Comptes[LIBELLES],MATCH(C10,t_Comptes[CODES],0)),"")
B11: =IFERROR(INDEX(t_Comptes[LIBELLES],MATCH(C11,t_Comptes[CODES],0)),"")
B12: =IFERROR(INDEX(t_Comptes[LIBELLES],MATCH(C12,t_Comptes[CODES],0)),"")
B13: =IFERROR(INDEX(t_Comptes[LIBELLES],MATCH(C13,t_Comptes[CODES],0)),"")
B14: =IFERROR(INDEX(t_Comptes[LIBELLES],MATCH(C14,t_Comptes[CODES],0)),"")
B15: =IFERROR(INDEX(t_Comptes[LIBELLES],MATCH(C15,t_Comptes[CODES],0)),"")
B16: =IFERROR(INDEX(t_Comptes[LIBELLES],MATCH(C16,t_Comptes[CODES],0)),"")
B17: =IFERROR(INDEX(t_Comptes[LIBELLES],MATCH(C17,t_Comptes[CODES],0)),"")
B18: =IFERROR(INDEX(t_Comptes[LIBELLES],MATCH(C18,t_Comptes[CODES],0)),"")
... B37: =IFERROR(INDEX(t_Comptes[LIBELLES],MATCH(C37,t_Comptes[CODES],0)),"")
D38: SOLDE FIN DE PERIODE | E38: =SUM(E7:E37) -> 0 | F38: =SUM(F7:F37) -> 0 | G38: =SUM(G7:G37) -> 0 | H38: =SUM(H7:H37) -> 0
D39: TOTAUX | E39: =E6+E38-F38 -> 2373.59 | G39: =G6+G38-H38 -> 0 | I39: =SUM(I7:I37) -> 0 | J39: =SUM(J7:J37) -> 0 | K39: =SUM(K7:K37) -> 0 | L39: =SUM(L7:L37) -> 0 | M39: =SUM(M7:M37) -> 0 | N39: =SUM(N7:N37) -> 0 | O39: =SUM(O7:O37) -> 0 | P39: =SUM(P7:P37) -> 0 | ... W39: =SUM(W7:W37) -> 0

Sheet Juillet 2022
B2: Mois de : | C2: =MID(CELL("filename",A1),FIND("]",CELL("filename",A1))+1,32) -> Juillet 2022
A4: DATES | B4: CODES | C4: LIBELLES | D4: Désignations | E4: T R E S O R E R I E | J4: PRODUITS | M4: CHARGES
E5: BANQUE | G5: CAISSE | I5: Cotisations | J5: Subventions | K5: Dons | L5: Divers | M5: Fourn. admin. | N5: Frais postaux | O5: Déplacements | P5: Assurances | Q5: Achats matériels | R5: Locations | S5: Frais divers
E6: ='Juin 2022'!E39:F39 -> 2373.59
B7: =IFERROR(INDEX(t_Comptes[LIBELLES],MATCH(C7,t_Comptes[CODES],0)),"")
B8: =IFERROR(INDEX(t_Comptes[LIBELLES],MATCH(C8,t_Comptes[CODES],0)),"")
B9: =IFERROR(INDEX(t_Comptes[LIBELLES],MATCH(C9,t_Comptes[CODES],0)),"")
B10: =IFERROR(INDEX(t_Comptes[LIBELLES],MATCH(C10,t_Comptes[CODES],0)),"")
B11: =IFERROR(INDEX(t_Comptes[LIBELLES],MATCH(C11,t_Comptes[CODES],0)),"")
B12: =IFERROR(INDEX(t_Comptes[LIBELLES],MATCH(C12,t_Comptes[CODES],0)),"")
B13: =IFERROR(INDEX(t_Comptes[LIBELLES],MATCH(C13,t_Comptes[CODES],0)),"")
B14: =IFERROR(INDEX(t_Comptes[LIBELLES],MATCH(C14,t_Comptes[CODES],0)),"")
B15: =IFERROR(INDEX(t_Comptes[LIBELLES],MATCH(C15,t_Comptes[CODES],0)),"")
B16: =IFERROR(INDEX(t_Comptes[LIBELLES],MATCH(C16,t_Comptes[CODES],0)),"")
B17: =IFERROR(INDEX(t_Comptes[LIBELLES],MATCH(C17,t_Comptes[CODES],0)),"")
B18: =IFERROR(INDEX(t_Comptes[LIBELLES],MATCH(C18,t_Comptes[CODES],0)),"")
... B37: =IFERROR(INDEX(t_Comptes[LIBELLES],MATCH(C37,t_Comptes[CODES],0)),"")
D38: SOLDE FIN DE PERIODE | E38: =SUM(E7:E37) -> 0 | F38: =SUM(F7:F37) -> 0 | G38: =SUM(G7:G37) -> 0 | H38: =SUM(H7:H37) -> 0
D39: TOTAUX | E39: =E6+E38-F38 -> 2373.59 | G39: =G6+G38-H38 -> 0 | I39: =SUM(I7:I37) -> 0 | J39: =SUM(J7:J37) -> 0 | K39: =SUM(K7:K37) -> 0 | L39: =SUM(L7:L37) -> 0 | M39: =SUM(M7:M37) -> 0 | N39: =SUM(N7:N37) -> 0 | O39: =SUM(O7:O37) -> 0 | P39: =SUM(P7:P37) -> 0 | ... W39: =SUM(W7:W37) -> 0

Sheet Août 2022
B2: Mois de : | C2: =MID(CELL("filename",A1),FIND("]",CELL("filename",A1))+1,32) -> Août 2022
A4: DATES | B4: CODES | C4: LIBELLES | D4: Désignations | E4: T R E S O R E R I E | J4: PRODUITS | M4: CHARGES
E5: BANQUE | G5: CAISSE | I5: Cotisations | J5: Subventions | K5: Dons | L5: Divers | M5: Fourn. admin. | N5: Frais postaux | O5: Déplacements | P5: Assurances | Q5: Achats matériels | R5: Locations | S5: Frais divers
E6: ='Juillet 2022'!E39:F39 -> 2373.59
B7: =IFERROR(INDEX(t_Comptes[LIBELLES],MATCH(C7,t_Comptes[CODES],0)),"")
B8: =IFERROR(INDEX(t_Comptes[LIBELLES],MATCH(C8,t_Comptes[CODES],0)),"")
B9: =IFERROR(INDEX(t_Comptes[LIBELLES],MATCH(C9,t_Comptes[CODES],0)),"")
B10: =IFERROR(INDEX(t_Comptes[LIBELLES],MATCH(C10,t_Comptes[CODES],0)),"")
B11: =IFERROR(INDEX(t_Comptes[LIBELLES],MATCH(C11,t_Comptes[CODES],0)),"")
B12: =IFERROR(INDEX(t_Comptes[LIBELLES],MATCH(C12,t_Comptes[CODES],0)),"")
B13: =IFERROR(INDEX(t_Comptes[LIBELLES],MATCH(C13,t_Comptes[CODES],0)),"")
B14: =IFERROR(INDEX(t_Comptes[LIBELLES],MATCH(C14,t_Comptes[CODES],0)),"")
B15: =IFERROR(INDEX(t_Comptes[LIBELLES],MATCH(C15,t_Comptes[CODES],0)),"")
B16: =IFERROR(INDEX(t_Comptes[LIBELLES],MATCH(C16,t_Comptes[CODES],0)),"")
B17: =IFERROR(INDEX(t_Comptes[LIBELLES],MATCH(C17,t_Comptes[CODES],0)),"")
B18: =IFERROR(INDEX(t_Comptes[LIBELLES],MATCH(C18,t_Comptes[CODES],0)),"")
... B37: =IFERROR(INDEX(t_Comptes[LIBELLES],MATCH(C37,t_Comptes[CODES],0)),"")
D38: SOLDE FIN DE PERIODE | E38: =SUM(E7:E37) -> 0 | F38: =SUM(F7:F37) -> 0 | G38: =SUM(G7:G37) -> 0 | H38: =SUM(H7:H37) -> 0
D39: TOTAUX | E39: =E6+E38-F38 -> 2373.59 | G39: =G6+G38-H38 -> 0 | I39: =SUM(I7:I37) -> 0 | J39: =SUM(J7:J37) -> 0 | K39: =SUM(K7:K37) -> 0 | L39: =SUM(L7:L37) -> 0 | M39: =SUM(M7:M37) -> 0 | N39: =SUM(N7:N37) -> 0 | O39: =SUM(O7:O37) -> 0 | P39: =SUM(P7:P37) -> 0 | ... W39: =SUM(W7:W37) -> 0

Sheet Septembre 2022
B2: Mois de : | C2: =MID(CELL("filename",A1),FIND("]",CELL("filename",A1))+1,32) -> Septembre 2022
A4: DATES | B4: CODES | C4: LIBELLES | D4: Désignations | E4: T R E S O R E R I E | J4: PRODUITS | M4: CHARGES
E5: BANQUE | G5: CAISSE | I5: Cotisations | J5: Subventions | K5: Dons | L5: Divers | M5: Fourn. admin. | N5: Frais postaux | O5: Déplacements | P5: Assurances | Q5: Achats matériels | R5: Locations | S5: Frais divers
E6: ='Août 2022'!E39:F39 -> 2373.59
B7: =IFERROR(INDEX(t_Comptes[LIBELLES],MATCH(C7,t_Comptes[CODES],0)),"")
B8: =IFERROR(INDEX(t_Comptes[LIBELLES],MATCH(C8,t_Comptes[CODES],0)),"")
B9: =IFERROR(INDEX(t_Comptes[LIBELLES],MATCH(C9,t_Comptes[CODES],0)),"")
B10: =IFERROR(INDEX(t_Comptes[LIBELLES],MATCH(C10,t_Comptes[CODES],0)),"")
B11: =IFERROR(INDEX(t_Comptes[LIBELLES],MATCH(C11,t_Comptes[CODES],0)),"")
B12: =IFERROR(INDEX(t_Comptes[LIBELLES],MATCH(C12,t_Comptes[CODES],0)),"")
B13: =IFERROR(INDEX(t_Comptes[LIBELLES],MATCH(C13,t_Comptes[CODES],0)),"")
B14: =IFERROR(INDEX(t_Comptes[LIBELLES],MATCH(C14,t_Comptes[CODES],0)),"")
B15: =IFERROR(INDEX(t_Comptes[LIBELLES],MATCH(C15,t_Comptes[CODES],0)),"")
B16: =IFERROR(INDEX(t_Comptes[LIBELLES],MATCH(C16,t_Comptes[CODES],0)),"")
B17: =IFERROR(INDEX(t_Comptes[LIBELLES],MATCH(C17,t_Comptes[CODES],0)),"")
B18: =IFERROR(INDEX(t_Comptes[LIBELLES],MATCH(C18,t_Comptes[CODES],0)),"")
... B37: =IFERROR(INDEX(t_Comptes[LIBELLES],MATCH(C37,t_Comptes[CODES],0)),"")
D38: SOLDE FIN DE PERIODE | E38: =SUM(E7:E37) -> 0 | F38: =SUM(F7:F37) -> 0 | G38: =SUM(G7:G37) -> 0 | H38: =SUM(H7:H37) -> 0
D39: TOTAUX | E39: =E6+E38-F38 -> 2373.59 | G39: =G6+G38-H38 -> 0 | I39: =SUM(I7:I37) -> 0 | J39: =SUM(J7:J37) -> 0 | K39: =SUM(K7:K37) -> 0 | L39: =SUM(L7:L37) -> 0 | M39: =SUM(M7:M37) -> 0 | N39: =SUM(N7:N37) -> 0 | O39: =SUM(O7:O37) -> 0 | P39: =SUM(P7:P37) -> 0 | ... W39: =SUM(W7:W37) -> 0

Sheet Octobre 2022
B2: Mois de : | C2: =MID(CELL("filename",A1),FIND("]",CELL("filename",A1))+1,32) -> Octobre 2022
A4: DATES | B4: CODES | C4: LIBELLES | D4: Désignations | E4: T R E S O R E R I E | J4: PRODUITS | M4: CHARGES
E5: BANQUE | G5: CAISSE | I5: Cotisations | J5: Subventions | K5: Dons | L5: Divers | M5: Fourn. admin. | N5: Frais postaux | O5: Déplacements | P5: Assurances | Q5: Achats matériels | R5: Locations | S5: Frais divers
E6: ='Septembre 2022'!E39:F39 -> 2373.59
B7: =IFERROR(INDEX(t_Comptes[LIBELLES],MATCH(C7,t_Comptes[CODES],0)),"")
B8: =IFERROR(INDEX(t_Comptes[LIBELLES],MATCH(C8,t_Comptes[CODES],0)),"")
B9: =IFERROR(INDEX(t_Comptes[LIBELLES],MATCH(C9,t_Comptes[CODES],0)),"")
B10: =IFERROR(INDEX(t_Comptes[LIBELLES],MATCH(C10,t_Comptes[CODES],0)),"")
B11: =IFERROR(INDEX(t_Comptes[LIBELLES],MATCH(C11,t_Comptes[CODES],0)),"")
B12: =IFERROR(INDEX(t_Comptes[LIBELLES],MATCH(C12,t_Comptes[CODES],0)),"")
B13: =IFERROR(INDEX(t_Comptes[LIBELLES],MATCH(C13,t_Comptes[CODES],0)),"")
B14: =IFERROR(INDEX(t_Comptes[LIBELLES],MATCH(C14,t_Comptes[CODES],0)),"")
B15: =IFERROR(INDEX(t_Comptes[LIBELLES],MATCH(C15,t_Comptes[CODES],0)),"")
B16: =IFERROR(INDEX(t_Comptes[LIBELLES],MATCH(C16,t_Comptes[CODES],0)),"")
B17: =IFERROR(INDEX(t_Comptes[LIBELLES],MATCH(C17,t_Comptes[CODES],0)),"")
B18: =IFERROR(INDEX(t_Comptes[LIBELLES],MATCH(C18,t_Comptes[CODES],0)),"")
... B37: =IFERROR(INDEX(t_Comptes[LIBELLES],MATCH(C37,t_Comptes[CODES],0)),"")
D38: SOLDE FIN DE PERIODE | E38: =SUM(E7:E37) -> 0 | F38: =SUM(F7:F37) -> 0 | G38: =SUM(G7:G37) -> 0 | H38: =SUM(H7:H37) -> 0
D39: TOTAUX | E39: =E6+E38-F38 -> 2373.59 | G39: =G6+G38-H38 -> 0 | I39: =SUM(I7:I37) -> 0 | J39: =SUM(J7:J37) -> 0 | K39: =SUM(K7:K37) -> 0 | L39: =SUM(L7:L37) -> 0 | M39: =SUM(M7:M37) -> 0 | N39: =SUM(N7:N37) -> 0 | O39: =SUM(O7:O37) -> 0 | P39: =SUM(P7:P37) -> 0 | ... W39: =SUM(W7:W37) -> 0

Sheet Novembre 2022
B2: Mois de : | C2: =MID(CELL("filename",A1),FIND("]",CELL("filename",A1))+1,32) -> Novembre 2022
A4: DATES | B4: CODES | C4: LIBELLES | D4: Désignations | E4: T R E S O R E R I E | J4: PRODUITS | M4: CHARGES
E5: BANQUE | G5: CAISSE | I5: Cotisations | J5: Subventions | K5: Dons | L5: Divers | M5: Fourn. admin. | N5: Frais postaux | O5: Déplacements | P5: Assurances | Q5: Achats matériels | R5: Locations | S5: Frais divers
E6: ='Octobre 2022'!E39:F39 -> 2373.59
B7: =IFERROR(INDEX(t_Comptes[LIBELLES],MATCH(C7,t_Comptes[CODES],0)),"")
B8: =IFERROR(INDEX(t_Comptes[LIBELLES],MATCH(C8,t_Comptes[CODES],0)),"")
B9: =IFERROR(INDEX(t_Comptes[LIBELLES],MATCH(C9,t_Comptes[CODES],0)),"")
B10: =IFERROR(INDEX(t_Comptes[LIBELLES],MATCH(C10,t_Comptes[CODES],0)),"")
B11: =IFERROR(INDEX(t_Comptes[LIBELLES],MATCH(C11,t_Comptes[CODES],0)),"")
B12: =IFERROR(INDEX(t_Comptes[LIBELLES],MATCH(C12,t_Comptes[CODES],0)),"")
B13: =IFERROR(INDEX(t_Comptes[LIBELLES],MATCH(C13,t_Comptes[CODES],0)),"")
B14: =IFERROR(INDEX(t_Comptes[LIBELLES],MATCH(C14,t_Comptes[CODES],0)),"")
B15: =IFERROR(INDEX(t_Comptes[LIBELLES],MATCH(C15,t_Comptes[CODES],0)),"")
B16: =IFERROR(INDEX(t_Comptes[LIBELLES],MATCH(C16,t_Comptes[CODES],0)),"")
B17: =IFERROR(INDEX(t_Comptes[LIBELLES],MATCH(C17,t_Comptes[CODES],0)),"")
B18: =IFERROR(INDEX(t_Comptes[LIBELLES],MATCH(C18,t_Comptes[CODES],0)),"")
... B37: =IFERROR(INDEX(t_Comptes[LIBELLES],MATCH(C37,t_Comptes[CODES],0)),"")
D38: SOLDE FIN DE PERIODE | E38: =SUM(E7:E37) -> 0 | F38: =SUM(F7:F37) -> 0 | G38: =SUM(G7:G37) -> 0 | H38: =SUM(H7:H37) -> 0
D39: TOTAUX | E39: =E6+E38-F38 -> 2373.59 | G39: =G6+G38-H38 -> 0 | I39: =SUM(I7:I37) -> 0 | J39: =SUM(J7:J37) -> 0 | K39: =SUM(K7:K37) -> 0 | L39: =SUM(L7:L37) -> 0 | M39: =SUM(M7:M37) -> 0 | N39: =SUM(N7:N37) -> 0 | O39: =SUM(O7:O37) -> 0 | P39: =SUM(P7:P37) -> 0 | ... W39: =SUM(W7:W37) -> 0

Sheet Bilan Financier 2022
A1: =MID(CELL("filename",A1),FIND("]",CELL("filename",A1))+1,32) -> Bilan Financier 2022
A2: ABCD
A8: COMPTE D'EXPLOITATION 2022
A13: DESIGNATION | B13: CODES | C13: RECETTES | D13: CODES | E13: DEPENSES
A15: Recettes manifestation | B15: 7020
A16: Recette guichets | B16: 7060
A17: Subvention COM | B17: 7417
A18: Subvention Conseil Régional | B18: 7441
A19: Subvention Conseil Général | B19: 7542
A20: Subvention Mairie | B20: 7443
A21: FF | B21: 7460
A22: Licences | B22: 7560
A23: Cartes (45 Adherants) | B23: 7560
A24: Produits exceptionnels | B24: 7710
A25: Dons | B25: 7510
A26: Intérêts bancaires | B26: 7610
A27: Achats matières premières | D27: 6010
A28: Achats matériels Club | D28: 6050
A29: Ecole de formation | D29: 6063
A30: Fournitures administratives | D30: 6064
A31: Organisation sous-traitées | D31: 6110
A32: Locations terrain | D32: 6130
A33: Entretien matériel | D33: 6150
A34: Assurances | D34: 6160
A35: Frais postaux | D35: 6260
A36: Relations publiques | D36: 6230
A37: Cadeaux et récompenses | D37: 6234
A38: Frais restauration-déplacement | D38: 6252
... A44: Charges exceptionnelles | D44: 6788
A47: TOTAUX | C47: =SUM(C15:C46) -> 0 | E47: =SUM(E15:E46) -> 0
A49: 44864 | C49: =C47-E47 -> 0
A50: ENCOURS subventions
A51: ENCOURS charges
A52: Régularisations
A53: Divers
A54: Report à nouveau année + n-1
A56: Solde Compte courant | B56: 44864
A57: Caisse numéraires | B57: d°
A58: Compte épargne | B58: d°
A59: Actions sociales | B59: d° | C59: 0
...

Sheet Data
A1: CODES | B1: LIBELLES
A2: Recettes manifestations | B2: 7020
A3: Recettes guichet | B3: 7060
A4: Subvention COM | B4: 7417
A5: Subvention Conseil Régional | B5: 7441
A6: Subvention Conseil Général | B6: 7542
A7: Subvention Mairie | B7: 7443
A8: FF | B8: 7460
A9: Licences - Cartes | B9: 7560
A10: Produits exceptionnels | B10: 7710
A11: Dons | B11: 7510
A12: Intérêts bancaires | B12: 7610
A13: Achats matières premières | B13: 6010
... A30: Charges exeptionnelles | B30: 6788
