Workbook
Name fériés: [1]Base!$D$7:$D$29

Sheet ACTIONS PRINCIPALES PROJET
F1: Resp. | M1: Date | N1: =TODAY() -> 44379
B2: Projet | C2: SUIVI ACTIONS PRINCIPALES
E4: Tâches terminées | F4: =COUNTIF(L:L,"Terminé") -> 1
E5: Tâches non démarrées | F5: =COUNTIF(L:L,"/") -> 1
E6: Tâches en cours | F6: =COUNTIF(L:L,"A l'heure")+COUNTIF(L:L,"En cours") -> 1
E7: Tâches en retard | F7: =COUNTIF(L:L,"En retard") -> 0
E8: Total des tâches | F8: =SUM(F4:F7) -> 3
A10: N° | B10: Type | C10: Sous type | D10: Demandeur | E10: Projet | F10: Resp | G10: Début | H10: Durée | I10: Fin | J10: Avance. Théorique | K10: Avance. Réel | L10: Statut | M10: En retard de | N10: Commentaire | O10: Date de fin réele | P10: Jours de retard
A11: 3 | B11: Achat | C11: Fournisseurs | D11: Direction achats | E11: Référentiel fournisseurs | F11: Gregory | G11: 44373 | H11: =NETWORKDAYS(G11,I11,'Jours fériés'!$A$2:$A$20) -> 24 | I11: 44407 | J11: =IF(K11=1,100%,IF(AND(G11=I11,G11 <> 0,TODAY()>G11),100%,IF(TODAY()<G11,0,IF(TODAY()>I11,100%,NETWORKDAYS(G11,TODAY(),'Jours fériés'!$A$2:$A$20)/H11)))) -> 1 | K11: 1 | L11: =IF(G11=0,"",IF(AND(G11=I11,K11<1,TODAY()>I11),"En retard",IF(K11>J11,"En avance",IF(J11=0,"/",IF(K11=1,"Terminé",IF(TODAY()>I11,"En retard","En cours")))))) -> Terminé | M11: =IF(AND(L11="En retard",(NETWORKDAYS(I11,TODAY(),'Jours fériés'!$A$2:$A$20))>0),NETWORKDAYS(I11,TODAY(),'Jours fériés'!$A$2:$A$20),"") | O11: 44379 | P11: =IF((NETWORKDAYS(I11,O11,'Jours fériés'!$A$2:$A$20)-1)<0, 0,NETWORKDAYS(I11,O11,'Jours fériés'!$A$2:$A$20)-1) -> 0
A12: 2 | B12: Achat | C12: Process | D12: Commerce export | E12: Process Achat / Commerce export | F12: Alexandra | G12: 44383 | H12: =NETWORKDAYS(G12,I12,'Jours fériés'!$A$2:$A$20) -> 62 | I12: 44469 | J12: =IF(K12=1,100%,IF(AND(G12=I12,G12 <> 0,TODAY()>G12),100%,IF(TODAY()<G12,0,IF(TODAY()>I12,100%,NETWORKDAYS(G12,TODAY(),'Jours fériés'!$A$2:$A$20)/H12)))) -> 0 | K12: 0 | L12: =IF(G12=0,"",IF(AND(G12=I12,K12<1,TODAY()>I12),"En retard",IF(K12>J12,"En avance",IF(J12=0,"/",IF(K12=1,"Terminé",IF(TODAY()>I12,"En retard","En cours")))))) -> / | M12: =IF(AND(L12="En retard",(NETWORKDAYS(I12,TODAY(),'Jours fériés'!$A$2:$A$20))>0),NETWORKDAYS(I12,TODAY(),'Jours fériés'!$A$2:$A$20),"") | P12: =IF((NETWORKDAYS(I12,O12,'Jours fériés'!$A$2:$A$20)-1)<0, 0,NETWORKDAYS(I12,O12,'Jours fériés'!$A$2:$A$20)-1) -> 0
A13: 1 | B13: Achat | C13: Process | D13: OMP Solutions | E13: Process Achat / Equipe CEM | F13: Alexandra | G13: 44377 | H13: =NETWORKDAYS(G13,I13,'Jours fériés'!$A$2:$A$20) -> 107 | I13: 44530 | J13: =IF(K13=1,100%,IF(AND(G13=I13,G13 <> 0,TODAY()>G13),100%,IF(TODAY()<G13,0,IF(TODAY()>I13,100%,NETWORKDAYS(G13,TODAY(),'Jours fériés'!$A$2:$A$20)/H13)))) -> 0.028037383 | K13: 0.01 | L13: =IF(G13=0,"",IF(AND(G13=I13,K13<1,TODAY()>I13),"En retard",IF(K13>J13,"En avance",IF(J13=0,"/",IF(K13=1,"Terminé",IF(TODAY()>I13,"En retard","En cours")))))) -> En cours | M13: =IF(AND(L13="En retard",(NETWORKDAYS(I13,TODAY(),'Jours fériés'!$A$2:$A$20))>0),NETWORKDAYS(I13,TODAY(),'Jours fériés'!$A$2:$A$20),"") | P13: =IF((NETWORKDAYS(I13,O13,'Jours fériés'!$A$2:$A$20)-1)<0, 0,NETWORKDAYS(I13,O13,'Jours fériés'!$A$2:$A$20)-1) -> 0

Sheet ACTIONS SECONDAIRES PAR PROJET
C1: Resp. | J1: Date | K1: =TODAY() -> 44379
B3: Tâches terminées | C3: =COUNTIF(I:I,"Terminé") -> 3 | I3: Projet | K3: TBD
B4: Tâches non démarrées | C4: =COUNTIF(I:I,"/") -> 1
B5: Tâches en cours | C5: =COUNTIF(I:I,"A l'heure")+COUNTIF(I:I,"En cours") -> 0
B6: Tâches en retard | C6: =COUNTIF(I:I,"En retard") -> 1
B7: Total des tâches | C7: =SUM(C3:C6) -> 5
A9: 1 | B9: Process Achat / Equipe CEM | C9: Resp | D9: Début | E9: Durée | F9: Fin | G9: Avance. Théorique | H9: Avance. Réel | I9: Statut | J9: En retard de | K9: Commentaire | L9: Date de fin réele | M9: Jours de retard
B10: Rencontre Richard D | C10: Alexandra | D10: 44377 | E10: =NETWORKDAYS(D10,F10,'Jours fériés'!$A$2:$A$20) -> 1 | F10: 44377 | G10: =IF(H10=1,100%,IF(AND(D10=F10,D10 <> 0,TODAY()>D10),100%,IF(TODAY()<D10,0,IF(TODAY()>F10,100%,NETWORKDAYS(D10,TODAY(),'Jours fériés'!$A$2:$A$20)/E10)))) -> 1 | H10: 1 | I10: =IF(D10=0,"",IF(AND(D10=F10,H10<1,TODAY()>F10),"En retard",IF(H10>G10,"En avance",IF(G10=0,"/",IF(H10=1,"Terminé",IF(TODAY()>F10,"En retard","En cours")))))) -> Terminé | J10: =IF(AND(I10="En retard",(NETWORKDAYS(F10,TODAY(),'Jours fériés'!$A$2:$A$20))>0),NETWORKDAYS(F10,TODAY(),'Jours fériés'!$A$2:$A$20),"") | L10: 44377 | M10: =IF((NETWORKDAYS(F10,L10,'Jours fériés'!$A$2:$A$20)-1)<0, 0,NETWORKDAYS(F10,L10,'Jours fériés'!$A$2:$A$20)-1) -> 0
B11: Process version Excel à récupérer | C11: Alexandra | D11: 44378 | E11: =NETWORKDAYS(D11,F11,'Jours fériés'!$A$2:$A$20) -> 1 | F11: 44378 | G11: =IF(H11=1,100%,IF(AND(D11=F11,D11 <> 0,TODAY()>D11),100%,IF(TODAY()<D11,0,IF(TODAY()>F11,100%,NETWORKDAYS(D11,TODAY(),'Jours fériés'!$A$2:$A$20)/E11)))) -> 1 | H11: 1 | I11: =IF(D11=0,"",IF(AND(D11=F11,H11<1,TODAY()>F11),"En retard",IF(H11>G11,"En avance",IF(G11=0,"/",IF(H11=1,"Terminé",IF(TODAY()>F11,"En retard","En cours")))))) -> Terminé | J11: =IF(AND(I11="En retard",(NETWORKDAYS(F11,TODAY(),'Jours fériés'!$A$2:$A$20))>0),NETWORKDAYS(F11,TODAY(),'Jours fériés'!$A$2:$A$20),"") | L11: 44378 | M11: =IF((NETWORKDAYS(F11,L11,'Jours fériés'!$A$2:$A$20)-1)<0, 0,NETWORKDAYS(F11,L11,'Jours fériés'!$A$2:$A$20)-1) -> 0
B12: Rédaction draft V1 | C12: Alexandra | D12: 44382 | E12: =NETWORKDAYS(D12,F12,'Jours fériés'!$A$2:$A$20) -> 14 | F12: 44400 | G12: =IF(H12=1,100%,IF(AND(D12=F12,D12 <> 0,TODAY()>D12),100%,IF(TODAY()<D12,0,IF(TODAY()>F12,100%,NETWORKDAYS(D12,TODAY(),'Jours fériés'!$A$2:$A$20)/E12)))) -> 0 | H12: 0 | I12: =IF(D12=0,"",IF(AND(D12=F12,H12<1,TODAY()>F12),"En retard",IF(H12>G12,"En avance",IF(G12=0,"/",IF(H12=1,"Terminé",IF(TODAY()>F12,"En retard","En cours")))))) -> / | J12: =IF(AND(I12="En retard",(NETWORKDAYS(F12,TODAY(),'Jours fériés'!$A$2:$A$20))>0),NETWORKDAYS(F12,TODAY(),'Jours fériés'!$A$2:$A$20),"") | M12: =IF((NETWORKDAYS(F12,L12,'Jours fériés'!$A$2:$A$20)-1)<0, 0,NETWORKDAYS(F12,L12,'Jours fériés'!$A$2:$A$20)-1) -> 0
B13: Proposition finale | C13: Alexandra | D13: 44438 | E13: =NETWORKDAYS(D13,F13,'Jours fériés'!$A$2:$A$20) -> 65 | F13: 44530 | G13: =IF(H13=1,100%,IF(AND(D13=F13,D13 <> 0,TODAY()>D13),100%,IF(TODAY()<D13,0,IF(TODAY()>F13,100%,NETWORKDAYS(D13,TODAY(),'Jours fériés'!$A$2:$A$20)/E13)))) -> 0 | H13: 0
E14: =NETWORKDAYS(D14,F14,'Jours fériés'!$A$2:$A$20) -> 0 | G14: =IF(H14=1,100%,IF(AND(D14=F14,D14 <> 0,TODAY()>D14),100%,IF(TODAY()<D14,0,IF(TODAY()>F14,100%,NETWORKDAYS(D14,TODAY(),'Jours fériés'!$A$2:$A$20)/E14)))) -> 1 | H14: 0
E15: =NETWORKDAYS(D15,F15,'Jours fériés'!$A$2:$A$20) -> 0 | G15: =IF(H15=1,100%,IF(AND(D15=F15,D15 <> 0,TODAY()>D15),100%,IF(TODAY()<D15,0,IF(TODAY()>F15,100%,NETWORKDAYS(D15,TODAY(),'Jours fériés'!$A$2:$A$20)/E15)))) -> 1 | H15: 0
E16: =NETWORKDAYS(D16,F16,'Jours fériés'!$A$2:$A$20) -> 0 | G16: =IF(H16=1,100%,IF(AND(D16=F16,D16 <> 0,TODAY()>D16),100%,IF(TODAY()<D16,0,IF(TODAY()>F16,100%,NETWORKDAYS(D16,TODAY(),'Jours fériés'!$A$2:$A$20)/E16)))) -> 1 | H16: 0
E17: =NETWORKDAYS(D17,F17,'Jours fériés'!$A$2:$A$20) -> 0 | G17: =IF(H17=1,100%,IF(AND(D17=F17,D17 <> 0,TODAY()>D17),100%,IF(TODAY()<D17,0,IF(TODAY()>F17,100%,NETWORKDAYS(D17,TODAY(),'Jours fériés'!$A$2:$A$20)/E17)))) -> 1 | H17: 0
E18: =NETWORKDAYS(D18,F18,'Jours fériés'!$A$2:$A$20) -> 0 | G18: =IF(H18=1,100%,IF(AND(D18=F18,D18 <> 0,TODAY()>D18),100%,IF(TODAY()<D18,0,IF(TODAY()>F18,100%,NETWORKDAYS(D18,TODAY(),'Jours fériés'!$A$2:$A$20)/E18)))) -> 1 | H18: 0 | I18: =IF(D18=0,"",IF(AND(D18=F18,H18<1,TODAY()>F18),"En retard",IF(H18>G18,"En avance",IF(G18=0,"/",IF(H18=1,"Terminé",IF(TODAY()>F18,"En retard","En cours")))))) | J18: =IF(AND(I18="En retard",(NETWORKDAYS(F18,TODAY(),'Jours fériés'!$A$2:$A$20))>0),NETWORKDAYS(F18,TODAY(),'Jours fériés'!$A$2:$A$20),"") | M18: =IF((NETWORKDAYS(F18,L18,'Jours fériés'!$A$2:$A$20)-1)<0, 0,NETWORKDAYS(F18,L18,'Jours fériés'!$A$2:$A$20)-1) -> 0
E19: =NETWORKDAYS(D19,F19,'Jours fériés'!$A$2:$A$20) -> 0 | G19: =IF(H19=1,100%,IF(AND(D19=F19,D19 <> 0,TODAY()>D19),100%,IF(TODAY()<D19,0,IF(TODAY()>F19,100%,NETWORKDAYS(D19,TODAY(),'Jours fériés'!$A$2:$A$20)/E19)))) -> 1 | H19: 0 | I19: =IF(D19=0,"",IF(AND(D19=F19,H19<1,TODAY()>F19),"En retard",IF(H19>G19,"En avance",IF(G19=0,"/",IF(H19=1,"Terminé",IF(TODAY()>F19,"En retard","En cours")))))) | J19: =IF(AND(I19="En retard",(NETWORKDAYS(F19,TODAY(),'Jours fériés'!$A$2:$A$20))>0),NETWORKDAYS(F19,TODAY(),'Jours fériés'!$A$2:$A$20),"") | M19: =IF((NETWORKDAYS(F19,L19,'Jours fériés'!$A$2:$A$20)-1)<0, 0,NETWORKDAYS(F19,L19,'Jours fériés'!$A$2:$A$20)-1) -> 0
A20: 2 | B20: Process Achat / Commerce export | C20: Resp | D20: Début | E20: Durée | F20: Fin | G20: Avance. Théorique | H20: Avance. Réel | I20: Statut | J20: En retard de | K20: Commentaire | L20: Date de fin réele | M20: Jours de retard
B21: Echange Nicolas B | C21: Alexandra | D21: 44370 | E21: =NETWORKDAYS(D21,F21,'Jours fériés'!$A$2:$A$20) -> 1 | F21: 44370 | G21: =IF(H21=1,100%,IF(AND(D21=F21,D21 <> 0,TODAY()>D21),100%,IF(TODAY()<D21,0,IF(TODAY()>F21,100%,NETWORKDAYS(D21,TODAY(),'Jours fériés'!$A$2:$A$20)/E21)))) -> 1 | H21: 1 | I21: =IF(D21=0,"",IF(AND(D21=F21,H21<1,TODAY()>F21),"En retard",IF(H21>G21,"En avance",IF(G21=0,"/",IF(H21=1,"Terminé",IF(TODAY()>F21,"En retard","En cours")))))) -> Terminé | J21: =IF(AND(I21="En retard",(NETWORKDAYS(F21,TODAY(),'Jours fériés'!$A$2:$A$20))>0),NETWORKDAYS(F21,TODAY(),'Jours fériés'!$A$2:$A$20),"") | L21: 44370 | M21: =IF((NETWORKDAYS(F21,L21,'Jours fériés'!$A$2:$A$20)-1)<0, 0,NETWORKDAYS(F21,L21,'Jours fériés'!$A$2:$A$20)-1) -> 0
B22: Réunion Nicolas + Laurent + David | C22: Alexandra | D22: 44383 | E22: =NETWORKDAYS(D22,F22,'Jours fériés'!$A$2:$A$20) -> 1 | F22: 44383 | G22: =IF(H22=1,100%,IF(AND(D22=F22,D22 <> 0,TODAY()>D22),100%,IF(TODAY()<D22,0,IF(TODAY()>F22,100%,NETWORKDAYS(D22,TODAY(),'Jours fériés'!$A$2:$A$20)/E22)))) -> 0 | H22: 0.5 | I22: =IF(D22=0,"",IF(AND(D22=F22,H22<1,TODAY()>F22),"En retard",IF(H22>G22,"En avance",IF(G22=0,"/",IF(H22=1,"Terminé",IF(TODAY()>F22,"En retard","En cours")))))) -> En avance | J22: =IF(AND(I22="En retard",(NETWORKDAYS(F22,TODAY(),'Jours fériés'!$A$2:$A$20))>0),NETWORKDAYS(F22,TODAY(),'Jours fériés'!$A$2:$A$20),"") | M22: =IF((NETWORKDAYS(F22,L22,'Jours fériés'!$A$2:$A$20)-1)<0, 0,NETWORKDAYS(F22,L22,'Jours fériés'!$A$2:$A$20)-1) -> 0
B23: Définition stratégie commerciale draft V1 | C23: Alexandra | D23: 44383 | F23: 44407 | G23: 0 | H23: 0
E24: =NETWORKDAYS(D24,F24,'Jours fériés'!$A$2:$A$20) -> 0 | G24: =IF(H24=1,100%,IF(AND(D24=F24,D24 <> 0,TODAY()>D24),100%,IF(TODAY()<D24,0,IF(TODAY()>F24,100%,NETWORKDAYS(D24,TODAY(),'Jours fériés'!$A$2:$A$20)/E24)))) -> 1 | H24: 0
E25: =NETWORKDAYS(D25,F25,'Jours fériés'!$A$2:$A$20) -> 0 | G25: =IF(H25=1,100%,IF(AND(D25=F25,D25 <> 0,TODAY()>D25),100%,IF(TODAY()<D25,0,IF(TODAY()>F25,100%,NETWORKDAYS(D25,TODAY(),'Jours fériés'!$A$2:$A$20)/E25)))) -> 1 | H25: 0
E26: =NETWORKDAYS(D26,F26,'Jours fériés'!$A$2:$A$20) -> 0 | G26: =IF(H26=1,100%,IF(AND(D26=F26,D26 <> 0,TODAY()>D26),100%,IF(TODAY()<D26,0,IF(TODAY()>F26,100%,NETWORKDAYS(D26,TODAY(),'Jours fériés'!$A$2:$A$20)/E26)))) -> 1 | H26: 0
E27: =NETWORKDAYS(D27,F27,'Jours fériés'!$A$2:$A$20) -> 0 | G27: =IF(H27=1,100%,IF(AND(D27=F27,D27 <> 0,TODAY()>D27),100%,IF(TODAY()<D27,0,IF(TODAY()>F27,100%,NETWORKDAYS(D27,TODAY(),'Jours fériés'!$A$2:$A$20)/E27)))) -> 1 | H27: 0
E28: =NETWORKDAYS(D28,F28,'Jours fériés'!$A$2:$A$20) -> 0 | G28: =IF(H28=1,100%,IF(AND(D28=F28,D28 <> 0,TODAY()>D28),100%,IF(TODAY()<D28,0,IF(TODAY()>F28,100%,NETWORKDAYS(D28,TODAY(),'Jours fériés'!$A$2:$A$20)/E28)))) -> 1 | H28: 0 | I28: =IF(D28=0,"",IF(AND(D28=F28,H28<1,TODAY()>F28),"En retard",IF(H28>G28,"En avance",IF(G28=0,"/",IF(H28=1,"Terminé",IF(TODAY()>F28,"En retard","En cours")))))) | J28: =IF(AND(I28="En retard",(NETWORKDAYS(F28,TODAY(),'Jours fériés'!$A$2:$A$20))>0),NETWORKDAYS(F28,TODAY(),'Jours fériés'!$A$2:$A$20),"") | M28: =IF((NETWORKDAYS(F28,L28,'Jours fériés'!$A$2:$A$20)-1)<0, 0,NETWORKDAYS(F28,L28,'Jours fériés'!$A$2:$A$20)-1) -> 0
E29: =NETWORKDAYS(D29,F29,'Jours fériés'!$A$2:$A$20) -> 0 | G29: =IF(H29=1,100%,IF(AND(D29=F29,D29 <> 0,TODAY()>D29),100%,IF(TODAY()<D29,0,IF(TODAY()>F29,100%,NETWORKDAYS(D29,TODAY(),'Jours fériés'!$A$2:$A$20)/E29)))) -> 1 | H29: 0 | I29: =IF(D29=0,"",IF(AND(D29=F29,H29<1,TODAY()>F29),"En retard",IF(H29>G29,"En avance",IF(G29=0,"/",IF(H29=1,"Terminé",IF(TODAY()>F29,"En retard","En cours")))))) | J29: =IF(AND(I29="En retard",(NETWORKDAYS(F29,TODAY(),'Jours fériés'!$A$2:$A$20))>0),NETWORKDAYS(F29,TODAY(),'Jours fériés'!$A$2:$A$20),"") | M29: =IF((NETWORKDAYS(F29,L29,'Jours fériés'!$A$2:$A$20)-1)<0, 0,NETWORKDAYS(F29,L29,'Jours fériés'!$A$2:$A$20)-1) -> 0
E30: =NETWORKDAYS(D30,F30,'Jours fériés'!$A$2:$A$20) -> 0 | G30: =IF(H30=1,100%,IF(AND(D30=F30,D30 <> 0,TODAY()>D30),100%,IF(TODAY()<D30,0,IF(TODAY()>F30,100%,NETWORKDAYS(D30,TODAY(),'Jours fériés'!$A$2:$A$20)/E30)))) -> 1 | H30: 0 | I30: =IF(D30=0,"",IF(AND(D30=F30,H30<1,TODAY()>F30),"En retard",IF(H30>G30,"En avance",IF(G30=0,"/",IF(H30=1,"Terminé",IF(TODAY()>F30,"En retard","En cours")))))) | J30: =IF(AND(I30="En retard",(NETWORKDAYS(F30,TODAY(),'Jours fériés'!$A$2:$A$20))>0),NETWORKDAYS(F30,TODAY(),'Jours fériés'!$A$2:$A$20),"") | M30: =IF((NETWORKDAYS(F30,L30,'Jours fériés'!$A$2:$A$20)-1)<0, 0,NETWORKDAYS(F30,L30,'Jours fériés'!$A$2:$A$20)-1) -> 0
A31: 3 | B31: Référentiel fournisseurs | C31: Resp | D31: Début | E31: Durée | F31: Fin | G31: Avance. Théorique | H31: Avance. Réel | I31: Statut | J31: En retard de | K31: Commentaire | L31: Date de fin réele | M31: Jours de retard
B32: Contruction fichier BDD | C32: Grégory | D32: 44373 | E32: =NETWORKDAYS(D32,F32,'Jours fériés'!$A$2:$A$20) -> 0 | F32: 44373 | G32: =IF(H32=1,100%,IF(AND(D32=F32,D32 <> 0,TODAY()>D32),100%,IF(TODAY()<D32,0,IF(TODAY()>F32,100%,NETWORKDAYS(D32,TODAY(),'Jours fériés'!$A$2:$A$20)/E32)))) -> 1 | H32: 0.9 | I32: =IF(D32=0,"",IF(AND(D32=F32,H32<1,TODAY()>F32),"En retard",IF(H32>G32,"En avance",IF(G32=0,"/",IF(H32=1,"Terminé",IF(TODAY()>F32,"En retard","En cours")))))) -> En retard | J32: =IF(AND(I32="En retard",(NETWORKDAYS(F32,TODAY(),'Jours fériés'!$A$2:$A$20))>0),NETWORKDAYS(F32,TODAY(),'Jours fériés'!$A$2:$A$20),"") -> 5 | L32: 44318 | M32: =IF((NETWORKDAYS(F32,L32,'Jours fériés'!$A$2:$A$20)-1)<0, 0,NETWORKDAYS(F32,L32,'Jours fériés'!$A$2:$A$20)-1) -> 0
E33: =NETWORKDAYS(D33,F33,'Jours fériés'!$A$2:$A$20) -> 0 | G33: =IF(H33=1,100%,IF(AND(D33=F33,D33 <> 0,TODAY()>D33),100%,IF(TODAY()<D33,0,IF(TODAY()>F33,100%,NETWORKDAYS(D33,TODAY(),'Jours fériés'!$A$2:$A$20)/E33)))) -> 1 | H33: 0 | I33: =IF(D33=0,"",IF(AND(D33=F33,H33<1,TODAY()>F33),"En retard",IF(H33>G33,"En avance",IF(G33=0,"/",IF(H33=1,"Terminé",IF(TODAY()>F33,"En retard","En cours")))))) | J33: =IF(AND(I33="En retard",(NETWORKDAYS(F33,TODAY(),'Jours fériés'!$A$2:$A$20))>0),NETWORKDAYS(F33,TODAY(),'Jours fériés'!$A$2:$A$20),"") | M33: =IF((NETWORKDAYS(F33,L33,'Jours fériés'!$A$2:$A$20)-1)<0, 0,NETWORKDAYS(F33,L33,'Jours fériés'!$A$2:$A$20)-1) -> 0
E34: =NETWORKDAYS(D34,F34,'Jours fériés'!$A$2:$A$20) -> 0 | G34: =IF(H34=1,100%,IF(AND(D34=F34,D34 <> 0,TODAY()>D34),100%,IF(TODAY()<D34,0,IF(TODAY()>F34,100%,NETWORKDAYS(D34,TODAY(),'Jours fériés'!$A$2:$A$20)/E34)))) -> 1 | H34: 0 | I34: =IF(D34=0,"",IF(AND(D34=F34,H34<1,TODAY()>F34),"En retard",IF(H34>G34,"En avance",IF(G34=0,"/",IF(H34=1,"Terminé",IF(TODAY()>F34,"En retard","En cours")))))) | J34: =IF(AND(I34="En retard",(NETWORKDAYS(F34,TODAY(),'Jours fériés'!$A$2:$A$20))>0),NETWORKDAYS(F34,TODAY(),'Jours fériés'!$A$2:$A$20),"") | M34: =IF((NETWORKDAYS(F34,L34,'Jours fériés'!$A$2:$A$20)-1)<0, 0,NETWORKDAYS(F34,L34,'Jours fériés'!$A$2:$A$20)-1) -> 0
E35: =NETWORKDAYS(D35,F35,'Jours fériés'!$A$2:$A$20) -> 0 | G35: =IF(H35=1,100%,IF(AND(D35=F35,D35 <> 0,TODAY()>D35),100%,IF(TODAY()<D35,0,IF(TODAY()>F35,100%,NETWORKDAYS(D35,TODAY(),'Jours fériés'!$A$2:$A$20)/E35)))) -> 1 | H35: 0 | I35: =IF(D35=0,"",IF(AND(D35=F35,H35<1,TODAY()>F35),"En retard",IF(H35>G35,"En avance",IF(G35=0,"/",IF(H35=1,"Terminé",IF(TODAY()>F35,"En retard","En cours")))))) | J35: =IF(AND(I35="En retard",(NETWORKDAYS(F35,TODAY(),'Jours fériés'!$A$2:$A$20))>0),NETWORKDAYS(F35,TODAY(),'Jours fériés'!$A$2:$A$20),"") | M35: =IF((NETWORKDAYS(F35,L35,'Jours fériés'!$A$2:$A$20)-1)<0, 0,NETWORKDAYS(F35,L35,'Jours fériés'!$A$2:$A$20)-1) -> 0
E36: =NETWORKDAYS(D36,F36,'Jours fériés'!$A$2:$A$20) -> 0 | G36: =IF(H36=1,100%,IF(AND(D36=F36,D36 <> 0,TODAY()>D36),100%,IF(TODAY()<D36,0,IF(TODAY()>F36,100%,NETWORKDAYS(D36,TODAY(),'Jours fériés'!$A$2:$A$20)/E36)))) -> 1 | H36: 0 | I36: =IF(D36=0,"",IF(AND(D36=F36,H36<1,TODAY()>F36),"En retard",IF(H36>G36,"En avance",IF(G36=0,"/",IF(H36=1,"Terminé",IF(TODAY()>F36,"En retard","En cours")))))) | J36: =IF(AND(I36="En retard",(NETWORKDAYS(F36,TODAY(),'Jours fériés'!$A$2:$A$20))>0),NETWORKDAYS(F36,TODAY(),'Jours fériés'!$A$2:$A$20),"") | M36: =IF((NETWORKDAYS(F36,L36,'Jours fériés'!$A$2:$A$20)-1)<0, 0,NETWORKDAYS(F36,L36,'Jours fériés'!$A$2:$A$20)-1) -> 0
E37: =NETWORKDAYS(D37,F37,'Jours fériés'!$A$2:$A$20) -> 0 | G37: =IF(H37=1,100%,IF(AND(D37=F37,D37 <> 0,TODAY()>D37),100%,IF(TODAY()<D37,0,IF(TODAY()>F37,100%,NETWORKDAYS(D37,TODAY(),'Jours fériés'!$A$2:$A$20)/E37)))) -> 1 | H37: 0 | I37: =IF(D37=0,"",IF(AND(D37=F37,H37<1,TODAY()>F37),"En retard",IF(H37>G37,"En avance",IF(G37=0,"/",IF(H37=1,"Terminé",IF(TODAY()>F37,"En retard","En cours")))))) | J37: =IF(AND(I37="En retard",(NETWORKDAYS(F37,TODAY(),'Jours fériés'!$A$2:$A$20))>0),NETWORKDAYS(F37,TODAY(),'Jours fériés'!$A$2:$A$20),"") | M37: =IF((NETWORKDAYS(F37,L37,'Jours fériés'!$A$2:$A$20)-1)<0, 0,NETWORKDAYS(F37,L37,'Jours fériés'!$A$2:$A$20)-1) -> 0
E38: =NETWORKDAYS(D38,F38,'Jours fériés'!$A$2:$A$20) -> 0 | G38: =IF(H38=1,100%,IF(AND(D38=F38,D38 <> 0,TODAY()>D38),100%,IF(TODAY()<D38,0,IF(TODAY()>F38,100%,NETWORKDAYS(D38,TODAY(),'Jours fériés'!$A$2:$A$20)/E38)))) -> 1 | H38: 0 | I38: =IF(D38=0,"",IF(AND(D38=F38,H38<1,TODAY()>F38),"En retard",IF(H38>G38,"En avance",IF(G38=0,"/",IF(H38=1,"Terminé",IF(TODAY()>F38,"En retard","En cours")))))) | J38: =IF(AND(I38="En retard",(NETWORKDAYS(F38,TODAY(),'Jours fériés'!$A$2:$A$20))>0),NETWORKDAYS(F38,TODAY(),'Jours fériés'!$A$2:$A$20),"") | M38: =IF((NETWORKDAYS(F38,L38,'Jours fériés'!$A$2:$A$20)-1)<0, 0,NETWORKDAYS(F38,L38,'Jours fériés'!$A$2:$A$20)-1) -> 0
E39: =NETWORKDAYS(D39,F39,'Jours fériés'!$A$2:$A$20) -> 0 | G39: =IF(H39=1,100%,IF(AND(D39=F39,D39 <> 0,TODAY()>D39),100%,IF(TODAY()<D39,0,IF(TODAY()>F39,100%,NETWORKDAYS(D39,TODAY(),'Jours fériés'!$A$2:$A$20)/E39)))) -> 1 | H39: 0 | I39: =IF(D39=0,"",IF(AND(D39=F39,H39<1,TODAY()>F39),"En retard",IF(H39>G39,"En avance",IF(G39=0,"/",IF(H39=1,"Terminé",IF(TODAY()>F39,"En retard","En cours")))))) | J39: =IF(AND(I39="En retard",(NETWORKDAYS(F39,TODAY(),'Jours fériés'!$A$2:$A$20))>0),NETWORKDAYS(F39,TODAY(),'Jours fériés'!$A$2:$A$20),"") | M39: =IF((NETWORKDAYS(F39,L39,'Jours fériés'!$A$2:$A$20)-1)<0, 0,NETWORKDAYS(F39,L39,'Jours fériés'!$A$2:$A$20)-1) -> 0
E40: =NETWORKDAYS(D40,F40,'Jours fériés'!$A$2:$A$20) -> 0 | G40: =IF(H40=1,100%,IF(AND(D40=F40,D40 <> 0,TODAY()>D40),100%,IF(TODAY()<D40,0,IF(TODAY()>F40,100%,NETWORKDAYS(D40,TODAY(),'Jours fériés'!$A$2:$A$20)/E40)))) -> 1 | H40: 0 | I40: =IF(D40=0,"",IF(AND(D40=F40,H40<1,TODAY()>F40),"En retard",IF(H40>G40,"En avance",IF(G40=0,"/",IF(H40=1,"Terminé",IF(TODAY()>F40,"En retard","En cours")))))) | J40: =IF(AND(I40="En retard",(NETWORKDAYS(F40,TODAY(),'Jours fériés'!$A$2:$A$20))>0),NETWORKDAYS(F40,TODAY(),'Jours fériés'!$A$2:$A$20),"") | M40: =IF((NETWORKDAYS(F40,L40,'Jours fériés'!$A$2:$A$20)-1)<0, 0,NETWORKDAYS(F40,L40,'Jours fériés'!$A$2:$A$20)-1) -> 0
E41: =NETWORKDAYS(D41,F41,'Jours fériés'!$A$2:$A$20) -> 0 | G41: =IF(H41=1,100%,IF(AND(D41=F41,D41 <> 0,TODAY()>D41),100%,IF(TODAY()<D41,0,IF(TODAY()>F41,100%,NETWORKDAYS(D41,TODAY(),'Jours fériés'!$A$2:$A$20)/E41)))) -> 1 | H41: 0 | I41: =IF(D41=0,"",IF(AND(D41=F41,H41<1,TODAY()>F41),"En retard",IF(H41>G41,"En avance",IF(G41=0,"/",IF(H41=1,"Terminé",IF(TODAY()>F41,"En retard","En cours")))))) | J41: =IF(AND(I41="En retard",(NETWORKDAYS(F41,TODAY(),'Jours fériés'!$A$2:$A$20))>0),NETWORKDAYS(F41,TODAY(),'Jours fériés'!$A$2:$A$20),"") | M41: =IF((NETWORKDAYS(F41,L41,'Jours fériés'!$A$2:$A$20)-1)<0, 0,NETWORKDAYS(F41,L41,'Jours fériés'!$A$2:$A$20)-1) -> 0

Sheet GANTT

Sheet Burndown Chart
C2: Début | D2: Tâches restantes | E2: Fin | F2: Tâches terminées | G2: Total tâches | H2: Nombre de semaines
C3: =MIN(#REF!,#REF!) -> #REF! | D3: =G3-F3 -> #REF! | E3: =MAX(#REF!,#REF!) -> #REF! | F3: =#REF! -> #REF! | G3: =#REF! -> #REF! | H3: =(YEAR(E3)-YEAR(C3))*52+_xlfn.ISOWEEKNUM(E3)-_xlfn.ISOWEEKNUM(C3) -> #REF!
C5: Dates | D5: Tâches restantes | E5: Idéal | F5: Planifiées
B6: Début | C6: =C3 -> #REF! | D6: =G3 -> #REF! | E6: =G3 -> #REF! | F6: =$G$3-COUNTIF(#REF!, "<="&C6) -> #REF!
A7: 1 | B7: Semaine 1 | C7: =C6+7 -> #REF! | D7: 26 | E7: =$E$6-($E$6/$H$3)*A7 -> #REF! | F7: =$G$3-COUNTIF(#REF!, "<="&C7) -> #REF!
A8: 2 | B8: Semaine 2 | C8: =C7+7 -> #REF! | E8: =$E$6-($E$6/$H$3)*A8 -> #REF! | F8: =$G$3-COUNTIF(#REF!, "<="&C8) -> #REF!
A9: 3 | B9: Semaine 3 | C9: =C8+7 -> #REF! | E9: =$E$6-($E$6/$H$3)*A9 -> #REF! | F9: =$G$3-COUNTIF(#REF!, "<="&C9) -> #REF!
A10: 4 | B10: Semaine 4 | C10: =C9+7 -> #REF! | E10: =$E$6-($E$6/$H$3)*A10 -> #REF! | F10: =$G$3-COUNTIF(#REF!, "<="&C10) -> #REF!
A11: 5 | B11: Semaine 5 | C11: =C10+7 -> #REF! | E11: =$E$6-($E$6/$H$3)*A11 -> #REF! | F11: =$G$3-COUNTIF(#REF!, "<="&C11) -> #REF!
A12: 6 | B12: Semaine 6 | C12: =C11+7 -> #REF! | E12: =$E$6-($E$6/$H$3)*A12 -> #REF! | F12: =$G$3-COUNTIF(#REF!, "<="&C12) -> #REF!
A13: 7 | B13: Semaine 7 | C13: =C12+7 -> #REF! | E13: =$E$6-($E$6/$H$3)*A13 -> #REF! | F13: =$G$3-COUNTIF(#REF!, "<="&C13) -> #REF!
A14: 8 | B14: Semaine 8 | C14: =C13+7 -> #REF! | E14: =$E$6-($E$6/$H$3)*A14 -> #REF! | F14: =$G$3-COUNTIF(#REF!, "<="&C14) -> #REF!
A15: 9 | B15: Semaine 9 | C15: =C14+7 -> #REF! | E15: =$E$6-($E$6/$H$3)*A15 -> #REF! | F15: =$G$3-COUNTIF(#REF!, "<="&C15) -> #REF!
A16: 10 | B16: Semaine 10 | C16: =C15+7 -> #REF! | E16: =$E$6-($E$6/$H$3)*A16 -> #REF! | F16: =$G$3-COUNTIF(#REF!, "<="&C16) -> #REF!
A17: 11 | B17: Semaine 11 | C17: =C16+7 -> #REF! | E17: =$E$6-($E$6/$H$3)*A17 -> #REF! | F17: =$G$3-COUNTIF(#REF!, "<="&C17) -> #REF!
A18: 12 | B18: Semaine 12 | C18: =C17+7 -> #REF! | E18: =$E$6-($E$6/$H$3)*A18 -> #REF! | F18: =$G$3-COUNTIF(#REF!, "<="&C18) -> #REF!
A19: 13 | B19: Semaine 13 | C19: =C18+7 -> #REF! | E19: =$E$6-($E$6/$H$3)*A19 -> #REF! | F19: =$G$3-COUNTIF(#REF!, "<="&C19) -> #REF!
... A48: 42 | B48: Semaine 42 | C48: =C47+7 -> #REF! | E48: =$E$6-($E$6/$H$3)*A48 -> #REF! | F48: =$G$3-COUNTIF(#REF!, "<="&C48) -> #REF!

Sheet Jours fériés
A1: Jours fériés
A2: 44391
A3: 44423
A4: 44501
A5: 44511
A6: 44555
A7: 44561
A8: 44562
A9: 44667
A10: 44668
A11: 44682
A12: 44689
A13: 44706
... A22: 44927
