Workbook

Sheet Import
B1: TubeBarcode
B2: 566733
B3: 566596
B4: 572064
B5: 566576
B6: 566580
B7: 566583
B8: 566584
B9: 566585
B10: 566586
B11: 566587
B12: 566588
B13: 566590
... B60: 572083

Sheet Scan
A1: SCANNER LES TUBES RECUS ICI | B1: Résultat | D1: Nombre de tubes dans le fichier importé | E1: Nombre de tubes scannés
A2: 566721 | B2: =IF(A2<>"",IF(IFERROR(VLOOKUP(A2,Import!B:B,1,FALSE),"")=A2,"OK","Pas présent dans la liste"),"") -> OK | D2: =COUNTA(Import!B:B)-1 -> 58 | E2: =COUNTA(A:A)-1 -> 55 | G2: =IF(Import!B2<>"",IF(ISNA(VLOOKUP(Import!B2,Scan!A:A,1,FALSE)),Import!B2,""),"") -> 566733 | H2: =IFERROR(INDEX($G$2:$G$4, SMALL(IF(NOT(ISBLANK($G$2:$G$4)),ROW($A$1:$A$3), ""),ROW(A1) )), "") -> 566733 | J2: =IF(Import!B2<>"",IF(ISNA(VLOOKUP(Import!B2,Scan!A:A,1,FALSE)),Import!B2,""),"") -> 566733 | K2: {=IFERROR(INDEX($J$2:$J$4, SMALL(IF(NOT(ISBLANK($J$2:$J$4)),ROW($A$1:$A$3), ""),ROW(A1) )), "")} -> 566733
A3: 566709 | B3: =IF(A3<>"",IF(IFERROR(VLOOKUP(A3,Import!B:B,1,FALSE),"")=A3,"OK","Pas présent dans la liste"),"") -> OK | G3: =IF(Import!B3<>"",IF(ISNA(VLOOKUP(Import!B3,Scan!A:A,1,FALSE)),Import!B3,""),"") | H3: {=IFERROR(INDEX($G$2:$G$4, SMALL(IF(NOT(ISBLANK($G$2:$G$4)),ROW($A$1:$A$3), ""),ROW(A2) )), "")} | K3: {=IFERROR(INDEX($J$2:$J$4, SMALL(IF(NOT(ISBLANK($J$2:$J$4)),ROW($A$1:$A$3), ""),ROW(A2) )), "")} -> 572064
A4: 566583 | B4: =IF(A4<>"",IF(IFERROR(VLOOKUP(A4,Import!B:B,1,FALSE),"")=A4,"OK","Pas présent dans la liste"),"") -> OK | G4: =IF(Import!B4<>"",IF(ISNA(VLOOKUP(Import!B4,Scan!A:A,1,FALSE)),Import!B4,""),"") -> 572064 | H4: {=IFERROR(INDEX($G$2:$G$4, SMALL(IF(NOT(ISBLANK($G$2:$G$4)),ROW($A$1:$A$3), ""),ROW(A3) )), "")} -> 572064 | J4: =IF(Import!B4<>"",IF(ISNA(VLOOKUP(Import!B4,Scan!A:A,1,FALSE)),Import!B4,""),"") -> 572064 | K4: {=IFERROR(INDEX($J$2:$J$4, SMALL(IF(NOT(ISBLANK($J$2:$J$4)),ROW($A$1:$A$3), ""),ROW(A3) )), "")}
A5: 566580 | B5: =IF(A5<>"",IF(IFERROR(VLOOKUP(A5,Import!B:B,1,FALSE),"")=A5,"OK","Pas présent dans la liste"),"") -> OK | G5: =IF(Import!B5<>"",IF(ISNA(VLOOKUP(Import!B5,Scan!A:A,1,FALSE)),Import!B5,""),"") | H5: {=IFERROR(INDEX($G$2:$G$4, SMALL(IF(NOT(ISBLANK($G$2:$G$4)),ROW($A$1:$A$3), ""),ROW(A4) )), "")} | J5: =IF(Import!B5<>"",IF(ISNA(VLOOKUP(Import!B5,Scan!A:A,1,FALSE)),Import!B5,""),"") | K5: {=IFERROR(INDEX($J$2:$J$4, SMALL(IF(NOT(ISBLANK($J$2:$J$4)),ROW($A$1:$A$3), ""),ROW(A4) )), "")}
A6: 566586 | B6: =IF(A6<>"",IF(IFERROR(VLOOKUP(A6,Import!B:B,1,FALSE),"")=A6,"OK","Pas présent dans la liste"),"") -> OK | G6: =IF(Import!B6<>"",IF(ISNA(VLOOKUP(Import!B6,Scan!A:A,1,FALSE)),Import!B6,""),"") | H6: {=IFERROR(INDEX($G$2:$G$4, SMALL(IF(NOT(ISBLANK($G$2:$G$4)),ROW($K$1:$K$3), ""),ROW(A5) )), "")} | J6: =IF(Import!B6<>"",IF(ISNA(VLOOKUP(Import!B6,Scan!A:A,1,FALSE)),Import!B6,""),"") | K6: {=IFERROR(INDEX($J$2:$J$4, SMALL(IF(NOT(ISBLANK($J$2:$J$4)),ROW($A$1:$A$3), ""),ROW(A5) )), "")}
A7: 566584 | B7: =IF(A7<>"",IF(IFERROR(VLOOKUP(A7,Import!B:B,1,FALSE),"")=A7,"OK","Pas présent dans la liste"),"") -> OK | G7: =IF(Import!B7<>"",IF(ISNA(VLOOKUP(Import!B7,Scan!A:A,1,FALSE)),Import!B7,""),"") | H7: {=IFERROR(INDEX($G$2:$G$4, SMALL(IF(NOT(ISBLANK($G$2:$G$4)),ROW($K$1:$K$3), ""),ROW(A6) )), "")} | J7: =IF(Import!B7<>"",IF(ISNA(VLOOKUP(Import!B7,Scan!A:A,1,FALSE)),Import!B7,""),"") | K7: {=IFERROR(INDEX($J$2:$J$4, SMALL(IF(NOT(ISBLANK($J$2:$J$4)),ROW($A$1:$A$3), ""),ROW(A6) )), "")}
A8: 566598 | B8: =IF(A8<>"",IF(IFERROR(VLOOKUP(A8,Import!B:B,1,FALSE),"")=A8,"OK","Pas présent dans la liste"),"") -> OK | G8: =IF(Import!B8<>"",IF(ISNA(VLOOKUP(Import!B8,Scan!A:A,1,FALSE)),Import!B8,""),"") | H8: {=IFERROR(INDEX($G$2:$G$4, SMALL(IF(NOT(ISBLANK($G$2:$G$4)),ROW($K$1:$K$3), ""),ROW(A7) )), "")} | J8: =IF(Import!B8<>"",IF(ISNA(VLOOKUP(Import!B8,Scan!A:A,1,FALSE)),Import!B8,""),"")
A9: 566596 | B9: =IF(A9<>"",IF(IFERROR(VLOOKUP(A9,Import!B:B,1,FALSE),"")=A9,"OK","Pas présent dans la liste"),"") -> OK | G9: =IF(Import!B9<>"",IF(ISNA(VLOOKUP(Import!B9,Scan!A:A,1,FALSE)),Import!B9,""),"") | H9: {=IFERROR(INDEX($G$2:$G$4, SMALL(IF(NOT(ISBLANK($G$2:$G$4)),ROW($K$1:$K$3), ""),ROW(A8) )), "")} | J9: =IF(Import!B9<>"",IF(ISNA(VLOOKUP(Import!B9,Scan!A:A,1,FALSE)),Import!B9,""),"")
A10: 566599 | B10: =IF(A10<>"",IF(IFERROR(VLOOKUP(A10,Import!B:B,1,FALSE),"")=A10,"OK","Pas présent dans la liste"),"") -> OK | G10: =IF(Import!B10<>"",IF(ISNA(VLOOKUP(Import!B10,Scan!A:A,1,FALSE)),Import!B10,""),"") | J10: =IF(Import!B10<>"",IF(ISNA(VLOOKUP(Import!B10,Scan!A:A,1,FALSE)),Import!B10,""),"")
A11: 566600 | B11: =IF(A11<>"",IF(IFERROR(VLOOKUP(A11,Import!B:B,1,FALSE),"")=A11,"OK","Pas présent dans la liste"),"") -> OK | G11: =IF(Import!B11<>"",IF(ISNA(VLOOKUP(Import!B11,Scan!A:A,1,FALSE)),Import!B11,""),"") | J11: =IF(Import!B11<>"",IF(ISNA(VLOOKUP(Import!B11,Scan!A:A,1,FALSE)),Import!B11,""),"")
A12: 566587 | B12: =IF(A12<>"",IF(IFERROR(VLOOKUP(A12,Import!B:B,1,FALSE),"")=A12,"OK","Pas présent dans la liste"),"") -> OK | G12: =IF(Import!B12<>"",IF(ISNA(VLOOKUP(Import!B12,Scan!A:A,1,FALSE)),Import!B12,""),"") | J12: =IF(Import!B12<>"",IF(ISNA(VLOOKUP(Import!B12,Scan!A:A,1,FALSE)),Import!B12,""),"")
A13: 566715 | B13: =IF(A13<>"",IF(IFERROR(VLOOKUP(A13,Import!B:B,1,FALSE),"")=A13,"OK","Pas présent dans la liste"),"") -> OK | G13: =IF(Import!B13<>"",IF(ISNA(VLOOKUP(Import!B13,Scan!A:A,1,FALSE)),Import!B13,""),"") | J13: =IF(Import!B13<>"",IF(ISNA(VLOOKUP(Import!B13,Scan!A:A,1,FALSE)),Import!B13,""),"")
A14: 566588 | B14: =IF(A14<>"",IF(IFERROR(VLOOKUP(A14,Import!B:B,1,FALSE),"")=A14,"OK","Pas présent dans la liste"),"") -> OK | G14: =IF(Import!B14<>"",IF(ISNA(VLOOKUP(Import!B14,Scan!A:A,1,FALSE)),Import!B14,""),"") | J14: =IF(Import!B14<>"",IF(ISNA(VLOOKUP(Import!B14,Scan!A:A,1,FALSE)),Import!B14,""),"")
A15: 566585 | B15: =IF(A15<>"",IF(IFERROR(VLOOKUP(A15,Import!B:B,1,FALSE),"")=A15,"OK","Pas présent dans la liste"),"") -> OK | G15: =IF(Import!B15<>"",IF(ISNA(VLOOKUP(Import!B15,Scan!A:A,1,FALSE)),Import!B15,""),"") | J15: =IF(Import!B15<>"",IF(ISNA(VLOOKUP(Import!B15,Scan!A:A,1,FALSE)),Import!B15,""),"")
A16: 566714 | B16: =IF(A16<>"",IF(IFERROR(VLOOKUP(A16,Import!B:B,1,FALSE),"")=A16,"OK","Pas présent dans la liste"),"") -> OK | G16: =IF(Import!B16<>"",IF(ISNA(VLOOKUP(Import!B16,Scan!A:A,1,FALSE)),Import!B16,""),"") | J16: =IF(Import!B16<>"",IF(ISNA(VLOOKUP(Import!B16,Scan!A:A,1,FALSE)),Import!B16,""),"")
A17: 566712 | B17: =IF(A17<>"",IF(IFERROR(VLOOKUP(A17,Import!B:B,1,FALSE),"")=A17,"OK","Pas présent dans la liste"),"") -> OK | G17: =IF(Import!B17<>"",IF(ISNA(VLOOKUP(Import!B17,Scan!A:A,1,FALSE)),Import!B17,""),"") | J17: =IF(Import!B17<>"",IF(ISNA(VLOOKUP(Import!B17,Scan!A:A,1,FALSE)),Import!B17,""),"")
A18: 566701 | B18: =IF(A18<>"",IF(IFERROR(VLOOKUP(A18,Import!B:B,1,FALSE),"")=A18,"OK","Pas présent dans la liste"),"") -> OK | G18: =IF(Import!B18<>"",IF(ISNA(VLOOKUP(Import!B18,Scan!A:A,1,FALSE)),Import!B18,""),"") | J18: =IF(Import!B18<>"",IF(ISNA(VLOOKUP(Import!B18,Scan!A:A,1,FALSE)),Import!B18,""),"")
A19: 566717 | B19: =IF(A19<>"",IF(IFERROR(VLOOKUP(A19,Import!B:B,1,FALSE),"")=A19,"OK","Pas présent dans la liste"),"") -> OK | G19: =IF(Import!B19<>"",IF(ISNA(VLOOKUP(Import!B19,Scan!A:A,1,FALSE)),Import!B19,""),"") | J19: =IF(Import!B19<>"",IF(ISNA(VLOOKUP(Import!B19,Scan!A:A,1,FALSE)),Import!B19,""),"")
A20: 566713 | B20: =IF(A20<>"",IF(IFERROR(VLOOKUP(A20,Import!B:B,1,FALSE),"")=A20,"OK","Pas présent dans la liste"),"") -> OK | G20: =IF(Import!B20<>"",IF(ISNA(VLOOKUP(Import!B20,Scan!A:A,1,FALSE)),Import!B20,""),"") | J20: =IF(Import!B20<>"",IF(ISNA(VLOOKUP(Import!B20,Scan!A:A,1,FALSE)),Import!B20,""),"")
A21: 566705 | B21: =IF(A21<>"",IF(IFERROR(VLOOKUP(A21,Import!B:B,1,FALSE),"")=A21,"OK","Pas présent dans la liste"),"") -> OK | G21: =IF(Import!B21<>"",IF(ISNA(VLOOKUP(Import!B21,Scan!A:A,1,FALSE)),Import!B21,""),"") | J21: =IF(Import!B21<>"",IF(ISNA(VLOOKUP(Import!B21,Scan!A:A,1,FALSE)),Import!B21,""),"")
... A28: 572036 | B28: =IF(A28<>"",IF(IFERROR(VLOOKUP(A28,Import!B:B,1,FALSE),"")=A28,"OK","Pas présent dans la liste"),"") -> OK | G28: =IF(Import!B28<>"",IF(ISNA(VLOOKUP(Import!B28,Scan!A:A,1,FALSE)),Import!B28,""),"") | J28: =IF(Import!B28<>"",IF(ISNA(VLOOKUP(Import!B28,Scan!A:A,1,FALSE)),Import!B28,""),"")
A29: 572092 | B29: =IF(A29<>"",IF(IFERROR(VLOOKUP(A29,Import!B:B,1,FALSE),"")=A29,"OK","Pas présent dans la liste"),"") -> OK | G29: =IF(ISNA(VLOOKUP(Import!B29,Scan!A:A,1,FALSE)),Import!B29,"") | J29: =IF(Import!B29<>"",IF(ISNA(VLOOKUP(Import!B29,Scan!A:A,1,FALSE)),Import!B29,""),"")
A30: 572084 | B30: =IF(A30<>"",IF(IFERROR(VLOOKUP(A30,Import!B:B,1,FALSE),"")=A30,"OK","Pas présent dans la liste"),"") -> OK | G30: =IF(ISNA(VLOOKUP(Import!B30,Scan!A:A,1,FALSE)),Import!B30,"") | J30: =IF(Import!B30<>"",IF(ISNA(VLOOKUP(Import!B30,Scan!A:A,1,FALSE)),Import!B30,""),"")
A31: 572137 | B31: =IF(A31<>"",IF(IFERROR(VLOOKUP(A31,Import!B:B,1,FALSE),"")=A31,"OK","Pas présent dans la liste"),"") -> OK | G31: =IF(ISNA(VLOOKUP(Import!B31,Scan!A:A,1,FALSE)),Import!B31,"") | J31: =IF(Import!B31<>"",IF(ISNA(VLOOKUP(Import!B31,Scan!A:A,1,FALSE)),Import!B31,""),"")
A32: 572143 | B32: =IF(A32<>"",IF(IFERROR(VLOOKUP(A32,Import!B:B,1,FALSE),"")=A32,"OK","Pas présent dans la liste"),"") -> OK | G32: =IF(ISNA(VLOOKUP(Import!B32,Scan!A:A,1,FALSE)),Import!B32,"") | J32: =IF(Import!B32<>"",IF(ISNA(VLOOKUP(Import!B32,Scan!A:A,1,FALSE)),Import!B32,""),"")
A33: 572138 | B33: =IF(A33<>"",IF(IFERROR(VLOOKUP(A33,Import!B:B,1,FALSE),"")=A33,"OK","Pas présent dans la liste"),"") -> OK | G33: =IF(ISNA(VLOOKUP(Import!B33,Scan!A:A,1,FALSE)),Import!B33,"") | J33: =IF(Import!B33<>"",IF(ISNA(VLOOKUP(Import!B33,Scan!A:A,1,FALSE)),Import!B33,""),"")
A34: 572062 | B34: =IF(A34<>"",IF(IFERROR(VLOOKUP(A34,Import!B:B,1,FALSE),"")=A34,"OK","Pas présent dans la liste"),"") -> OK | G34: =IF(ISNA(VLOOKUP(Import!B34,Scan!A:A,1,FALSE)),Import!B34,"") | J34: =IF(Import!B34<>"",IF(ISNA(VLOOKUP(Import!B34,Scan!A:A,1,FALSE)),Import!B34,""),"")
A35: 572038 | B35: =IF(A35<>"",IF(IFERROR(VLOOKUP(A35,Import!B:B,1,FALSE),"")=A35,"OK","Pas présent dans la liste"),"") -> OK | G35: =IF(ISNA(VLOOKUP(Import!B35,Scan!A:A,1,FALSE)),Import!B35,"") | J35: =IF(Import!B35<>"",IF(ISNA(VLOOKUP(Import!B35,Scan!A:A,1,FALSE)),Import!B35,""),"")
A36: 572055 | B36: =IF(A36<>"",IF(IFERROR(VLOOKUP(A36,Import!B:B,1,FALSE),"")=A36,"OK","Pas présent dans la liste"),"") -> OK | G36: =IF(ISNA(VLOOKUP(Import!B36,Scan!A:A,1,FALSE)),Import!B36,"") | J36: =IF(Import!B36<>"",IF(ISNA(VLOOKUP(Import!B36,Scan!A:A,1,FALSE)),Import!B36,""),"")
A37: 572033 | B37: =IF(A37<>"",IF(IFERROR(VLOOKUP(A37,Import!B:B,1,FALSE),"")=A37,"OK","Pas présent dans la liste"),"") -> OK | G37: =IF(ISNA(VLOOKUP(Import!B37,Scan!A:A,1,FALSE)),Import!B37,"") | J37: =IF(Import!B37<>"",IF(ISNA(VLOOKUP(Import!B37,Scan!A:A,1,FALSE)),Import!B37,""),"")
A38: 572030 | B38: =IF(A38<>"",IF(IFERROR(VLOOKUP(A38,Import!B:B,1,FALSE),"")=A38,"OK","Pas présent dans la liste"),"") -> OK | G38: =IF(ISNA(VLOOKUP(Import!B38,Scan!A:A,1,FALSE)),Import!B38,"") | J38: =IF(Import!B38<>"",IF(ISNA(VLOOKUP(Import!B38,Scan!A:A,1,FALSE)),Import!B38,""),"")
A39: 572097 | B39: =IF(A39<>"",IF(IFERROR(VLOOKUP(A39,Import!B:B,1,FALSE),"")=A39,"OK","Pas présent dans la liste"),"") -> OK | G39: =IF(ISNA(VLOOKUP(Import!B39,Scan!A:A,1,FALSE)),Import!B39,"") | J39: =IF(Import!B39<>"",IF(ISNA(VLOOKUP(Import!B39,Scan!A:A,1,FALSE)),Import!B39,""),"")
A40: 572046 | B40: =IF(A40<>"",IF(IFERROR(VLOOKUP(A40,Import!B:B,1,FALSE),"")=A40,"OK","Pas présent dans la liste"),"") -> OK | G40: =IF(ISNA(VLOOKUP(Import!B40,Scan!A:A,1,FALSE)),Import!B40,"") | J40: =IF(Import!B40<>"",IF(ISNA(VLOOKUP(Import!B40,Scan!A:A,1,FALSE)),Import!B40,""),"")
A41: 572087 | B41: =IF(A41<>"",IF(IFERROR(VLOOKUP(A41,Import!B:B,1,FALSE),"")=A41,"OK","Pas présent dans la liste"),"") -> OK | G41: =IF(ISNA(VLOOKUP(Import!B41,Scan!A:A,1,FALSE)),Import!B41,"")
A42: 572003 | B42: =IF(A42<>"",IF(IFERROR(VLOOKUP(A42,Import!B:B,1,FALSE),"")=A42,"OK","Pas présent dans la liste"),"") -> OK | G42: =IF(ISNA(VLOOKUP(Import!B42,Scan!A:A,1,FALSE)),Import!B42,"")
A43: 572141 | B43: =IF(A43<>"",IF(IFERROR(VLOOKUP(A43,Import!B:B,1,FALSE),"")=A43,"OK","Pas présent dans la liste"),"") -> OK | G43: =IF(ISNA(VLOOKUP(Import!B43,Scan!A:A,1,FALSE)),Import!B43,"")
A44: 572021 | B44: =IF(A44<>"",IF(IFERROR(VLOOKUP(A44,Import!B:B,1,FALSE),"")=A44,"OK","Pas présent dans la liste"),"") -> OK | G44: =IF(ISNA(VLOOKUP(Import!B44,Scan!A:A,1,FALSE)),Import!B44,"")
A45: 572149 | B45: =IF(A45<>"",IF(IFERROR(VLOOKUP(A45,Import!B:B,1,FALSE),"")=A45,"OK","Pas présent dans la liste"),"") -> OK | G45: =IF(ISNA(VLOOKUP(Import!B45,Scan!A:A,1,FALSE)),Import!B45,"")
A46: 572086 | B46: =IF(A46<>"",IF(IFERROR(VLOOKUP(A46,Import!B:B,1,FALSE),"")=A46,"OK","Pas présent dans la liste"),"") -> OK | G46: =IF(ISNA(VLOOKUP(Import!B46,Scan!A:A,1,FALSE)),Import!B46,"")
...

Sheet ignore this
A1: liste avec vides | B1: liste sans vide
A2: oranges | B2: {=IFERROR(INDEX($A$2:$A$11, SMALL(IF(NOT(ISBLANK($A$2:$A$11)),ROW($A$1:$A$10), ""),ROW(A1) )), "")} -> oranges
B3: {=IFERROR(INDEX($A$2:$A$11, SMALL(IF(NOT(ISBLANK($A$2:$A$11)),ROW($A$1:$A$10), ""),ROW(A2) )), "")} -> pommes
A4: pommes | B4: {=IFERROR(INDEX($A$2:$A$11, SMALL(IF(NOT(ISBLANK($A$2:$A$11)),ROW($A$1:$A$10), ""),ROW(A3) )), "")} -> kiwi
B5: {=IFERROR(INDEX($A$2:$A$11, SMALL(IF(NOT(ISBLANK($A$2:$A$11)),ROW($A$1:$A$10), ""),ROW(A4) )), "")} -> citron
A6: kiwi | B6: {=IFERROR(INDEX($A$2:$A$11, SMALL(IF(NOT(ISBLANK($A$2:$A$11)),ROW($A$1:$A$10), ""),ROW(A5) )), "")} -> ananas
A7: citron | B7: {=IFERROR(INDEX($A$2:$A$11, SMALL(IF(NOT(ISBLANK($A$2:$A$11)),ROW($A$1:$A$10), ""),ROW(A6) )), "")} -> fraise
B8: {=IFERROR(INDEX($A$2:$A$11, SMALL(IF(NOT(ISBLANK($A$2:$A$11)),ROW($A$1:$A$10), ""),ROW(A7) )), "")}
A9: ananas | B9: {=IFERROR(INDEX($A$2:$A$11, SMALL(IF(NOT(ISBLANK($A$2:$A$11)),ROW($A$1:$A$10), ""),ROW(A8) )), "")}
B10: {=IFERROR(INDEX($A$2:$A$11, SMALL(IF(NOT(ISBLANK($A$2:$A$11)),ROW($A$1:$A$10), ""),ROW(A9) )), "")}
A11: fraise | B11: {=IFERROR(INDEX($A$2:$A$11, SMALL(IF(NOT(ISBLANK($A$2:$A$11)),ROW($A$1:$A$10), ""),ROW(A10) )), "")}
B12: {=IFERROR(INDEX($A$2:$A$11, SMALL(IF(NOT(ISBLANK($A$2:$A$11)),ROW($A$1:$A$10), ""),ROW(A11) )), "")}
B13: {=IFERROR(INDEX($A$2:$A$11, SMALL(IF(NOT(ISBLANK($A$2:$A$11)),ROW($A$1:$A$10), ""),ROW(A12) )), "")}
B14: {=IFERROR(INDEX($A$2:$A$11, SMALL(IF(NOT(ISBLANK($A$2:$A$11)),ROW($A$1:$A$10), ""),ROW(A13) )), "")}
B15: {=IFERROR(INDEX($A$2:$A$11, SMALL(IF(NOT(ISBLANK($A$2:$A$11)),ROW($A$1:$A$10), ""),ROW(A14) )), "")}
B16: {=IFERROR(INDEX($A$2:$A$11, SMALL(IF(NOT(ISBLANK($A$2:$A$11)),ROW($A$1:$A$10), ""),ROW(A15) )), "")}

Sheet ignore this 2
F13: =CELL("adresse",INDEX(B17:B24,MATCH(4343,B17:B24,0))) -> $B$18
A17: produit | B17: sale amount | G17: =VLOOKUP(B18,B:D,1,0) -> 4343
A18: AA | B18: 4343 | G18: =INDEX(B17:B24,2,1) -> 4343
A19: DD | B19: 5453
A20: CC | B20: 65412
A21: NN | B21: 32454
A22: MM | B22: 32158
A23: VV | B23: 321547
A24: BB | B24: 32158
A26: BB | B26: =CELL("adresse",INDEX(A18:A24,MATCH(A26,A18:A24,1))) -> $A$18
